{"text_format":"1","workbook":"xlsx","n_sheets":5,"sheets":["Formulário Candidatura","Limites artigo 15 RGIC","Pedido de Pagamento","Mapa de Despesas","Lista de Produtos"],"not_rendered":{"charts":0,"images":2,"macros":1,"external_links":0,"defined_names":5,"comments":0,"pivot_tables":0},"unopened":[],"bounds":{"document_bytes":16777216,"sheet_cells":100000,"rows_first":2000,"rows_last":500,"rows_between":2000,"halvings":0,"cell_chars":16384,"cell_head_chars":4096},"cells_cut":0,"cells_raw":0,"read":"whole","date_system":"1900"}

{"sheet":"Formulário Candidatura","index":0,"n_rows":135,"n_cols":11,"rows_kept":135,"cut":false,"hidden":false,"merged":[[122,1,123,11],[126,2,126,3],[128,4,128,11],[129,4,129,11],[140,2,140,11],[115,1,115,11],[116,1,116,11],[117,1,117,11],[118,1,118,11],[119,1,119,11],[120,1,121,11],[109,1,109,11],[110,1,110,11],[111,1,111,11],[112,1,112,11],[113,1,113,9],[114,1,114,3],[114,4,114,11],[101,1,101,11],[102,1,102,11],[103,1,103,11],[104,1,104,11],[105,1,105,11],[108,1,108,11],[106,1,106,11],[92,1,92,11],[96,1,97,1],[96,2,97,2],[96,3,97,11],[98,1,99,1],[98,2,99,2],[98,3,99,11],[80,1,82,11],[83,1,85,11],[86,1,86,11],[87,1,88,11],[89,1,90,11],[91,1,91,11],[68,2,68,11],[69,2,69,11],[70,2,70,11],[71,2,71,11],[74,1,74,11],[75,1,76,11],[59,2,59,11],[62,1,63,1],[62,2,63,11],[64,1,65,1],[64,2,65,11],[66,1,67,1],[66,2,67,11],[53,1,54,1],[53,2,54,11],[55,1,56,1],[55,2,56,11],[57,2,57,11],[58,2,58,11],[45,1,46,1],[45,2,46,11],[47,2,47,11],[50,2,50,11],[51,2,51,11],[52,2,52,11],[34,2,35,11],[38,2,38,6],[38,7,38,11],[39,2,39,11],[40,1,44,1],[40,2,40,11],[41,3,41,5],[42,3,42,5],[43,3,43,5],[44,3,44,5],[27,1,27,11],[28,2,28,11],[29,2,29,11],[30,2,30,11],[31,2,31,11],[32,1,33,1],[32,2,33,11],[19,4,19,11],[20,4,20,11],[21,4,21,11],[22,1,22,5],[22,6,22,11],[23,3,23,11],[17,1,17,2],[17,3,17,5],[17,8,17,11],[18,1,18,3],[18,4,18,5],[18,6,18,7],[15,1,15,2],[15,3,15,5],[16,1,16,2],[16,3,16,5],[16,6,16,7],[16,8,16,11],[18,8,18,11],[13,1,13,2],[13,3,13,11],[14,1,14,2],[14,3,14,5],[14,6,14,7],[14,8,14,11],[5,1,5,11],[7,1,7,11],[10,1,10,2],[11,1,11,2],[11,3,11,11],[12,1,12,2],[12,3,12,5],[12,7,12,11]]}
[]
[]
[]
[]
[]
[" "," Acesso aos Mercados"]
[]
[null,"FORMULÁRIO DE PEDIDO DE PAGAMENTO"]
[]
[null,"IDENTIFICAÇÃO DO PROMOTOR"]
[null," "]
[null,"Nome"]
[null,"NIF",null,null,null,null,"NISS:"]
[null,"Endereço",null," "]
[null,"Freguesia",null," ",null,null,"Concelho",null," "]
[null,"Ilha",null," "]
[null,"Código Postal",null,null,null,null,"Endereço Postal"]
[null,"Telefone",null,null,null,null,"Endereço Email"]
[null,"Caracterização Jurídica",null,null," ",null,"Dimensão"]
[null,"CAE (s) da Empresa"]
[null,"Data de constituição"]
[null,"Data Início de Atividade"]
[null,"Data de Início da Contabilidade Organizada",null,null,null,null," "]
[null,"IBAN"]
[]
[]
[null,"ELEGIBILIDADE DO BENEFICIÁRIO E CONDIÇÕES DE ACESSO"]
[null,"O PROMOTOR DECLARA, SOB COMPROMISSO DE HONRA, QUE:"]
[null,null," Encontra-se legalmente constituído."]
[null," "," Dispõe de contabilidade organizada, quando aplicável."]
[null," "," Possui situação regularizada face à administração fiscal."]
[null," ","Possui situação regularizada face à segurança social."]
[null," ","Não se encontra em dívida no que respeita a apoios comunitários ou nacionais independentemente da sua natureza e objetivos. "]
[]
[null," ","Não é uma empresa sujeita a uma injunção de recuperação, ainda pendente, na sequência de uma decisão anterior da Comissão que declare um auxílio ilegal e incompatível com o mercado interno. "]
[]
[]
[null,"DOCUMENTOS A SUBMETER JUNTO COM O FORMULÁRIO DO 1.º PEDIDO DE PAGAMENTO ANUAL"]
[null,1,"Código de consulta da  Certidão Permanente:"]
[null,2,"Declaração comprovativa de início de atividade (caso se trate de pessoa singular)."]
[null,3," Identificação dos códigos de validação da IES - Informação Empresarial Simplificada dos 3 anos anteriores:"]
[null,null,"Ano","Código"]
[]
[null,null,null," "]
[null,null,null," "]
[null,4,"Declaração de limites a que se refere o n.º 3 do artigo 9.º  do Anexo 1, da Resolução do Conselho do Governo n.º 119/2024 , de 16 de agosto, devidamente assinada  pelo representante da empresa e pelo contabilista certificado com a indicação do respetivo número."]
[]
[null,5,"Documento comprovativo da declaração validada no Registo Central do Beneficiário Efetivo (RCBE), quando aplicável."]
[]
[null,"DOCUMENTOS A SUBMETER JUNTO COM O FORMULÁRIO DE CADA PEDIDO DE PAGAMENTO"]
[null,1," Declaração de não dívida às Finanças ou código de consulta no Portal das Finanças."]
[null,2," Declaração de não dívida à Segurança Social ou código de consulta no Portal da Segurança Social Direta."]
[null,3," Declaração bancária com o IBAN, com identificação do respetivo titular."]
[null,4," Faturas de venda dos produtos regionais identificados na Portaria a que respeita a Resolução do Conselho do Governo n.º 119/2024, de 16 de agosto."]
[]
[null,5,"Faturas e recibos das despesas suportadas com os encargos inerentes ao transporte dos produtos, respeitantes a despesas elegíveis previstas no artigo 7.º do Anexo 1 da Resolução do Conselho do Governo n.º 119/2024, de 16 de agosto."]
[]
[null,6," Conhecimento de embarque ou carta de porte aéreo, caso se trate de transporte marítimo ou aéreo."]
[null,7," Documento Aduaneiro único, caso se trate de vendas para países terceiros."]
[null,8," Guia de encomenda/Guia de transporte, caso se trate de transporte via postal."]
[]
[null,"ORGANIZAÇÃO DO PROCESSO A MANTER NA EMPRESA"]
[null,1," Contrato de constituição de sociedade e da certidão de teor da Conservatória do Registo Comercial, com todas as matrículas e inscrições em vigor/certidão permanente."]
[]
[null,2," Declaração de inicio de atividade e suas alterações, ou impressão completa da informação do Cadastro do promotor do site das AT, designadamente, Dados Gerais, Atividade e Outros Dados."]
[]
[null,3," Declarações de rendimentos e IES/declarações anuais,  referentes aos três anos anteriores à apresentação do pedido de pagamento, conforme as disposições legais."]
[]
[null,4," Comprovativos dos montantes das despesas candidatas , numeradas por ordem sequencial."]
[null,5," Documento comprovativo da situação regularizada face à administração fiscal."]
[null,6," Documento comprovativo da situação regularizada face à segurança social"]
[null,7," Formulário de pedido de pagamento."]
[]
[null,"O PROMOTOR DECLARA, SOB COMPROMISSO DE HONRA, QUE A EMPRESA:"]
[null," - Exerce a sua atividade na Região Autónoma dos Açores."]
[null," - Não se candidatou a outros incentivos nacionais ou comunitários, da mesma natureza para as despesas elegíveis integradas no pedido de pagamento."]
[]
[]
[]
[null,"O PROMOTOR DECLARA, SOB COMPROMISSO DE HONRA, QUE O PEDIDO DE PAGAMENTO:"]
[null," - Não envolve a produção de produtos agrícolas enumerados no Anexo I do Tratado, o setor siderúrgico, do setor das fibras sintéticas, o setor dos transportes, o setor da energia, o setor do do carvão, do setor da pesca, atividades financeiras ou de seguros, bem como quando desempenhem atividades intragrupo e cujas atividades principais se insiram na classificação \"atividades das sedes sociais\" ou atividades de consultoria para negócios e outra consultoria para a gestão."]
[]
[]
[null," - Corresponde ao transporte de produtos interilhas e dos Açores para o exterior da Região com exceção do transporte de produtos lácteos e produtos do setor  da panificação e pastelaria das ilhas de São Miguel e Terceira para as restantes ilhas dos Açores."]
[]
[]
[null," - Cumpre as condições legais necessárias ao exercício da atividade."]
[null," - Envolve custos adicionais de transporte calculados em função do percurso das mercadorias dentro das fronteiras nacionais, utilizando os meios de transporte com os custos mais baixos para o beneficiário."]
[]
[null," - Permite objetivamente quantificar o incentivo ex ante com base num montante fixo ou por tonelada/quilómetro ou qualquer outra unidade apropriada."]
[]
[null," - Integra todos os documentos de despesa emitidos em nome do promotor."]
[null," - Não envolve despesas realizadas há mais de um ano anterior à data da apresentação do pedido pagamento."]
[null," "]
[null,"O PROMOTOR AUTORIZA:"]
[null,"SIM","NÃO"]
[null," ",null,"   A  Direção Regional do Empreendedorismo e Competitividade a consultar a situação tributária ou contributiva regularizada da empresa."]
[]
[null," "," ","   A  Direção Regional do Empreendedorismo e Competitividade a recolher e proceder ao tratamento de dados para fins estatísticos. "]
[]
[null,"INFORMAÇÃO ADICIONAL"]
[]
[]
[]
[]
[]
[]
[]
[null,"SOLICITAÇÃO DO APOIO E DECLARAÇÃO DE COMPROMISSO"]
[]
[null,"A completar e assinar, conforme o caso, pelo beneficiário ou pelo representante legal do beneficiário:"]
[]
[null,"Nome(s) do(s) beneficiário(s) [ou Nome do(s) declarantes na qualidade de representante(s) do beneficiário], "]
[null,null,null,null,null,null,null,null,null,null,"   NIF, BI / CC [ ou NIPC], "]
[null,null,null,null,"       solicita /solicitam a atribuição do apoio previsto na Resolução do Conselho do"]
[null,"Governo n.º 119/2024, de 16 de agosto, que aprova o Regulamento do Programa de Apoio de Acesso aos Mercados,"]
[null,"no valor máximo que lhe seja aplicável, após análise dos serviços da Direção Regional do Empreendedorismo e "]
[null," Competitividade, tendo conhecimento do enquadramento legal comunitário e regional aplicável associado ao"]
[null,"regime de apoio, declara /declaram que:"]
[null,"1 - São verdadeiras todas as informações do presente formulário e respetivos anexos;"]
[null,"2 - Se compromete /comprometem a comunicar à Direção Regional do Empreendedorismo e Competitividade, qualquer facto que afete as informações contidas no presente formulário;"]
[]
[null,"3 - Respeitará/respeitarão todas as disposições aplicáveis previstas no diploma suprareferido e legislação complementar."]
[]
[]
[]
[null,"Data"]
[]
[null,"Nome do beneficiário ou "]
[null,"Representante legal"]
[]
[]
[]
[]
[null,null," Assinatura do beneficiário ou declarante conforme CC/BI ou assinatura digital qualificada"]

{"sheet":"Limites artigo 15 RGIC","index":1,"n_rows":62,"n_cols":16,"rows_kept":62,"cut":false,"hidden":false,"merged":[[48,2,48,14],[3,2,3,15],[5,2,5,15],[10,2,10,15],[13,4,13,13],[17,2,17,15]]}
[]
[null,null,null,null,null,null,null,null,"DECLARAÇÃO"]
[]
[null,null,"DETERMINAÇÃO DE LIMITES"]
[]
[null,null,"N.º 3 DO ARTIGO 9.º DO ANEXO 1 DA RESOLUÇÃO DO CONSELHO DE GOVERNO N.º 119/2024, DE 16 DE AGOSTO"]
[]
[]
[]
[]
[null,null,"DADOS DO BENEFICIÁRIO E DO PROJETO"]
[]
[]
[null,null,"Entidade Beneficiária:"]
[]
[]
[]
[null,null,"CUSTOS ADICIONAIS DE FUNCIONAMENTO "]
[]
[]
[]
[]
[null,null,"       Exercício económico:"]
[]
[]
[null,null,null,null,null,null,null,null,null," Na RAA",null,"Fora da RAA",null,"TOTAL",null,"Limite (35%)"]
[null,null,"(1) Valor acrescentado bruto obtido anualmente pelo beneficiário"]
[null,null,null," Vendas e serviços prestados ",null,null,null,null,null,0,null,null,null,{"$f":"J28+L28","v":0}]
[null,null,null," Subsídios à exploração ",null,null,null,null,null,0,null,null,null,{"$f":"J29+L29","v":0}]
[null,null,null," Variação nos inventários da produção ",null,null,null,null,null,0,null,null,null,0]
[null,null,null," Trabalhos para a própria entidade ",null,null,null,null,null,0,null,null,null,0]
[null,null,null," Custo das mercadorias vendidas e das matérias consumidas ",null,null,null,null,null,0,null,null,null,0]
[null,null,null," Fornecimentos e serviços externos ",null,null,null,null,null,0,null,null,null,0]
[null,null,null," Rendimentos suplementares ",null,null,null,null,null,0,null,null,null,0]
[null,null,null,null,null,null,null,null,null,{"$f":"J28+J29+J30+J31-J32-J33+J34","v":0},null,{"$f":"L28+L29+L30+L31-L32-L33+L34","v":0},null,{"$f":"N28+N29+N30+N31-N32-N33+N34","v":0},null,{"$f":"+J35*0.35","v":0}]
[]
[]
[null,null,null,null,null,null,null,null,null," Na RAA",null,"Fora da RAA",null,"TOTAL",null,"Limite (40%)"]
[]
[null,null,"(2) Custos anuais de mão de obra incorridos pelo beneficiário ",null,null,null,null,null,null,null,null,null,null,{"$f":"J40+L40","v":0},null,{"$f":"+J40*0.4","v":0}]
[]
[]
[null,null,null,null,null,null,null,null,null," Na RAA",null,"Fora da RAA",null,"TOTAL",null,"Limite (30%)"]
[]
[null,null,"(3) Volume anual de negócios do beneficiário realizado ",null,null,null,null,null,null,null,null,null,null,{"$f":"J45+L45","v":0},null,{"$f":"+J45*0.3","v":0}]
[]
[]
[]
[null,null,"Declaro, sob o compromisso de honra, que todas as informações constantes deste documento correspondem à verdade."]
[]
[]
[]
[null,null,null,"Contabilista certificado:",null,null,null,null,null,null,"Representante do beneficiário:"]
[null,null,null,"Nº profissional:",null,null,null,null,null,null,"Data:"]
[null,null,null,"Data:"]
[]
[]
[]
[]
[]
[]
[null,null,"*RAA - Região Autónoma dos Açores"]

{"sheet":"Pedido de Pagamento","index":2,"n_rows":92,"n_cols":23,"rows_kept":92,"cut":false,"hidden":false,"merged":[[75,2,75,5],[35,4,35,6],[39,3,39,4],[78,2,78,5],[70,1,70,6],[76,2,76,5],[77,2,77,5],[73,1,73,6],[74,1,74,6],[91,3,91,6],[91,1,91,2],[79,2,79,5],[84,2,84,5],[85,2,85,5],[86,2,86,5],[87,2,87,5],[80,2,80,5],[82,1,82,6],[83,1,83,6],[89,1,89,4],[15,2,15,7],[60,2,60,7],[2,14,5,20],[9,14,12,20],[18,3,18,7],[16,2,16,6],[26,9,29,11],[20,2,21,2],[23,4,23,5],[48,3,48,6],[50,3,50,6],[53,3,53,6],[33,3,33,7],[46,3,46,6],[37,3,37,4],[31,3,31,4]]}
[]
[]
[null,null,null,null,null,null,null,null,null,null,null,null,"SIM",null,"PED_PAG_AGOSTO23_8LINHAS_500NO.xslm"]
[null,null,null,null,null,null,null,null,null,null,null,null,"NÃO"]
[]
[null,null,null,null,null,null,null,null,null,null,null,null,1]
[null,null,null,null,null,null,null,null,null,null,null,null,2]
[null,null,null,null,null,null,null,null,null,null,null,null,3]
[null,null,null,null,null,null,null,null,null,null,null,null,4]
[null,null,null,null,null,null,null,null,null,null,null,null,5,null,"Versão com 8 linhas por cada número de ordem. Disponíveis 500 Números de Ordem"]
[null,null,null,null,null,null,null,null,null,null,null,null,6]
[null,null,null,null,null,null,null,null,null,null,null,null,7]
[null,null,null,null,null,null,null,null,null,null,null,null,8]
[null,null,null,null,null,null,null,null,null,null,null,null,9]
[null,null,null,null,null,null,null,null,null,null,null,null,10]
[null,null,"PROGRAMA DE APOIO DE ACESSO AOS MERCADOS"]
[null,null,null,null,null,null,null,null,null,null,null,null,"Angra do Heroísmo","Terceira"]
[null,null,null,null,null,null,null,null,null,null,null,null,"Calheta","São Jorge"]
[null,null,"Promotor:",null,null,null,null,null,null,null,null,null,"Corvo","Corvo"]
[null,null,null,null,null,null,null,null,null,null,null,null,"Horta","Faial"]
[null,null,"Nº do processo: ","Ano","Processo","Ped. Pagamento",null,null,null,null,null,null,"Lagoa","São Miguel"]
[null,null,null,null,null,null,null,null,null,null,null,null,"Lajes das Flores","Flores"]
[null,null,null,null,null,null,null,null,null,null,null,null,"Lajes do Pico","Pico"]
[null,null,"Data de Ped.Pag.to",{"$f":"IF(F90<>\"\",F90,\"\")","v":""},"Data retroatividade de despesas",null,{"$f":"IF(D24=\"\",\"\",EDATE(D24,-12))","v":""},null,null,null,null,null,"Madalena","Pico"]
[null,null,"Data Final",{"$f":"+D24","v":""},null,null,null,null,null,null,null,null,"Nordeste","São Miguel"]
[null,null,null,null,null,null,null,null,null,null,null,null,"Ponta Delgada","São Miguel"]
[null,null,"Valor Total do Projeto",null,null,null,null,null,null,{"$f":"IF(E30<0.1,\"DESPESA APRESENTADA INFERIOR A 10% DO VALOR DO PROJETO\",\"\")","v":{"$error":"#DIV/0!"}},null,null,"Povoação","São Miguel"]
[null,null,"Valor Apoio Financeiro Aprovado",null,null,null,null,null,null,null,null,null,"Praia da Vitória","Terceira"]
[null,null,"Despesa Apresentada Ped. Pagamento",null,{"$f":"IF('Mapa de Despesas'!Q16<>\"\",'Mapa de Despesas'!Q16,\"\")","v":0},null,null,null,null,null,null,null,"Ribeira Grande","São Miguel"]
[null,null,"% de Despesa Apresentada/ V.Projeto",null,{"$f":"IF(E29<>\"\",ROUND(E29/E27,4),\"\")","v":{"$error":"#DIV/0!"}},null,null,null,null,null,null,null,"Santa Cruz da Graciosa","Graciosa"]
[null,null,null,null,null,null,null,null,null,null,null,null,"Santa Cruz das Flores","Flores"]
[null,null,"NIF:",null,null,null,null,null,null,null,null,null,"São Roque do Pico","Pico"]
[null,null,null,null,null,null,null,null,null,null,null,null,"Velas","São Jorge"]
[null,null,"Sede:",null,null,null,null,null,null,null,null,null,"Vila do Porto","Santa Maria"]
[null,null,null,null,null,null,null,null,null,null,null,null,"Vila Franca do Campo","São Miguel"]
[null,null,"C. Postal:"]
[]
[null,null,"Concelho:"]
[]
[null,null,"Ilha:",{"$f":"IF(ISBLANK(D38),\"\",VLOOKUP($D$38,M17:N35,2))","v":""}]
[]
[null,null,"Contactos:"]
[]
[null,null,"Telefone Fixo:",null,null,"N.º Telemóvel:"]
[]
[]
[null,null,"Pessoas a Contatar:"]
[]
[]
[]
[null,null,"Email:"]
[]
[]
[null,null,"NIB/IBAN:"]
[]
[]
[]
[]
[]
[]
[null,null,"PROGRAMA DE APOIO DE ACESSO AOS MERCADOS"]
[]
[]
[]
[]
[]
[null,null,null,null,null,null,null,null,null,null,null,null,null,null,null,null,null,null,null,null,null,null," "]
[]
[]
[]
[null,"Elegibilidade do Beneficiário e Condições de Acesso"]
[]
[]
[null,"Cumprimento das Condições de Elegibilidade do Beneficiário"]
[null,"Nos termos do Art. 5.º do Anexo 1 da Resolução do Conselho de Governo n.º 119/2024, de 16 de agosto de 2024, o beneficiário assegura à data de apresentação do pedido de pagamento:"]
[null,"a)","Estar legalmente constituído e em efetiva atividade"]
[null,"b)","O cumprimento das condições legais necessárias ao exercício de atividade"]
[null,"c)","Dispor de contabilidade organizada, quando aplicável"]
[null,"d)","Ter situação Regularizada face à administração fiscal e à segurança social"]
[null,"e)","Não se encontrar em divida no que respeita a apoios comunitários ou nacionais, independentemente da sua natureza e objetivos"]
[null,"f)","Não ter pendente processo de injunção de recuperação de auxilios ilegais, nos termos da regulamentação europeia"]
[]
[null,"Cumprimento das Condições de Acesso"]
[null,"Nos termos do Art. 6.º do Anexo da Resolução do Conselho de Governo n.º 119/2024, de 16 de agosto de 2024, o beneficiário assegura à data de apresentação do pedido de pagamento:"]
[null,"a)","Apresentação, na entidade gestora, de formulário de pedido de pagemento, devidamente preenchido, pelo representante legal do beneficiário, conforme modelo aprovado por portaria do Secretário Regional das Finanças, Planeamento e Administração Pública;"]
[null,"b)","O beneficiário assegurar o cumprimento das condições de elegibilidade previstas no artigo anterior"]
[null,"c)","O beneficiário ter, relativamente aos produtos regionais, custos efetivos de transporte interilhas e dos Açores para o exterior, que estejam identificados como elegíveis no presente regulamento, com exceção prevista no n.º 4 do artigo 2.º"]
[null,"d)","Assegurar que todos os documentos de despesa estão emitidos em nome do beneficiário"]
[]
[null,"Data de preenchimento/apresentação do formulário"]
[]
[null,"Assinatura do Promotor:"]

{"sheet":"Mapa de Despesas","index":3,"n_rows":4120,"n_cols":48,"rows_kept":2250,"cut":true,"hidden":false,"merged":[[12,38,12,39],[12,34,12,36],[2,10,2,11],[12,10,12,16],[12,2,12,8],[12,19,12,21],[5,10,6,10],[2,12,2,19],[12,27,12,32],[12,23,12,25],[7,1,7,6]],"bounds":{"rows_first":1000,"rows_last":250,"rows_between":1000,"halvings":1}}
[]
[]
[null,null,null,null,null,null,null,null,null,null,"Promotor:",null,{"$f":"IF('Pedido de Pagamento'!D19<>\"\",'Pedido de Pagamento'!D19,\"\")","v":""}]
[]
[null,null,null,null,null,null,null,null,null,null,null,null,null,null,null,"Data do Pedido de Pagamento",{"$f":"IF('Pedido de Pagamento'!D24<>\"\",'Pedido de Pagamento'!D24,\"\")","v":""}]
[null,null,null,null,null,null,null,null,null,null,"Nº do processo: ","Ano","Processo","Ped. Pagamento",null,"Data de Retroatividade de Despesas:",{"$f":"IF('Pedido de Pagamento'!G24<>\"\",'Pedido de Pagamento'!G24,\"\")","v":""}]
[null,null,null,null,null,null,null,null,null,null,null,{"$f":"IF('Pedido de Pagamento'!D22<>\"\",'Pedido de Pagamento'!D22,\"\")","v":""},{"$f":"IF('Pedido de Pagamento'!E22<>\"\",'Pedido de Pagamento'!E22,\"\")","v":""},{"$f":"IF('Pedido de Pagamento'!F22<>\"\",'Pedido de Pagamento'!F22,\"\")","v":""},null,"Data Final",{"$f":"IF('Pedido de Pagamento'!D25<>\"\",'Pedido de Pagamento'!D25,\"\")","v":""}]
[null,"PROGRAMA DE APOIO DE ACESSO AOS MERCADOS"]
[]
[]
[null,"MAPA DE DESPESAS"]
[]
[null,null,"Fatura de Venda ao Cliente",null,null,null,null,null,null,null,"Fatura de Despesa a Comparticipar",null,null,null,null,null,null,null,null,"Recibo de Despesa/Doc. Quitação",null,null,null,"Circuito do Transporte",null,null,null,"Informações do Transporte Marítimo",null,null,null,null,null,null,"Informações do Transporte Aéreo",null,null,null,"Informações CTT"]
[null,"N.º Ordem","N.º","Data","Valor Venda (Sem IVA)","Produto (NC)","Descrição","Peso               KG / Volume","% Imputação",null,"N.º","Data","Nome da Empresa","Tipo Transporte","RUB","Plano de Despesas","Valor de Despesa (Sem IVA)","Valor Elegível",null,"N.º","Data","Valor",null,"Origem","Circuito","Destino",null,"N.º Guia de Conhecimento Embarque","Referência Contentor","Quant.","Tipo",null,"Descritivo Contentor",null,"N.º de Carta de Porte","Peso Bruto","Peso Taxável",null,"N.º de Documento","Peso Taxável"]
[]
[null,"TOTAIS",null,null,{"$f":"+E4022","v":0},null,null,null,null,null,null,null,null,null,null,null,{"$f":"+Q4022","v":0},{"$f":"+R4022","v":0}]
[]
[null,1,null,null,null,null,{"$f":"+IF(F18=\"\",\"\",VLOOKUP(F18,$F$4031:$G$4120,2))","v":""},null,{"$f":"IF(H18=\"\",\"\",1-SUM(I19:I25))","v":""},null,null,null,null,null,null,{"$f":"+IF(O18=\"\",\"\",IF(N18=\"Transporte Marítimo\",VLOOKUP(O18,$O$4030:$P$4035,2),IF(N18=\"Transporte Aéreo\",VLOOKUP(O18,$O$4037:$P$4042,2),IF(N18=\"CTT\",VLOOKUP(O18,$O$4044:$P$4045,2),\"\"))))","v":""},null,null,null,null,null,null,null,null,null,null,null,null,null,null,null,{"$f":"+IF(AE18=\"20NL\",1,IF(AE18=\"40NL\",2,IF(AE18=\"20RF\",3,IF(AE18=\"40RF\",4,\"\"))))","v":""},{"$f":"+IF(AF18=\"\",\"\",VLOOKUP(AF18,$AF$4031:$AG$4034,2))","v":""},null,null,null,null,null,null,null,null,null,null,null,null,null,null," "]
[null,null,null,null,null,null,{"$f":"+IF(F19=\"\",\"\",VLOOKUP(F19,$F$4031:$G$4120,2))","v":""},null,{"$f":"IF(H19=\"\",\"\",ROUND(H19/SUM(H18:H25),4))","v":""},null,null,null,null,null,null,{"$f":"+IF(O19=\"\",\"\",IF(N18=\"Transporte Marítimo\",VLOOKUP(O19,$O$4030:$P$4035,2),IF(N18=\"Transporte Aéreo\",VLOOKUP(O19,$O$4037:$P$4042,2),IF(N18=\"Transporte Aéreo\",VLOOKUP(O19,$O$4044:$P$4045,2),\"\"))))","v":""},null,null,null,null,null,null,null,null,null,null,null,null,null,null,null,{"$f":"+IF(AE19=\"20NL\",1,IF(AE19=\"40NL\",2,IF(AE19=\"20RF\",3,IF(AE19=\"40RF\",4,\"\"))))","v":""},{"$f":"+IF(AF19=\"\",\"\",VLOOKUP(AF19,$AF$4031:$AG$4034,2))","v":""}]
[null,null,null,null,null,null,"",null,{"$f":"IF(H20=\"\",\"\",ROUND(H20/SUM(H18:H25),4))","v":""},null,null,null,null,null,null,{"$f":"+IF(O20=\"\",\"\",IF(N18=\"Transporte Marítimo\",VLOOKUP(O20,$O$4030:$P$4035,2),IF(N18=\"Transporte Aéreo\",VLOOKUP(O20,$O$4037:$P$4042,2),IF(N18=\"Transporte Aéreo\",VLOOKUP(O20,$O$4044:$P$4045,2),\"\"))))","v":""},null,null,null,null,null,null,null,null,null,null,null,null,null,null,null,"",""]
[null,null,null,null,null,null,"",null,{"$f":"IF(H21=\"\",\"\",ROUND(H21/SUM(H18:H25),4))","v":""},null,null,null,null,null,null,{"$f":"+IF(O21=\"\",\"\",IF(N18=\"Transporte Marítimo\",VLOOKUP(O21,$O$4030:$P$4035,2),IF(N18=\"Transporte Aéreo\",VLOOKUP(O21,$O$4037:$P$4042,2),IF(N18=\"Transporte Aéreo\",VLOOKUP(O21,$O$4044:$P$4045,2),\"\"))))","v":""},null,null,null,null,null,null,null,null,null,null,null,null,null,null,null,"",""]
[null,null,null,null,null,null,"",null,{"$f":"IF(H22=\"\",\"\",ROUND(H22/SUM(H18:H25),4))","v":""},null,null,null,null,null,null,{"$f":"+IF(O22=\"\",\"\",IF(N18=\"Transporte Marítimo\",VLOOKUP(O22,$O$4030:$P$4035,2),IF(N18=\"Transporte Aéreo\",VLOOKUP(O22,$O$4037:$P$4042,2),IF(N18=\"Transporte Aéreo\",VLOOKUP(O22,$O$4044:$P$4045,2),\"\"))))","v":""},null,null,null,null,null,null,null,null,null,null,null,null,null,null,null,"",""]
[null,null,null,null,null,null,"",null,{"$f":"IF(H23=\"\",\"\",ROUND(H23/SUM(H18:H25),4))","v":""},null,null,null,null,null,null,{"$f":"+IF(O23=\"\",\"\",IF(N18=\"Transporte Marítimo\",VLOOKUP(O23,$O$4030:$P$4035,2),IF(N18=\"Transporte Aéreo\",VLOOKUP(O23,$O$4037:$P$4042,2),IF(N18=\"Transporte Aéreo\",VLOOKUP(O23,$O$4044:$P$4045,2),\"\"))))","v":""},null,null,null,null,null,null,null,null,null,null,null,null,null,null,null,"",""]
[null,null,null,null,null,null,"",null,{"$f":"IF(H24=\"\",\"\",ROUND(H24/SUM(H18:H25),4))","v":""},null,null,null,null,null,null,{"$f":"+IF(O24=\"\",\"\",IF(N18=\"Transporte Marítimo\",VLOOKUP(O24,$O$4030:$P$4035,2),IF(N18=\"Transporte Aéreo\",VLOOKUP(O24,$O$4037:$P$4042,2),IF(N18=\"Transporte Aéreo\",VLOOKUP(O24,$O$4044:$P$4045,2),\"\"))))","v":""},null,null,null,null,null,null,null,null,null,null,null,null,null,null,null,"",""]
[null,null,null,null,null,null,"",null,{"$f":"IF(H25=\"\",\"\",ROUND(H25/SUM(H18:H25),4))","v":""},null,null,null,null,null,null,{"$f":"+IF(O25=\"\",\"\",IF(N18=\"Transporte Marítimo\",VLOOKUP(O25,$O$4030:$P$4035,2),IF(N18=\"Transporte Aéreo\",VLOOKUP(O25,$O$4037:$P$4042,2),IF(N18=\"Transporte Aéreo\",VLOOKUP(O25,$O$4044:$P$4045,2),\"\"))))","v":""},null,null,null,null,null,null,null,null,null,null,null,null,null,null,null,"",""]
[null,{"$f":"+B18+1","v":2},null,null,null,null,{"$f":"+IF(F26=\"\",\"\",VLOOKUP(F26,$F$4031:$G$4120,2))","v":""},null,{"$f":"IF(H26=\"\",\"\",1-SUM(I27:I33))","v":""},null,null,null,null,null,null,{"$f":"+IF(O26=\"\",\"\",IF(N26=\"Transporte Marítimo\",VLOOKUP(O26,$O$4030:$P$4035,2),IF(N26=\"Transporte Aéreo\",VLOOKUP(O26,$O$4037:$P$4042,2),IF(N26=\"CTT\",VLOOKUP(O26,$O$4044:$P$4045,2),\"\"))))","v":""},null,null,null,null,null,null,null,null,null,null,null,null,null,null,null,{"$f":"+IF(AE26=\"20NL\",1,IF(AE26=\"40NL\",2,IF(AE26=\"20RF\",3,IF(AE26=\"40RF\",4,\"\"))))","v":""},{"$f":"+IF(AF26=\"\",\"\",VLOOKUP(AF26,$AF$4031:$AG$4034,2))","v":""},null,null,null,null,null,null,null,null,null,null,null,null,null,null," "]
[null,null,null,null,null,null,"",null,{"$f":"IF(H27=\"\",\"\",ROUND(H27/SUM(H26:H33),4))","v":""},null,null,null,null,null,null,{"$f":"+IF(O27=\"\",\"\",IF(N26=\"Transporte Marítimo\",VLOOKUP(O27,$O$4030:$P$4035,2),IF(N26=\"Transporte Aéreo\",VLOOKUP(O27,$O$4037:$P$4042,2),IF(N26=\"Transporte Aéreo\",VLOOKUP(O27,$O$4044:$P$4045,2),\"\"))))","v":""},null,null,null,null,null,null,null,null,null,null,null,null,null,null,null,{"$f":"+IF(AE27=\"20NL\",1,IF(AE27=\"40NL\",2,IF(AE27=\"20RF\",3,IF(AE27=\"40RF\",4,\"\"))))","v":""},""]
[null,null,null,null,null,null,"",null,{"$f":"IF(H28=\"\",\"\",ROUND(H28/SUM(H26:H33),4))","v":""},null,null,null,null,null,null,{"$f":"+IF(O28=\"\",\"\",IF(N26=\"Transporte Marítimo\",VLOOKUP(O28,$O$4030:$P$4035,2),IF(N26=\"Transporte Aéreo\",VLOOKUP(O28,$O$4037:$P$4042,2),IF(N26=\"Transporte Aéreo\",VLOOKUP(O28,$O$4044:$P$4045,2),\"\"))))","v":""},null,null,null,null,null,null,null,null,null,null,null,null,null,null,null,"",""]
[null,null,null,null,null,null,"",null,{"$f":"IF(H29=\"\",\"\",ROUND(H29/SUM(H26:H33),4))","v":""},null,null,null,null,null,null,{"$f":"+IF(O29=\"\",\"\",IF(N26=\"Transporte Marítimo\",VLOOKUP(O29,$O$4030:$P$4035,2),IF(N26=\"Transporte Aéreo\",VLOOKUP(O29,$O$4037:$P$4042,2),IF(N26=\"Transporte Aéreo\",VLOOKUP(O29,$O$4044:$P$4045,2),\"\"))))","v":""},null,null,null,null,null,null,null,null,null,null,null,null,null,null,null,"",""]
[null,null,null,null,null,null,"",null,{"$f":"IF(H30=\"\",\"\",ROUND(H30/SUM(H26:H33),4))","v":""},null,null,null,null,null,null,{"$f":"+IF(O30=\"\",\"\",IF(N26=\"Transporte Marítimo\",VLOOKUP(O30,$O$4030:$P$4035,2),IF(N26=\"Transporte Aéreo\",VLOOKUP(O30,$O$4037:$P$4042,2),IF(N26=\"Transporte Aéreo\",VLOOKUP(O30,$O$4044:$P$4045,2),\"\"))))","v":""},null,null,null,null,null,null,null,null,null,null,null,null,null,null,null,"",""]
[null,null,null,null,null,null,"",null,{"$f":"IF(H31=\"\",\"\",ROUND(H31/SUM(H26:H33),4))","v":""},null,null,null,null,null,null,{"$f":"+IF(O31=\"\",\"\",IF(N26=\"Transporte Marítimo\",VLOOKUP(O31,$O$4030:$P$4035,2),IF(N26=\"Transporte Aéreo\",VLOOKUP(O31,$O$4037:$P$4042,2),IF(N26=\"Transporte Aéreo\",VLOOKUP(O31,$O$4044:$P$4045,2),\"\"))))","v":""},null,null,null,null,null,null,null,null,null,null,null,null,null,null,null,"",""]
[null,null,null,null,null,null,"",null,{"$f":"IF(H32=\"\",\"\",ROUND(H32/SUM(H26:H33),4))","v":""},null,null,null,null,null,null,{"$f":"+IF(O32=\"\",\"\",IF(N26=\"Transporte Marítimo\",VLOOKUP(O32,$O$4030:$P$4035,2),IF(N26=\"Transporte Aéreo\",VLOOKUP(O32,$O$4037:$P$4042,2),IF(N26=\"Transporte Aéreo\",VLOOKUP(O32,$O$4044:$P$4045,2),\"\"))))","v":""},null,null,null,null,null,null,null,null,null,null,null,null,null,null,null,"",""]
[null,null,null,null,null,null,"",null,{"$f":"IF(H33=\"\",\"\",ROUND(H33/SUM(H26:H33),4))","v":""},null,null,null,null,null,null,{"$f":"+IF(O33=\"\",\"\",IF(N26=\"Transporte Marítimo\",VLOOKUP(O33,$O$4030:$P$4035,2),IF(N26=\"Transporte Aéreo\",VLOOKUP(O33,$O$4037:$P$4042,2),IF(N26=\"Transporte Aéreo\",VLOOKUP(O33,$O$4044:$P$4045,2),\"\"))))","v":""},null,null,null,null,null,null,null,null,null,null,null,null,null,null,null,"",""]
[null,{"$f":"+B26+1","v":3},null,null,null,null,{"$f":"+IF(F34=\"\",\"\",VLOOKUP(F34,$F$4031:$G$4120,2))","v":""},null,{"$f":"IF(H34=\"\",\"\",1-SUM(I35:I41))","v":""},null,null,null,null,null,null,{"$f":"+IF(O34=\"\",\"\",IF(N34=\"Transporte Marítimo\",VLOOKUP(O34,$O$4030:$P$4035,2),IF(N34=\"Transporte Aéreo\",VLOOKUP(O34,$O$4037:$P$4042,2),IF(N34=\"CTT\",VLOOKUP(O34,$O$4044:$P$4045,2),\"\"))))","v":""},null,null,null,null,null,null,null,null,null,null,null,null,null,null,null,{"$f":"+IF(AE34=\"20NL\",1,IF(AE34=\"40NL\",2,IF(AE34=\"20RF\",3,IF(AE34=\"40RF\",4,\"\"))))","v":""},{"$f":"+IF(AF34=\"\",\"\",VLOOKUP(AF34,$AF$4031:$AG$4034,2))","v":""},null,null,null,null,null,null,null,null,null,null,null,null,null,null," "]
[null,null,null,null,null,null,"",null,{"$f":"IF(H35=\"\",\"\",ROUND(H35/SUM(H34:H41),4))","v":""},null,null,null,null,null,null,{"$f":"+IF(O35=\"\",\"\",IF(N34=\"Transporte Marítimo\",VLOOKUP(O35,$O$4030:$P$4035,2),IF(N34=\"Transporte Aéreo\",VLOOKUP(O35,$O$4037:$P$4042,2),IF(N34=\"Transporte Aéreo\",VLOOKUP(O35,$O$4044:$P$4045,2),\"\"))))","v":""},null,null,null,null,null,null,null,null,null,null,null,null,null,null,null,{"$f":"+IF(AE35=\"20NL\",1,IF(AE35=\"40NL\",2,IF(AE35=\"20RF\",3,IF(AE35=\"40RF\",4,\"\"))))","v":""},""]
[null,null,null,null,null,null,"",null,{"$f":"IF(H36=\"\",\"\",ROUND(H36/SUM(H34:H41),4))","v":""},null,null,null,null,null,null,{"$f":"+IF(O36=\"\",\"\",IF(N34=\"Transporte Marítimo\",VLOOKUP(O36,$O$4030:$P$4035,2),IF(N34=\"Transporte Aéreo\",VLOOKUP(O36,$O$4037:$P$4042,2),IF(N34=\"Transporte Aéreo\",VLOOKUP(O36,$O$4044:$P$4045,2),\"\"))))","v":""},null,null,null,null,null,null,null,null,null,null,null,null,null,null,null,"",""]
[null,null,null,null,null,null,"",null,{"$f":"IF(H37=\"\",\"\",ROUND(H37/SUM(H34:H41),4))","v":""},null,null,null,null,null,null,{"$f":"+IF(O37=\"\",\"\",IF(N34=\"Transporte Marítimo\",VLOOKUP(O37,$O$4030:$P$4035,2),IF(N34=\"Transporte Aéreo\",VLOOKUP(O37,$O$4037:$P$4042,2),IF(N34=\"Transporte Aéreo\",VLOOKUP(O37,$O$4044:$P$4045,2),\"\"))))","v":""},null,null,null,null,null,null,null,null,null,null,null,null,null,null,null,"",""]
[null,null,null,null,null,null,"",null,{"$f":"IF(H38=\"\",\"\",ROUND(H38/SUM(H34:H41),4))","v":""},null,null,null,null,null,null,{"$f":"+IF(O38=\"\",\"\",IF(N34=\"Transporte Marítimo\",VLOOKUP(O38,$O$4030:$P$4035,2),IF(N34=\"Transporte Aéreo\",VLOOKUP(O38,$O$4037:$P$4042,2),IF(N34=\"Transporte Aéreo\",VLOOKUP(O38,$O$4044:$P$4045,2),\"\"))))","v":""},null,null,null,null,null,null,null,null,null,null,null,null,null,null,null,"",""]
[null,null,null,null,null,null,"",null,{"$f":"IF(H39=\"\",\"\",ROUND(H39/SUM(H34:H41),4))","v":""},null,null,null,null,null,null,{"$f":"+IF(O39=\"\",\"\",IF(N34=\"Transporte Marítimo\",VLOOKUP(O39,$O$4030:$P$4035,2),IF(N34=\"Transporte Aéreo\",VLOOKUP(O39,$O$4037:$P$4042,2),IF(N34=\"Transporte Aéreo\",VLOOKUP(O39,$O$4044:$P$4045,2),\"\"))))","v":""},null,null,null,null,null,null,null,null,null,null,null,null,null,null,null,"",""]
[null,null,null,null,null,null,"",null,{"$f":"IF(H40=\"\",\"\",ROUND(H40/SUM(H34:H41),4))","v":""},null,null,null,null,null,null,{"$f":"+IF(O40=\"\",\"\",IF(N34=\"Transporte Marítimo\",VLOOKUP(O40,$O$4030:$P$4035,2),IF(N34=\"Transporte Aéreo\",VLOOKUP(O40,$O$4037:$P$4042,2),IF(N34=\"Transporte Aéreo\",VLOOKUP(O40,$O$4044:$P$4045,2),\"\"))))","v":""},null,null,null,null,null,null,null,null,null,null,null,null,null,null,null,"",""]
[null,null,null,null,null,null,"",null,{"$f":"IF(H41=\"\",\"\",ROUND(H41/SUM(H34:H41),4))","v":""},null,null,null,null,null,null,{"$f":"+IF(O41=\"\",\"\",IF(N34=\"Transporte Marítimo\",VLOOKUP(O41,$O$4030:$P$4035,2),IF(N34=\"Transporte Aéreo\",VLOOKUP(O41,$O$4037:$P$4042,2),IF(N34=\"Transporte Aéreo\",VLOOKUP(O41,$O$4044:$P$4045,2),\"\"))))","v":""},null,null,null,null,null,null,null,null,null,null,null,null,null,null,null,"",""]
[null,{"$f":"+B34+1","v":4},null,null,null,null,{"$f":"+IF(F42=\"\",\"\",VLOOKUP(F42,$F$4031:$G$4120,2))","v":""},null,{"$f":"IF(H42=\"\",\"\",1-SUM(I43:I49))","v":""},null,null,null,null,null,null,{"$f":"+IF(O42=\"\",\"\",IF(N42=\"Transporte Marítimo\",VLOOKUP(O42,$O$4030:$P$4035,2),IF(N42=\"Transporte Aéreo\",VLOOKUP(O42,$O$4037:$P$4042,2),IF(N42=\"CTT\",VLOOKUP(O42,$O$4044:$P$4045,2),\"\"))))","v":""},null,null,null,null,null,null,null,null,null,null,null,null,null,null,null,{"$f":"+IF(AE42=\"20NL\",1,IF(AE42=\"40NL\",2,IF(AE42=\"20RF\",3,IF(AE42=\"40RF\",4,\"\"))))","v":""},{"$f":"+IF(AF42=\"\",\"\",VLOOKUP(AF42,$AF$4031:$AG$4034,2))","v":""},null,null,null,null,null,null,null,null,null,null,null,null,null,null," "]
[null,null,null,null,null,null,"",null,{"$f":"IF(H43=\"\",\"\",ROUND(H43/SUM(H42:H49),4))","v":""},null,null,null,null,null,null,{"$f":"+IF(O43=\"\",\"\",IF(N42=\"Transporte Marítimo\",VLOOKUP(O43,$O$4030:$P$4035,2),IF(N42=\"Transporte Aéreo\",VLOOKUP(O43,$O$4037:$P$4042,2),IF(N42=\"Transporte Aéreo\",VLOOKUP(O43,$O$4044:$P$4045,2),\"\"))))","v":""},null,null,null,null,null,null,null,null,null,null,null,null,null,null,null,{"$f":"+IF(AE43=\"20NL\",1,IF(AE43=\"40NL\",2,IF(AE43=\"20RF\",3,IF(AE43=\"40RF\",4,\"\"))))","v":""},""]
[null,null,null,null,null,null,"",null,{"$f":"IF(H44=\"\",\"\",ROUND(H44/SUM(H42:H49),4))","v":""},null,null,null,null,null,null,{"$f":"+IF(O44=\"\",\"\",IF(N42=\"Transporte Marítimo\",VLOOKUP(O44,$O$4030:$P$4035,2),IF(N42=\"Transporte Aéreo\",VLOOKUP(O44,$O$4037:$P$4042,2),IF(N42=\"Transporte Aéreo\",VLOOKUP(O44,$O$4044:$P$4045,2),\"\"))))","v":""},null,null,null,null,null,null,null,null,null,null,null,null,null,null,null,"",""]
[null,null,null,null,null,null,"",null,{"$f":"IF(H45=\"\",\"\",ROUND(H45/SUM(H42:H49),4))","v":""},null,null,null,null,null,null,{"$f":"+IF(O45=\"\",\"\",IF(N42=\"Transporte Marítimo\",VLOOKUP(O45,$O$4030:$P$4035,2),IF(N42=\"Transporte Aéreo\",VLOOKUP(O45,$O$4037:$P$4042,2),IF(N42=\"Transporte Aéreo\",VLOOKUP(O45,$O$4044:$P$4045,2),\"\"))))","v":""},null,null,null,null,null,null,null,null,null,null,null,null,null,null,null,"",""]
[null,null,null,null,null,null,"",null,{"$f":"IF(H46=\"\",\"\",ROUND(H46/SUM(H42:H49),4))","v":""},null,null,null,null,null,null,{"$f":"+IF(O46=\"\",\"\",IF(N42=\"Transporte Marítimo\",VLOOKUP(O46,$O$4030:$P$4035,2),IF(N42=\"Transporte Aéreo\",VLOOKUP(O46,$O$4037:$P$4042,2),IF(N42=\"Transporte Aéreo\",VLOOKUP(O46,$O$4044:$P$4045,2),\"\"))))","v":""},null,null,null,null,null,null,null,null,null,null,null,null,null,null,null,"",""]
[null,null,null,null,null,null,"",null,{"$f":"IF(H47=\"\",\"\",ROUND(H47/SUM(H42:H49),4))","v":""},null,null,null,null,null,null,{"$f":"+IF(O47=\"\",\"\",IF(N42=\"Transporte Marítimo\",VLOOKUP(O47,$O$4030:$P$4035,2),IF(N42=\"Transporte Aéreo\",VLOOKUP(O47,$O$4037:$P$4042,2),IF(N42=\"Transporte Aéreo\",VLOOKUP(O47,$O$4044:$P$4045,2),\"\"))))","v":""},null,null,null,null,null,null,null,null,null,null,null,null,null,null,null,"",""]
[null,null,null,null,null,null,"",null,{"$f":"IF(H48=\"\",\"\",ROUND(H48/SUM(H42:H49),4))","v":""},null,null,null,null,null,null,{"$f":"+IF(O48=\"\",\"\",IF(N42=\"Transporte Marítimo\",VLOOKUP(O48,$O$4030:$P$4035,2),IF(N42=\"Transporte Aéreo\",VLOOKUP(O48,$O$4037:$P$4042,2),IF(N42=\"Transporte Aéreo\",VLOOKUP(O48,$O$4044:$P$4045,2),\"\"))))","v":""},null,null,null,null,null,null,null,null,null,null,null,null,null,null,null,"",""]
[null,null,null,null,null,null,"",null,{"$f":"IF(H49=\"\",\"\",ROUND(H49/SUM(H42:H49),4))","v":""},null,null,null,null,null,null,{"$f":"+IF(O49=\"\",\"\",IF(N42=\"Transporte Marítimo\",VLOOKUP(O49,$O$4030:$P$4035,2),IF(N42=\"Transporte Aéreo\",VLOOKUP(O49,$O$4037:$P$4042,2),IF(N42=\"Transporte Aéreo\",VLOOKUP(O49,$O$4044:$P$4045,2),\"\"))))","v":""},null,null,null,null,null,null,null,null,null,null,null,null,null,null,null,"",""]
[null,{"$f":"+B42+1","v":5},null,null,null,null,{"$f":"+IF(F50=\"\",\"\",VLOOKUP(F50,$F$4031:$G$4120,2))","v":""},null,{"$f":"IF(H50=\"\",\"\",1-SUM(I51:I57))","v":""},null,null,null,null,null,null,{"$f":"+IF(O50=\"\",\"\",IF(N50=\"Transporte Marítimo\",VLOOKUP(O50,$O$4030:$P$4035,2),IF(N50=\"Transporte Aéreo\",VLOOKUP(O50,$O$4037:$P$4042,2),IF(N50=\"CTT\",VLOOKUP(O50,$O$4044:$P$4045,2),\"\"))))","v":""},null,null,null,null,null,null,null,null,null,null,null,null,null,null,null,{"$f":"+IF(AE50=\"20NL\",1,IF(AE50=\"40NL\",2,IF(AE50=\"20RF\",3,IF(AE50=\"40RF\",4,\"\"))))","v":""},{"$f":"+IF(AF50=\"\",\"\",VLOOKUP(AF50,$AF$4031:$AG$4034,2))","v":""},null,null,null,null,null,null,null,null,null,null,null,null,null,null," "]
[null,null,null,null,null,null,"",null,{"$f":"IF(H51=\"\",\"\",ROUND(H51/SUM(H50:H57),4))","v":""},null,null,null,null,null,null,{"$f":"+IF(O51=\"\",\"\",IF(N50=\"Transporte Marítimo\",VLOOKUP(O51,$O$4030:$P$4035,2),IF(N50=\"Transporte Aéreo\",VLOOKUP(O51,$O$4037:$P$4042,2),IF(N50=\"Transporte Aéreo\",VLOOKUP(O51,$O$4044:$P$4045,2),\"\"))))","v":""},null,null,null,null,null,null,null,null,null,null,null,null,null,null,null,{"$f":"+IF(AE51=\"20NL\",1,IF(AE51=\"40NL\",2,IF(AE51=\"20RF\",3,IF(AE51=\"40RF\",4,\"\"))))","v":""},""]
[null,null,null,null,null,null,"",null,{"$f":"IF(H52=\"\",\"\",ROUND(H52/SUM(H50:H57),4))","v":""},null,null,null,null,null,null,{"$f":"+IF(O52=\"\",\"\",IF(N50=\"Transporte Marítimo\",VLOOKUP(O52,$O$4030:$P$4035,2),IF(N50=\"Transporte Aéreo\",VLOOKUP(O52,$O$4037:$P$4042,2),IF(N50=\"Transporte Aéreo\",VLOOKUP(O52,$O$4044:$P$4045,2),\"\"))))","v":""},null,null,null,null,null,null,null,null,null,null,null,null,null,null,null,"",""]
[null,null,null,null,null,null,"",null,{"$f":"IF(H53=\"\",\"\",ROUND(H53/SUM(H50:H57),4))","v":""},null,null,null,null,null,null,{"$f":"+IF(O53=\"\",\"\",IF(N50=\"Transporte Marítimo\",VLOOKUP(O53,$O$4030:$P$4035,2),IF(N50=\"Transporte Aéreo\",VLOOKUP(O53,$O$4037:$P$4042,2),IF(N50=\"Transporte Aéreo\",VLOOKUP(O53,$O$4044:$P$4045,2),\"\"))))","v":""},null,null,null,null,null,null,null,null,null,null,null,null,null,null,null,"",""]
[null,null,null,null,null,null,"",null,{"$f":"IF(H54=\"\",\"\",ROUND(H54/SUM(H50:H57),4))","v":""},null,null,null,null,null,null,{"$f":"+IF(O54=\"\",\"\",IF(N50=\"Transporte Marítimo\",VLOOKUP(O54,$O$4030:$P$4035,2),IF(N50=\"Transporte Aéreo\",VLOOKUP(O54,$O$4037:$P$4042,2),IF(N50=\"Transporte Aéreo\",VLOOKUP(O54,$O$4044:$P$4045,2),\"\"))))","v":""},null,null,null,null,null,null,null,null,null,null,null,null,null,null,null,"",""]
[null,null,null,null,null,null,"",null,{"$f":"IF(H55=\"\",\"\",ROUND(H55/SUM(H50:H57),4))","v":""},null,null,null,null,null,null,{"$f":"+IF(O55=\"\",\"\",IF(N50=\"Transporte Marítimo\",VLOOKUP(O55,$O$4030:$P$4035,2),IF(N50=\"Transporte Aéreo\",VLOOKUP(O55,$O$4037:$P$4042,2),IF(N50=\"Transporte Aéreo\",VLOOKUP(O55,$O$4044:$P$4045,2),\"\"))))","v":""},null,null,null,null,null,null,null,null,null,null,null,null,null,null,null,"",""]
[null,null,null,null,null,null,"",null,{"$f":"IF(H56=\"\",\"\",ROUND(H56/SUM(H50:H57),4))","v":""},null,null,null,null,null,null,{"$f":"+IF(O56=\"\",\"\",IF(N50=\"Transporte Marítimo\",VLOOKUP(O56,$O$4030:$P$4035,2),IF(N50=\"Transporte Aéreo\",VLOOKUP(O56,$O$4037:$P$4042,2),IF(N50=\"Transporte Aéreo\",VLOOKUP(O56,$O$4044:$P$4045,2),\"\"))))","v":""},null,null,null,null,null,null,null,null,null,null,null,null,null,null,null,"",""]
[null,null,null,null,null,null,"",null,{"$f":"IF(H57=\"\",\"\",ROUND(H57/SUM(H50:H57),4))","v":""},null,null,null,null,null,null,{"$f":"+IF(O57=\"\",\"\",IF(N50=\"Transporte Marítimo\",VLOOKUP(O57,$O$4030:$P$4035,2),IF(N50=\"Transporte Aéreo\",VLOOKUP(O57,$O$4037:$P$4042,2),IF(N50=\"Transporte Aéreo\",VLOOKUP(O57,$O$4044:$P$4045,2),\"\"))))","v":""},null,null,null,null,null,null,null,null,null,null,null,null,null,null,null,"",""]
[null,{"$f":"+B50+1","v":6},null,null,null,null,{"$f":"+IF(F58=\"\",\"\",VLOOKUP(F58,$F$4031:$G$4120,2))","v":""},null,{"$f":"IF(H58=\"\",\"\",1-SUM(I59:I65))","v":""},null,null,null,null,null,null,{"$f":"+IF(O58=\"\",\"\",IF(N58=\"Transporte Marítimo\",VLOOKUP(O58,$O$4030:$P$4035,2),IF(N58=\"Transporte Aéreo\",VLOOKUP(O58,$O$4037:$P$4042,2),IF(N58=\"CTT\",VLOOKUP(O58,$O$4044:$P$4045,2),\"\"))))","v":""},null,null,null,null,null,null,null,null,null,null,null,null,null,null,null,{"$f":"+IF(AE58=\"20NL\",1,IF(AE58=\"40NL\",2,IF(AE58=\"20RF\",3,IF(AE58=\"40RF\",4,\"\"))))","v":""},{"$f":"+IF(AF58=\"\",\"\",VLOOKUP(AF58,$AF$4031:$AG$4034,2))","v":""},null,null,null,null,null,null,null,null,null,null,null,null,null,null," "]
[null,null,null,null,null,null,"",null,{"$f":"IF(H59=\"\",\"\",ROUND(H59/SUM(H58:H65),4))","v":""},null,null,null,null,null,null,{"$f":"+IF(O59=\"\",\"\",IF(N58=\"Transporte Marítimo\",VLOOKUP(O59,$O$4030:$P$4035,2),IF(N58=\"Transporte Aéreo\",VLOOKUP(O59,$O$4037:$P$4042,2),IF(N58=\"Transporte Aéreo\",VLOOKUP(O59,$O$4044:$P$4045,2),\"\"))))","v":""},null,null,null,null,null,null,null,null,null,null,null,null,null,null,null,{"$f":"+IF(AE59=\"20NL\",1,IF(AE59=\"40NL\",2,IF(AE59=\"20RF\",3,IF(AE59=\"40RF\",4,\"\"))))","v":""},""]
[null,null,null,null,null,null,"",null,{"$f":"IF(H60=\"\",\"\",ROUND(H60/SUM(H58:H65),4))","v":""},null,null,null,null,null,null,{"$f":"+IF(O60=\"\",\"\",IF(N58=\"Transporte Marítimo\",VLOOKUP(O60,$O$4030:$P$4035,2),IF(N58=\"Transporte Aéreo\",VLOOKUP(O60,$O$4037:$P$4042,2),IF(N58=\"Transporte Aéreo\",VLOOKUP(O60,$O$4044:$P$4045,2),\"\"))))","v":""},null,null,null,null,null,null,null,null,null,null,null,null,null,null,null,"",""]
[null,null,null,null,null,null,"",null,{"$f":"IF(H61=\"\",\"\",ROUND(H61/SUM(H58:H65),4))","v":""},null,null,null,null,null,null,{"$f":"+IF(O61=\"\",\"\",IF(N58=\"Transporte Marítimo\",VLOOKUP(O61,$O$4030:$P$4035,2),IF(N58=\"Transporte Aéreo\",VLOOKUP(O61,$O$4037:$P$4042,2),IF(N58=\"Transporte Aéreo\",VLOOKUP(O61,$O$4044:$P$4045,2),\"\"))))","v":""},null,null,null,null,null,null,null,null,null,null,null,null,null,null,null,"",""]
[null,null,null,null,null,null,"",null,{"$f":"IF(H62=\"\",\"\",ROUND(H62/SUM(H58:H65),4))","v":""},null,null,null,null,null,null,{"$f":"+IF(O62=\"\",\"\",IF(N58=\"Transporte Marítimo\",VLOOKUP(O62,$O$4030:$P$4035,2),IF(N58=\"Transporte Aéreo\",VLOOKUP(O62,$O$4037:$P$4042,2),IF(N58=\"Transporte Aéreo\",VLOOKUP(O62,$O$4044:$P$4045,2),\"\"))))","v":""},null,null,null,null,null,null,null,null,null,null,null,null,null,null,null,"",""]
[null,null,null,null,null,null,"",null,{"$f":"IF(H63=\"\",\"\",ROUND(H63/SUM(H58:H65),4))","v":""},null,null,null,null,null,null,{"$f":"+IF(O63=\"\",\"\",IF(N58=\"Transporte Marítimo\",VLOOKUP(O63,$O$4030:$P$4035,2),IF(N58=\"Transporte Aéreo\",VLOOKUP(O63,$O$4037:$P$4042,2),IF(N58=\"Transporte Aéreo\",VLOOKUP(O63,$O$4044:$P$4045,2),\"\"))))","v":""},null,null,null,null,null,null,null,null,null,null,null,null,null,null,null,"",""]
[null,null,null,null,null,null,"",null,{"$f":"IF(H64=\"\",\"\",ROUND(H64/SUM(H58:H65),4))","v":""},null,null,null,null,null,null,{"$f":"+IF(O64=\"\",\"\",IF(N58=\"Transporte Marítimo\",VLOOKUP(O64,$O$4030:$P$4035,2),IF(N58=\"Transporte Aéreo\",VLOOKUP(O64,$O$4037:$P$4042,2),IF(N58=\"Transporte Aéreo\",VLOOKUP(O64,$O$4044:$P$4045,2),\"\"))))","v":""},null,null,null,null,null,null,null,null,null,null,null,null,null,null,null,"",""]
[null,null,null,null,null,null,"",null,{"$f":"IF(H65=\"\",\"\",ROUND(H65/SUM(H58:H65),4))","v":""},null,null,null,null,null,null,{"$f":"+IF(O65=\"\",\"\",IF(N58=\"Transporte Marítimo\",VLOOKUP(O65,$O$4030:$P$4035,2),IF(N58=\"Transporte Aéreo\",VLOOKUP(O65,$O$4037:$P$4042,2),IF(N58=\"Transporte Aéreo\",VLOOKUP(O65,$O$4044:$P$4045,2),\"\"))))","v":""},null,null,null,null,null,null,null,null,null,null,null,null,null,null,null,"",""]
[null,{"$f":"+B58+1","v":7},null,null,null,null,{"$f":"+IF(F66=\"\",\"\",VLOOKUP(F66,$F$4031:$G$4120,2))","v":""},null,{"$f":"IF(H66=\"\",\"\",1-SUM(I67:I73))","v":""},null,null,null,null,null,null,{"$f":"+IF(O66=\"\",\"\",IF(N66=\"Transporte Marítimo\",VLOOKUP(O66,$O$4030:$P$4035,2),IF(N66=\"Transporte Aéreo\",VLOOKUP(O66,$O$4037:$P$4042,2),IF(N66=\"CTT\",VLOOKUP(O66,$O$4044:$P$4045,2),\"\"))))","v":""},null,null,null,null,null,null,null,null,null,null,null,null,null,null,null,{"$f":"+IF(AE66=\"20NL\",1,IF(AE66=\"40NL\",2,IF(AE66=\"20RF\",3,IF(AE66=\"40RF\",4,\"\"))))","v":""},{"$f":"+IF(AF66=\"\",\"\",VLOOKUP(AF66,$AF$4031:$AG$4034,2))","v":""},null,null,null,null,null,null,null,null,null,null,null,null,null,null," "]
[null,null,null,null,null,null,"",null,{"$f":"IF(H67=\"\",\"\",ROUND(H67/SUM(H66:H73),4))","v":""},null,null,null,null,null,null,{"$f":"+IF(O67=\"\",\"\",IF(N66=\"Transporte Marítimo\",VLOOKUP(O67,$O$4030:$P$4035,2),IF(N66=\"Transporte Aéreo\",VLOOKUP(O67,$O$4037:$P$4042,2),IF(N66=\"Transporte Aéreo\",VLOOKUP(O67,$O$4044:$P$4045,2),\"\"))))","v":""},null,null,null,null,null,null,null,null,null,null,null,null,null,null,null,{"$f":"+IF(AE67=\"20NL\",1,IF(AE67=\"40NL\",2,IF(AE67=\"20RF\",3,IF(AE67=\"40RF\",4,\"\"))))","v":""},""]
[null,null,null,null,null,null,"",null,{"$f":"IF(H68=\"\",\"\",ROUND(H68/SUM(H66:H73),4))","v":""},null,null,null,null,null,null,{"$f":"+IF(O68=\"\",\"\",IF(N66=\"Transporte Marítimo\",VLOOKUP(O68,$O$4030:$P$4035,2),IF(N66=\"Transporte Aéreo\",VLOOKUP(O68,$O$4037:$P$4042,2),IF(N66=\"Transporte Aéreo\",VLOOKUP(O68,$O$4044:$P$4045,2),\"\"))))","v":""},null,null,null,null,null,null,null,null,null,null,null,null,null,null,null,"",""]
[null,null,null,null,null,null,"",null,{"$f":"IF(H69=\"\",\"\",ROUND(H69/SUM(H66:H73),4))","v":""},null,null,null,null,null,null,{"$f":"+IF(O69=\"\",\"\",IF(N66=\"Transporte Marítimo\",VLOOKUP(O69,$O$4030:$P$4035,2),IF(N66=\"Transporte Aéreo\",VLOOKUP(O69,$O$4037:$P$4042,2),IF(N66=\"Transporte Aéreo\",VLOOKUP(O69,$O$4044:$P$4045,2),\"\"))))","v":""},null,null,null,null,null,null,null,null,null,null,null,null,null,null,null,"",""]
[null,null,null,null,null,null,"",null,{"$f":"IF(H70=\"\",\"\",ROUND(H70/SUM(H66:H73),4))","v":""},null,null,null,null,null,null,{"$f":"+IF(O70=\"\",\"\",IF(N66=\"Transporte Marítimo\",VLOOKUP(O70,$O$4030:$P$4035,2),IF(N66=\"Transporte Aéreo\",VLOOKUP(O70,$O$4037:$P$4042,2),IF(N66=\"Transporte Aéreo\",VLOOKUP(O70,$O$4044:$P$4045,2),\"\"))))","v":""},null,null,null,null,null,null,null,null,null,null,null,null,null,null,null,"",""]
[null,null,null,null,null,null,"",null,{"$f":"IF(H71=\"\",\"\",ROUND(H71/SUM(H66:H73),4))","v":""},null,null,null,null,null,null,{"$f":"+IF(O71=\"\",\"\",IF(N66=\"Transporte Marítimo\",VLOOKUP(O71,$O$4030:$P$4035,2),IF(N66=\"Transporte Aéreo\",VLOOKUP(O71,$O$4037:$P$4042,2),IF(N66=\"Transporte Aéreo\",VLOOKUP(O71,$O$4044:$P$4045,2),\"\"))))","v":""},null,null,null,null,null,null,null,null,null,null,null,null,null,null,null,"",""]
[null,null,null,null,null,null,"",null,{"$f":"IF(H72=\"\",\"\",ROUND(H72/SUM(H66:H73),4))","v":""},null,null,null,null,null,null,{"$f":"+IF(O72=\"\",\"\",IF(N66=\"Transporte Marítimo\",VLOOKUP(O72,$O$4030:$P$4035,2),IF(N66=\"Transporte Aéreo\",VLOOKUP(O72,$O$4037:$P$4042,2),IF(N66=\"Transporte Aéreo\",VLOOKUP(O72,$O$4044:$P$4045,2),\"\"))))","v":""},null,null,null,null,null,null,null,null,null,null,null,null,null,null,null,"",""]
[null,null,null,null,null,null,"",null,{"$f":"IF(H73=\"\",\"\",ROUND(H73/SUM(H66:H73),4))","v":""},null,null,null,null,null,null,{"$f":"+IF(O73=\"\",\"\",IF(N66=\"Transporte Marítimo\",VLOOKUP(O73,$O$4030:$P$4035,2),IF(N66=\"Transporte Aéreo\",VLOOKUP(O73,$O$4037:$P$4042,2),IF(N66=\"Transporte Aéreo\",VLOOKUP(O73,$O$4044:$P$4045,2),\"\"))))","v":""},null,null,null,null,null,null,null,null,null,null,null,null,null,null,null,"",""]
[null,{"$f":"+B66+1","v":8},null,null,null,null,{"$f":"+IF(F74=\"\",\"\",VLOOKUP(F74,$F$4031:$G$4120,2))","v":""},null,{"$f":"IF(H74=\"\",\"\",1-SUM(I75:I81))","v":""},null,null,null,null,null,null,{"$f":"+IF(O74=\"\",\"\",IF(N74=\"Transporte Marítimo\",VLOOKUP(O74,$O$4030:$P$4035,2),IF(N74=\"Transporte Aéreo\",VLOOKUP(O74,$O$4037:$P$4042,2),IF(N74=\"CTT\",VLOOKUP(O74,$O$4044:$P$4045,2),\"\"))))","v":""},null,null,null,null,null,null,null,null,null,null,null,null,null,null,null,{"$f":"+IF(AE74=\"20NL\",1,IF(AE74=\"40NL\",2,IF(AE74=\"20RF\",3,IF(AE74=\"40RF\",4,\"\"))))","v":""},{"$f":"+IF(AF74=\"\",\"\",VLOOKUP(AF74,$AF$4031:$AG$4034,2))","v":""},null,null,null,null,null,null,null,null,null,null,null,null,null,null," "]
[null,null,null,null,null,null,"",null,{"$f":"IF(H75=\"\",\"\",ROUND(H75/SUM(H74:H81),4))","v":""},null,null,null,null,null,null,{"$f":"+IF(O75=\"\",\"\",IF(N74=\"Transporte Marítimo\",VLOOKUP(O75,$O$4030:$P$4035,2),IF(N74=\"Transporte Aéreo\",VLOOKUP(O75,$O$4037:$P$4042,2),IF(N74=\"Transporte Aéreo\",VLOOKUP(O75,$O$4044:$P$4045,2),\"\"))))","v":""},null,null,null,null,null,null,null,null,null,null,null,null,null,null,null,{"$f":"+IF(AE75=\"20NL\",1,IF(AE75=\"40NL\",2,IF(AE75=\"20RF\",3,IF(AE75=\"40RF\",4,\"\"))))","v":""},""]
[null,null,null,null,null,null,"",null,{"$f":"IF(H76=\"\",\"\",ROUND(H76/SUM(H74:H81),4))","v":""},null,null,null,null,null,null,{"$f":"+IF(O76=\"\",\"\",IF(N74=\"Transporte Marítimo\",VLOOKUP(O76,$O$4030:$P$4035,2),IF(N74=\"Transporte Aéreo\",VLOOKUP(O76,$O$4037:$P$4042,2),IF(N74=\"Transporte Aéreo\",VLOOKUP(O76,$O$4044:$P$4045,2),\"\"))))","v":""},null,null,null,null,null,null,null,null,null,null,null,null,null,null,null,"",""]
[null,null,null,null,null,null,"",null,{"$f":"IF(H77=\"\",\"\",ROUND(H77/SUM(H74:H81),4))","v":""},null,null,null,null,null,null,{"$f":"+IF(O77=\"\",\"\",IF(N74=\"Transporte Marítimo\",VLOOKUP(O77,$O$4030:$P$4035,2),IF(N74=\"Transporte Aéreo\",VLOOKUP(O77,$O$4037:$P$4042,2),IF(N74=\"Transporte Aéreo\",VLOOKUP(O77,$O$4044:$P$4045,2),\"\"))))","v":""},null,null,null,null,null,null,null,null,null,null,null,null,null,null,null,"",""]
[null,null,null,null,null,null,"",null,{"$f":"IF(H78=\"\",\"\",ROUND(H78/SUM(H74:H81),4))","v":""},null,null,null,null,null,null,{"$f":"+IF(O78=\"\",\"\",IF(N74=\"Transporte Marítimo\",VLOOKUP(O78,$O$4030:$P$4035,2),IF(N74=\"Transporte Aéreo\",VLOOKUP(O78,$O$4037:$P$4042,2),IF(N74=\"Transporte Aéreo\",VLOOKUP(O78,$O$4044:$P$4045,2),\"\"))))","v":""},null,null,null,null,null,null,null,null,null,null,null,null,null,null,null,"",""]
[null,null,null,null,null,null,"",null,{"$f":"IF(H79=\"\",\"\",ROUND(H79/SUM(H74:H81),4))","v":""},null,null,null,null,null,null,{"$f":"+IF(O79=\"\",\"\",IF(N74=\"Transporte Marítimo\",VLOOKUP(O79,$O$4030:$P$4035,2),IF(N74=\"Transporte Aéreo\",VLOOKUP(O79,$O$4037:$P$4042,2),IF(N74=\"Transporte Aéreo\",VLOOKUP(O79,$O$4044:$P$4045,2),\"\"))))","v":""},null,null,null,null,null,null,null,null,null,null,null,null,null,null,null,"",""]
[null,null,null,null,null,null,"",null,{"$f":"IF(H80=\"\",\"\",ROUND(H80/SUM(H74:H81),4))","v":""},null,null,null,null,null,null,{"$f":"+IF(O80=\"\",\"\",IF(N74=\"Transporte Marítimo\",VLOOKUP(O80,$O$4030:$P$4035,2),IF(N74=\"Transporte Aéreo\",VLOOKUP(O80,$O$4037:$P$4042,2),IF(N74=\"Transporte Aéreo\",VLOOKUP(O80,$O$4044:$P$4045,2),\"\"))))","v":""},null,null,null,null,null,null,null,null,null,null,null,null,null,null,null,"",""]
[null,null,null,null,null,null,"",null,{"$f":"IF(H81=\"\",\"\",ROUND(H81/SUM(H74:H81),4))","v":""},null,null,null,null,null,null,{"$f":"+IF(O81=\"\",\"\",IF(N74=\"Transporte Marítimo\",VLOOKUP(O81,$O$4030:$P$4035,2),IF(N74=\"Transporte Aéreo\",VLOOKUP(O81,$O$4037:$P$4042,2),IF(N74=\"Transporte Aéreo\",VLOOKUP(O81,$O$4044:$P$4045,2),\"\"))))","v":""},null,null,null,null,null,null,null,null,null,null,null,null,null,null,null,"",""]
[null,{"$f":"+B74+1","v":9},null,null,null,null,{"$f":"+IF(F82=\"\",\"\",VLOOKUP(F82,$F$4031:$G$4120,2))","v":""},null,{"$f":"IF(H82=\"\",\"\",1-SUM(I83:I89))","v":""},null,null,null,null,null,null,{"$f":"+IF(O82=\"\",\"\",IF(N82=\"Transporte Marítimo\",VLOOKUP(O82,$O$4030:$P$4035,2),IF(N82=\"Transporte Aéreo\",VLOOKUP(O82,$O$4037:$P$4042,2),IF(N82=\"CTT\",VLOOKUP(O82,$O$4044:$P$4045,2),\"\"))))","v":""},null,null,null,null,null,null,null,null,null,null,null,null,null,null,null,{"$f":"+IF(AE82=\"20NL\",1,IF(AE82=\"40NL\",2,IF(AE82=\"20RF\",3,IF(AE82=\"40RF\",4,\"\"))))","v":""},{"$f":"+IF(AF82=\"\",\"\",VLOOKUP(AF82,$AF$4031:$AG$4034,2))","v":""},null,null,null,null,null,null,null,null,null,null,null,null,null,null," "]
[null,null,null,null,null,null,"",null,{"$f":"IF(H83=\"\",\"\",ROUND(H83/SUM(H82:H89),4))","v":""},null,null,null,null,null,null,{"$f":"+IF(O83=\"\",\"\",IF(N82=\"Transporte Marítimo\",VLOOKUP(O83,$O$4030:$P$4035,2),IF(N82=\"Transporte Aéreo\",VLOOKUP(O83,$O$4037:$P$4042,2),IF(N82=\"Transporte Aéreo\",VLOOKUP(O83,$O$4044:$P$4045,2),\"\"))))","v":""},null,null,null,null,null,null,null,null,null,null,null,null,null,null,null,{"$f":"+IF(AE83=\"20NL\",1,IF(AE83=\"40NL\",2,IF(AE83=\"20RF\",3,IF(AE83=\"40RF\",4,\"\"))))","v":""},""]
[null,null,null,null,null,null,{"$f":"+IF(F84=\"\",\"\",VLOOKUP(F84,$F$4031:$G$4120,2))","v":""},null,{"$f":"IF(H84=\"\",\"\",ROUND(H84/SUM(H82:H89),4))","v":""},null,null,null,null,null,null,{"$f":"+IF(O84=\"\",\"\",IF(N82=\"Transporte Marítimo\",VLOOKUP(O84,$O$4030:$P$4035,2),IF(N82=\"Transporte Aéreo\",VLOOKUP(O84,$O$4037:$P$4042,2),IF(N82=\"Transporte Aéreo\",VLOOKUP(O84,$O$4044:$P$4045,2),\"\"))))","v":""},null,null,null,null,null,null,null,null,null,null,null,null,null,null,null,"",{"$f":"+IF(AF84=\"\",\"\",VLOOKUP(AF84,$AF$4031:$AG$4034,2))","v":""}]
[null,null,null,null,null,null,"",null,{"$f":"IF(H85=\"\",\"\",ROUND(H85/SUM(H82:H89),4))","v":""},null,null,null,null,null,null,{"$f":"+IF(O85=\"\",\"\",IF(N82=\"Transporte Marítimo\",VLOOKUP(O85,$O$4030:$P$4035,2),IF(N82=\"Transporte Aéreo\",VLOOKUP(O85,$O$4037:$P$4042,2),IF(N82=\"Transporte Aéreo\",VLOOKUP(O85,$O$4044:$P$4045,2),\"\"))))","v":""},null,null,null,null,null,null,null,null,null,null,null,null,null,null,null,"",""]
[null,null,null,null,null,null,"",null,{"$f":"IF(H86=\"\",\"\",ROUND(H86/SUM(H82:H89),4))","v":""},null,null,null,null,null,null,{"$f":"+IF(O86=\"\",\"\",IF(N82=\"Transporte Marítimo\",VLOOKUP(O86,$O$4030:$P$4035,2),IF(N82=\"Transporte Aéreo\",VLOOKUP(O86,$O$4037:$P$4042,2),IF(N82=\"Transporte Aéreo\",VLOOKUP(O86,$O$4044:$P$4045,2),\"\"))))","v":""},null,null,null,null,null,null,null,null,null,null,null,null,null,null,null,"",""]
[null,null,null,null,null,null,"",null,{"$f":"IF(H87=\"\",\"\",ROUND(H87/SUM(H82:H89),4))","v":""},null,null,null,null,null,null,{"$f":"+IF(O87=\"\",\"\",IF(N82=\"Transporte Marítimo\",VLOOKUP(O87,$O$4030:$P$4035,2),IF(N82=\"Transporte Aéreo\",VLOOKUP(O87,$O$4037:$P$4042,2),IF(N82=\"Transporte Aéreo\",VLOOKUP(O87,$O$4044:$P$4045,2),\"\"))))","v":""},null,null,null,null,null,null,null,null,null,null,null,null,null,null,null,"",""]
[null,null,null,null,null,null,"",null,{"$f":"IF(H88=\"\",\"\",ROUND(H88/SUM(H82:H89),4))","v":""},null,null,null,null,null,null,{"$f":"+IF(O88=\"\",\"\",IF(N82=\"Transporte Marítimo\",VLOOKUP(O88,$O$4030:$P$4035,2),IF(N82=\"Transporte Aéreo\",VLOOKUP(O88,$O$4037:$P$4042,2),IF(N82=\"Transporte Aéreo\",VLOOKUP(O88,$O$4044:$P$4045,2),\"\"))))","v":""},null,null,null,null,null,null,null,null,null,null,null,null,null,null,null,"",""]
[null,null,null,null,null,null,"",null,{"$f":"IF(H89=\"\",\"\",ROUND(H89/SUM(H82:H89),4))","v":""},null,null,null,null,null,null,{"$f":"+IF(O89=\"\",\"\",IF(N82=\"Transporte Marítimo\",VLOOKUP(O89,$O$4030:$P$4035,2),IF(N82=\"Transporte Aéreo\",VLOOKUP(O89,$O$4037:$P$4042,2),IF(N82=\"Transporte Aéreo\",VLOOKUP(O89,$O$4044:$P$4045,2),\"\"))))","v":""},null,null,null,null,null,null,null,null,null,null,null,null,null,null,null,"",""]
[null,{"$f":"+B82+1","v":10},null,null,null,null,{"$f":"+IF(F90=\"\",\"\",VLOOKUP(F90,$F$4031:$G$4120,2))","v":""},null,{"$f":"IF(H90=\"\",\"\",1-SUM(I91:I97))","v":""},null,null,null,null,null,null,{"$f":"+IF(O90=\"\",\"\",IF(N90=\"Transporte Marítimo\",VLOOKUP(O90,$O$4030:$P$4035,2),IF(N90=\"Transporte Aéreo\",VLOOKUP(O90,$O$4037:$P$4042,2),IF(N90=\"CTT\",VLOOKUP(O90,$O$4044:$P$4045,2),\"\"))))","v":""},null,null,null,null,null,null,null,null,null,null,null,null,null,null,null,{"$f":"+IF(AE90=\"20NL\",1,IF(AE90=\"40NL\",2,IF(AE90=\"20RF\",3,IF(AE90=\"40RF\",4,\"\"))))","v":""},{"$f":"+IF(AF90=\"\",\"\",VLOOKUP(AF90,$AF$4031:$AG$4034,2))","v":""},null,null,null,null,null,null,null,null,null,null,null,null,null,null," "]
[null,null,null,null,null,null,"",null,{"$f":"IF(H91=\"\",\"\",ROUND(H91/SUM(H90:H97),4))","v":""},null,null,null,null,null,null,{"$f":"+IF(O91=\"\",\"\",IF(N90=\"Transporte Marítimo\",VLOOKUP(O91,$O$4030:$P$4035,2),IF(N90=\"Transporte Aéreo\",VLOOKUP(O91,$O$4037:$P$4042,2),IF(N90=\"Transporte Aéreo\",VLOOKUP(O91,$O$4044:$P$4045,2),\"\"))))","v":""},null,null,null,null,null,null,null,null,null,null,null,null,null,null,null,{"$f":"+IF(AE91=\"20NL\",1,IF(AE91=\"40NL\",2,IF(AE91=\"20RF\",3,IF(AE91=\"40RF\",4,\"\"))))","v":""},{"$f":"+IF(AF91=\"\",\"\",VLOOKUP(AF91,$AF$4031:$AG$4034,2))","v":""}]
[null,null,null,null,null,null,"",null,{"$f":"IF(H92=\"\",\"\",ROUND(H92/SUM(H90:H97),4))","v":""},null,null,null,null,null,null,{"$f":"+IF(O92=\"\",\"\",IF(N90=\"Transporte Marítimo\",VLOOKUP(O92,$O$4030:$P$4035,2),IF(N90=\"Transporte Aéreo\",VLOOKUP(O92,$O$4037:$P$4042,2),IF(N90=\"Transporte Aéreo\",VLOOKUP(O92,$O$4044:$P$4045,2),\"\"))))","v":""},null,null,null,null,null,null,null,null,null,null,null,null,null,null,null,"",""]
[null,null,null,null,null,null,"",null,{"$f":"IF(H93=\"\",\"\",ROUND(H93/SUM(H90:H97),4))","v":""},null,null,null,null,null,null,{"$f":"+IF(O93=\"\",\"\",IF(N90=\"Transporte Marítimo\",VLOOKUP(O93,$O$4030:$P$4035,2),IF(N90=\"Transporte Aéreo\",VLOOKUP(O93,$O$4037:$P$4042,2),IF(N90=\"Transporte Aéreo\",VLOOKUP(O93,$O$4044:$P$4045,2),\"\"))))","v":""},null,null,null,null,null,null,null,null,null,null,null,null,null,null,null,"",""]
[null,null,null,null,null,null,"",null,{"$f":"IF(H94=\"\",\"\",ROUND(H94/SUM(H90:H97),4))","v":""},null,null,null,null,null,null,{"$f":"+IF(O94=\"\",\"\",IF(N90=\"Transporte Marítimo\",VLOOKUP(O94,$O$4030:$P$4035,2),IF(N90=\"Transporte Aéreo\",VLOOKUP(O94,$O$4037:$P$4042,2),IF(N90=\"Transporte Aéreo\",VLOOKUP(O94,$O$4044:$P$4045,2),\"\"))))","v":""},null,null,null,null,null,null,null,null,null,null,null,null,null,null,null,"",""]
[null,null,null,null,null,null,"",null,{"$f":"IF(H95=\"\",\"\",ROUND(H95/SUM(H90:H97),4))","v":""},null,null,null,null,null,null,{"$f":"+IF(O95=\"\",\"\",IF(N90=\"Transporte Marítimo\",VLOOKUP(O95,$O$4030:$P$4035,2),IF(N90=\"Transporte Aéreo\",VLOOKUP(O95,$O$4037:$P$4042,2),IF(N90=\"Transporte Aéreo\",VLOOKUP(O95,$O$4044:$P$4045,2),\"\"))))","v":""},null,null,null,null,null,null,null,null,null,null,null,null,null,null,null,"",""]
[null,null,null,null,null,null,"",null,{"$f":"IF(H96=\"\",\"\",ROUND(H96/SUM(H90:H97),4))","v":""},null,null,null,null,null,null,{"$f":"+IF(O96=\"\",\"\",IF(N90=\"Transporte Marítimo\",VLOOKUP(O96,$O$4030:$P$4035,2),IF(N90=\"Transporte Aéreo\",VLOOKUP(O96,$O$4037:$P$4042,2),IF(N90=\"Transporte Aéreo\",VLOOKUP(O96,$O$4044:$P$4045,2),\"\"))))","v":""},null,null,null,null,null,null,null,null,null,null,null,null,null,null,null,"",""]
[null,null,null,null,null,null,{"$f":"+IF(F97=\"\",\"\",VLOOKUP(F97,$F$4031:$G$4120,2))","v":""},null,{"$f":"IF(H97=\"\",\"\",ROUND(H97/SUM(H90:H97),4))","v":""},null,null,null,null,null,null,{"$f":"+IF(O97=\"\",\"\",IF(N90=\"Transporte Marítimo\",VLOOKUP(O97,$O$4030:$P$4035,2),IF(N90=\"Transporte Aéreo\",VLOOKUP(O97,$O$4037:$P$4042,2),IF(N90=\"Transporte Aéreo\",VLOOKUP(O97,$O$4044:$P$4045,2),\"\"))))","v":""},null,null,null,null,null,null,null,null,null,null,null,null,null,null,null,"",""]
[null,{"$f":"+B90+1","v":11},null,null,null,null,{"$f":"+IF(F98=\"\",\"\",VLOOKUP(F98,$F$4031:$G$4120,2))","v":""},null,{"$f":"IF(H98=\"\",\"\",1-SUM(I99:I105))","v":""},null,null,null,null,null,null,{"$f":"+IF(O98=\"\",\"\",IF(N98=\"Transporte Marítimo\",VLOOKUP(O98,$O$4030:$P$4035,2),IF(N98=\"Transporte Aéreo\",VLOOKUP(O98,$O$4037:$P$4042,2),IF(N98=\"CTT\",VLOOKUP(O98,$O$4044:$P$4045,2),\"\"))))","v":""},null,null,null,null,null,null,null,null,null,null,null,null,null,null,null,{"$f":"+IF(AE98=\"20NL\",1,IF(AE98=\"40NL\",2,IF(AE98=\"20RF\",3,IF(AE98=\"40RF\",4,\"\"))))","v":""},{"$f":"+IF(AF98=\"\",\"\",VLOOKUP(AF98,$AF$4031:$AG$4034,2))","v":""},null,null,null,null,null,null,null,null,null,null,null,null,null,null," "]
[null,null,null,null,null,null,{"$f":"+IF(F99=\"\",\"\",VLOOKUP(F99,$F$4031:$G$4120,2))","v":""},null,{"$f":"IF(H99=\"\",\"\",ROUND(H99/SUM(H98:H105),4))","v":""},null,null,null,null,null,null,{"$f":"+IF(O99=\"\",\"\",IF(N98=\"Transporte Marítimo\",VLOOKUP(O99,$O$4030:$P$4035,2),IF(N98=\"Transporte Aéreo\",VLOOKUP(O99,$O$4037:$P$4042,2),IF(N98=\"Transporte Aéreo\",VLOOKUP(O99,$O$4044:$P$4045,2),\"\"))))","v":""},null,null,null,null,null,null,null,null,null,null,null,null,null,null,null,{"$f":"+IF(AE99=\"20NL\",1,IF(AE99=\"40NL\",2,IF(AE99=\"20RF\",3,IF(AE99=\"40RF\",4,\"\"))))","v":""},{"$f":"+IF(AF99=\"\",\"\",VLOOKUP(AF99,$AF$4031:$AG$4034,2))","v":""}]
[null,null,null,null,null,null,"",null,{"$f":"IF(H100=\"\",\"\",ROUND(H100/SUM(H98:H105),4))","v":""},null,null,null,null,null,null,{"$f":"+IF(O100=\"\",\"\",IF(N98=\"Transporte Marítimo\",VLOOKUP(O100,$O$4030:$P$4035,2),IF(N98=\"Transporte Aéreo\",VLOOKUP(O100,$O$4037:$P$4042,2),IF(N98=\"Transporte Aéreo\",VLOOKUP(O100,$O$4044:$P$4045,2),\"\"))))","v":""},null,null,null,null,null,null,null,null,null,null,null,null,null,null,null,"",""]
[null,null,null,null,null,null,"",null,{"$f":"IF(H101=\"\",\"\",ROUND(H101/SUM(H98:H105),4))","v":""},null,null,null,null,null,null,{"$f":"+IF(O101=\"\",\"\",IF(N98=\"Transporte Marítimo\",VLOOKUP(O101,$O$4030:$P$4035,2),IF(N98=\"Transporte Aéreo\",VLOOKUP(O101,$O$4037:$P$4042,2),IF(N98=\"Transporte Aéreo\",VLOOKUP(O101,$O$4044:$P$4045,2),\"\"))))","v":""},null,null,null,null,null,null,null,null,null,null,null,null,null,null,null,"",""]
[null,null,null,null,null,null,"",null,{"$f":"IF(H102=\"\",\"\",ROUND(H102/SUM(H98:H105),4))","v":""},null,null,null,null,null,null,{"$f":"+IF(O102=\"\",\"\",IF(N98=\"Transporte Marítimo\",VLOOKUP(O102,$O$4030:$P$4035,2),IF(N98=\"Transporte Aéreo\",VLOOKUP(O102,$O$4037:$P$4042,2),IF(N98=\"Transporte Aéreo\",VLOOKUP(O102,$O$4044:$P$4045,2),\"\"))))","v":""},null,null,null,null,null,null,null,null,null,null,null,null,null,null,null,"",""]
[null,null,null,null,null,null,"",null,{"$f":"IF(H103=\"\",\"\",ROUND(H103/SUM(H98:H105),4))","v":""},null,null,null,null,null,null,{"$f":"+IF(O103=\"\",\"\",IF(N98=\"Transporte Marítimo\",VLOOKUP(O103,$O$4030:$P$4035,2),IF(N98=\"Transporte Aéreo\",VLOOKUP(O103,$O$4037:$P$4042,2),IF(N98=\"Transporte Aéreo\",VLOOKUP(O103,$O$4044:$P$4045,2),\"\"))))","v":""},null,null,null,null,null,null,null,null,null,null,null,null,null,null,null,"",""]
[null,null,null,null,null,null,"",null,{"$f":"IF(H104=\"\",\"\",ROUND(H104/SUM(H98:H105),4))","v":""},null,null,null,null,null,null,{"$f":"+IF(O104=\"\",\"\",IF(N98=\"Transporte Marítimo\",VLOOKUP(O104,$O$4030:$P$4035,2),IF(N98=\"Transporte Aéreo\",VLOOKUP(O104,$O$4037:$P$4042,2),IF(N98=\"Transporte Aéreo\",VLOOKUP(O104,$O$4044:$P$4045,2),\"\"))))","v":""},null,null,null,null,null,null,null,null,null,null,null,null,null,null,null,"",""]
[null,null,null,null,null,null,"",null,{"$f":"IF(H105=\"\",\"\",ROUND(H105/SUM(H98:H105),4))","v":""},null,null,null,null,null,null,{"$f":"+IF(O105=\"\",\"\",IF(N98=\"Transporte Marítimo\",VLOOKUP(O105,$O$4030:$P$4035,2),IF(N98=\"Transporte Aéreo\",VLOOKUP(O105,$O$4037:$P$4042,2),IF(N98=\"Transporte Aéreo\",VLOOKUP(O105,$O$4044:$P$4045,2),\"\"))))","v":""},null,null,null,null,null,null,null,null,null,null,null,null,null,null,null,"",""]
[null,{"$f":"+B98+1","v":12},null,null,null,null,{"$f":"+IF(F106=\"\",\"\",VLOOKUP(F106,$F$4031:$G$4120,2))","v":""},null,{"$f":"IF(H106=\"\",\"\",1-SUM(I107:I113))","v":""},null,null,null,null,null,null,{"$f":"+IF(O106=\"\",\"\",IF(N106=\"Transporte Marítimo\",VLOOKUP(O106,$O$4030:$P$4035,2),IF(N106=\"Transporte Aéreo\",VLOOKUP(O106,$O$4037:$P$4042,2),IF(N106=\"CTT\",VLOOKUP(O106,$O$4044:$P$4045,2),\"\"))))","v":""},null,null,null,null,null,null,null,null,null,null,null,null,null,null,null,{"$f":"+IF(AE106=\"20NL\",1,IF(AE106=\"40NL\",2,IF(AE106=\"20RF\",3,IF(AE106=\"40RF\",4,\"\"))))","v":""},{"$f":"+IF(AF106=\"\",\"\",VLOOKUP(AF106,$AF$4031:$AG$4034,2))","v":""},null,null,null,null,null,null,null,null,null,null,null,null,null,null," "]
[null,null,null,null,null,null,"",null,{"$f":"IF(H107=\"\",\"\",ROUND(H107/SUM(H106:H113),4))","v":""},null,null,null,null,null,null,{"$f":"+IF(O107=\"\",\"\",IF(N106=\"Transporte Marítimo\",VLOOKUP(O107,$O$4030:$P$4035,2),IF(N106=\"Transporte Aéreo\",VLOOKUP(O107,$O$4037:$P$4042,2),IF(N106=\"Transporte Aéreo\",VLOOKUP(O107,$O$4044:$P$4045,2),\"\"))))","v":""},null,null,null,null,null,null,null,null,null,null,null,null,null,null,null,{"$f":"+IF(AE107=\"20NL\",1,IF(AE107=\"40NL\",2,IF(AE107=\"20RF\",3,IF(AE107=\"40RF\",4,\"\"))))","v":""},""]
[null,null,null,null,null,null,"",null,{"$f":"IF(H108=\"\",\"\",ROUND(H108/SUM(H106:H113),4))","v":""},null,null,null,null,null,null,{"$f":"+IF(O108=\"\",\"\",IF(N106=\"Transporte Marítimo\",VLOOKUP(O108,$O$4030:$P$4035,2),IF(N106=\"Transporte Aéreo\",VLOOKUP(O108,$O$4037:$P$4042,2),IF(N106=\"Transporte Aéreo\",VLOOKUP(O108,$O$4044:$P$4045,2),\"\"))))","v":""},null,null,null,null,null,null,null,null,null,null,null,null,null,null,null,"",""]
[null,null,null,null,null,null,"",null,{"$f":"IF(H109=\"\",\"\",ROUND(H109/SUM(H106:H113),4))","v":""},null,null,null,null,null,null,{"$f":"+IF(O109=\"\",\"\",IF(N106=\"Transporte Marítimo\",VLOOKUP(O109,$O$4030:$P$4035,2),IF(N106=\"Transporte Aéreo\",VLOOKUP(O109,$O$4037:$P$4042,2),IF(N106=\"Transporte Aéreo\",VLOOKUP(O109,$O$4044:$P$4045,2),\"\"))))","v":""},null,null,null,null,null,null,null,null,null,null,null,null,null,null,null,"",""]
[null,null,null,null,null,null,"",null,{"$f":"IF(H110=\"\",\"\",ROUND(H110/SUM(H106:H113),4))","v":""},null,null,null,null,null,null,{"$f":"+IF(O110=\"\",\"\",IF(N106=\"Transporte Marítimo\",VLOOKUP(O110,$O$4030:$P$4035,2),IF(N106=\"Transporte Aéreo\",VLOOKUP(O110,$O$4037:$P$4042,2),IF(N106=\"Transporte Aéreo\",VLOOKUP(O110,$O$4044:$P$4045,2),\"\"))))","v":""},null,null,null,null,null,null,null,null,null,null,null,null,null,null,null,"",""]
[null,null,null,null,null,null,"",null,{"$f":"IF(H111=\"\",\"\",ROUND(H111/SUM(H106:H113),4))","v":""},null,null,null,null,null,null,{"$f":"+IF(O111=\"\",\"\",IF(N106=\"Transporte Marítimo\",VLOOKUP(O111,$O$4030:$P$4035,2),IF(N106=\"Transporte Aéreo\",VLOOKUP(O111,$O$4037:$P$4042,2),IF(N106=\"Transporte Aéreo\",VLOOKUP(O111,$O$4044:$P$4045,2),\"\"))))","v":""},null,null,null,null,null,null,null,null,null,null,null,null,null,null,null,"",""]
[null,null,null,null,null,null,"",null,{"$f":"IF(H112=\"\",\"\",ROUND(H112/SUM(H106:H113),4))","v":""},null,null,null,null,null,null,{"$f":"+IF(O112=\"\",\"\",IF(N106=\"Transporte Marítimo\",VLOOKUP(O112,$O$4030:$P$4035,2),IF(N106=\"Transporte Aéreo\",VLOOKUP(O112,$O$4037:$P$4042,2),IF(N106=\"Transporte Aéreo\",VLOOKUP(O112,$O$4044:$P$4045,2),\"\"))))","v":""},null,null,null,null,null,null,null,null,null,null,null,null,null,null,null,"",""]
[null,null,null,null,null,null,"",null,{"$f":"IF(H113=\"\",\"\",ROUND(H113/SUM(H106:H113),4))","v":""},null,null,null,null,null,null,{"$f":"+IF(O113=\"\",\"\",IF(N106=\"Transporte Marítimo\",VLOOKUP(O113,$O$4030:$P$4035,2),IF(N106=\"Transporte Aéreo\",VLOOKUP(O113,$O$4037:$P$4042,2),IF(N106=\"Transporte Aéreo\",VLOOKUP(O113,$O$4044:$P$4045,2),\"\"))))","v":""},null,null,null,null,null,null,null,null,null,null,null,null,null,null,null,"",""]
[null,{"$f":"+B106+1","v":13},null,null,null,null,{"$f":"+IF(F114=\"\",\"\",VLOOKUP(F114,$F$4031:$G$4120,2))","v":""},null,{"$f":"IF(H114=\"\",\"\",1-SUM(I115:I121))","v":""},null,null,null,null,null,null,{"$f":"+IF(O114=\"\",\"\",IF(N114=\"Transporte Marítimo\",VLOOKUP(O114,$O$4030:$P$4035,2),IF(N114=\"Transporte Aéreo\",VLOOKUP(O114,$O$4037:$P$4042,2),IF(N114=\"CTT\",VLOOKUP(O114,$O$4044:$P$4045,2),\"\"))))","v":""},null,null,null,null,null,null,null,null,null,null,null,null,null,null,null,{"$f":"+IF(AE114=\"20NL\",1,IF(AE114=\"40NL\",2,IF(AE114=\"20RF\",3,IF(AE114=\"40RF\",4,\"\"))))","v":""},{"$f":"+IF(AF114=\"\",\"\",VLOOKUP(AF114,$AF$4031:$AG$4034,2))","v":""},null,null,null,null,null,null,null,null,null,null,null,null,null,null," "]
[null,null,null,null,null,null,"",null,{"$f":"IF(H115=\"\",\"\",ROUND(H115/SUM(H114:H121),4))","v":""},null,null,null,null,null,null,{"$f":"+IF(O115=\"\",\"\",IF(N114=\"Transporte Marítimo\",VLOOKUP(O115,$O$4030:$P$4035,2),IF(N114=\"Transporte Aéreo\",VLOOKUP(O115,$O$4037:$P$4042,2),IF(N114=\"Transporte Aéreo\",VLOOKUP(O115,$O$4044:$P$4045,2),\"\"))))","v":""},null,null,null,null,null,null,null,null,null,null,null,null,null,null,null,{"$f":"+IF(AE115=\"20NL\",1,IF(AE115=\"40NL\",2,IF(AE115=\"20RF\",3,IF(AE115=\"40RF\",4,\"\"))))","v":""},""]
[null,null,null,null,null,null,"",null,{"$f":"IF(H116=\"\",\"\",ROUND(H116/SUM(H114:H121),4))","v":""},null,null,null,null,null,null,{"$f":"+IF(O116=\"\",\"\",IF(N114=\"Transporte Marítimo\",VLOOKUP(O116,$O$4030:$P$4035,2),IF(N114=\"Transporte Aéreo\",VLOOKUP(O116,$O$4037:$P$4042,2),IF(N114=\"Transporte Aéreo\",VLOOKUP(O116,$O$4044:$P$4045,2),\"\"))))","v":""},null,null,null,null,null,null,null,null,null,null,null,null,null,null,null,"",""]
[null,null,null,null,null,null,"",null,{"$f":"IF(H117=\"\",\"\",ROUND(H117/SUM(H114:H121),4))","v":""},null,null,null,null,null,null,{"$f":"+IF(O117=\"\",\"\",IF(N114=\"Transporte Marítimo\",VLOOKUP(O117,$O$4030:$P$4035,2),IF(N114=\"Transporte Aéreo\",VLOOKUP(O117,$O$4037:$P$4042,2),IF(N114=\"Transporte Aéreo\",VLOOKUP(O117,$O$4044:$P$4045,2),\"\"))))","v":""},null,null,null,null,null,null,null,null,null,null,null,null,null,null,null,"",""]
[null,null,null,null,null,null,"",null,{"$f":"IF(H118=\"\",\"\",ROUND(H118/SUM(H114:H121),4))","v":""},null,null,null,null,null,null,{"$f":"+IF(O118=\"\",\"\",IF(N114=\"Transporte Marítimo\",VLOOKUP(O118,$O$4030:$P$4035,2),IF(N114=\"Transporte Aéreo\",VLOOKUP(O118,$O$4037:$P$4042,2),IF(N114=\"Transporte Aéreo\",VLOOKUP(O118,$O$4044:$P$4045,2),\"\"))))","v":""},null,null,null,null,null,null,null,null,null,null,null,null,null,null,null,"",""]
[null,null,null,null,null,null,"",null,{"$f":"IF(H119=\"\",\"\",ROUND(H119/SUM(H114:H121),4))","v":""},null,null,null,null,null,null,{"$f":"+IF(O119=\"\",\"\",IF(N114=\"Transporte Marítimo\",VLOOKUP(O119,$O$4030:$P$4035,2),IF(N114=\"Transporte Aéreo\",VLOOKUP(O119,$O$4037:$P$4042,2),IF(N114=\"Transporte Aéreo\",VLOOKUP(O119,$O$4044:$P$4045,2),\"\"))))","v":""},null,null,null,null,null,null,null,null,null,null,null,null,null,null,null,"",""]
[null,null,null,null,null,null,"",null,{"$f":"IF(H120=\"\",\"\",ROUND(H120/SUM(H114:H121),4))","v":""},null,null,null,null,null,null,{"$f":"+IF(O120=\"\",\"\",IF(N114=\"Transporte Marítimo\",VLOOKUP(O120,$O$4030:$P$4035,2),IF(N114=\"Transporte Aéreo\",VLOOKUP(O120,$O$4037:$P$4042,2),IF(N114=\"Transporte Aéreo\",VLOOKUP(O120,$O$4044:$P$4045,2),\"\"))))","v":""},null,null,null,null,null,null,null,null,null,null,null,null,null,null,null,"",""]
[null,null,null,null,null,null,"",null,{"$f":"IF(H121=\"\",\"\",ROUND(H121/SUM(H114:H121),4))","v":""},null,null,null,null,null,null,{"$f":"+IF(O121=\"\",\"\",IF(N114=\"Transporte Marítimo\",VLOOKUP(O121,$O$4030:$P$4035,2),IF(N114=\"Transporte Aéreo\",VLOOKUP(O121,$O$4037:$P$4042,2),IF(N114=\"Transporte Aéreo\",VLOOKUP(O121,$O$4044:$P$4045,2),\"\"))))","v":""},null,null,null,null,null,null,null,null,null,null,null,null,null,null,null,"",""]
[null,{"$f":"+B114+1","v":14},null,null,null,null,{"$f":"+IF(F122=\"\",\"\",VLOOKUP(F122,$F$4031:$G$4120,2))","v":""},null,{"$f":"IF(H122=\"\",\"\",1-SUM(I123:I129))","v":""},null,null,null,null,null,null,{"$f":"+IF(O122=\"\",\"\",IF(N122=\"Transporte Marítimo\",VLOOKUP(O122,$O$4030:$P$4035,2),IF(N122=\"Transporte Aéreo\",VLOOKUP(O122,$O$4037:$P$4042,2),IF(N122=\"CTT\",VLOOKUP(O122,$O$4044:$P$4045,2),\"\"))))","v":""},null,null,null,null,null,null,null,null,null,null,null,null,null,null,null,{"$f":"+IF(AE122=\"20NL\",1,IF(AE122=\"40NL\",2,IF(AE122=\"20RF\",3,IF(AE122=\"40RF\",4,\"\"))))","v":""},{"$f":"+IF(AF122=\"\",\"\",VLOOKUP(AF122,$AF$4031:$AG$4034,2))","v":""},null,null,null,null,null,null,null,null,null,null,null,null,null,null," "]
[null,null,null,null,null,null,"",null,{"$f":"IF(H123=\"\",\"\",ROUND(H123/SUM(H122:H129),4))","v":""},null,null,null,null,null,null,{"$f":"+IF(O123=\"\",\"\",IF(N122=\"Transporte Marítimo\",VLOOKUP(O123,$O$4030:$P$4035,2),IF(N122=\"Transporte Aéreo\",VLOOKUP(O123,$O$4037:$P$4042,2),IF(N122=\"Transporte Aéreo\",VLOOKUP(O123,$O$4044:$P$4045,2),\"\"))))","v":""},null,null,null,null,null,null,null,null,null,null,null,null,null,null,null,{"$f":"+IF(AE123=\"20NL\",1,IF(AE123=\"40NL\",2,IF(AE123=\"20RF\",3,IF(AE123=\"40RF\",4,\"\"))))","v":""},""]
[null,null,null,null,null,null,"",null,{"$f":"IF(H124=\"\",\"\",ROUND(H124/SUM(H122:H129),4))","v":""},null,null,null,null,null,null,{"$f":"+IF(O124=\"\",\"\",IF(N122=\"Transporte Marítimo\",VLOOKUP(O124,$O$4030:$P$4035,2),IF(N122=\"Transporte Aéreo\",VLOOKUP(O124,$O$4037:$P$4042,2),IF(N122=\"Transporte Aéreo\",VLOOKUP(O124,$O$4044:$P$4045,2),\"\"))))","v":""},null,null,null,null,null,null,null,null,null,null,null,null,null,null,null,"",""]
[null,null,null,null,null,null,"",null,{"$f":"IF(H125=\"\",\"\",ROUND(H125/SUM(H122:H129),4))","v":""},null,null,null,null,null,null,{"$f":"+IF(O125=\"\",\"\",IF(N122=\"Transporte Marítimo\",VLOOKUP(O125,$O$4030:$P$4035,2),IF(N122=\"Transporte Aéreo\",VLOOKUP(O125,$O$4037:$P$4042,2),IF(N122=\"Transporte Aéreo\",VLOOKUP(O125,$O$4044:$P$4045,2),\"\"))))","v":""},null,null,null,null,null,null,null,null,null,null,null,null,null,null,null,"",""]
[null,null,null,null,null,null,"",null,{"$f":"IF(H126=\"\",\"\",ROUND(H126/SUM(H122:H129),4))","v":""},null,null,null,null,null,null,{"$f":"+IF(O126=\"\",\"\",IF(N122=\"Transporte Marítimo\",VLOOKUP(O126,$O$4030:$P$4035,2),IF(N122=\"Transporte Aéreo\",VLOOKUP(O126,$O$4037:$P$4042,2),IF(N122=\"Transporte Aéreo\",VLOOKUP(O126,$O$4044:$P$4045,2),\"\"))))","v":""},null,null,null,null,null,null,null,null,null,null,null,null,null,null,null,"",""]
[null,null,null,null,null,null,"",null,{"$f":"IF(H127=\"\",\"\",ROUND(H127/SUM(H122:H129),4))","v":""},null,null,null,null,null,null,{"$f":"+IF(O127=\"\",\"\",IF(N122=\"Transporte Marítimo\",VLOOKUP(O127,$O$4030:$P$4035,2),IF(N122=\"Transporte Aéreo\",VLOOKUP(O127,$O$4037:$P$4042,2),IF(N122=\"Transporte Aéreo\",VLOOKUP(O127,$O$4044:$P$4045,2),\"\"))))","v":""},null,null,null,null,null,null,null,null,null,null,null,null,null,null,null,"",""]
[null,null,null,null,null,null,"",null,{"$f":"IF(H128=\"\",\"\",ROUND(H128/SUM(H122:H129),4))","v":""},null,null,null,null,null,null,{"$f":"+IF(O128=\"\",\"\",IF(N122=\"Transporte Marítimo\",VLOOKUP(O128,$O$4030:$P$4035,2),IF(N122=\"Transporte Aéreo\",VLOOKUP(O128,$O$4037:$P$4042,2),IF(N122=\"Transporte Aéreo\",VLOOKUP(O128,$O$4044:$P$4045,2),\"\"))))","v":""},null,null,null,null,null,null,null,null,null,null,null,null,null,null,null,"",""]
[null,null,null,null,null,null,"",null,{"$f":"IF(H129=\"\",\"\",ROUND(H129/SUM(H122:H129),4))","v":""},null,null,null,null,null,null,{"$f":"+IF(O129=\"\",\"\",IF(N122=\"Transporte Marítimo\",VLOOKUP(O129,$O$4030:$P$4035,2),IF(N122=\"Transporte Aéreo\",VLOOKUP(O129,$O$4037:$P$4042,2),IF(N122=\"Transporte Aéreo\",VLOOKUP(O129,$O$4044:$P$4045,2),\"\"))))","v":""},null,null,null,null,null,null,null,null,null,null,null,null,null,null,null,"",""]
[null,{"$f":"+B122+1","v":15},null,null,null,null,{"$f":"+IF(F130=\"\",\"\",VLOOKUP(F130,$F$4031:$G$4120,2))","v":""},null,{"$f":"IF(H130=\"\",\"\",1-SUM(I131:I137))","v":""},null,null,null,null,null,null,{"$f":"+IF(O130=\"\",\"\",IF(N130=\"Transporte Marítimo\",VLOOKUP(O130,$O$4030:$P$4035,2),IF(N130=\"Transporte Aéreo\",VLOOKUP(O130,$O$4037:$P$4042,2),IF(N130=\"CTT\",VLOOKUP(O130,$O$4044:$P$4045,2),\"\"))))","v":""},null,null,null,null,null,null,null,null,null,null,null,null,null,null,null,{"$f":"+IF(AE130=\"20NL\",1,IF(AE130=\"40NL\",2,IF(AE130=\"20RF\",3,IF(AE130=\"40RF\",4,\"\"))))","v":""},{"$f":"+IF(AF130=\"\",\"\",VLOOKUP(AF130,$AF$4031:$AG$4034,2))","v":""},null,null,null,null,null,null,null,null,null,null,null,null,null,null," "]
[null,null,null,null,null,null,"",null,{"$f":"IF(H131=\"\",\"\",ROUND(H131/SUM(H130:H137),4))","v":""},null,null,null,null,null,null,{"$f":"+IF(O131=\"\",\"\",IF(N130=\"Transporte Marítimo\",VLOOKUP(O131,$O$4030:$P$4035,2),IF(N130=\"Transporte Aéreo\",VLOOKUP(O131,$O$4037:$P$4042,2),IF(N130=\"Transporte Aéreo\",VLOOKUP(O131,$O$4044:$P$4045,2),\"\"))))","v":""},null,null,null,null,null,null,null,null,null,null,null,null,null,null,null,{"$f":"+IF(AE131=\"20NL\",1,IF(AE131=\"40NL\",2,IF(AE131=\"20RF\",3,IF(AE131=\"40RF\",4,\"\"))))","v":""},""]
[null,null,null,null,null,null,"",null,{"$f":"IF(H132=\"\",\"\",ROUND(H132/SUM(H130:H137),4))","v":""},null,null,null,null,null,null,{"$f":"+IF(O132=\"\",\"\",IF(N130=\"Transporte Marítimo\",VLOOKUP(O132,$O$4030:$P$4035,2),IF(N130=\"Transporte Aéreo\",VLOOKUP(O132,$O$4037:$P$4042,2),IF(N130=\"Transporte Aéreo\",VLOOKUP(O132,$O$4044:$P$4045,2),\"\"))))","v":""},null,null,null,null,null,null,null,null,null,null,null,null,null,null,null,"",""]
[null,null,null,null,null,null,"",null,{"$f":"IF(H133=\"\",\"\",ROUND(H133/SUM(H130:H137),4))","v":""},null,null,null,null,null,null,{"$f":"+IF(O133=\"\",\"\",IF(N130=\"Transporte Marítimo\",VLOOKUP(O133,$O$4030:$P$4035,2),IF(N130=\"Transporte Aéreo\",VLOOKUP(O133,$O$4037:$P$4042,2),IF(N130=\"Transporte Aéreo\",VLOOKUP(O133,$O$4044:$P$4045,2),\"\"))))","v":""},null,null,null,null,null,null,null,null,null,null,null,null,null,null,null,"",""]
[null,null,null,null,null,null,"",null,{"$f":"IF(H134=\"\",\"\",ROUND(H134/SUM(H130:H137),4))","v":""},null,null,null,null,null,null,{"$f":"+IF(O134=\"\",\"\",IF(N130=\"Transporte Marítimo\",VLOOKUP(O134,$O$4030:$P$4035,2),IF(N130=\"Transporte Aéreo\",VLOOKUP(O134,$O$4037:$P$4042,2),IF(N130=\"Transporte Aéreo\",VLOOKUP(O134,$O$4044:$P$4045,2),\"\"))))","v":""},null,null,null,null,null,null,null,null,null,null,null,null,null,null,null,"",""]
[null,null,null,null,null,null,"",null,{"$f":"IF(H135=\"\",\"\",ROUND(H135/SUM(H130:H137),4))","v":""},null,null,null,null,null,null,{"$f":"+IF(O135=\"\",\"\",IF(N130=\"Transporte Marítimo\",VLOOKUP(O135,$O$4030:$P$4035,2),IF(N130=\"Transporte Aéreo\",VLOOKUP(O135,$O$4037:$P$4042,2),IF(N130=\"Transporte Aéreo\",VLOOKUP(O135,$O$4044:$P$4045,2),\"\"))))","v":""},null,null,null,null,null,null,null,null,null,null,null,null,null,null,null,"",""]
[null,null,null,null,null,null,"",null,{"$f":"IF(H136=\"\",\"\",ROUND(H136/SUM(H130:H137),4))","v":""},null,null,null,null,null,null,{"$f":"+IF(O136=\"\",\"\",IF(N130=\"Transporte Marítimo\",VLOOKUP(O136,$O$4030:$P$4035,2),IF(N130=\"Transporte Aéreo\",VLOOKUP(O136,$O$4037:$P$4042,2),IF(N130=\"Transporte Aéreo\",VLOOKUP(O136,$O$4044:$P$4045,2),\"\"))))","v":""},null,null,null,null,null,null,null,null,null,null,null,null,null,null,null,"",""]
[null,null,null,null,null,null,"",null,{"$f":"IF(H137=\"\",\"\",ROUND(H137/SUM(H130:H137),4))","v":""},null,null,null,null,null,null,{"$f":"+IF(O137=\"\",\"\",IF(N130=\"Transporte Marítimo\",VLOOKUP(O137,$O$4030:$P$4035,2),IF(N130=\"Transporte Aéreo\",VLOOKUP(O137,$O$4037:$P$4042,2),IF(N130=\"Transporte Aéreo\",VLOOKUP(O137,$O$4044:$P$4045,2),\"\"))))","v":""},null,null,null,null,null,null,null,null,null,null,null,null,null,null,null,"",""]
[null,{"$f":"+B130+1","v":16},null,null,null,null,{"$f":"+IF(F138=\"\",\"\",VLOOKUP(F138,$F$4031:$G$4120,2))","v":""},null,{"$f":"IF(H138=\"\",\"\",1-SUM(I139:I145))","v":""},null,null,null,null,null,null,{"$f":"+IF(O138=\"\",\"\",IF(N138=\"Transporte Marítimo\",VLOOKUP(O138,$O$4030:$P$4035,2),IF(N138=\"Transporte Aéreo\",VLOOKUP(O138,$O$4037:$P$4042,2),IF(N138=\"CTT\",VLOOKUP(O138,$O$4044:$P$4045,2),\"\"))))","v":""},null,null,null,null,null,null,null,null,null,null,null,null,null,null,null,{"$f":"+IF(AE138=\"20NL\",1,IF(AE138=\"40NL\",2,IF(AE138=\"20RF\",3,IF(AE138=\"40RF\",4,\"\"))))","v":""},{"$f":"+IF(AF138=\"\",\"\",VLOOKUP(AF138,$AF$4031:$AG$4034,2))","v":""},null,null,null,null,null,null,null,null,null,null,null,null,null,null," "]
[null,null,null,null,null,null,"",null,{"$f":"IF(H139=\"\",\"\",ROUND(H139/SUM(H138:H145),4))","v":""},null,null,null,null,null,null,{"$f":"+IF(O139=\"\",\"\",IF(N138=\"Transporte Marítimo\",VLOOKUP(O139,$O$4030:$P$4035,2),IF(N138=\"Transporte Aéreo\",VLOOKUP(O139,$O$4037:$P$4042,2),IF(N138=\"Transporte Aéreo\",VLOOKUP(O139,$O$4044:$P$4045,2),\"\"))))","v":""},null,null,null,null,null,null,null,null,null,null,null,null,null,null,null,{"$f":"+IF(AE139=\"20NL\",1,IF(AE139=\"40NL\",2,IF(AE139=\"20RF\",3,IF(AE139=\"40RF\",4,\"\"))))","v":""},""]
[null,null,null,null,null,null,"",null,{"$f":"IF(H140=\"\",\"\",ROUND(H140/SUM(H138:H145),4))","v":""},null,null,null,null,null,null,{"$f":"+IF(O140=\"\",\"\",IF(N138=\"Transporte Marítimo\",VLOOKUP(O140,$O$4030:$P$4035,2),IF(N138=\"Transporte Aéreo\",VLOOKUP(O140,$O$4037:$P$4042,2),IF(N138=\"Transporte Aéreo\",VLOOKUP(O140,$O$4044:$P$4045,2),\"\"))))","v":""},null,null,null,null,null,null,null,null,null,null,null,null,null,null,null,"",""]
[null,null,null,null,null,null,"",null,{"$f":"IF(H141=\"\",\"\",ROUND(H141/SUM(H138:H145),4))","v":""},null,null,null,null,null,null,{"$f":"+IF(O141=\"\",\"\",IF(N138=\"Transporte Marítimo\",VLOOKUP(O141,$O$4030:$P$4035,2),IF(N138=\"Transporte Aéreo\",VLOOKUP(O141,$O$4037:$P$4042,2),IF(N138=\"Transporte Aéreo\",VLOOKUP(O141,$O$4044:$P$4045,2),\"\"))))","v":""},null,null,null,null,null,null,null,null,null,null,null,null,null,null,null,"",""]
[null,null,null,null,null,null,"",null,{"$f":"IF(H142=\"\",\"\",ROUND(H142/SUM(H138:H145),4))","v":""},null,null,null,null,null,null,{"$f":"+IF(O142=\"\",\"\",IF(N138=\"Transporte Marítimo\",VLOOKUP(O142,$O$4030:$P$4035,2),IF(N138=\"Transporte Aéreo\",VLOOKUP(O142,$O$4037:$P$4042,2),IF(N138=\"Transporte Aéreo\",VLOOKUP(O142,$O$4044:$P$4045,2),\"\"))))","v":""},null,null,null,null,null,null,null,null,null,null,null,null,null,null,null,"",""]
[null,null,null,null,null,null,"",null,{"$f":"IF(H143=\"\",\"\",ROUND(H143/SUM(H138:H145),4))","v":""},null,null,null,null,null,null,{"$f":"+IF(O143=\"\",\"\",IF(N138=\"Transporte Marítimo\",VLOOKUP(O143,$O$4030:$P$4035,2),IF(N138=\"Transporte Aéreo\",VLOOKUP(O143,$O$4037:$P$4042,2),IF(N138=\"Transporte Aéreo\",VLOOKUP(O143,$O$4044:$P$4045,2),\"\"))))","v":""},null,null,null,null,null,null,null,null,null,null,null,null,null,null,null,"",""]
[null,null,null,null,null,null,"",null,{"$f":"IF(H144=\"\",\"\",ROUND(H144/SUM(H138:H145),4))","v":""},null,null,null,null,null,null,{"$f":"+IF(O144=\"\",\"\",IF(N138=\"Transporte Marítimo\",VLOOKUP(O144,$O$4030:$P$4035,2),IF(N138=\"Transporte Aéreo\",VLOOKUP(O144,$O$4037:$P$4042,2),IF(N138=\"Transporte Aéreo\",VLOOKUP(O144,$O$4044:$P$4045,2),\"\"))))","v":""},null,null,null,null,null,null,null,null,null,null,null,null,null,null,null,"",""]
[null,null,null,null,null,null,"",null,{"$f":"IF(H145=\"\",\"\",ROUND(H145/SUM(H138:H145),4))","v":""},null,null,null,null,null,null,{"$f":"+IF(O145=\"\",\"\",IF(N138=\"Transporte Marítimo\",VLOOKUP(O145,$O$4030:$P$4035,2),IF(N138=\"Transporte Aéreo\",VLOOKUP(O145,$O$4037:$P$4042,2),IF(N138=\"Transporte Aéreo\",VLOOKUP(O145,$O$4044:$P$4045,2),\"\"))))","v":""},null,null,null,null,null,null,null,null,null,null,null,null,null,null,null,"",""]
[null,{"$f":"+B138+1","v":17},null,null,null,null,{"$f":"+IF(F146=\"\",\"\",VLOOKUP(F146,$F$4031:$G$4120,2))","v":""},null,{"$f":"IF(H146=\"\",\"\",1-SUM(I147:I153))","v":""},null,null,null,null,null,null,{"$f":"+IF(O146=\"\",\"\",IF(N146=\"Transporte Marítimo\",VLOOKUP(O146,$O$4030:$P$4035,2),IF(N146=\"Transporte Aéreo\",VLOOKUP(O146,$O$4037:$P$4042,2),IF(N146=\"CTT\",VLOOKUP(O146,$O$4044:$P$4045,2),\"\"))))","v":""},null,null,null,null,null,null,null,null,null,null,null,null,null,null,null,{"$f":"+IF(AE146=\"20NL\",1,IF(AE146=\"40NL\",2,IF(AE146=\"20RF\",3,IF(AE146=\"40RF\",4,\"\"))))","v":""},{"$f":"+IF(AF146=\"\",\"\",VLOOKUP(AF146,$AF$4031:$AG$4034,2))","v":""},null,null,null,null,null,null,null,null,null,null,null,null,null,null," "]
[null,null,null,null,null,null,"",null,{"$f":"IF(H147=\"\",\"\",ROUND(H147/SUM(H146:H153),4))","v":""},null,null,null,null,null,null,{"$f":"+IF(O147=\"\",\"\",IF(N146=\"Transporte Marítimo\",VLOOKUP(O147,$O$4030:$P$4035,2),IF(N146=\"Transporte Aéreo\",VLOOKUP(O147,$O$4037:$P$4042,2),IF(N146=\"Transporte Aéreo\",VLOOKUP(O147,$O$4044:$P$4045,2),\"\"))))","v":""},null,null,null,null,null,null,null,null,null,null,null,null,null,null,null,{"$f":"+IF(AE147=\"20NL\",1,IF(AE147=\"40NL\",2,IF(AE147=\"20RF\",3,IF(AE147=\"40RF\",4,\"\"))))","v":""},""]
[null,null,null,null,null,null,"",null,{"$f":"IF(H148=\"\",\"\",ROUND(H148/SUM(H146:H153),4))","v":""},null,null,null,null,null,null,{"$f":"+IF(O148=\"\",\"\",IF(N146=\"Transporte Marítimo\",VLOOKUP(O148,$O$4030:$P$4035,2),IF(N146=\"Transporte Aéreo\",VLOOKUP(O148,$O$4037:$P$4042,2),IF(N146=\"Transporte Aéreo\",VLOOKUP(O148,$O$4044:$P$4045,2),\"\"))))","v":""},null,null,null,null,null,null,null,null,null,null,null,null,null,null,null,"",""]
[null,null,null,null,null,null,"",null,{"$f":"IF(H149=\"\",\"\",ROUND(H149/SUM(H146:H153),4))","v":""},null,null,null,null,null,null,{"$f":"+IF(O149=\"\",\"\",IF(N146=\"Transporte Marítimo\",VLOOKUP(O149,$O$4030:$P$4035,2),IF(N146=\"Transporte Aéreo\",VLOOKUP(O149,$O$4037:$P$4042,2),IF(N146=\"Transporte Aéreo\",VLOOKUP(O149,$O$4044:$P$4045,2),\"\"))))","v":""},null,null,null,null,null,null,null,null,null,null,null,null,null,null,null,"",""]
[null,null,null,null,null,null,"",null,{"$f":"IF(H150=\"\",\"\",ROUND(H150/SUM(H146:H153),4))","v":""},null,null,null,null,null,null,{"$f":"+IF(O150=\"\",\"\",IF(N146=\"Transporte Marítimo\",VLOOKUP(O150,$O$4030:$P$4035,2),IF(N146=\"Transporte Aéreo\",VLOOKUP(O150,$O$4037:$P$4042,2),IF(N146=\"Transporte Aéreo\",VLOOKUP(O150,$O$4044:$P$4045,2),\"\"))))","v":""},null,null,null,null,null,null,null,null,null,null,null,null,null,null,null,"",""]
[null,null,null,null,null,null,"",null,{"$f":"IF(H151=\"\",\"\",ROUND(H151/SUM(H146:H153),4))","v":""},null,null,null,null,null,null,{"$f":"+IF(O151=\"\",\"\",IF(N146=\"Transporte Marítimo\",VLOOKUP(O151,$O$4030:$P$4035,2),IF(N146=\"Transporte Aéreo\",VLOOKUP(O151,$O$4037:$P$4042,2),IF(N146=\"Transporte Aéreo\",VLOOKUP(O151,$O$4044:$P$4045,2),\"\"))))","v":""},null,null,null,null,null,null,null,null,null,null,null,null,null,null,null,"",""]
[null,null,null,null,null,null,"",null,{"$f":"IF(H152=\"\",\"\",ROUND(H152/SUM(H146:H153),4))","v":""},null,null,null,null,null,null,{"$f":"+IF(O152=\"\",\"\",IF(N146=\"Transporte Marítimo\",VLOOKUP(O152,$O$4030:$P$4035,2),IF(N146=\"Transporte Aéreo\",VLOOKUP(O152,$O$4037:$P$4042,2),IF(N146=\"Transporte Aéreo\",VLOOKUP(O152,$O$4044:$P$4045,2),\"\"))))","v":""},null,null,null,null,null,null,null,null,null,null,null,null,null,null,null,"",""]
[null,null,null,null,null,null,"",null,{"$f":"IF(H153=\"\",\"\",ROUND(H153/SUM(H146:H153),4))","v":""},null,null,null,null,null,null,{"$f":"+IF(O153=\"\",\"\",IF(N146=\"Transporte Marítimo\",VLOOKUP(O153,$O$4030:$P$4035,2),IF(N146=\"Transporte Aéreo\",VLOOKUP(O153,$O$4037:$P$4042,2),IF(N146=\"Transporte Aéreo\",VLOOKUP(O153,$O$4044:$P$4045,2),\"\"))))","v":""},null,null,null,null,null,null,null,null,null,null,null,null,null,null,null,"",""]
[null,{"$f":"+B146+1","v":18},null,null,null,null,{"$f":"+IF(F154=\"\",\"\",VLOOKUP(F154,$F$4031:$G$4120,2))","v":""},null,{"$f":"IF(H154=\"\",\"\",1-SUM(I155:I161))","v":""},null,null,null,null,null,null,{"$f":"+IF(O154=\"\",\"\",IF(N154=\"Transporte Marítimo\",VLOOKUP(O154,$O$4030:$P$4035,2),IF(N154=\"Transporte Aéreo\",VLOOKUP(O154,$O$4037:$P$4042,2),IF(N154=\"CTT\",VLOOKUP(O154,$O$4044:$P$4045,2),\"\"))))","v":""},null,null,null,null,null,null,null,null,null,null,null,null,null,null,null,{"$f":"+IF(AE154=\"20NL\",1,IF(AE154=\"40NL\",2,IF(AE154=\"20RF\",3,IF(AE154=\"40RF\",4,\"\"))))","v":""},{"$f":"+IF(AF154=\"\",\"\",VLOOKUP(AF154,$AF$4031:$AG$4034,2))","v":""},null,null,null,null,null,null,null,null,null,null,null,null,null,null," "]
[null,null,null,null,null,null,"",null,{"$f":"IF(H155=\"\",\"\",ROUND(H155/SUM(H154:H161),4))","v":""},null,null,null,null,null,null,{"$f":"+IF(O155=\"\",\"\",IF(N154=\"Transporte Marítimo\",VLOOKUP(O155,$O$4030:$P$4035,2),IF(N154=\"Transporte Aéreo\",VLOOKUP(O155,$O$4037:$P$4042,2),IF(N154=\"Transporte Aéreo\",VLOOKUP(O155,$O$4044:$P$4045,2),\"\"))))","v":""},null,null,null,null,null,null,null,null,null,null,null,null,null,null,null,{"$f":"+IF(AE155=\"20NL\",1,IF(AE155=\"40NL\",2,IF(AE155=\"20RF\",3,IF(AE155=\"40RF\",4,\"\"))))","v":""},""]
[null,null,null,null,null,null,"",null,{"$f":"IF(H156=\"\",\"\",ROUND(H156/SUM(H154:H161),4))","v":""},null,null,null,null,null,null,{"$f":"+IF(O156=\"\",\"\",IF(N154=\"Transporte Marítimo\",VLOOKUP(O156,$O$4030:$P$4035,2),IF(N154=\"Transporte Aéreo\",VLOOKUP(O156,$O$4037:$P$4042,2),IF(N154=\"Transporte Aéreo\",VLOOKUP(O156,$O$4044:$P$4045,2),\"\"))))","v":""},null,null,null,null,null,null,null,null,null,null,null,null,null,null,null,"",""]
[null,null,null,null,null,null,"",null,{"$f":"IF(H157=\"\",\"\",ROUND(H157/SUM(H154:H161),4))","v":""},null,null,null,null,null,null,{"$f":"+IF(O157=\"\",\"\",IF(N154=\"Transporte Marítimo\",VLOOKUP(O157,$O$4030:$P$4035,2),IF(N154=\"Transporte Aéreo\",VLOOKUP(O157,$O$4037:$P$4042,2),IF(N154=\"Transporte Aéreo\",VLOOKUP(O157,$O$4044:$P$4045,2),\"\"))))","v":""},null,null,null,null,null,null,null,null,null,null,null,null,null,null,null,"",""]
[null,null,null,null,null,null,"",null,{"$f":"IF(H158=\"\",\"\",ROUND(H158/SUM(H154:H161),4))","v":""},null,null,null,null,null,null,{"$f":"+IF(O158=\"\",\"\",IF(N154=\"Transporte Marítimo\",VLOOKUP(O158,$O$4030:$P$4035,2),IF(N154=\"Transporte Aéreo\",VLOOKUP(O158,$O$4037:$P$4042,2),IF(N154=\"Transporte Aéreo\",VLOOKUP(O158,$O$4044:$P$4045,2),\"\"))))","v":""},null,null,null,null,null,null,null,null,null,null,null,null,null,null,null,"",""]
[null,null,null,null,null,null,"",null,{"$f":"IF(H159=\"\",\"\",ROUND(H159/SUM(H154:H161),4))","v":""},null,null,null,null,null,null,{"$f":"+IF(O159=\"\",\"\",IF(N154=\"Transporte Marítimo\",VLOOKUP(O159,$O$4030:$P$4035,2),IF(N154=\"Transporte Aéreo\",VLOOKUP(O159,$O$4037:$P$4042,2),IF(N154=\"Transporte Aéreo\",VLOOKUP(O159,$O$4044:$P$4045,2),\"\"))))","v":""},null,null,null,null,null,null,null,null,null,null,null,null,null,null,null,"",""]
[null,null,null,null,null,null,"",null,{"$f":"IF(H160=\"\",\"\",ROUND(H160/SUM(H154:H161),4))","v":""},null,null,null,null,null,null,{"$f":"+IF(O160=\"\",\"\",IF(N154=\"Transporte Marítimo\",VLOOKUP(O160,$O$4030:$P$4035,2),IF(N154=\"Transporte Aéreo\",VLOOKUP(O160,$O$4037:$P$4042,2),IF(N154=\"Transporte Aéreo\",VLOOKUP(O160,$O$4044:$P$4045,2),\"\"))))","v":""},null,null,null,null,null,null,null,null,null,null,null,null,null,null,null,"",""]
[null,null,null,null,null,null,"",null,{"$f":"IF(H161=\"\",\"\",ROUND(H161/SUM(H154:H161),4))","v":""},null,null,null,null,null,null,{"$f":"+IF(O161=\"\",\"\",IF(N154=\"Transporte Marítimo\",VLOOKUP(O161,$O$4030:$P$4035,2),IF(N154=\"Transporte Aéreo\",VLOOKUP(O161,$O$4037:$P$4042,2),IF(N154=\"Transporte Aéreo\",VLOOKUP(O161,$O$4044:$P$4045,2),\"\"))))","v":""},null,null,null,null,null,null,null,null,null,null,null,null,null,null,null,"",""]
[null,{"$f":"+B154+1","v":19},null,null,null,null,{"$f":"+IF(F162=\"\",\"\",VLOOKUP(F162,$F$4031:$G$4120,2))","v":""},null,{"$f":"IF(H162=\"\",\"\",1-SUM(I163:I169))","v":""},null,null,null,null,null,null,{"$f":"+IF(O162=\"\",\"\",IF(N162=\"Transporte Marítimo\",VLOOKUP(O162,$O$4030:$P$4035,2),IF(N162=\"Transporte Aéreo\",VLOOKUP(O162,$O$4037:$P$4042,2),IF(N162=\"CTT\",VLOOKUP(O162,$O$4044:$P$4045,2),\"\"))))","v":""},null,null,null,null,null,null,null,null,null,null,null,null,null,null,null,{"$f":"+IF(AE162=\"20NL\",1,IF(AE162=\"40NL\",2,IF(AE162=\"20RF\",3,IF(AE162=\"40RF\",4,\"\"))))","v":""},{"$f":"+IF(AF162=\"\",\"\",VLOOKUP(AF162,$AF$4031:$AG$4034,2))","v":""},null,null,null,null,null,null,null,null,null,null,null,null,null,null," "]
[null,null,null,null,null,null,{"$f":"+IF(F163=\"\",\"\",VLOOKUP(F163,$F$4031:$G$4120,2))","v":""},null,{"$f":"IF(H163=\"\",\"\",ROUND(H163/SUM(H162:H169),4))","v":""},null,null,null,null,null,null,{"$f":"+IF(O163=\"\",\"\",IF(N162=\"Transporte Marítimo\",VLOOKUP(O163,$O$4030:$P$4035,2),IF(N162=\"Transporte Aéreo\",VLOOKUP(O163,$O$4037:$P$4042,2),IF(N162=\"Transporte Aéreo\",VLOOKUP(O163,$O$4044:$P$4045,2),\"\"))))","v":""},null,null,null,null,null,null,null,null,null,null,null,null,null,null,null,{"$f":"+IF(AE163=\"20NL\",1,IF(AE163=\"40NL\",2,IF(AE163=\"20RF\",3,IF(AE163=\"40RF\",4,\"\"))))","v":""},{"$f":"+IF(AF163=\"\",\"\",VLOOKUP(AF163,$AF$4031:$AG$4034,2))","v":""}]
[null,null,null,null,null,null,"",null,{"$f":"IF(H164=\"\",\"\",ROUND(H164/SUM(H162:H169),4))","v":""},null,null,null,null,null,null,{"$f":"+IF(O164=\"\",\"\",IF(N162=\"Transporte Marítimo\",VLOOKUP(O164,$O$4030:$P$4035,2),IF(N162=\"Transporte Aéreo\",VLOOKUP(O164,$O$4037:$P$4042,2),IF(N162=\"Transporte Aéreo\",VLOOKUP(O164,$O$4044:$P$4045,2),\"\"))))","v":""},null,null,null,null,null,null,null,null,null,null,null,null,null,null,null,"",""]
[null,null,null,null,null,null,"",null,{"$f":"IF(H165=\"\",\"\",ROUND(H165/SUM(H162:H169),4))","v":""},null,null,null,null,null,null,{"$f":"+IF(O165=\"\",\"\",IF(N162=\"Transporte Marítimo\",VLOOKUP(O165,$O$4030:$P$4035,2),IF(N162=\"Transporte Aéreo\",VLOOKUP(O165,$O$4037:$P$4042,2),IF(N162=\"Transporte Aéreo\",VLOOKUP(O165,$O$4044:$P$4045,2),\"\"))))","v":""},null,null,null,null,null,null,null,null,null,null,null,null,null,null,null,"",""]
[null,null,null,null,null,null,"",null,{"$f":"IF(H166=\"\",\"\",ROUND(H166/SUM(H162:H169),4))","v":""},null,null,null,null,null,null,{"$f":"+IF(O166=\"\",\"\",IF(N162=\"Transporte Marítimo\",VLOOKUP(O166,$O$4030:$P$4035,2),IF(N162=\"Transporte Aéreo\",VLOOKUP(O166,$O$4037:$P$4042,2),IF(N162=\"Transporte Aéreo\",VLOOKUP(O166,$O$4044:$P$4045,2),\"\"))))","v":""},null,null,null,null,null,null,null,null,null,null,null,null,null,null,null,"",""]
[null,null,null,null,null,null,"",null,{"$f":"IF(H167=\"\",\"\",ROUND(H167/SUM(H162:H169),4))","v":""},null,null,null,null,null,null,{"$f":"+IF(O167=\"\",\"\",IF(N162=\"Transporte Marítimo\",VLOOKUP(O167,$O$4030:$P$4035,2),IF(N162=\"Transporte Aéreo\",VLOOKUP(O167,$O$4037:$P$4042,2),IF(N162=\"Transporte Aéreo\",VLOOKUP(O167,$O$4044:$P$4045,2),\"\"))))","v":""},null,null,null,null,null,null,null,null,null,null,null,null,null,null,null,"",""]
[null,null,null,null,null,null,"",null,{"$f":"IF(H168=\"\",\"\",ROUND(H168/SUM(H162:H169),4))","v":""},null,null,null,null,null,null,{"$f":"+IF(O168=\"\",\"\",IF(N162=\"Transporte Marítimo\",VLOOKUP(O168,$O$4030:$P$4035,2),IF(N162=\"Transporte Aéreo\",VLOOKUP(O168,$O$4037:$P$4042,2),IF(N162=\"Transporte Aéreo\",VLOOKUP(O168,$O$4044:$P$4045,2),\"\"))))","v":""},null,null,null,null,null,null,null,null,null,null,null,null,null,null,null,"",""]
[null,null,null,null,null,null,"",null,{"$f":"IF(H169=\"\",\"\",ROUND(H169/SUM(H162:H169),4))","v":""},null,null,null,null,null,null,{"$f":"+IF(O169=\"\",\"\",IF(N162=\"Transporte Marítimo\",VLOOKUP(O169,$O$4030:$P$4035,2),IF(N162=\"Transporte Aéreo\",VLOOKUP(O169,$O$4037:$P$4042,2),IF(N162=\"Transporte Aéreo\",VLOOKUP(O169,$O$4044:$P$4045,2),\"\"))))","v":""},null,null,null,null,null,null,null,null,null,null,null,null,null,null,null,"",""]
[null,{"$f":"+B162+1","v":20},null,null,null,null,{"$f":"+IF(F170=\"\",\"\",VLOOKUP(F170,$F$4031:$G$4120,2))","v":""},null,{"$f":"IF(H170=\"\",\"\",1-SUM(I171:I177))","v":""},null,null,null,null,null,null,{"$f":"+IF(O170=\"\",\"\",IF(N170=\"Transporte Marítimo\",VLOOKUP(O170,$O$4030:$P$4035,2),IF(N170=\"Transporte Aéreo\",VLOOKUP(O170,$O$4037:$P$4042,2),IF(N170=\"CTT\",VLOOKUP(O170,$O$4044:$P$4045,2),\"\"))))","v":""},null,null,null,null,null,null,null,null,null,null,null,null,null,null,null,{"$f":"+IF(AE170=\"20NL\",1,IF(AE170=\"40NL\",2,IF(AE170=\"20RF\",3,IF(AE170=\"40RF\",4,\"\"))))","v":""},{"$f":"+IF(AF170=\"\",\"\",VLOOKUP(AF170,$AF$4031:$AG$4034,2))","v":""},null,null,null,null,null,null,null,null,null,null,null,null,null,null," "]
[null,null,null,null,null,null,"",null,{"$f":"IF(H171=\"\",\"\",ROUND(H171/SUM(H170:H177),4))","v":""},null,null,null,null,null,null,{"$f":"+IF(O171=\"\",\"\",IF(N170=\"Transporte Marítimo\",VLOOKUP(O171,$O$4030:$P$4035,2),IF(N170=\"Transporte Aéreo\",VLOOKUP(O171,$O$4037:$P$4042,2),IF(N170=\"Transporte Aéreo\",VLOOKUP(O171,$O$4044:$P$4045,2),\"\"))))","v":""},null,null,null,null,null,null,null,null,null,null,null,null,null,null,null,{"$f":"+IF(AE171=\"20NL\",1,IF(AE171=\"40NL\",2,IF(AE171=\"20RF\",3,IF(AE171=\"40RF\",4,\"\"))))","v":""},{"$f":"+IF(AF171=\"\",\"\",VLOOKUP(AF171,$AF$4031:$AG$4034,2))","v":""}]
[null,null,null,null,null,null,"",null,{"$f":"IF(H172=\"\",\"\",ROUND(H172/SUM(H170:H177),4))","v":""},null,null,null,null,null,null,{"$f":"+IF(O172=\"\",\"\",IF(N170=\"Transporte Marítimo\",VLOOKUP(O172,$O$4030:$P$4035,2),IF(N170=\"Transporte Aéreo\",VLOOKUP(O172,$O$4037:$P$4042,2),IF(N170=\"Transporte Aéreo\",VLOOKUP(O172,$O$4044:$P$4045,2),\"\"))))","v":""},null,null,null,null,null,null,null,null,null,null,null,null,null,null,null,"",""]
[null,null,null,null,null,null,"",null,{"$f":"IF(H173=\"\",\"\",ROUND(H173/SUM(H170:H177),4))","v":""},null,null,null,null,null,null,{"$f":"+IF(O173=\"\",\"\",IF(N170=\"Transporte Marítimo\",VLOOKUP(O173,$O$4030:$P$4035,2),IF(N170=\"Transporte Aéreo\",VLOOKUP(O173,$O$4037:$P$4042,2),IF(N170=\"Transporte Aéreo\",VLOOKUP(O173,$O$4044:$P$4045,2),\"\"))))","v":""},null,null,null,null,null,null,null,null,null,null,null,null,null,null,null,"",""]
[null,null,null,null,null,null,"",null,{"$f":"IF(H174=\"\",\"\",ROUND(H174/SUM(H170:H177),4))","v":""},null,null,null,null,null,null,{"$f":"+IF(O174=\"\",\"\",IF(N170=\"Transporte Marítimo\",VLOOKUP(O174,$O$4030:$P$4035,2),IF(N170=\"Transporte Aéreo\",VLOOKUP(O174,$O$4037:$P$4042,2),IF(N170=\"Transporte Aéreo\",VLOOKUP(O174,$O$4044:$P$4045,2),\"\"))))","v":""},null,null,null,null,null,null,null,null,null,null,null,null,null,null,null,"",""]
[null,null,null,null,null,null,"",null,{"$f":"IF(H175=\"\",\"\",ROUND(H175/SUM(H170:H177),4))","v":""},null,null,null,null,null,null,{"$f":"+IF(O175=\"\",\"\",IF(N170=\"Transporte Marítimo\",VLOOKUP(O175,$O$4030:$P$4035,2),IF(N170=\"Transporte Aéreo\",VLOOKUP(O175,$O$4037:$P$4042,2),IF(N170=\"Transporte Aéreo\",VLOOKUP(O175,$O$4044:$P$4045,2),\"\"))))","v":""},null,null,null,null,null,null,null,null,null,null,null,null,null,null,null,"",""]
[null,null,null,null,null,null,"",null,{"$f":"IF(H176=\"\",\"\",ROUND(H176/SUM(H170:H177),4))","v":""},null,null,null,null,null,null,{"$f":"+IF(O176=\"\",\"\",IF(N170=\"Transporte Marítimo\",VLOOKUP(O176,$O$4030:$P$4035,2),IF(N170=\"Transporte Aéreo\",VLOOKUP(O176,$O$4037:$P$4042,2),IF(N170=\"Transporte Aéreo\",VLOOKUP(O176,$O$4044:$P$4045,2),\"\"))))","v":""},null,null,null,null,null,null,null,null,null,null,null,null,null,null,null,"",""]
[null,null,null,null,null,null,{"$f":"+IF(F177=\"\",\"\",VLOOKUP(F177,$F$4031:$G$4120,2))","v":""},null,{"$f":"IF(H177=\"\",\"\",ROUND(H177/SUM(H170:H177),4))","v":""},null,null,null,null,null,null,{"$f":"+IF(O177=\"\",\"\",IF(N170=\"Transporte Marítimo\",VLOOKUP(O177,$O$4030:$P$4035,2),IF(N170=\"Transporte Aéreo\",VLOOKUP(O177,$O$4037:$P$4042,2),IF(N170=\"Transporte Aéreo\",VLOOKUP(O177,$O$4044:$P$4045,2),\"\"))))","v":""},null,null,null,null,null,null,null,null,null,null,null,null,null,null,null,"",""]
[null,{"$f":"+B170+1","v":21},null,null,null,null,{"$f":"+IF(F178=\"\",\"\",VLOOKUP(F178,$F$4031:$G$4120,2))","v":""},null,{"$f":"IF(H178=\"\",\"\",1-SUM(I179:I185))","v":""},null,null,null,null,null,null,{"$f":"+IF(O178=\"\",\"\",IF(N178=\"Transporte Marítimo\",VLOOKUP(O178,$O$4030:$P$4035,2),IF(N178=\"Transporte Aéreo\",VLOOKUP(O178,$O$4037:$P$4042,2),IF(N178=\"CTT\",VLOOKUP(O178,$O$4044:$P$4045,2),\"\"))))","v":""},null,null,null,null,null,null,null,null,null,null,null,null,null,null,null,{"$f":"+IF(AE178=\"20NL\",1,IF(AE178=\"40NL\",2,IF(AE178=\"20RF\",3,IF(AE178=\"40RF\",4,\"\"))))","v":""},{"$f":"+IF(AF178=\"\",\"\",VLOOKUP(AF178,$AF$4031:$AG$4034,2))","v":""},null,null,null,null,null,null,null,null,null,null,null,null,null,null," "]
[null,null,null,null,null,null,{"$f":"+IF(F179=\"\",\"\",VLOOKUP(F179,$F$4031:$G$4120,2))","v":""},null,{"$f":"IF(H179=\"\",\"\",ROUND(H179/SUM(H178:H185),4))","v":""},null,null,null,null,null,null,{"$f":"+IF(O179=\"\",\"\",IF(N178=\"Transporte Marítimo\",VLOOKUP(O179,$O$4030:$P$4035,2),IF(N178=\"Transporte Aéreo\",VLOOKUP(O179,$O$4037:$P$4042,2),IF(N178=\"Transporte Aéreo\",VLOOKUP(O179,$O$4044:$P$4045,2),\"\"))))","v":""},null,null,null,null,null,null,null,null,null,null,null,null,null,null,null,{"$f":"+IF(AE179=\"20NL\",1,IF(AE179=\"40NL\",2,IF(AE179=\"20RF\",3,IF(AE179=\"40RF\",4,\"\"))))","v":""},{"$f":"+IF(AF179=\"\",\"\",VLOOKUP(AF179,$AF$4031:$AG$4034,2))","v":""}]
[null,null,null,null,null,null,"",null,{"$f":"IF(H180=\"\",\"\",ROUND(H180/SUM(H178:H185),4))","v":""},null,null,null,null,null,null,{"$f":"+IF(O180=\"\",\"\",IF(N178=\"Transporte Marítimo\",VLOOKUP(O180,$O$4030:$P$4035,2),IF(N178=\"Transporte Aéreo\",VLOOKUP(O180,$O$4037:$P$4042,2),IF(N178=\"Transporte Aéreo\",VLOOKUP(O180,$O$4044:$P$4045,2),\"\"))))","v":""},null,null,null,null,null,null,null,null,null,null,null,null,null,null,null,"",""]
[null,null,null,null,null,null,"",null,{"$f":"IF(H181=\"\",\"\",ROUND(H181/SUM(H178:H185),4))","v":""},null,null,null,null,null,null,{"$f":"+IF(O181=\"\",\"\",IF(N178=\"Transporte Marítimo\",VLOOKUP(O181,$O$4030:$P$4035,2),IF(N178=\"Transporte Aéreo\",VLOOKUP(O181,$O$4037:$P$4042,2),IF(N178=\"Transporte Aéreo\",VLOOKUP(O181,$O$4044:$P$4045,2),\"\"))))","v":""},null,null,null,null,null,null,null,null,null,null,null,null,null,null,null,"",""]
[null,null,null,null,null,null,"",null,{"$f":"IF(H182=\"\",\"\",ROUND(H182/SUM(H178:H185),4))","v":""},null,null,null,null,null,null,{"$f":"+IF(O182=\"\",\"\",IF(N178=\"Transporte Marítimo\",VLOOKUP(O182,$O$4030:$P$4035,2),IF(N178=\"Transporte Aéreo\",VLOOKUP(O182,$O$4037:$P$4042,2),IF(N178=\"Transporte Aéreo\",VLOOKUP(O182,$O$4044:$P$4045,2),\"\"))))","v":""},null,null,null,null,null,null,null,null,null,null,null,null,null,null,null,"",""]
[null,null,null,null,null,null,"",null,{"$f":"IF(H183=\"\",\"\",ROUND(H183/SUM(H178:H185),4))","v":""},null,null,null,null,null,null,{"$f":"+IF(O183=\"\",\"\",IF(N178=\"Transporte Marítimo\",VLOOKUP(O183,$O$4030:$P$4035,2),IF(N178=\"Transporte Aéreo\",VLOOKUP(O183,$O$4037:$P$4042,2),IF(N178=\"Transporte Aéreo\",VLOOKUP(O183,$O$4044:$P$4045,2),\"\"))))","v":""},null,null,null,null,null,null,null,null,null,null,null,null,null,null,null,"",""]
[null,null,null,null,null,null,"",null,{"$f":"IF(H184=\"\",\"\",ROUND(H184/SUM(H178:H185),4))","v":""},null,null,null,null,null,null,{"$f":"+IF(O184=\"\",\"\",IF(N178=\"Transporte Marítimo\",VLOOKUP(O184,$O$4030:$P$4035,2),IF(N178=\"Transporte Aéreo\",VLOOKUP(O184,$O$4037:$P$4042,2),IF(N178=\"Transporte Aéreo\",VLOOKUP(O184,$O$4044:$P$4045,2),\"\"))))","v":""},null,null,null,null,null,null,null,null,null,null,null,null,null,null,null,"",""]
[null,null,null,null,null,null,"",null,{"$f":"IF(H185=\"\",\"\",ROUND(H185/SUM(H178:H185),4))","v":""},null,null,null,null,null,null,{"$f":"+IF(O185=\"\",\"\",IF(N178=\"Transporte Marítimo\",VLOOKUP(O185,$O$4030:$P$4035,2),IF(N178=\"Transporte Aéreo\",VLOOKUP(O185,$O$4037:$P$4042,2),IF(N178=\"Transporte Aéreo\",VLOOKUP(O185,$O$4044:$P$4045,2),\"\"))))","v":""},null,null,null,null,null,null,null,null,null,null,null,null,null,null,null,"",""]
[null,{"$f":"+B178+1","v":22},null,null,null,null,{"$f":"+IF(F186=\"\",\"\",VLOOKUP(F186,$F$4031:$G$4120,2))","v":""},null,{"$f":"IF(H186=\"\",\"\",1-SUM(I187:I193))","v":""},null,null,null,null,null,null,{"$f":"+IF(O186=\"\",\"\",IF(N186=\"Transporte Marítimo\",VLOOKUP(O186,$O$4030:$P$4035,2),IF(N186=\"Transporte Aéreo\",VLOOKUP(O186,$O$4037:$P$4042,2),IF(N186=\"CTT\",VLOOKUP(O186,$O$4044:$P$4045,2),\"\"))))","v":""},null,null,null,null,null,null,null,null,null,null,null,null,null,null,null,{"$f":"+IF(AE186=\"20NL\",1,IF(AE186=\"40NL\",2,IF(AE186=\"20RF\",3,IF(AE186=\"40RF\",4,\"\"))))","v":""},{"$f":"+IF(AF186=\"\",\"\",VLOOKUP(AF186,$AF$4031:$AG$4034,2))","v":""},null,null,null,null,null,null,null,null,null,null,null,null,null,null," "]
[null,null,null,null,null,null,"",null,{"$f":"IF(H187=\"\",\"\",ROUND(H187/SUM(H186:H193),4))","v":""},null,null,null,null,null,null,{"$f":"+IF(O187=\"\",\"\",IF(N186=\"Transporte Marítimo\",VLOOKUP(O187,$O$4030:$P$4035,2),IF(N186=\"Transporte Aéreo\",VLOOKUP(O187,$O$4037:$P$4042,2),IF(N186=\"Transporte Aéreo\",VLOOKUP(O187,$O$4044:$P$4045,2),\"\"))))","v":""},null,null,null,null,null,null,null,null,null,null,null,null,null,null,null,{"$f":"+IF(AE187=\"20NL\",1,IF(AE187=\"40NL\",2,IF(AE187=\"20RF\",3,IF(AE187=\"40RF\",4,\"\"))))","v":""},""]
[null,null,null,null,null,null,"",null,{"$f":"IF(H188=\"\",\"\",ROUND(H188/SUM(H186:H193),4))","v":""},null,null,null,null,null,null,{"$f":"+IF(O188=\"\",\"\",IF(N186=\"Transporte Marítimo\",VLOOKUP(O188,$O$4030:$P$4035,2),IF(N186=\"Transporte Aéreo\",VLOOKUP(O188,$O$4037:$P$4042,2),IF(N186=\"Transporte Aéreo\",VLOOKUP(O188,$O$4044:$P$4045,2),\"\"))))","v":""},null,null,null,null,null,null,null,null,null,null,null,null,null,null,null,"",""]
[null,null,null,null,null,null,"",null,{"$f":"IF(H189=\"\",\"\",ROUND(H189/SUM(H186:H193),4))","v":""},null,null,null,null,null,null,{"$f":"+IF(O189=\"\",\"\",IF(N186=\"Transporte Marítimo\",VLOOKUP(O189,$O$4030:$P$4035,2),IF(N186=\"Transporte Aéreo\",VLOOKUP(O189,$O$4037:$P$4042,2),IF(N186=\"Transporte Aéreo\",VLOOKUP(O189,$O$4044:$P$4045,2),\"\"))))","v":""},null,null,null,null,null,null,null,null,null,null,null,null,null,null,null,"",""]
[null,null,null,null,null,null,"",null,{"$f":"IF(H190=\"\",\"\",ROUND(H190/SUM(H186:H193),4))","v":""},null,null,null,null,null,null,{"$f":"+IF(O190=\"\",\"\",IF(N186=\"Transporte Marítimo\",VLOOKUP(O190,$O$4030:$P$4035,2),IF(N186=\"Transporte Aéreo\",VLOOKUP(O190,$O$4037:$P$4042,2),IF(N186=\"Transporte Aéreo\",VLOOKUP(O190,$O$4044:$P$4045,2),\"\"))))","v":""},null,null,null,null,null,null,null,null,null,null,null,null,null,null,null,"",""]
[null,null,null,null,null,null,"",null,{"$f":"IF(H191=\"\",\"\",ROUND(H191/SUM(H186:H193),4))","v":""},null,null,null,null,null,null,{"$f":"+IF(O191=\"\",\"\",IF(N186=\"Transporte Marítimo\",VLOOKUP(O191,$O$4030:$P$4035,2),IF(N186=\"Transporte Aéreo\",VLOOKUP(O191,$O$4037:$P$4042,2),IF(N186=\"Transporte Aéreo\",VLOOKUP(O191,$O$4044:$P$4045,2),\"\"))))","v":""},null,null,null,null,null,null,null,null,null,null,null,null,null,null,null,"",""]
[null,null,null,null,null,null,"",null,{"$f":"IF(H192=\"\",\"\",ROUND(H192/SUM(H186:H193),4))","v":""},null,null,null,null,null,null,{"$f":"+IF(O192=\"\",\"\",IF(N186=\"Transporte Marítimo\",VLOOKUP(O192,$O$4030:$P$4035,2),IF(N186=\"Transporte Aéreo\",VLOOKUP(O192,$O$4037:$P$4042,2),IF(N186=\"Transporte Aéreo\",VLOOKUP(O192,$O$4044:$P$4045,2),\"\"))))","v":""},null,null,null,null,null,null,null,null,null,null,null,null,null,null,null,"",""]
[null,null,null,null,null,null,"",null,{"$f":"IF(H193=\"\",\"\",ROUND(H193/SUM(H186:H193),4))","v":""},null,null,null,null,null,null,{"$f":"+IF(O193=\"\",\"\",IF(N186=\"Transporte Marítimo\",VLOOKUP(O193,$O$4030:$P$4035,2),IF(N186=\"Transporte Aéreo\",VLOOKUP(O193,$O$4037:$P$4042,2),IF(N186=\"Transporte Aéreo\",VLOOKUP(O193,$O$4044:$P$4045,2),\"\"))))","v":""},null,null,null,null,null,null,null,null,null,null,null,null,null,null,null,"",""]
[null,{"$f":"+B186+1","v":23},null,null,null,null,{"$f":"+IF(F194=\"\",\"\",VLOOKUP(F194,$F$4031:$G$4120,2))","v":""},null,{"$f":"IF(H194=\"\",\"\",1-SUM(I195:I201))","v":""},null,null,null,null,null,null,{"$f":"+IF(O194=\"\",\"\",IF(N194=\"Transporte Marítimo\",VLOOKUP(O194,$O$4030:$P$4035,2),IF(N194=\"Transporte Aéreo\",VLOOKUP(O194,$O$4037:$P$4042,2),IF(N194=\"CTT\",VLOOKUP(O194,$O$4044:$P$4045,2),\"\"))))","v":""},null,null,null,null,null,null,null,null,null,null,null,null,null,null,null,{"$f":"+IF(AE194=\"20NL\",1,IF(AE194=\"40NL\",2,IF(AE194=\"20RF\",3,IF(AE194=\"40RF\",4,\"\"))))","v":""},{"$f":"+IF(AF194=\"\",\"\",VLOOKUP(AF194,$AF$4031:$AG$4034,2))","v":""},null,null,null,null,null,null,null,null,null,null,null,null,null,null," "]
[null,null,null,null,null,null,"",null,{"$f":"IF(H195=\"\",\"\",ROUND(H195/SUM(H194:H201),4))","v":""},null,null,null,null,null,null,{"$f":"+IF(O195=\"\",\"\",IF(N194=\"Transporte Marítimo\",VLOOKUP(O195,$O$4030:$P$4035,2),IF(N194=\"Transporte Aéreo\",VLOOKUP(O195,$O$4037:$P$4042,2),IF(N194=\"Transporte Aéreo\",VLOOKUP(O195,$O$4044:$P$4045,2),\"\"))))","v":""},null,null,null,null,null,null,null,null,null,null,null,null,null,null,null,{"$f":"+IF(AE195=\"20NL\",1,IF(AE195=\"40NL\",2,IF(AE195=\"20RF\",3,IF(AE195=\"40RF\",4,\"\"))))","v":""},""]
[null,null,null,null,null,null,"",null,{"$f":"IF(H196=\"\",\"\",ROUND(H196/SUM(H194:H201),4))","v":""},null,null,null,null,null,null,{"$f":"+IF(O196=\"\",\"\",IF(N194=\"Transporte Marítimo\",VLOOKUP(O196,$O$4030:$P$4035,2),IF(N194=\"Transporte Aéreo\",VLOOKUP(O196,$O$4037:$P$4042,2),IF(N194=\"Transporte Aéreo\",VLOOKUP(O196,$O$4044:$P$4045,2),\"\"))))","v":""},null,null,null,null,null,null,null,null,null,null,null,null,null,null,null,"",""]
[null,null,null,null,null,null,"",null,{"$f":"IF(H197=\"\",\"\",ROUND(H197/SUM(H194:H201),4))","v":""},null,null,null,null,null,null,{"$f":"+IF(O197=\"\",\"\",IF(N194=\"Transporte Marítimo\",VLOOKUP(O197,$O$4030:$P$4035,2),IF(N194=\"Transporte Aéreo\",VLOOKUP(O197,$O$4037:$P$4042,2),IF(N194=\"Transporte Aéreo\",VLOOKUP(O197,$O$4044:$P$4045,2),\"\"))))","v":""},null,null,null,null,null,null,null,null,null,null,null,null,null,null,null,"",""]
[null,null,null,null,null,null,"",null,{"$f":"IF(H198=\"\",\"\",ROUND(H198/SUM(H194:H201),4))","v":""},null,null,null,null,null,null,{"$f":"+IF(O198=\"\",\"\",IF(N194=\"Transporte Marítimo\",VLOOKUP(O198,$O$4030:$P$4035,2),IF(N194=\"Transporte Aéreo\",VLOOKUP(O198,$O$4037:$P$4042,2),IF(N194=\"Transporte Aéreo\",VLOOKUP(O198,$O$4044:$P$4045,2),\"\"))))","v":""},null,null,null,null,null,null,null,null,null,null,null,null,null,null,null,"",""]
[null,null,null,null,null,null,"",null,{"$f":"IF(H199=\"\",\"\",ROUND(H199/SUM(H194:H201),4))","v":""},null,null,null,null,null,null,{"$f":"+IF(O199=\"\",\"\",IF(N194=\"Transporte Marítimo\",VLOOKUP(O199,$O$4030:$P$4035,2),IF(N194=\"Transporte Aéreo\",VLOOKUP(O199,$O$4037:$P$4042,2),IF(N194=\"Transporte Aéreo\",VLOOKUP(O199,$O$4044:$P$4045,2),\"\"))))","v":""},null,null,null,null,null,null,null,null,null,null,null,null,null,null,null,"",""]
[null,null,null,null,null,null,"",null,{"$f":"IF(H200=\"\",\"\",ROUND(H200/SUM(H194:H201),4))","v":""},null,null,null,null,null,null,{"$f":"+IF(O200=\"\",\"\",IF(N194=\"Transporte Marítimo\",VLOOKUP(O200,$O$4030:$P$4035,2),IF(N194=\"Transporte Aéreo\",VLOOKUP(O200,$O$4037:$P$4042,2),IF(N194=\"Transporte Aéreo\",VLOOKUP(O200,$O$4044:$P$4045,2),\"\"))))","v":""},null,null,null,null,null,null,null,null,null,null,null,null,null,null,null,"",""]
[null,null,null,null,null,null,"",null,{"$f":"IF(H201=\"\",\"\",ROUND(H201/SUM(H194:H201),4))","v":""},null,null,null,null,null,null,{"$f":"+IF(O201=\"\",\"\",IF(N194=\"Transporte Marítimo\",VLOOKUP(O201,$O$4030:$P$4035,2),IF(N194=\"Transporte Aéreo\",VLOOKUP(O201,$O$4037:$P$4042,2),IF(N194=\"Transporte Aéreo\",VLOOKUP(O201,$O$4044:$P$4045,2),\"\"))))","v":""},null,null,null,null,null,null,null,null,null,null,null,null,null,null,null,"",""]
[null,{"$f":"+B194+1","v":24},null,null,null,null,{"$f":"+IF(F202=\"\",\"\",VLOOKUP(F202,$F$4031:$G$4120,2))","v":""},null,{"$f":"IF(H202=\"\",\"\",1-SUM(I203:I209))","v":""},null,null,null,null,null,null,{"$f":"+IF(O202=\"\",\"\",IF(N202=\"Transporte Marítimo\",VLOOKUP(O202,$O$4030:$P$4035,2),IF(N202=\"Transporte Aéreo\",VLOOKUP(O202,$O$4037:$P$4042,2),IF(N202=\"CTT\",VLOOKUP(O202,$O$4044:$P$4045,2),\"\"))))","v":""},null,null,null,null,null,null,null,null,null,null,null,null,null,null,null,{"$f":"+IF(AE202=\"20NL\",1,IF(AE202=\"40NL\",2,IF(AE202=\"20RF\",3,IF(AE202=\"40RF\",4,\"\"))))","v":""},{"$f":"+IF(AF202=\"\",\"\",VLOOKUP(AF202,$AF$4031:$AG$4034,2))","v":""},null,null,null,null,null,null,null,null,null,null,null,null,null,null," "]
[null,null,null,null,null,null,"",null,{"$f":"IF(H203=\"\",\"\",ROUND(H203/SUM(H202:H209),4))","v":""},null,null,null,null,null,null,{"$f":"+IF(O203=\"\",\"\",IF(N202=\"Transporte Marítimo\",VLOOKUP(O203,$O$4030:$P$4035,2),IF(N202=\"Transporte Aéreo\",VLOOKUP(O203,$O$4037:$P$4042,2),IF(N202=\"Transporte Aéreo\",VLOOKUP(O203,$O$4044:$P$4045,2),\"\"))))","v":""},null,null,null,null,null,null,null,null,null,null,null,null,null,null,null,{"$f":"+IF(AE203=\"20NL\",1,IF(AE203=\"40NL\",2,IF(AE203=\"20RF\",3,IF(AE203=\"40RF\",4,\"\"))))","v":""},""]
[null,null,null,null,null,null,"",null,{"$f":"IF(H204=\"\",\"\",ROUND(H204/SUM(H202:H209),4))","v":""},null,null,null,null,null,null,{"$f":"+IF(O204=\"\",\"\",IF(N202=\"Transporte Marítimo\",VLOOKUP(O204,$O$4030:$P$4035,2),IF(N202=\"Transporte Aéreo\",VLOOKUP(O204,$O$4037:$P$4042,2),IF(N202=\"Transporte Aéreo\",VLOOKUP(O204,$O$4044:$P$4045,2),\"\"))))","v":""},null,null,null,null,null,null,null,null,null,null,null,null,null,null,null,"",""]
[null,null,null,null,null,null,"",null,{"$f":"IF(H205=\"\",\"\",ROUND(H205/SUM(H202:H209),4))","v":""},null,null,null,null,null,null,{"$f":"+IF(O205=\"\",\"\",IF(N202=\"Transporte Marítimo\",VLOOKUP(O205,$O$4030:$P$4035,2),IF(N202=\"Transporte Aéreo\",VLOOKUP(O205,$O$4037:$P$4042,2),IF(N202=\"Transporte Aéreo\",VLOOKUP(O205,$O$4044:$P$4045,2),\"\"))))","v":""},null,null,null,null,null,null,null,null,null,null,null,null,null,null,null,"",""]
[null,null,null,null,null,null,"",null,{"$f":"IF(H206=\"\",\"\",ROUND(H206/SUM(H202:H209),4))","v":""},null,null,null,null,null,null,{"$f":"+IF(O206=\"\",\"\",IF(N202=\"Transporte Marítimo\",VLOOKUP(O206,$O$4030:$P$4035,2),IF(N202=\"Transporte Aéreo\",VLOOKUP(O206,$O$4037:$P$4042,2),IF(N202=\"Transporte Aéreo\",VLOOKUP(O206,$O$4044:$P$4045,2),\"\"))))","v":""},null,null,null,null,null,null,null,null,null,null,null,null,null,null,null,"",""]
[null,null,null,null,null,null,"",null,{"$f":"IF(H207=\"\",\"\",ROUND(H207/SUM(H202:H209),4))","v":""},null,null,null,null,null,null,{"$f":"+IF(O207=\"\",\"\",IF(N202=\"Transporte Marítimo\",VLOOKUP(O207,$O$4030:$P$4035,2),IF(N202=\"Transporte Aéreo\",VLOOKUP(O207,$O$4037:$P$4042,2),IF(N202=\"Transporte Aéreo\",VLOOKUP(O207,$O$4044:$P$4045,2),\"\"))))","v":""},null,null,null,null,null,null,null,null,null,null,null,null,null,null,null,"",""]
[null,null,null,null,null,null,"",null,{"$f":"IF(H208=\"\",\"\",ROUND(H208/SUM(H202:H209),4))","v":""},null,null,null,null,null,null,{"$f":"+IF(O208=\"\",\"\",IF(N202=\"Transporte Marítimo\",VLOOKUP(O208,$O$4030:$P$4035,2),IF(N202=\"Transporte Aéreo\",VLOOKUP(O208,$O$4037:$P$4042,2),IF(N202=\"Transporte Aéreo\",VLOOKUP(O208,$O$4044:$P$4045,2),\"\"))))","v":""},null,null,null,null,null,null,null,null,null,null,null,null,null,null,null,"",""]
[null,null,null,null,null,null,"",null,{"$f":"IF(H209=\"\",\"\",ROUND(H209/SUM(H202:H209),4))","v":""},null,null,null,null,null,null,{"$f":"+IF(O209=\"\",\"\",IF(N202=\"Transporte Marítimo\",VLOOKUP(O209,$O$4030:$P$4035,2),IF(N202=\"Transporte Aéreo\",VLOOKUP(O209,$O$4037:$P$4042,2),IF(N202=\"Transporte Aéreo\",VLOOKUP(O209,$O$4044:$P$4045,2),\"\"))))","v":""},null,null,null,null,null,null,null,null,null,null,null,null,null,null,null,"",""]
[null,{"$f":"+B202+1","v":25},null,null,null,null,{"$f":"+IF(F210=\"\",\"\",VLOOKUP(F210,$F$4031:$G$4120,2))","v":""},null,{"$f":"IF(H210=\"\",\"\",1-SUM(I211:I217))","v":""},null,null,null,null,null,null,{"$f":"+IF(O210=\"\",\"\",IF(N210=\"Transporte Marítimo\",VLOOKUP(O210,$O$4030:$P$4035,2),IF(N210=\"Transporte Aéreo\",VLOOKUP(O210,$O$4037:$P$4042,2),IF(N210=\"CTT\",VLOOKUP(O210,$O$4044:$P$4045,2),\"\"))))","v":""},null,null,null,null,null,null,null,null,null,null,null,null,null,null,null,{"$f":"+IF(AE210=\"20NL\",1,IF(AE210=\"40NL\",2,IF(AE210=\"20RF\",3,IF(AE210=\"40RF\",4,\"\"))))","v":""},{"$f":"+IF(AF210=\"\",\"\",VLOOKUP(AF210,$AF$4031:$AG$4034,2))","v":""},null,null,null,null,null,null,null,null,null,null,null,null,null,null," "]
[null,null,null,null,null,null,"",null,{"$f":"IF(H211=\"\",\"\",ROUND(H211/SUM(H210:H217),4))","v":""},null,null,null,null,null,null,{"$f":"+IF(O211=\"\",\"\",IF(N210=\"Transporte Marítimo\",VLOOKUP(O211,$O$4030:$P$4035,2),IF(N210=\"Transporte Aéreo\",VLOOKUP(O211,$O$4037:$P$4042,2),IF(N210=\"Transporte Aéreo\",VLOOKUP(O211,$O$4044:$P$4045,2),\"\"))))","v":""},null,null,null,null,null,null,null,null,null,null,null,null,null,null,null,{"$f":"+IF(AE211=\"20NL\",1,IF(AE211=\"40NL\",2,IF(AE211=\"20RF\",3,IF(AE211=\"40RF\",4,\"\"))))","v":""},""]
[null,null,null,null,null,null,"",null,{"$f":"IF(H212=\"\",\"\",ROUND(H212/SUM(H210:H217),4))","v":""},null,null,null,null,null,null,{"$f":"+IF(O212=\"\",\"\",IF(N210=\"Transporte Marítimo\",VLOOKUP(O212,$O$4030:$P$4035,2),IF(N210=\"Transporte Aéreo\",VLOOKUP(O212,$O$4037:$P$4042,2),IF(N210=\"Transporte Aéreo\",VLOOKUP(O212,$O$4044:$P$4045,2),\"\"))))","v":""},null,null,null,null,null,null,null,null,null,null,null,null,null,null,null,"",""]
[null,null,null,null,null,null,"",null,{"$f":"IF(H213=\"\",\"\",ROUND(H213/SUM(H210:H217),4))","v":""},null,null,null,null,null,null,{"$f":"+IF(O213=\"\",\"\",IF(N210=\"Transporte Marítimo\",VLOOKUP(O213,$O$4030:$P$4035,2),IF(N210=\"Transporte Aéreo\",VLOOKUP(O213,$O$4037:$P$4042,2),IF(N210=\"Transporte Aéreo\",VLOOKUP(O213,$O$4044:$P$4045,2),\"\"))))","v":""},null,null,null,null,null,null,null,null,null,null,null,null,null,null,null,"",""]
[null,null,null,null,null,null,"",null,{"$f":"IF(H214=\"\",\"\",ROUND(H214/SUM(H210:H217),4))","v":""},null,null,null,null,null,null,{"$f":"+IF(O214=\"\",\"\",IF(N210=\"Transporte Marítimo\",VLOOKUP(O214,$O$4030:$P$4035,2),IF(N210=\"Transporte Aéreo\",VLOOKUP(O214,$O$4037:$P$4042,2),IF(N210=\"Transporte Aéreo\",VLOOKUP(O214,$O$4044:$P$4045,2),\"\"))))","v":""},null,null,null,null,null,null,null,null,null,null,null,null,null,null,null,"",""]
[null,null,null,null,null,null,"",null,{"$f":"IF(H215=\"\",\"\",ROUND(H215/SUM(H210:H217),4))","v":""},null,null,null,null,null,null,{"$f":"+IF(O215=\"\",\"\",IF(N210=\"Transporte Marítimo\",VLOOKUP(O215,$O$4030:$P$4035,2),IF(N210=\"Transporte Aéreo\",VLOOKUP(O215,$O$4037:$P$4042,2),IF(N210=\"Transporte Aéreo\",VLOOKUP(O215,$O$4044:$P$4045,2),\"\"))))","v":""},null,null,null,null,null,null,null,null,null,null,null,null,null,null,null,"",""]
[null,null,null,null,null,null,"",null,{"$f":"IF(H216=\"\",\"\",ROUND(H216/SUM(H210:H217),4))","v":""},null,null,null,null,null,null,{"$f":"+IF(O216=\"\",\"\",IF(N210=\"Transporte Marítimo\",VLOOKUP(O216,$O$4030:$P$4035,2),IF(N210=\"Transporte Aéreo\",VLOOKUP(O216,$O$4037:$P$4042,2),IF(N210=\"Transporte Aéreo\",VLOOKUP(O216,$O$4044:$P$4045,2),\"\"))))","v":""},null,null,null,null,null,null,null,null,null,null,null,null,null,null,null,"",""]
[null,null,null,null,null,null,"",null,{"$f":"IF(H217=\"\",\"\",ROUND(H217/SUM(H210:H217),4))","v":""},null,null,null,null,null,null,{"$f":"+IF(O217=\"\",\"\",IF(N210=\"Transporte Marítimo\",VLOOKUP(O217,$O$4030:$P$4035,2),IF(N210=\"Transporte Aéreo\",VLOOKUP(O217,$O$4037:$P$4042,2),IF(N210=\"Transporte Aéreo\",VLOOKUP(O217,$O$4044:$P$4045,2),\"\"))))","v":""},null,null,null,null,null,null,null,null,null,null,null,null,null,null,null,"",""]
[null,{"$f":"+B210+1","v":26},null,null,null,null,{"$f":"+IF(F218=\"\",\"\",VLOOKUP(F218,$F$4031:$G$4120,2))","v":""},null,{"$f":"IF(H218=\"\",\"\",1-SUM(I219:I225))","v":""},null,null,null,null,null,null,{"$f":"+IF(O218=\"\",\"\",IF(N218=\"Transporte Marítimo\",VLOOKUP(O218,$O$4030:$P$4035,2),IF(N218=\"Transporte Aéreo\",VLOOKUP(O218,$O$4037:$P$4042,2),IF(N218=\"CTT\",VLOOKUP(O218,$O$4044:$P$4045,2),\"\"))))","v":""},null,null,null,null,null,null,null,null,null,null,null,null,null,null,null,{"$f":"+IF(AE218=\"20NL\",1,IF(AE218=\"40NL\",2,IF(AE218=\"20RF\",3,IF(AE218=\"40RF\",4,\"\"))))","v":""},{"$f":"+IF(AF218=\"\",\"\",VLOOKUP(AF218,$AF$4031:$AG$4034,2))","v":""},null,null,null,null,null,null,null,null,null,null,null,null,null,null," "]
[null,null,null,null,null,null,"",null,{"$f":"IF(H219=\"\",\"\",ROUND(H219/SUM(H218:H225),4))","v":""},null,null,null,null,null,null,{"$f":"+IF(O219=\"\",\"\",IF(N218=\"Transporte Marítimo\",VLOOKUP(O219,$O$4030:$P$4035,2),IF(N218=\"Transporte Aéreo\",VLOOKUP(O219,$O$4037:$P$4042,2),IF(N218=\"Transporte Aéreo\",VLOOKUP(O219,$O$4044:$P$4045,2),\"\"))))","v":""},null,null,null,null,null,null,null,null,null,null,null,null,null,null,null,{"$f":"+IF(AE219=\"20NL\",1,IF(AE219=\"40NL\",2,IF(AE219=\"20RF\",3,IF(AE219=\"40RF\",4,\"\"))))","v":""},""]
[null,null,null,null,null,null,"",null,{"$f":"IF(H220=\"\",\"\",ROUND(H220/SUM(H218:H225),4))","v":""},null,null,null,null,null,null,{"$f":"+IF(O220=\"\",\"\",IF(N218=\"Transporte Marítimo\",VLOOKUP(O220,$O$4030:$P$4035,2),IF(N218=\"Transporte Aéreo\",VLOOKUP(O220,$O$4037:$P$4042,2),IF(N218=\"Transporte Aéreo\",VLOOKUP(O220,$O$4044:$P$4045,2),\"\"))))","v":""},null,null,null,null,null,null,null,null,null,null,null,null,null,null,null,"",""]
[null,null,null,null,null,null,"",null,{"$f":"IF(H221=\"\",\"\",ROUND(H221/SUM(H218:H225),4))","v":""},null,null,null,null,null,null,{"$f":"+IF(O221=\"\",\"\",IF(N218=\"Transporte Marítimo\",VLOOKUP(O221,$O$4030:$P$4035,2),IF(N218=\"Transporte Aéreo\",VLOOKUP(O221,$O$4037:$P$4042,2),IF(N218=\"Transporte Aéreo\",VLOOKUP(O221,$O$4044:$P$4045,2),\"\"))))","v":""},null,null,null,null,null,null,null,null,null,null,null,null,null,null,null,"",""]
[null,null,null,null,null,null,"",null,{"$f":"IF(H222=\"\",\"\",ROUND(H222/SUM(H218:H225),4))","v":""},null,null,null,null,null,null,{"$f":"+IF(O222=\"\",\"\",IF(N218=\"Transporte Marítimo\",VLOOKUP(O222,$O$4030:$P$4035,2),IF(N218=\"Transporte Aéreo\",VLOOKUP(O222,$O$4037:$P$4042,2),IF(N218=\"Transporte Aéreo\",VLOOKUP(O222,$O$4044:$P$4045,2),\"\"))))","v":""},null,null,null,null,null,null,null,null,null,null,null,null,null,null,null,"",""]
[null,null,null,null,null,null,"",null,{"$f":"IF(H223=\"\",\"\",ROUND(H223/SUM(H218:H225),4))","v":""},null,null,null,null,null,null,{"$f":"+IF(O223=\"\",\"\",IF(N218=\"Transporte Marítimo\",VLOOKUP(O223,$O$4030:$P$4035,2),IF(N218=\"Transporte Aéreo\",VLOOKUP(O223,$O$4037:$P$4042,2),IF(N218=\"Transporte Aéreo\",VLOOKUP(O223,$O$4044:$P$4045,2),\"\"))))","v":""},null,null,null,null,null,null,null,null,null,null,null,null,null,null,null,"",""]
[null,null,null,null,null,null,"",null,{"$f":"IF(H224=\"\",\"\",ROUND(H224/SUM(H218:H225),4))","v":""},null,null,null,null,null,null,{"$f":"+IF(O224=\"\",\"\",IF(N218=\"Transporte Marítimo\",VLOOKUP(O224,$O$4030:$P$4035,2),IF(N218=\"Transporte Aéreo\",VLOOKUP(O224,$O$4037:$P$4042,2),IF(N218=\"Transporte Aéreo\",VLOOKUP(O224,$O$4044:$P$4045,2),\"\"))))","v":""},null,null,null,null,null,null,null,null,null,null,null,null,null,null,null,"",""]
[null,null,null,null,null,null,"",null,{"$f":"IF(H225=\"\",\"\",ROUND(H225/SUM(H218:H225),4))","v":""},null,null,null,null,null,null,{"$f":"+IF(O225=\"\",\"\",IF(N218=\"Transporte Marítimo\",VLOOKUP(O225,$O$4030:$P$4035,2),IF(N218=\"Transporte Aéreo\",VLOOKUP(O225,$O$4037:$P$4042,2),IF(N218=\"Transporte Aéreo\",VLOOKUP(O225,$O$4044:$P$4045,2),\"\"))))","v":""},null,null,null,null,null,null,null,null,null,null,null,null,null,null,null,"",""]
[null,{"$f":"+B218+1","v":27},null,null,null,null,{"$f":"+IF(F226=\"\",\"\",VLOOKUP(F226,$F$4031:$G$4120,2))","v":""},null,{"$f":"IF(H226=\"\",\"\",1-SUM(I227:I233))","v":""},null,null,null,null,null,null,{"$f":"+IF(O226=\"\",\"\",IF(N226=\"Transporte Marítimo\",VLOOKUP(O226,$O$4030:$P$4035,2),IF(N226=\"Transporte Aéreo\",VLOOKUP(O226,$O$4037:$P$4042,2),IF(N226=\"CTT\",VLOOKUP(O226,$O$4044:$P$4045,2),\"\"))))","v":""},null,null,null,null,null,null,null,null,null,null,null,null,null,null,null,{"$f":"+IF(AE226=\"20NL\",1,IF(AE226=\"40NL\",2,IF(AE226=\"20RF\",3,IF(AE226=\"40RF\",4,\"\"))))","v":""},{"$f":"+IF(AF226=\"\",\"\",VLOOKUP(AF226,$AF$4031:$AG$4034,2))","v":""},null,null,null,null,null,null,null,null,null,null,null,null,null,null," "]
[null,null,null,null,null,null,"",null,{"$f":"IF(H227=\"\",\"\",ROUND(H227/SUM(H226:H233),4))","v":""},null,null,null,null,null,null,{"$f":"+IF(O227=\"\",\"\",IF(N226=\"Transporte Marítimo\",VLOOKUP(O227,$O$4030:$P$4035,2),IF(N226=\"Transporte Aéreo\",VLOOKUP(O227,$O$4037:$P$4042,2),IF(N226=\"Transporte Aéreo\",VLOOKUP(O227,$O$4044:$P$4045,2),\"\"))))","v":""},null,null,null,null,null,null,null,null,null,null,null,null,null,null,null,{"$f":"+IF(AE227=\"20NL\",1,IF(AE227=\"40NL\",2,IF(AE227=\"20RF\",3,IF(AE227=\"40RF\",4,\"\"))))","v":""},""]
[null,null,null,null,null,null,"",null,{"$f":"IF(H228=\"\",\"\",ROUND(H228/SUM(H226:H233),4))","v":""},null,null,null,null,null,null,{"$f":"+IF(O228=\"\",\"\",IF(N226=\"Transporte Marítimo\",VLOOKUP(O228,$O$4030:$P$4035,2),IF(N226=\"Transporte Aéreo\",VLOOKUP(O228,$O$4037:$P$4042,2),IF(N226=\"Transporte Aéreo\",VLOOKUP(O228,$O$4044:$P$4045,2),\"\"))))","v":""},null,null,null,null,null,null,null,null,null,null,null,null,null,null,null,"",""]
[null,null,null,null,null,null,"",null,{"$f":"IF(H229=\"\",\"\",ROUND(H229/SUM(H226:H233),4))","v":""},null,null,null,null,null,null,{"$f":"+IF(O229=\"\",\"\",IF(N226=\"Transporte Marítimo\",VLOOKUP(O229,$O$4030:$P$4035,2),IF(N226=\"Transporte Aéreo\",VLOOKUP(O229,$O$4037:$P$4042,2),IF(N226=\"Transporte Aéreo\",VLOOKUP(O229,$O$4044:$P$4045,2),\"\"))))","v":""},null,null,null,null,null,null,null,null,null,null,null,null,null,null,null,"",""]
[null,null,null,null,null,null,"",null,{"$f":"IF(H230=\"\",\"\",ROUND(H230/SUM(H226:H233),4))","v":""},null,null,null,null,null,null,{"$f":"+IF(O230=\"\",\"\",IF(N226=\"Transporte Marítimo\",VLOOKUP(O230,$O$4030:$P$4035,2),IF(N226=\"Transporte Aéreo\",VLOOKUP(O230,$O$4037:$P$4042,2),IF(N226=\"Transporte Aéreo\",VLOOKUP(O230,$O$4044:$P$4045,2),\"\"))))","v":""},null,null,null,null,null,null,null,null,null,null,null,null,null,null,null,"",""]
[null,null,null,null,null,null,"",null,{"$f":"IF(H231=\"\",\"\",ROUND(H231/SUM(H226:H233),4))","v":""},null,null,null,null,null,null,{"$f":"+IF(O231=\"\",\"\",IF(N226=\"Transporte Marítimo\",VLOOKUP(O231,$O$4030:$P$4035,2),IF(N226=\"Transporte Aéreo\",VLOOKUP(O231,$O$4037:$P$4042,2),IF(N226=\"Transporte Aéreo\",VLOOKUP(O231,$O$4044:$P$4045,2),\"\"))))","v":""},null,null,null,null,null,null,null,null,null,null,null,null,null,null,null,"",""]
[null,null,null,null,null,null,"",null,{"$f":"IF(H232=\"\",\"\",ROUND(H232/SUM(H226:H233),4))","v":""},null,null,null,null,null,null,{"$f":"+IF(O232=\"\",\"\",IF(N226=\"Transporte Marítimo\",VLOOKUP(O232,$O$4030:$P$4035,2),IF(N226=\"Transporte Aéreo\",VLOOKUP(O232,$O$4037:$P$4042,2),IF(N226=\"Transporte Aéreo\",VLOOKUP(O232,$O$4044:$P$4045,2),\"\"))))","v":""},null,null,null,null,null,null,null,null,null,null,null,null,null,null,null,"",""]
[null,null,null,null,null,null,"",null,{"$f":"IF(H233=\"\",\"\",ROUND(H233/SUM(H226:H233),4))","v":""},null,null,null,null,null,null,{"$f":"+IF(O233=\"\",\"\",IF(N226=\"Transporte Marítimo\",VLOOKUP(O233,$O$4030:$P$4035,2),IF(N226=\"Transporte Aéreo\",VLOOKUP(O233,$O$4037:$P$4042,2),IF(N226=\"Transporte Aéreo\",VLOOKUP(O233,$O$4044:$P$4045,2),\"\"))))","v":""},null,null,null,null,null,null,null,null,null,null,null,null,null,null,null,"",""]
[null,{"$f":"+B226+1","v":28},null,null,null,null,{"$f":"+IF(F234=\"\",\"\",VLOOKUP(F234,$F$4031:$G$4120,2))","v":""},null,{"$f":"IF(H234=\"\",\"\",1-SUM(I235:I241))","v":""},null,null,null,null,null,null,{"$f":"+IF(O234=\"\",\"\",IF(N234=\"Transporte Marítimo\",VLOOKUP(O234,$O$4030:$P$4035,2),IF(N234=\"Transporte Aéreo\",VLOOKUP(O234,$O$4037:$P$4042,2),IF(N234=\"CTT\",VLOOKUP(O234,$O$4044:$P$4045,2),\"\"))))","v":""},null,null,null,null,null,null,null,null,null,null,null,null,null,null,null,{"$f":"+IF(AE234=\"20NL\",1,IF(AE234=\"40NL\",2,IF(AE234=\"20RF\",3,IF(AE234=\"40RF\",4,\"\"))))","v":""},{"$f":"+IF(AF234=\"\",\"\",VLOOKUP(AF234,$AF$4031:$AG$4034,2))","v":""},null,null,null,null,null,null,null,null,null,null,null,null,null,null," "]
[null,null,null,null,null,null,"",null,{"$f":"IF(H235=\"\",\"\",ROUND(H235/SUM(H234:H241),4))","v":""},null,null,null,null,null,null,{"$f":"+IF(O235=\"\",\"\",IF(N234=\"Transporte Marítimo\",VLOOKUP(O235,$O$4030:$P$4035,2),IF(N234=\"Transporte Aéreo\",VLOOKUP(O235,$O$4037:$P$4042,2),IF(N234=\"Transporte Aéreo\",VLOOKUP(O235,$O$4044:$P$4045,2),\"\"))))","v":""},null,null,null,null,null,null,null,null,null,null,null,null,null,null,null,{"$f":"+IF(AE235=\"20NL\",1,IF(AE235=\"40NL\",2,IF(AE235=\"20RF\",3,IF(AE235=\"40RF\",4,\"\"))))","v":""},""]
[null,null,null,null,null,null,"",null,{"$f":"IF(H236=\"\",\"\",ROUND(H236/SUM(H234:H241),4))","v":""},null,null,null,null,null,null,{"$f":"+IF(O236=\"\",\"\",IF(N234=\"Transporte Marítimo\",VLOOKUP(O236,$O$4030:$P$4035,2),IF(N234=\"Transporte Aéreo\",VLOOKUP(O236,$O$4037:$P$4042,2),IF(N234=\"Transporte Aéreo\",VLOOKUP(O236,$O$4044:$P$4045,2),\"\"))))","v":""},null,null,null,null,null,null,null,null,null,null,null,null,null,null,null,"",""]
[null,null,null,null,null,null,"",null,{"$f":"IF(H237=\"\",\"\",ROUND(H237/SUM(H234:H241),4))","v":""},null,null,null,null,null,null,{"$f":"+IF(O237=\"\",\"\",IF(N234=\"Transporte Marítimo\",VLOOKUP(O237,$O$4030:$P$4035,2),IF(N234=\"Transporte Aéreo\",VLOOKUP(O237,$O$4037:$P$4042,2),IF(N234=\"Transporte Aéreo\",VLOOKUP(O237,$O$4044:$P$4045,2),\"\"))))","v":""},null,null,null,null,null,null,null,null,null,null,null,null,null,null,null,"",""]
[null,null,null,null,null,null,"",null,{"$f":"IF(H238=\"\",\"\",ROUND(H238/SUM(H234:H241),4))","v":""},null,null,null,null,null,null,{"$f":"+IF(O238=\"\",\"\",IF(N234=\"Transporte Marítimo\",VLOOKUP(O238,$O$4030:$P$4035,2),IF(N234=\"Transporte Aéreo\",VLOOKUP(O238,$O$4037:$P$4042,2),IF(N234=\"Transporte Aéreo\",VLOOKUP(O238,$O$4044:$P$4045,2),\"\"))))","v":""},null,null,null,null,null,null,null,null,null,null,null,null,null,null,null,"",""]
[null,null,null,null,null,null,"",null,{"$f":"IF(H239=\"\",\"\",ROUND(H239/SUM(H234:H241),4))","v":""},null,null,null,null,null,null,{"$f":"+IF(O239=\"\",\"\",IF(N234=\"Transporte Marítimo\",VLOOKUP(O239,$O$4030:$P$4035,2),IF(N234=\"Transporte Aéreo\",VLOOKUP(O239,$O$4037:$P$4042,2),IF(N234=\"Transporte Aéreo\",VLOOKUP(O239,$O$4044:$P$4045,2),\"\"))))","v":""},null,null,null,null,null,null,null,null,null,null,null,null,null,null,null,"",""]
[null,null,null,null,null,null,"",null,{"$f":"IF(H240=\"\",\"\",ROUND(H240/SUM(H234:H241),4))","v":""},null,null,null,null,null,null,{"$f":"+IF(O240=\"\",\"\",IF(N234=\"Transporte Marítimo\",VLOOKUP(O240,$O$4030:$P$4035,2),IF(N234=\"Transporte Aéreo\",VLOOKUP(O240,$O$4037:$P$4042,2),IF(N234=\"Transporte Aéreo\",VLOOKUP(O240,$O$4044:$P$4045,2),\"\"))))","v":""},null,null,null,null,null,null,null,null,null,null,null,null,null,null,null,"",""]
[null,null,null,null,null,null,"",null,{"$f":"IF(H241=\"\",\"\",ROUND(H241/SUM(H234:H241),4))","v":""},null,null,null,null,null,null,{"$f":"+IF(O241=\"\",\"\",IF(N234=\"Transporte Marítimo\",VLOOKUP(O241,$O$4030:$P$4035,2),IF(N234=\"Transporte Aéreo\",VLOOKUP(O241,$O$4037:$P$4042,2),IF(N234=\"Transporte Aéreo\",VLOOKUP(O241,$O$4044:$P$4045,2),\"\"))))","v":""},null,null,null,null,null,null,null,null,null,null,null,null,null,null,null,"",""]
[null,{"$f":"+B234+1","v":29},null,null,null,null,{"$f":"+IF(F242=\"\",\"\",VLOOKUP(F242,$F$4031:$G$4120,2))","v":""},null,{"$f":"IF(H242=\"\",\"\",1-SUM(I243:I249))","v":""},null,null,null,null,null,null,{"$f":"+IF(O242=\"\",\"\",IF(N242=\"Transporte Marítimo\",VLOOKUP(O242,$O$4030:$P$4035,2),IF(N242=\"Transporte Aéreo\",VLOOKUP(O242,$O$4037:$P$4042,2),IF(N242=\"CTT\",VLOOKUP(O242,$O$4044:$P$4045,2),\"\"))))","v":""},null,null,null,null,null,null,null,null,null,null,null,null,null,null,null,{"$f":"+IF(AE242=\"20NL\",1,IF(AE242=\"40NL\",2,IF(AE242=\"20RF\",3,IF(AE242=\"40RF\",4,\"\"))))","v":""},{"$f":"+IF(AF242=\"\",\"\",VLOOKUP(AF242,$AF$4031:$AG$4034,2))","v":""},null,null,null,null,null,null,null,null,null,null,null,null,null,null," "]
[null,null,null,null,null,null,{"$f":"+IF(F243=\"\",\"\",VLOOKUP(F243,$F$4031:$G$4120,2))","v":""},null,{"$f":"IF(H243=\"\",\"\",ROUND(H243/SUM(H242:H249),4))","v":""},null,null,null,null,null,null,{"$f":"+IF(O243=\"\",\"\",IF(N242=\"Transporte Marítimo\",VLOOKUP(O243,$O$4030:$P$4035,2),IF(N242=\"Transporte Aéreo\",VLOOKUP(O243,$O$4037:$P$4042,2),IF(N242=\"Transporte Aéreo\",VLOOKUP(O243,$O$4044:$P$4045,2),\"\"))))","v":""},null,null,null,null,null,null,null,null,null,null,null,null,null,null,null,{"$f":"+IF(AE243=\"20NL\",1,IF(AE243=\"40NL\",2,IF(AE243=\"20RF\",3,IF(AE243=\"40RF\",4,\"\"))))","v":""},{"$f":"+IF(AF243=\"\",\"\",VLOOKUP(AF243,$AF$4031:$AG$4034,2))","v":""}]
[null,null,null,null,null,null,"",null,{"$f":"IF(H244=\"\",\"\",ROUND(H244/SUM(H242:H249),4))","v":""},null,null,null,null,null,null,{"$f":"+IF(O244=\"\",\"\",IF(N242=\"Transporte Marítimo\",VLOOKUP(O244,$O$4030:$P$4035,2),IF(N242=\"Transporte Aéreo\",VLOOKUP(O244,$O$4037:$P$4042,2),IF(N242=\"Transporte Aéreo\",VLOOKUP(O244,$O$4044:$P$4045,2),\"\"))))","v":""},null,null,null,null,null,null,null,null,null,null,null,null,null,null,null,"",""]
[null,null,null,null,null,null,"",null,{"$f":"IF(H245=\"\",\"\",ROUND(H245/SUM(H242:H249),4))","v":""},null,null,null,null,null,null,{"$f":"+IF(O245=\"\",\"\",IF(N242=\"Transporte Marítimo\",VLOOKUP(O245,$O$4030:$P$4035,2),IF(N242=\"Transporte Aéreo\",VLOOKUP(O245,$O$4037:$P$4042,2),IF(N242=\"Transporte Aéreo\",VLOOKUP(O245,$O$4044:$P$4045,2),\"\"))))","v":""},null,null,null,null,null,null,null,null,null,null,null,null,null,null,null,"",""]
[null,null,null,null,null,null,"",null,{"$f":"IF(H246=\"\",\"\",ROUND(H246/SUM(H242:H249),4))","v":""},null,null,null,null,null,null,{"$f":"+IF(O246=\"\",\"\",IF(N242=\"Transporte Marítimo\",VLOOKUP(O246,$O$4030:$P$4035,2),IF(N242=\"Transporte Aéreo\",VLOOKUP(O246,$O$4037:$P$4042,2),IF(N242=\"Transporte Aéreo\",VLOOKUP(O246,$O$4044:$P$4045,2),\"\"))))","v":""},null,null,null,null,null,null,null,null,null,null,null,null,null,null,null,"",""]
[null,null,null,null,null,null,"",null,{"$f":"IF(H247=\"\",\"\",ROUND(H247/SUM(H242:H249),4))","v":""},null,null,null,null,null,null,{"$f":"+IF(O247=\"\",\"\",IF(N242=\"Transporte Marítimo\",VLOOKUP(O247,$O$4030:$P$4035,2),IF(N242=\"Transporte Aéreo\",VLOOKUP(O247,$O$4037:$P$4042,2),IF(N242=\"Transporte Aéreo\",VLOOKUP(O247,$O$4044:$P$4045,2),\"\"))))","v":""},null,null,null,null,null,null,null,null,null,null,null,null,null,null,null,"",""]
[null,null,null,null,null,null,"",null,{"$f":"IF(H248=\"\",\"\",ROUND(H248/SUM(H242:H249),4))","v":""},null,null,null,null,null,null,{"$f":"+IF(O248=\"\",\"\",IF(N242=\"Transporte Marítimo\",VLOOKUP(O248,$O$4030:$P$4035,2),IF(N242=\"Transporte Aéreo\",VLOOKUP(O248,$O$4037:$P$4042,2),IF(N242=\"Transporte Aéreo\",VLOOKUP(O248,$O$4044:$P$4045,2),\"\"))))","v":""},null,null,null,null,null,null,null,null,null,null,null,null,null,null,null,"",""]
[null,null,null,null,null,null,"",null,{"$f":"IF(H249=\"\",\"\",ROUND(H249/SUM(H242:H249),4))","v":""},null,null,null,null,null,null,{"$f":"+IF(O249=\"\",\"\",IF(N242=\"Transporte Marítimo\",VLOOKUP(O249,$O$4030:$P$4035,2),IF(N242=\"Transporte Aéreo\",VLOOKUP(O249,$O$4037:$P$4042,2),IF(N242=\"Transporte Aéreo\",VLOOKUP(O249,$O$4044:$P$4045,2),\"\"))))","v":""},null,null,null,null,null,null,null,null,null,null,null,null,null,null,null,"",""]
[null,{"$f":"+B242+1","v":30},null,null,null,null,{"$f":"+IF(F250=\"\",\"\",VLOOKUP(F250,$F$4031:$G$4120,2))","v":""},null,{"$f":"IF(H250=\"\",\"\",1-SUM(I251:I257))","v":""},null,null,null,null,null,null,{"$f":"+IF(O250=\"\",\"\",IF(N250=\"Transporte Marítimo\",VLOOKUP(O250,$O$4030:$P$4035,2),IF(N250=\"Transporte Aéreo\",VLOOKUP(O250,$O$4037:$P$4042,2),IF(N250=\"CTT\",VLOOKUP(O250,$O$4044:$P$4045,2),\"\"))))","v":""},null,null,null,null,null,null,null,null,null,null,null,null,null,null,null,{"$f":"+IF(AE250=\"20NL\",1,IF(AE250=\"40NL\",2,IF(AE250=\"20RF\",3,IF(AE250=\"40RF\",4,\"\"))))","v":""},{"$f":"+IF(AF250=\"\",\"\",VLOOKUP(AF250,$AF$4031:$AG$4034,2))","v":""},null,null,null,null,null,null,null,null,null,null,null,null,null,null," "]
[null,null,null,null,null,null,"",null,{"$f":"IF(H251=\"\",\"\",ROUND(H251/SUM(H250:H257),4))","v":""},null,null,null,null,null,null,{"$f":"+IF(O251=\"\",\"\",IF(N250=\"Transporte Marítimo\",VLOOKUP(O251,$O$4030:$P$4035,2),IF(N250=\"Transporte Aéreo\",VLOOKUP(O251,$O$4037:$P$4042,2),IF(N250=\"Transporte Aéreo\",VLOOKUP(O251,$O$4044:$P$4045,2),\"\"))))","v":""},null,null,null,null,null,null,null,null,null,null,null,null,null,null,null,{"$f":"+IF(AE251=\"20NL\",1,IF(AE251=\"40NL\",2,IF(AE251=\"20RF\",3,IF(AE251=\"40RF\",4,\"\"))))","v":""},{"$f":"+IF(AF251=\"\",\"\",VLOOKUP(AF251,$AF$4031:$AG$4034,2))","v":""}]
[null,null,null,null,null,null,"",null,{"$f":"IF(H252=\"\",\"\",ROUND(H252/SUM(H250:H257),4))","v":""},null,null,null,null,null,null,{"$f":"+IF(O252=\"\",\"\",IF(N250=\"Transporte Marítimo\",VLOOKUP(O252,$O$4030:$P$4035,2),IF(N250=\"Transporte Aéreo\",VLOOKUP(O252,$O$4037:$P$4042,2),IF(N250=\"Transporte Aéreo\",VLOOKUP(O252,$O$4044:$P$4045,2),\"\"))))","v":""},null,null,null,null,null,null,null,null,null,null,null,null,null,null,null,"",""]
[null,null,null,null,null,null,"",null,{"$f":"IF(H253=\"\",\"\",ROUND(H253/SUM(H250:H257),4))","v":""},null,null,null,null,null,null,{"$f":"+IF(O253=\"\",\"\",IF(N250=\"Transporte Marítimo\",VLOOKUP(O253,$O$4030:$P$4035,2),IF(N250=\"Transporte Aéreo\",VLOOKUP(O253,$O$4037:$P$4042,2),IF(N250=\"Transporte Aéreo\",VLOOKUP(O253,$O$4044:$P$4045,2),\"\"))))","v":""},null,null,null,null,null,null,null,null,null,null,null,null,null,null,null,"",""]
[null,null,null,null,null,null,"",null,{"$f":"IF(H254=\"\",\"\",ROUND(H254/SUM(H250:H257),4))","v":""},null,null,null,null,null,null,{"$f":"+IF(O254=\"\",\"\",IF(N250=\"Transporte Marítimo\",VLOOKUP(O254,$O$4030:$P$4035,2),IF(N250=\"Transporte Aéreo\",VLOOKUP(O254,$O$4037:$P$4042,2),IF(N250=\"Transporte Aéreo\",VLOOKUP(O254,$O$4044:$P$4045,2),\"\"))))","v":""},null,null,null,null,null,null,null,null,null,null,null,null,null,null,null,"",""]
[null,null,null,null,null,null,"",null,{"$f":"IF(H255=\"\",\"\",ROUND(H255/SUM(H250:H257),4))","v":""},null,null,null,null,null,null,{"$f":"+IF(O255=\"\",\"\",IF(N250=\"Transporte Marítimo\",VLOOKUP(O255,$O$4030:$P$4035,2),IF(N250=\"Transporte Aéreo\",VLOOKUP(O255,$O$4037:$P$4042,2),IF(N250=\"Transporte Aéreo\",VLOOKUP(O255,$O$4044:$P$4045,2),\"\"))))","v":""},null,null,null,null,null,null,null,null,null,null,null,null,null,null,null,"",""]
[null,null,null,null,null,null,"",null,{"$f":"IF(H256=\"\",\"\",ROUND(H256/SUM(H250:H257),4))","v":""},null,null,null,null,null,null,{"$f":"+IF(O256=\"\",\"\",IF(N250=\"Transporte Marítimo\",VLOOKUP(O256,$O$4030:$P$4035,2),IF(N250=\"Transporte Aéreo\",VLOOKUP(O256,$O$4037:$P$4042,2),IF(N250=\"Transporte Aéreo\",VLOOKUP(O256,$O$4044:$P$4045,2),\"\"))))","v":""},null,null,null,null,null,null,null,null,null,null,null,null,null,null,null,"",""]
[null,null,null,null,null,null,{"$f":"+IF(F257=\"\",\"\",VLOOKUP(F257,$F$4031:$G$4120,2))","v":""},null,{"$f":"IF(H257=\"\",\"\",ROUND(H257/SUM(H250:H257),4))","v":""},null,null,null,null,null,null,{"$f":"+IF(O257=\"\",\"\",IF(N250=\"Transporte Marítimo\",VLOOKUP(O257,$O$4030:$P$4035,2),IF(N250=\"Transporte Aéreo\",VLOOKUP(O257,$O$4037:$P$4042,2),IF(N250=\"Transporte Aéreo\",VLOOKUP(O257,$O$4044:$P$4045,2),\"\"))))","v":""},null,null,null,null,null,null,null,null,null,null,null,null,null,null,null,"",""]
[null,{"$f":"+B250+1","v":31},null,null,null,null,{"$f":"+IF(F258=\"\",\"\",VLOOKUP(F258,$F$4031:$G$4120,2))","v":""},null,{"$f":"IF(H258=\"\",\"\",1-SUM(I259:I265))","v":""},null,null,null,null,null,null,{"$f":"+IF(O258=\"\",\"\",IF(N258=\"Transporte Marítimo\",VLOOKUP(O258,$O$4030:$P$4035,2),IF(N258=\"Transporte Aéreo\",VLOOKUP(O258,$O$4037:$P$4042,2),IF(N258=\"CTT\",VLOOKUP(O258,$O$4044:$P$4045,2),\"\"))))","v":""},null,null,null,null,null,null,null,null,null,null,null,null,null,null,null,{"$f":"+IF(AE258=\"20NL\",1,IF(AE258=\"40NL\",2,IF(AE258=\"20RF\",3,IF(AE258=\"40RF\",4,\"\"))))","v":""},{"$f":"+IF(AF258=\"\",\"\",VLOOKUP(AF258,$AF$4031:$AG$4034,2))","v":""},null,null,null,null,null,null,null,null,null,null,null,null,null,null," "]
[null,null,null,null,null,null,{"$f":"+IF(F259=\"\",\"\",VLOOKUP(F259,$F$4031:$G$4120,2))","v":""},null,{"$f":"IF(H259=\"\",\"\",ROUND(H259/SUM(H258:H265),4))","v":""},null,null,null,null,null,null,{"$f":"+IF(O259=\"\",\"\",IF(N258=\"Transporte Marítimo\",VLOOKUP(O259,$O$4030:$P$4035,2),IF(N258=\"Transporte Aéreo\",VLOOKUP(O259,$O$4037:$P$4042,2),IF(N258=\"Transporte Aéreo\",VLOOKUP(O259,$O$4044:$P$4045,2),\"\"))))","v":""},null,null,null,null,null,null,null,null,null,null,null,null,null,null,null,{"$f":"+IF(AE259=\"20NL\",1,IF(AE259=\"40NL\",2,IF(AE259=\"20RF\",3,IF(AE259=\"40RF\",4,\"\"))))","v":""},{"$f":"+IF(AF259=\"\",\"\",VLOOKUP(AF259,$AF$4031:$AG$4034,2))","v":""}]
[null,null,null,null,null,null,"",null,{"$f":"IF(H260=\"\",\"\",ROUND(H260/SUM(H258:H265),4))","v":""},null,null,null,null,null,null,{"$f":"+IF(O260=\"\",\"\",IF(N258=\"Transporte Marítimo\",VLOOKUP(O260,$O$4030:$P$4035,2),IF(N258=\"Transporte Aéreo\",VLOOKUP(O260,$O$4037:$P$4042,2),IF(N258=\"Transporte Aéreo\",VLOOKUP(O260,$O$4044:$P$4045,2),\"\"))))","v":""},null,null,null,null,null,null,null,null,null,null,null,null,null,null,null,"",""]
[null,null,null,null,null,null,"",null,{"$f":"IF(H261=\"\",\"\",ROUND(H261/SUM(H258:H265),4))","v":""},null,null,null,null,null,null,{"$f":"+IF(O261=\"\",\"\",IF(N258=\"Transporte Marítimo\",VLOOKUP(O261,$O$4030:$P$4035,2),IF(N258=\"Transporte Aéreo\",VLOOKUP(O261,$O$4037:$P$4042,2),IF(N258=\"Transporte Aéreo\",VLOOKUP(O261,$O$4044:$P$4045,2),\"\"))))","v":""},null,null,null,null,null,null,null,null,null,null,null,null,null,null,null,"",""]
[null,null,null,null,null,null,"",null,{"$f":"IF(H262=\"\",\"\",ROUND(H262/SUM(H258:H265),4))","v":""},null,null,null,null,null,null,{"$f":"+IF(O262=\"\",\"\",IF(N258=\"Transporte Marítimo\",VLOOKUP(O262,$O$4030:$P$4035,2),IF(N258=\"Transporte Aéreo\",VLOOKUP(O262,$O$4037:$P$4042,2),IF(N258=\"Transporte Aéreo\",VLOOKUP(O262,$O$4044:$P$4045,2),\"\"))))","v":""},null,null,null,null,null,null,null,null,null,null,null,null,null,null,null,"",""]
[null,null,null,null,null,null,"",null,{"$f":"IF(H263=\"\",\"\",ROUND(H263/SUM(H258:H265),4))","v":""},null,null,null,null,null,null,{"$f":"+IF(O263=\"\",\"\",IF(N258=\"Transporte Marítimo\",VLOOKUP(O263,$O$4030:$P$4035,2),IF(N258=\"Transporte Aéreo\",VLOOKUP(O263,$O$4037:$P$4042,2),IF(N258=\"Transporte Aéreo\",VLOOKUP(O263,$O$4044:$P$4045,2),\"\"))))","v":""},null,null,null,null,null,null,null,null,null,null,null,null,null,null,null,"",""]
[null,null,null,null,null,null,"",null,{"$f":"IF(H264=\"\",\"\",ROUND(H264/SUM(H258:H265),4))","v":""},null,null,null,null,null,null,{"$f":"+IF(O264=\"\",\"\",IF(N258=\"Transporte Marítimo\",VLOOKUP(O264,$O$4030:$P$4035,2),IF(N258=\"Transporte Aéreo\",VLOOKUP(O264,$O$4037:$P$4042,2),IF(N258=\"Transporte Aéreo\",VLOOKUP(O264,$O$4044:$P$4045,2),\"\"))))","v":""},null,null,null,null,null,null,null,null,null,null,null,null,null,null,null,"",""]
[null,null,null,null,null,null,"",null,{"$f":"IF(H265=\"\",\"\",ROUND(H265/SUM(H258:H265),4))","v":""},null,null,null,null,null,null,{"$f":"+IF(O265=\"\",\"\",IF(N258=\"Transporte Marítimo\",VLOOKUP(O265,$O$4030:$P$4035,2),IF(N258=\"Transporte Aéreo\",VLOOKUP(O265,$O$4037:$P$4042,2),IF(N258=\"Transporte Aéreo\",VLOOKUP(O265,$O$4044:$P$4045,2),\"\"))))","v":""},null,null,null,null,null,null,null,null,null,null,null,null,null,null,null,"",""]
[null,{"$f":"+B258+1","v":32},null,null,null,null,{"$f":"+IF(F266=\"\",\"\",VLOOKUP(F266,$F$4031:$G$4120,2))","v":""},null,{"$f":"IF(H266=\"\",\"\",1-SUM(I267:I273))","v":""},null,null,null,null,null,null,{"$f":"+IF(O266=\"\",\"\",IF(N266=\"Transporte Marítimo\",VLOOKUP(O266,$O$4030:$P$4035,2),IF(N266=\"Transporte Aéreo\",VLOOKUP(O266,$O$4037:$P$4042,2),IF(N266=\"CTT\",VLOOKUP(O266,$O$4044:$P$4045,2),\"\"))))","v":""},null,null,null,null,null,null,null,null,null,null,null,null,null,null,null,{"$f":"+IF(AE266=\"20NL\",1,IF(AE266=\"40NL\",2,IF(AE266=\"20RF\",3,IF(AE266=\"40RF\",4,\"\"))))","v":""},{"$f":"+IF(AF266=\"\",\"\",VLOOKUP(AF266,$AF$4031:$AG$4034,2))","v":""},null,null,null,null,null,null,null,null,null,null,null,null,null,null," "]
[null,null,null,null,null,null,"",null,{"$f":"IF(H267=\"\",\"\",ROUND(H267/SUM(H266:H273),4))","v":""},null,null,null,null,null,null,{"$f":"+IF(O267=\"\",\"\",IF(N266=\"Transporte Marítimo\",VLOOKUP(O267,$O$4030:$P$4035,2),IF(N266=\"Transporte Aéreo\",VLOOKUP(O267,$O$4037:$P$4042,2),IF(N266=\"Transporte Aéreo\",VLOOKUP(O267,$O$4044:$P$4045,2),\"\"))))","v":""},null,null,null,null,null,null,null,null,null,null,null,null,null,null,null,{"$f":"+IF(AE267=\"20NL\",1,IF(AE267=\"40NL\",2,IF(AE267=\"20RF\",3,IF(AE267=\"40RF\",4,\"\"))))","v":""},""]
[null,null,null,null,null,null,"",null,{"$f":"IF(H268=\"\",\"\",ROUND(H268/SUM(H266:H273),4))","v":""},null,null,null,null,null,null,{"$f":"+IF(O268=\"\",\"\",IF(N266=\"Transporte Marítimo\",VLOOKUP(O268,$O$4030:$P$4035,2),IF(N266=\"Transporte Aéreo\",VLOOKUP(O268,$O$4037:$P$4042,2),IF(N266=\"Transporte Aéreo\",VLOOKUP(O268,$O$4044:$P$4045,2),\"\"))))","v":""},null,null,null,null,null,null,null,null,null,null,null,null,null,null,null,"",""]
[null,null,null,null,null,null,"",null,{"$f":"IF(H269=\"\",\"\",ROUND(H269/SUM(H266:H273),4))","v":""},null,null,null,null,null,null,{"$f":"+IF(O269=\"\",\"\",IF(N266=\"Transporte Marítimo\",VLOOKUP(O269,$O$4030:$P$4035,2),IF(N266=\"Transporte Aéreo\",VLOOKUP(O269,$O$4037:$P$4042,2),IF(N266=\"Transporte Aéreo\",VLOOKUP(O269,$O$4044:$P$4045,2),\"\"))))","v":""},null,null,null,null,null,null,null,null,null,null,null,null,null,null,null,"",""]
[null,null,null,null,null,null,"",null,{"$f":"IF(H270=\"\",\"\",ROUND(H270/SUM(H266:H273),4))","v":""},null,null,null,null,null,null,{"$f":"+IF(O270=\"\",\"\",IF(N266=\"Transporte Marítimo\",VLOOKUP(O270,$O$4030:$P$4035,2),IF(N266=\"Transporte Aéreo\",VLOOKUP(O270,$O$4037:$P$4042,2),IF(N266=\"Transporte Aéreo\",VLOOKUP(O270,$O$4044:$P$4045,2),\"\"))))","v":""},null,null,null,null,null,null,null,null,null,null,null,null,null,null,null,"",""]
[null,null,null,null,null,null,"",null,{"$f":"IF(H271=\"\",\"\",ROUND(H271/SUM(H266:H273),4))","v":""},null,null,null,null,null,null,{"$f":"+IF(O271=\"\",\"\",IF(N266=\"Transporte Marítimo\",VLOOKUP(O271,$O$4030:$P$4035,2),IF(N266=\"Transporte Aéreo\",VLOOKUP(O271,$O$4037:$P$4042,2),IF(N266=\"Transporte Aéreo\",VLOOKUP(O271,$O$4044:$P$4045,2),\"\"))))","v":""},null,null,null,null,null,null,null,null,null,null,null,null,null,null,null,"",""]
[null,null,null,null,null,null,"",null,{"$f":"IF(H272=\"\",\"\",ROUND(H272/SUM(H266:H273),4))","v":""},null,null,null,null,null,null,{"$f":"+IF(O272=\"\",\"\",IF(N266=\"Transporte Marítimo\",VLOOKUP(O272,$O$4030:$P$4035,2),IF(N266=\"Transporte Aéreo\",VLOOKUP(O272,$O$4037:$P$4042,2),IF(N266=\"Transporte Aéreo\",VLOOKUP(O272,$O$4044:$P$4045,2),\"\"))))","v":""},null,null,null,null,null,null,null,null,null,null,null,null,null,null,null,"",""]
[null,null,null,null,null,null,"",null,{"$f":"IF(H273=\"\",\"\",ROUND(H273/SUM(H266:H273),4))","v":""},null,null,null,null,null,null,{"$f":"+IF(O273=\"\",\"\",IF(N266=\"Transporte Marítimo\",VLOOKUP(O273,$O$4030:$P$4035,2),IF(N266=\"Transporte Aéreo\",VLOOKUP(O273,$O$4037:$P$4042,2),IF(N266=\"Transporte Aéreo\",VLOOKUP(O273,$O$4044:$P$4045,2),\"\"))))","v":""},null,null,null,null,null,null,null,null,null,null,null,null,null,null,null,"",""]
[null,{"$f":"+B266+1","v":33},null,null,null,null,{"$f":"+IF(F274=\"\",\"\",VLOOKUP(F274,$F$4031:$G$4120,2))","v":""},null,{"$f":"IF(H274=\"\",\"\",1-SUM(I275:I281))","v":""},null,null,null,null,null,null,{"$f":"+IF(O274=\"\",\"\",IF(N274=\"Transporte Marítimo\",VLOOKUP(O274,$O$4030:$P$4035,2),IF(N274=\"Transporte Aéreo\",VLOOKUP(O274,$O$4037:$P$4042,2),IF(N274=\"CTT\",VLOOKUP(O274,$O$4044:$P$4045,2),\"\"))))","v":""},null,null,null,null,null,null,null,null,null,null,null,null,null,null,null,{"$f":"+IF(AE274=\"20NL\",1,IF(AE274=\"40NL\",2,IF(AE274=\"20RF\",3,IF(AE274=\"40RF\",4,\"\"))))","v":""},{"$f":"+IF(AF274=\"\",\"\",VLOOKUP(AF274,$AF$4031:$AG$4034,2))","v":""},null,null,null,null,null,null,null,null,null,null,null,null,null,null," "]
[null,null,null,null,null,null,"",null,{"$f":"IF(H275=\"\",\"\",ROUND(H275/SUM(H274:H281),4))","v":""},null,null,null,null,null,null,{"$f":"+IF(O275=\"\",\"\",IF(N274=\"Transporte Marítimo\",VLOOKUP(O275,$O$4030:$P$4035,2),IF(N274=\"Transporte Aéreo\",VLOOKUP(O275,$O$4037:$P$4042,2),IF(N274=\"Transporte Aéreo\",VLOOKUP(O275,$O$4044:$P$4045,2),\"\"))))","v":""},null,null,null,null,null,null,null,null,null,null,null,null,null,null,null,{"$f":"+IF(AE275=\"20NL\",1,IF(AE275=\"40NL\",2,IF(AE275=\"20RF\",3,IF(AE275=\"40RF\",4,\"\"))))","v":""},""]
[null,null,null,null,null,null,"",null,{"$f":"IF(H276=\"\",\"\",ROUND(H276/SUM(H274:H281),4))","v":""},null,null,null,null,null,null,{"$f":"+IF(O276=\"\",\"\",IF(N274=\"Transporte Marítimo\",VLOOKUP(O276,$O$4030:$P$4035,2),IF(N274=\"Transporte Aéreo\",VLOOKUP(O276,$O$4037:$P$4042,2),IF(N274=\"Transporte Aéreo\",VLOOKUP(O276,$O$4044:$P$4045,2),\"\"))))","v":""},null,null,null,null,null,null,null,null,null,null,null,null,null,null,null,"",""]
[null,null,null,null,null,null,"",null,{"$f":"IF(H277=\"\",\"\",ROUND(H277/SUM(H274:H281),4))","v":""},null,null,null,null,null,null,{"$f":"+IF(O277=\"\",\"\",IF(N274=\"Transporte Marítimo\",VLOOKUP(O277,$O$4030:$P$4035,2),IF(N274=\"Transporte Aéreo\",VLOOKUP(O277,$O$4037:$P$4042,2),IF(N274=\"Transporte Aéreo\",VLOOKUP(O277,$O$4044:$P$4045,2),\"\"))))","v":""},null,null,null,null,null,null,null,null,null,null,null,null,null,null,null,"",""]
[null,null,null,null,null,null,"",null,{"$f":"IF(H278=\"\",\"\",ROUND(H278/SUM(H274:H281),4))","v":""},null,null,null,null,null,null,{"$f":"+IF(O278=\"\",\"\",IF(N274=\"Transporte Marítimo\",VLOOKUP(O278,$O$4030:$P$4035,2),IF(N274=\"Transporte Aéreo\",VLOOKUP(O278,$O$4037:$P$4042,2),IF(N274=\"Transporte Aéreo\",VLOOKUP(O278,$O$4044:$P$4045,2),\"\"))))","v":""},null,null,null,null,null,null,null,null,null,null,null,null,null,null,null,"",""]
[null,null,null,null,null,null,"",null,{"$f":"IF(H279=\"\",\"\",ROUND(H279/SUM(H274:H281),4))","v":""},null,null,null,null,null,null,{"$f":"+IF(O279=\"\",\"\",IF(N274=\"Transporte Marítimo\",VLOOKUP(O279,$O$4030:$P$4035,2),IF(N274=\"Transporte Aéreo\",VLOOKUP(O279,$O$4037:$P$4042,2),IF(N274=\"Transporte Aéreo\",VLOOKUP(O279,$O$4044:$P$4045,2),\"\"))))","v":""},null,null,null,null,null,null,null,null,null,null,null,null,null,null,null,"",""]
[null,null,null,null,null,null,"",null,{"$f":"IF(H280=\"\",\"\",ROUND(H280/SUM(H274:H281),4))","v":""},null,null,null,null,null,null,{"$f":"+IF(O280=\"\",\"\",IF(N274=\"Transporte Marítimo\",VLOOKUP(O280,$O$4030:$P$4035,2),IF(N274=\"Transporte Aéreo\",VLOOKUP(O280,$O$4037:$P$4042,2),IF(N274=\"Transporte Aéreo\",VLOOKUP(O280,$O$4044:$P$4045,2),\"\"))))","v":""},null,null,null,null,null,null,null,null,null,null,null,null,null,null,null,"",""]
[null,null,null,null,null,null,"",null,{"$f":"IF(H281=\"\",\"\",ROUND(H281/SUM(H274:H281),4))","v":""},null,null,null,null,null,null,{"$f":"+IF(O281=\"\",\"\",IF(N274=\"Transporte Marítimo\",VLOOKUP(O281,$O$4030:$P$4035,2),IF(N274=\"Transporte Aéreo\",VLOOKUP(O281,$O$4037:$P$4042,2),IF(N274=\"Transporte Aéreo\",VLOOKUP(O281,$O$4044:$P$4045,2),\"\"))))","v":""},null,null,null,null,null,null,null,null,null,null,null,null,null,null,null,"",""]
[null,{"$f":"+B274+1","v":34},null,null,null,null,{"$f":"+IF(F282=\"\",\"\",VLOOKUP(F282,$F$4031:$G$4120,2))","v":""},null,{"$f":"IF(H282=\"\",\"\",1-SUM(I283:I289))","v":""},null,null,null,null,null,null,{"$f":"+IF(O282=\"\",\"\",IF(N282=\"Transporte Marítimo\",VLOOKUP(O282,$O$4030:$P$4035,2),IF(N282=\"Transporte Aéreo\",VLOOKUP(O282,$O$4037:$P$4042,2),IF(N282=\"CTT\",VLOOKUP(O282,$O$4044:$P$4045,2),\"\"))))","v":""},null,null,null,null,null,null,null,null,null,null,null,null,null,null,null,{"$f":"+IF(AE282=\"20NL\",1,IF(AE282=\"40NL\",2,IF(AE282=\"20RF\",3,IF(AE282=\"40RF\",4,\"\"))))","v":""},{"$f":"+IF(AF282=\"\",\"\",VLOOKUP(AF282,$AF$4031:$AG$4034,2))","v":""},null,null,null,null,null,null,null,null,null,null,null,null,null,null," "]
[null,null,null,null,null,null,"",null,{"$f":"IF(H283=\"\",\"\",ROUND(H283/SUM(H282:H289),4))","v":""},null,null,null,null,null,null,{"$f":"+IF(O283=\"\",\"\",IF(N282=\"Transporte Marítimo\",VLOOKUP(O283,$O$4030:$P$4035,2),IF(N282=\"Transporte Aéreo\",VLOOKUP(O283,$O$4037:$P$4042,2),IF(N282=\"Transporte Aéreo\",VLOOKUP(O283,$O$4044:$P$4045,2),\"\"))))","v":""},null,null,null,null,null,null,null,null,null,null,null,null,null,null,null,{"$f":"+IF(AE283=\"20NL\",1,IF(AE283=\"40NL\",2,IF(AE283=\"20RF\",3,IF(AE283=\"40RF\",4,\"\"))))","v":""},""]
[null,null,null,null,null,null,"",null,{"$f":"IF(H284=\"\",\"\",ROUND(H284/SUM(H282:H289),4))","v":""},null,null,null,null,null,null,{"$f":"+IF(O284=\"\",\"\",IF(N282=\"Transporte Marítimo\",VLOOKUP(O284,$O$4030:$P$4035,2),IF(N282=\"Transporte Aéreo\",VLOOKUP(O284,$O$4037:$P$4042,2),IF(N282=\"Transporte Aéreo\",VLOOKUP(O284,$O$4044:$P$4045,2),\"\"))))","v":""},null,null,null,null,null,null,null,null,null,null,null,null,null,null,null,"",""]
[null,null,null,null,null,null,"",null,{"$f":"IF(H285=\"\",\"\",ROUND(H285/SUM(H282:H289),4))","v":""},null,null,null,null,null,null,{"$f":"+IF(O285=\"\",\"\",IF(N282=\"Transporte Marítimo\",VLOOKUP(O285,$O$4030:$P$4035,2),IF(N282=\"Transporte Aéreo\",VLOOKUP(O285,$O$4037:$P$4042,2),IF(N282=\"Transporte Aéreo\",VLOOKUP(O285,$O$4044:$P$4045,2),\"\"))))","v":""},null,null,null,null,null,null,null,null,null,null,null,null,null,null,null,"",""]
[null,null,null,null,null,null,"",null,{"$f":"IF(H286=\"\",\"\",ROUND(H286/SUM(H282:H289),4))","v":""},null,null,null,null,null,null,{"$f":"+IF(O286=\"\",\"\",IF(N282=\"Transporte Marítimo\",VLOOKUP(O286,$O$4030:$P$4035,2),IF(N282=\"Transporte Aéreo\",VLOOKUP(O286,$O$4037:$P$4042,2),IF(N282=\"Transporte Aéreo\",VLOOKUP(O286,$O$4044:$P$4045,2),\"\"))))","v":""},null,null,null,null,null,null,null,null,null,null,null,null,null,null,null,"",""]
[null,null,null,null,null,null,"",null,{"$f":"IF(H287=\"\",\"\",ROUND(H287/SUM(H282:H289),4))","v":""},null,null,null,null,null,null,{"$f":"+IF(O287=\"\",\"\",IF(N282=\"Transporte Marítimo\",VLOOKUP(O287,$O$4030:$P$4035,2),IF(N282=\"Transporte Aéreo\",VLOOKUP(O287,$O$4037:$P$4042,2),IF(N282=\"Transporte Aéreo\",VLOOKUP(O287,$O$4044:$P$4045,2),\"\"))))","v":""},null,null,null,null,null,null,null,null,null,null,null,null,null,null,null,"",""]
[null,null,null,null,null,null,"",null,{"$f":"IF(H288=\"\",\"\",ROUND(H288/SUM(H282:H289),4))","v":""},null,null,null,null,null,null,{"$f":"+IF(O288=\"\",\"\",IF(N282=\"Transporte Marítimo\",VLOOKUP(O288,$O$4030:$P$4035,2),IF(N282=\"Transporte Aéreo\",VLOOKUP(O288,$O$4037:$P$4042,2),IF(N282=\"Transporte Aéreo\",VLOOKUP(O288,$O$4044:$P$4045,2),\"\"))))","v":""},null,null,null,null,null,null,null,null,null,null,null,null,null,null,null,"",""]
[null,null,null,null,null,null,"",null,{"$f":"IF(H289=\"\",\"\",ROUND(H289/SUM(H282:H289),4))","v":""},null,null,null,null,null,null,{"$f":"+IF(O289=\"\",\"\",IF(N282=\"Transporte Marítimo\",VLOOKUP(O289,$O$4030:$P$4035,2),IF(N282=\"Transporte Aéreo\",VLOOKUP(O289,$O$4037:$P$4042,2),IF(N282=\"Transporte Aéreo\",VLOOKUP(O289,$O$4044:$P$4045,2),\"\"))))","v":""},null,null,null,null,null,null,null,null,null,null,null,null,null,null,null,"",""]
[null,{"$f":"+B282+1","v":35},null,null,null,null,{"$f":"+IF(F290=\"\",\"\",VLOOKUP(F290,$F$4031:$G$4120,2))","v":""},null,{"$f":"IF(H290=\"\",\"\",1-SUM(I291:I297))","v":""},null,null,null,null,null,null,{"$f":"+IF(O290=\"\",\"\",IF(N290=\"Transporte Marítimo\",VLOOKUP(O290,$O$4030:$P$4035,2),IF(N290=\"Transporte Aéreo\",VLOOKUP(O290,$O$4037:$P$4042,2),IF(N290=\"CTT\",VLOOKUP(O290,$O$4044:$P$4045,2),\"\"))))","v":""},null,null,null,null,null,null,null,null,null,null,null,null,null,null,null,{"$f":"+IF(AE290=\"20NL\",1,IF(AE290=\"40NL\",2,IF(AE290=\"20RF\",3,IF(AE290=\"40RF\",4,\"\"))))","v":""},{"$f":"+IF(AF290=\"\",\"\",VLOOKUP(AF290,$AF$4031:$AG$4034,2))","v":""},null,null,null,null,null,null,null,null,null,null,null,null,null,null," "]
[null,null,null,null,null,null,"",null,{"$f":"IF(H291=\"\",\"\",ROUND(H291/SUM(H290:H297),4))","v":""},null,null,null,null,null,null,{"$f":"+IF(O291=\"\",\"\",IF(N290=\"Transporte Marítimo\",VLOOKUP(O291,$O$4030:$P$4035,2),IF(N290=\"Transporte Aéreo\",VLOOKUP(O291,$O$4037:$P$4042,2),IF(N290=\"Transporte Aéreo\",VLOOKUP(O291,$O$4044:$P$4045,2),\"\"))))","v":""},null,null,null,null,null,null,null,null,null,null,null,null,null,null,null,{"$f":"+IF(AE291=\"20NL\",1,IF(AE291=\"40NL\",2,IF(AE291=\"20RF\",3,IF(AE291=\"40RF\",4,\"\"))))","v":""},""]
[null,null,null,null,null,null,"",null,{"$f":"IF(H292=\"\",\"\",ROUND(H292/SUM(H290:H297),4))","v":""},null,null,null,null,null,null,{"$f":"+IF(O292=\"\",\"\",IF(N290=\"Transporte Marítimo\",VLOOKUP(O292,$O$4030:$P$4035,2),IF(N290=\"Transporte Aéreo\",VLOOKUP(O292,$O$4037:$P$4042,2),IF(N290=\"Transporte Aéreo\",VLOOKUP(O292,$O$4044:$P$4045,2),\"\"))))","v":""},null,null,null,null,null,null,null,null,null,null,null,null,null,null,null,"",""]
[null,null,null,null,null,null,"",null,{"$f":"IF(H293=\"\",\"\",ROUND(H293/SUM(H290:H297),4))","v":""},null,null,null,null,null,null,{"$f":"+IF(O293=\"\",\"\",IF(N290=\"Transporte Marítimo\",VLOOKUP(O293,$O$4030:$P$4035,2),IF(N290=\"Transporte Aéreo\",VLOOKUP(O293,$O$4037:$P$4042,2),IF(N290=\"Transporte Aéreo\",VLOOKUP(O293,$O$4044:$P$4045,2),\"\"))))","v":""},null,null,null,null,null,null,null,null,null,null,null,null,null,null,null,"",""]
[null,null,null,null,null,null,"",null,{"$f":"IF(H294=\"\",\"\",ROUND(H294/SUM(H290:H297),4))","v":""},null,null,null,null,null,null,{"$f":"+IF(O294=\"\",\"\",IF(N290=\"Transporte Marítimo\",VLOOKUP(O294,$O$4030:$P$4035,2),IF(N290=\"Transporte Aéreo\",VLOOKUP(O294,$O$4037:$P$4042,2),IF(N290=\"Transporte Aéreo\",VLOOKUP(O294,$O$4044:$P$4045,2),\"\"))))","v":""},null,null,null,null,null,null,null,null,null,null,null,null,null,null,null,"",""]
[null,null,null,null,null,null,"",null,{"$f":"IF(H295=\"\",\"\",ROUND(H295/SUM(H290:H297),4))","v":""},null,null,null,null,null,null,{"$f":"+IF(O295=\"\",\"\",IF(N290=\"Transporte Marítimo\",VLOOKUP(O295,$O$4030:$P$4035,2),IF(N290=\"Transporte Aéreo\",VLOOKUP(O295,$O$4037:$P$4042,2),IF(N290=\"Transporte Aéreo\",VLOOKUP(O295,$O$4044:$P$4045,2),\"\"))))","v":""},null,null,null,null,null,null,null,null,null,null,null,null,null,null,null,"",""]
[null,null,null,null,null,null,"",null,{"$f":"IF(H296=\"\",\"\",ROUND(H296/SUM(H290:H297),4))","v":""},null,null,null,null,null,null,{"$f":"+IF(O296=\"\",\"\",IF(N290=\"Transporte Marítimo\",VLOOKUP(O296,$O$4030:$P$4035,2),IF(N290=\"Transporte Aéreo\",VLOOKUP(O296,$O$4037:$P$4042,2),IF(N290=\"Transporte Aéreo\",VLOOKUP(O296,$O$4044:$P$4045,2),\"\"))))","v":""},null,null,null,null,null,null,null,null,null,null,null,null,null,null,null,"",""]
[null,null,null,null,null,null,"",null,{"$f":"IF(H297=\"\",\"\",ROUND(H297/SUM(H290:H297),4))","v":""},null,null,null,null,null,null,{"$f":"+IF(O297=\"\",\"\",IF(N290=\"Transporte Marítimo\",VLOOKUP(O297,$O$4030:$P$4035,2),IF(N290=\"Transporte Aéreo\",VLOOKUP(O297,$O$4037:$P$4042,2),IF(N290=\"Transporte Aéreo\",VLOOKUP(O297,$O$4044:$P$4045,2),\"\"))))","v":""},null,null,null,null,null,null,null,null,null,null,null,null,null,null,null,"",""]
[null,{"$f":"+B290+1","v":36},null,null,null,null,{"$f":"+IF(F298=\"\",\"\",VLOOKUP(F298,$F$4031:$G$4120,2))","v":""},null,{"$f":"IF(H298=\"\",\"\",1-SUM(I299:I305))","v":""},null,null,null,null,null,null,{"$f":"+IF(O298=\"\",\"\",IF(N298=\"Transporte Marítimo\",VLOOKUP(O298,$O$4030:$P$4035,2),IF(N298=\"Transporte Aéreo\",VLOOKUP(O298,$O$4037:$P$4042,2),IF(N298=\"CTT\",VLOOKUP(O298,$O$4044:$P$4045,2),\"\"))))","v":""},null,null,null,null,null,null,null,null,null,null,null,null,null,null,null,{"$f":"+IF(AE298=\"20NL\",1,IF(AE298=\"40NL\",2,IF(AE298=\"20RF\",3,IF(AE298=\"40RF\",4,\"\"))))","v":""},{"$f":"+IF(AF298=\"\",\"\",VLOOKUP(AF298,$AF$4031:$AG$4034,2))","v":""},null,null,null,null,null,null,null,null,null,null,null,null,null,null," "]
[null,null,null,null,null,null,"",null,{"$f":"IF(H299=\"\",\"\",ROUND(H299/SUM(H298:H305),4))","v":""},null,null,null,null,null,null,{"$f":"+IF(O299=\"\",\"\",IF(N298=\"Transporte Marítimo\",VLOOKUP(O299,$O$4030:$P$4035,2),IF(N298=\"Transporte Aéreo\",VLOOKUP(O299,$O$4037:$P$4042,2),IF(N298=\"Transporte Aéreo\",VLOOKUP(O299,$O$4044:$P$4045,2),\"\"))))","v":""},null,null,null,null,null,null,null,null,null,null,null,null,null,null,null,{"$f":"+IF(AE299=\"20NL\",1,IF(AE299=\"40NL\",2,IF(AE299=\"20RF\",3,IF(AE299=\"40RF\",4,\"\"))))","v":""},""]
[null,null,null,null,null,null,"",null,{"$f":"IF(H300=\"\",\"\",ROUND(H300/SUM(H298:H305),4))","v":""},null,null,null,null,null,null,{"$f":"+IF(O300=\"\",\"\",IF(N298=\"Transporte Marítimo\",VLOOKUP(O300,$O$4030:$P$4035,2),IF(N298=\"Transporte Aéreo\",VLOOKUP(O300,$O$4037:$P$4042,2),IF(N298=\"Transporte Aéreo\",VLOOKUP(O300,$O$4044:$P$4045,2),\"\"))))","v":""},null,null,null,null,null,null,null,null,null,null,null,null,null,null,null,"",""]
[null,null,null,null,null,null,"",null,{"$f":"IF(H301=\"\",\"\",ROUND(H301/SUM(H298:H305),4))","v":""},null,null,null,null,null,null,{"$f":"+IF(O301=\"\",\"\",IF(N298=\"Transporte Marítimo\",VLOOKUP(O301,$O$4030:$P$4035,2),IF(N298=\"Transporte Aéreo\",VLOOKUP(O301,$O$4037:$P$4042,2),IF(N298=\"Transporte Aéreo\",VLOOKUP(O301,$O$4044:$P$4045,2),\"\"))))","v":""},null,null,null,null,null,null,null,null,null,null,null,null,null,null,null,"",""]
[null,null,null,null,null,null,"",null,{"$f":"IF(H302=\"\",\"\",ROUND(H302/SUM(H298:H305),4))","v":""},null,null,null,null,null,null,{"$f":"+IF(O302=\"\",\"\",IF(N298=\"Transporte Marítimo\",VLOOKUP(O302,$O$4030:$P$4035,2),IF(N298=\"Transporte Aéreo\",VLOOKUP(O302,$O$4037:$P$4042,2),IF(N298=\"Transporte Aéreo\",VLOOKUP(O302,$O$4044:$P$4045,2),\"\"))))","v":""},null,null,null,null,null,null,null,null,null,null,null,null,null,null,null,"",""]
[null,null,null,null,null,null,"",null,{"$f":"IF(H303=\"\",\"\",ROUND(H303/SUM(H298:H305),4))","v":""},null,null,null,null,null,null,{"$f":"+IF(O303=\"\",\"\",IF(N298=\"Transporte Marítimo\",VLOOKUP(O303,$O$4030:$P$4035,2),IF(N298=\"Transporte Aéreo\",VLOOKUP(O303,$O$4037:$P$4042,2),IF(N298=\"Transporte Aéreo\",VLOOKUP(O303,$O$4044:$P$4045,2),\"\"))))","v":""},null,null,null,null,null,null,null,null,null,null,null,null,null,null,null,"",""]
[null,null,null,null,null,null,"",null,{"$f":"IF(H304=\"\",\"\",ROUND(H304/SUM(H298:H305),4))","v":""},null,null,null,null,null,null,{"$f":"+IF(O304=\"\",\"\",IF(N298=\"Transporte Marítimo\",VLOOKUP(O304,$O$4030:$P$4035,2),IF(N298=\"Transporte Aéreo\",VLOOKUP(O304,$O$4037:$P$4042,2),IF(N298=\"Transporte Aéreo\",VLOOKUP(O304,$O$4044:$P$4045,2),\"\"))))","v":""},null,null,null,null,null,null,null,null,null,null,null,null,null,null,null,"",""]
[null,null,null,null,null,null,"",null,{"$f":"IF(H305=\"\",\"\",ROUND(H305/SUM(H298:H305),4))","v":""},null,null,null,null,null,null,{"$f":"+IF(O305=\"\",\"\",IF(N298=\"Transporte Marítimo\",VLOOKUP(O305,$O$4030:$P$4035,2),IF(N298=\"Transporte Aéreo\",VLOOKUP(O305,$O$4037:$P$4042,2),IF(N298=\"Transporte Aéreo\",VLOOKUP(O305,$O$4044:$P$4045,2),\"\"))))","v":""},null,null,null,null,null,null,null,null,null,null,null,null,null,null,null,"",""]
[null,{"$f":"+B298+1","v":37},null,null,null,null,{"$f":"+IF(F306=\"\",\"\",VLOOKUP(F306,$F$4031:$G$4120,2))","v":""},null,{"$f":"IF(H306=\"\",\"\",1-SUM(I307:I313))","v":""},null,null,null,null,null,null,{"$f":"+IF(O306=\"\",\"\",IF(N306=\"Transporte Marítimo\",VLOOKUP(O306,$O$4030:$P$4035,2),IF(N306=\"Transporte Aéreo\",VLOOKUP(O306,$O$4037:$P$4042,2),IF(N306=\"CTT\",VLOOKUP(O306,$O$4044:$P$4045,2),\"\"))))","v":""},null,null,null,null,null,null,null,null,null,null,null,null,null,null,null,{"$f":"+IF(AE306=\"20NL\",1,IF(AE306=\"40NL\",2,IF(AE306=\"20RF\",3,IF(AE306=\"40RF\",4,\"\"))))","v":""},{"$f":"+IF(AF306=\"\",\"\",VLOOKUP(AF306,$AF$4031:$AG$4034,2))","v":""},null,null,null,null,null,null,null,null,null,null,null,null,null,null," "]
[null,null,null,null,null,null,"",null,{"$f":"IF(H307=\"\",\"\",ROUND(H307/SUM(H306:H313),4))","v":""},null,null,null,null,null,null,{"$f":"+IF(O307=\"\",\"\",IF(N306=\"Transporte Marítimo\",VLOOKUP(O307,$O$4030:$P$4035,2),IF(N306=\"Transporte Aéreo\",VLOOKUP(O307,$O$4037:$P$4042,2),IF(N306=\"Transporte Aéreo\",VLOOKUP(O307,$O$4044:$P$4045,2),\"\"))))","v":""},null,null,null,null,null,null,null,null,null,null,null,null,null,null,null,{"$f":"+IF(AE307=\"20NL\",1,IF(AE307=\"40NL\",2,IF(AE307=\"20RF\",3,IF(AE307=\"40RF\",4,\"\"))))","v":""},""]
[null,null,null,null,null,null,"",null,{"$f":"IF(H308=\"\",\"\",ROUND(H308/SUM(H306:H313),4))","v":""},null,null,null,null,null,null,{"$f":"+IF(O308=\"\",\"\",IF(N306=\"Transporte Marítimo\",VLOOKUP(O308,$O$4030:$P$4035,2),IF(N306=\"Transporte Aéreo\",VLOOKUP(O308,$O$4037:$P$4042,2),IF(N306=\"Transporte Aéreo\",VLOOKUP(O308,$O$4044:$P$4045,2),\"\"))))","v":""},null,null,null,null,null,null,null,null,null,null,null,null,null,null,null,"",""]
[null,null,null,null,null,null,"",null,{"$f":"IF(H309=\"\",\"\",ROUND(H309/SUM(H306:H313),4))","v":""},null,null,null,null,null,null,{"$f":"+IF(O309=\"\",\"\",IF(N306=\"Transporte Marítimo\",VLOOKUP(O309,$O$4030:$P$4035,2),IF(N306=\"Transporte Aéreo\",VLOOKUP(O309,$O$4037:$P$4042,2),IF(N306=\"Transporte Aéreo\",VLOOKUP(O309,$O$4044:$P$4045,2),\"\"))))","v":""},null,null,null,null,null,null,null,null,null,null,null,null,null,null,null,"",""]
[null,null,null,null,null,null,"",null,{"$f":"IF(H310=\"\",\"\",ROUND(H310/SUM(H306:H313),4))","v":""},null,null,null,null,null,null,{"$f":"+IF(O310=\"\",\"\",IF(N306=\"Transporte Marítimo\",VLOOKUP(O310,$O$4030:$P$4035,2),IF(N306=\"Transporte Aéreo\",VLOOKUP(O310,$O$4037:$P$4042,2),IF(N306=\"Transporte Aéreo\",VLOOKUP(O310,$O$4044:$P$4045,2),\"\"))))","v":""},null,null,null,null,null,null,null,null,null,null,null,null,null,null,null,"",""]
[null,null,null,null,null,null,"",null,{"$f":"IF(H311=\"\",\"\",ROUND(H311/SUM(H306:H313),4))","v":""},null,null,null,null,null,null,{"$f":"+IF(O311=\"\",\"\",IF(N306=\"Transporte Marítimo\",VLOOKUP(O311,$O$4030:$P$4035,2),IF(N306=\"Transporte Aéreo\",VLOOKUP(O311,$O$4037:$P$4042,2),IF(N306=\"Transporte Aéreo\",VLOOKUP(O311,$O$4044:$P$4045,2),\"\"))))","v":""},null,null,null,null,null,null,null,null,null,null,null,null,null,null,null,"",""]
[null,null,null,null,null,null,"",null,{"$f":"IF(H312=\"\",\"\",ROUND(H312/SUM(H306:H313),4))","v":""},null,null,null,null,null,null,{"$f":"+IF(O312=\"\",\"\",IF(N306=\"Transporte Marítimo\",VLOOKUP(O312,$O$4030:$P$4035,2),IF(N306=\"Transporte Aéreo\",VLOOKUP(O312,$O$4037:$P$4042,2),IF(N306=\"Transporte Aéreo\",VLOOKUP(O312,$O$4044:$P$4045,2),\"\"))))","v":""},null,null,null,null,null,null,null,null,null,null,null,null,null,null,null,"",""]
[null,null,null,null,null,null,"",null,{"$f":"IF(H313=\"\",\"\",ROUND(H313/SUM(H306:H313),4))","v":""},null,null,null,null,null,null,{"$f":"+IF(O313=\"\",\"\",IF(N306=\"Transporte Marítimo\",VLOOKUP(O313,$O$4030:$P$4035,2),IF(N306=\"Transporte Aéreo\",VLOOKUP(O313,$O$4037:$P$4042,2),IF(N306=\"Transporte Aéreo\",VLOOKUP(O313,$O$4044:$P$4045,2),\"\"))))","v":""},null,null,null,null,null,null,null,null,null,null,null,null,null,null,null,"",""]
[null,{"$f":"+B306+1","v":38},null,null,null,null,{"$f":"+IF(F314=\"\",\"\",VLOOKUP(F314,$F$4031:$G$4120,2))","v":""},null,{"$f":"IF(H314=\"\",\"\",1-SUM(I315:I321))","v":""},null,null,null,null,null,null,{"$f":"+IF(O314=\"\",\"\",IF(N314=\"Transporte Marítimo\",VLOOKUP(O314,$O$4030:$P$4035,2),IF(N314=\"Transporte Aéreo\",VLOOKUP(O314,$O$4037:$P$4042,2),IF(N314=\"CTT\",VLOOKUP(O314,$O$4044:$P$4045,2),\"\"))))","v":""},null,null,null,null,null,null,null,null,null,null,null,null,null,null,null,{"$f":"+IF(AE314=\"20NL\",1,IF(AE314=\"40NL\",2,IF(AE314=\"20RF\",3,IF(AE314=\"40RF\",4,\"\"))))","v":""},{"$f":"+IF(AF314=\"\",\"\",VLOOKUP(AF314,$AF$4031:$AG$4034,2))","v":""},null,null,null,null,null,null,null,null,null,null,null,null,null,null," "]
[null,null,null,null,null,null,"",null,{"$f":"IF(H315=\"\",\"\",ROUND(H315/SUM(H314:H321),4))","v":""},null,null,null,null,null,null,{"$f":"+IF(O315=\"\",\"\",IF(N314=\"Transporte Marítimo\",VLOOKUP(O315,$O$4030:$P$4035,2),IF(N314=\"Transporte Aéreo\",VLOOKUP(O315,$O$4037:$P$4042,2),IF(N314=\"Transporte Aéreo\",VLOOKUP(O315,$O$4044:$P$4045,2),\"\"))))","v":""},null,null,null,null,null,null,null,null,null,null,null,null,null,null,null,{"$f":"+IF(AE315=\"20NL\",1,IF(AE315=\"40NL\",2,IF(AE315=\"20RF\",3,IF(AE315=\"40RF\",4,\"\"))))","v":""},""]
[null,null,null,null,null,null,"",null,{"$f":"IF(H316=\"\",\"\",ROUND(H316/SUM(H314:H321),4))","v":""},null,null,null,null,null,null,{"$f":"+IF(O316=\"\",\"\",IF(N314=\"Transporte Marítimo\",VLOOKUP(O316,$O$4030:$P$4035,2),IF(N314=\"Transporte Aéreo\",VLOOKUP(O316,$O$4037:$P$4042,2),IF(N314=\"Transporte Aéreo\",VLOOKUP(O316,$O$4044:$P$4045,2),\"\"))))","v":""},null,null,null,null,null,null,null,null,null,null,null,null,null,null,null,"",""]
[null,null,null,null,null,null,"",null,{"$f":"IF(H317=\"\",\"\",ROUND(H317/SUM(H314:H321),4))","v":""},null,null,null,null,null,null,{"$f":"+IF(O317=\"\",\"\",IF(N314=\"Transporte Marítimo\",VLOOKUP(O317,$O$4030:$P$4035,2),IF(N314=\"Transporte Aéreo\",VLOOKUP(O317,$O$4037:$P$4042,2),IF(N314=\"Transporte Aéreo\",VLOOKUP(O317,$O$4044:$P$4045,2),\"\"))))","v":""},null,null,null,null,null,null,null,null,null,null,null,null,null,null,null,"",""]
[null,null,null,null,null,null,"",null,{"$f":"IF(H318=\"\",\"\",ROUND(H318/SUM(H314:H321),4))","v":""},null,null,null,null,null,null,{"$f":"+IF(O318=\"\",\"\",IF(N314=\"Transporte Marítimo\",VLOOKUP(O318,$O$4030:$P$4035,2),IF(N314=\"Transporte Aéreo\",VLOOKUP(O318,$O$4037:$P$4042,2),IF(N314=\"Transporte Aéreo\",VLOOKUP(O318,$O$4044:$P$4045,2),\"\"))))","v":""},null,null,null,null,null,null,null,null,null,null,null,null,null,null,null,"",""]
[null,null,null,null,null,null,"",null,{"$f":"IF(H319=\"\",\"\",ROUND(H319/SUM(H314:H321),4))","v":""},null,null,null,null,null,null,{"$f":"+IF(O319=\"\",\"\",IF(N314=\"Transporte Marítimo\",VLOOKUP(O319,$O$4030:$P$4035,2),IF(N314=\"Transporte Aéreo\",VLOOKUP(O319,$O$4037:$P$4042,2),IF(N314=\"Transporte Aéreo\",VLOOKUP(O319,$O$4044:$P$4045,2),\"\"))))","v":""},null,null,null,null,null,null,null,null,null,null,null,null,null,null,null,"",""]
[null,null,null,null,null,null,"",null,{"$f":"IF(H320=\"\",\"\",ROUND(H320/SUM(H314:H321),4))","v":""},null,null,null,null,null,null,{"$f":"+IF(O320=\"\",\"\",IF(N314=\"Transporte Marítimo\",VLOOKUP(O320,$O$4030:$P$4035,2),IF(N314=\"Transporte Aéreo\",VLOOKUP(O320,$O$4037:$P$4042,2),IF(N314=\"Transporte Aéreo\",VLOOKUP(O320,$O$4044:$P$4045,2),\"\"))))","v":""},null,null,null,null,null,null,null,null,null,null,null,null,null,null,null,"",""]
[null,null,null,null,null,null,"",null,{"$f":"IF(H321=\"\",\"\",ROUND(H321/SUM(H314:H321),4))","v":""},null,null,null,null,null,null,{"$f":"+IF(O321=\"\",\"\",IF(N314=\"Transporte Marítimo\",VLOOKUP(O321,$O$4030:$P$4035,2),IF(N314=\"Transporte Aéreo\",VLOOKUP(O321,$O$4037:$P$4042,2),IF(N314=\"Transporte Aéreo\",VLOOKUP(O321,$O$4044:$P$4045,2),\"\"))))","v":""},null,null,null,null,null,null,null,null,null,null,null,null,null,null,null,"",""]
[null,{"$f":"+B314+1","v":39},null,null,null,null,{"$f":"+IF(F322=\"\",\"\",VLOOKUP(F322,$F$4031:$G$4120,2))","v":""},null,{"$f":"IF(H322=\"\",\"\",1-SUM(I323:I329))","v":""},null,null,null,null,null,null,{"$f":"+IF(O322=\"\",\"\",IF(N322=\"Transporte Marítimo\",VLOOKUP(O322,$O$4030:$P$4035,2),IF(N322=\"Transporte Aéreo\",VLOOKUP(O322,$O$4037:$P$4042,2),IF(N322=\"CTT\",VLOOKUP(O322,$O$4044:$P$4045,2),\"\"))))","v":""},null,null,null,null,null,null,null,null,null,null,null,null,null,null,null,{"$f":"+IF(AE322=\"20NL\",1,IF(AE322=\"40NL\",2,IF(AE322=\"20RF\",3,IF(AE322=\"40RF\",4,\"\"))))","v":""},{"$f":"+IF(AF322=\"\",\"\",VLOOKUP(AF322,$AF$4031:$AG$4034,2))","v":""},null,null,null,null,null,null,null,null,null,null,null,null,null,null," "]
[null,null,null,null,null,null,{"$f":"+IF(F323=\"\",\"\",VLOOKUP(F323,$F$4031:$G$4120,2))","v":""},null,{"$f":"IF(H323=\"\",\"\",ROUND(H323/SUM(H322:H329),4))","v":""},null,null,null,null,null,null,{"$f":"+IF(O323=\"\",\"\",IF(N322=\"Transporte Marítimo\",VLOOKUP(O323,$O$4030:$P$4035,2),IF(N322=\"Transporte Aéreo\",VLOOKUP(O323,$O$4037:$P$4042,2),IF(N322=\"Transporte Aéreo\",VLOOKUP(O323,$O$4044:$P$4045,2),\"\"))))","v":""},null,null,null,null,null,null,null,null,null,null,null,null,null,null,null,{"$f":"+IF(AE323=\"20NL\",1,IF(AE323=\"40NL\",2,IF(AE323=\"20RF\",3,IF(AE323=\"40RF\",4,\"\"))))","v":""},{"$f":"+IF(AF323=\"\",\"\",VLOOKUP(AF323,$AF$4031:$AG$4034,2))","v":""}]
[null,null,null,null,null,null,"",null,{"$f":"IF(H324=\"\",\"\",ROUND(H324/SUM(H322:H329),4))","v":""},null,null,null,null,null,null,{"$f":"+IF(O324=\"\",\"\",IF(N322=\"Transporte Marítimo\",VLOOKUP(O324,$O$4030:$P$4035,2),IF(N322=\"Transporte Aéreo\",VLOOKUP(O324,$O$4037:$P$4042,2),IF(N322=\"Transporte Aéreo\",VLOOKUP(O324,$O$4044:$P$4045,2),\"\"))))","v":""},null,null,null,null,null,null,null,null,null,null,null,null,null,null,null,"",""]
[null,null,null,null,null,null,"",null,{"$f":"IF(H325=\"\",\"\",ROUND(H325/SUM(H322:H329),4))","v":""},null,null,null,null,null,null,{"$f":"+IF(O325=\"\",\"\",IF(N322=\"Transporte Marítimo\",VLOOKUP(O325,$O$4030:$P$4035,2),IF(N322=\"Transporte Aéreo\",VLOOKUP(O325,$O$4037:$P$4042,2),IF(N322=\"Transporte Aéreo\",VLOOKUP(O325,$O$4044:$P$4045,2),\"\"))))","v":""},null,null,null,null,null,null,null,null,null,null,null,null,null,null,null,"",""]
[null,null,null,null,null,null,"",null,{"$f":"IF(H326=\"\",\"\",ROUND(H326/SUM(H322:H329),4))","v":""},null,null,null,null,null,null,{"$f":"+IF(O326=\"\",\"\",IF(N322=\"Transporte Marítimo\",VLOOKUP(O326,$O$4030:$P$4035,2),IF(N322=\"Transporte Aéreo\",VLOOKUP(O326,$O$4037:$P$4042,2),IF(N322=\"Transporte Aéreo\",VLOOKUP(O326,$O$4044:$P$4045,2),\"\"))))","v":""},null,null,null,null,null,null,null,null,null,null,null,null,null,null,null,"",""]
[null,null,null,null,null,null,"",null,{"$f":"IF(H327=\"\",\"\",ROUND(H327/SUM(H322:H329),4))","v":""},null,null,null,null,null,null,{"$f":"+IF(O327=\"\",\"\",IF(N322=\"Transporte Marítimo\",VLOOKUP(O327,$O$4030:$P$4035,2),IF(N322=\"Transporte Aéreo\",VLOOKUP(O327,$O$4037:$P$4042,2),IF(N322=\"Transporte Aéreo\",VLOOKUP(O327,$O$4044:$P$4045,2),\"\"))))","v":""},null,null,null,null,null,null,null,null,null,null,null,null,null,null,null,"",""]
[null,null,null,null,null,null,"",null,{"$f":"IF(H328=\"\",\"\",ROUND(H328/SUM(H322:H329),4))","v":""},null,null,null,null,null,null,{"$f":"+IF(O328=\"\",\"\",IF(N322=\"Transporte Marítimo\",VLOOKUP(O328,$O$4030:$P$4035,2),IF(N322=\"Transporte Aéreo\",VLOOKUP(O328,$O$4037:$P$4042,2),IF(N322=\"Transporte Aéreo\",VLOOKUP(O328,$O$4044:$P$4045,2),\"\"))))","v":""},null,null,null,null,null,null,null,null,null,null,null,null,null,null,null,"",""]
[null,null,null,null,null,null,"",null,{"$f":"IF(H329=\"\",\"\",ROUND(H329/SUM(H322:H329),4))","v":""},null,null,null,null,null,null,{"$f":"+IF(O329=\"\",\"\",IF(N322=\"Transporte Marítimo\",VLOOKUP(O329,$O$4030:$P$4035,2),IF(N322=\"Transporte Aéreo\",VLOOKUP(O329,$O$4037:$P$4042,2),IF(N322=\"Transporte Aéreo\",VLOOKUP(O329,$O$4044:$P$4045,2),\"\"))))","v":""},null,null,null,null,null,null,null,null,null,null,null,null,null,null,null,"",""]
[null,{"$f":"+B322+1","v":40},null,null,null,null,{"$f":"+IF(F330=\"\",\"\",VLOOKUP(F330,$F$4031:$G$4120,2))","v":""},null,{"$f":"IF(H330=\"\",\"\",1-SUM(I331:I337))","v":""},null,null,null,null,null,null,{"$f":"+IF(O330=\"\",\"\",IF(N330=\"Transporte Marítimo\",VLOOKUP(O330,$O$4030:$P$4035,2),IF(N330=\"Transporte Aéreo\",VLOOKUP(O330,$O$4037:$P$4042,2),IF(N330=\"CTT\",VLOOKUP(O330,$O$4044:$P$4045,2),\"\"))))","v":""},null,null,null,null,null,null,null,null,null,null,null,null,null,null,null,{"$f":"+IF(AE330=\"20NL\",1,IF(AE330=\"40NL\",2,IF(AE330=\"20RF\",3,IF(AE330=\"40RF\",4,\"\"))))","v":""},{"$f":"+IF(AF330=\"\",\"\",VLOOKUP(AF330,$AF$4031:$AG$4034,2))","v":""},null,null,null,null,null,null,null,null,null,null,null,null,null,null," "]
[null,null,null,null,null,null,"",null,{"$f":"IF(H331=\"\",\"\",ROUND(H331/SUM(H330:H337),4))","v":""},null,null,null,null,null,null,{"$f":"+IF(O331=\"\",\"\",IF(N330=\"Transporte Marítimo\",VLOOKUP(O331,$O$4030:$P$4035,2),IF(N330=\"Transporte Aéreo\",VLOOKUP(O331,$O$4037:$P$4042,2),IF(N330=\"Transporte Aéreo\",VLOOKUP(O331,$O$4044:$P$4045,2),\"\"))))","v":""},null,null,null,null,null,null,null,null,null,null,null,null,null,null,null,{"$f":"+IF(AE331=\"20NL\",1,IF(AE331=\"40NL\",2,IF(AE331=\"20RF\",3,IF(AE331=\"40RF\",4,\"\"))))","v":""},{"$f":"+IF(AF331=\"\",\"\",VLOOKUP(AF331,$AF$4031:$AG$4034,2))","v":""}]
[null,null,null,null,null,null,"",null,{"$f":"IF(H332=\"\",\"\",ROUND(H332/SUM(H330:H337),4))","v":""},null,null,null,null,null,null,{"$f":"+IF(O332=\"\",\"\",IF(N330=\"Transporte Marítimo\",VLOOKUP(O332,$O$4030:$P$4035,2),IF(N330=\"Transporte Aéreo\",VLOOKUP(O332,$O$4037:$P$4042,2),IF(N330=\"Transporte Aéreo\",VLOOKUP(O332,$O$4044:$P$4045,2),\"\"))))","v":""},null,null,null,null,null,null,null,null,null,null,null,null,null,null,null,"",""]
[null,null,null,null,null,null,"",null,{"$f":"IF(H333=\"\",\"\",ROUND(H333/SUM(H330:H337),4))","v":""},null,null,null,null,null,null,{"$f":"+IF(O333=\"\",\"\",IF(N330=\"Transporte Marítimo\",VLOOKUP(O333,$O$4030:$P$4035,2),IF(N330=\"Transporte Aéreo\",VLOOKUP(O333,$O$4037:$P$4042,2),IF(N330=\"Transporte Aéreo\",VLOOKUP(O333,$O$4044:$P$4045,2),\"\"))))","v":""},null,null,null,null,null,null,null,null,null,null,null,null,null,null,null,"",""]
[null,null,null,null,null,null,"",null,{"$f":"IF(H334=\"\",\"\",ROUND(H334/SUM(H330:H337),4))","v":""},null,null,null,null,null,null,{"$f":"+IF(O334=\"\",\"\",IF(N330=\"Transporte Marítimo\",VLOOKUP(O334,$O$4030:$P$4035,2),IF(N330=\"Transporte Aéreo\",VLOOKUP(O334,$O$4037:$P$4042,2),IF(N330=\"Transporte Aéreo\",VLOOKUP(O334,$O$4044:$P$4045,2),\"\"))))","v":""},null,null,null,null,null,null,null,null,null,null,null,null,null,null,null,"",""]
[null,null,null,null,null,null,"",null,{"$f":"IF(H335=\"\",\"\",ROUND(H335/SUM(H330:H337),4))","v":""},null,null,null,null,null,null,{"$f":"+IF(O335=\"\",\"\",IF(N330=\"Transporte Marítimo\",VLOOKUP(O335,$O$4030:$P$4035,2),IF(N330=\"Transporte Aéreo\",VLOOKUP(O335,$O$4037:$P$4042,2),IF(N330=\"Transporte Aéreo\",VLOOKUP(O335,$O$4044:$P$4045,2),\"\"))))","v":""},null,null,null,null,null,null,null,null,null,null,null,null,null,null,null,"",""]
[null,null,null,null,null,null,"",null,{"$f":"IF(H336=\"\",\"\",ROUND(H336/SUM(H330:H337),4))","v":""},null,null,null,null,null,null,{"$f":"+IF(O336=\"\",\"\",IF(N330=\"Transporte Marítimo\",VLOOKUP(O336,$O$4030:$P$4035,2),IF(N330=\"Transporte Aéreo\",VLOOKUP(O336,$O$4037:$P$4042,2),IF(N330=\"Transporte Aéreo\",VLOOKUP(O336,$O$4044:$P$4045,2),\"\"))))","v":""},null,null,null,null,null,null,null,null,null,null,null,null,null,null,null,"",""]
[null,null,null,null,null,null,{"$f":"+IF(F337=\"\",\"\",VLOOKUP(F337,$F$4031:$G$4120,2))","v":""},null,{"$f":"IF(H337=\"\",\"\",ROUND(H337/SUM(H330:H337),4))","v":""},null,null,null,null,null,null,{"$f":"+IF(O337=\"\",\"\",IF(N330=\"Transporte Marítimo\",VLOOKUP(O337,$O$4030:$P$4035,2),IF(N330=\"Transporte Aéreo\",VLOOKUP(O337,$O$4037:$P$4042,2),IF(N330=\"Transporte Aéreo\",VLOOKUP(O337,$O$4044:$P$4045,2),\"\"))))","v":""},null,null,null,null,null,null,null,null,null,null,null,null,null,null,null,"",""]
[null,{"$f":"+B330+1","v":41},null,null,null,null,{"$f":"+IF(F338=\"\",\"\",VLOOKUP(F338,$F$4031:$G$4120,2))","v":""},null,{"$f":"IF(H338=\"\",\"\",1-SUM(I339:I345))","v":""},null,null,null,null,null,null,{"$f":"+IF(O338=\"\",\"\",IF(N338=\"Transporte Marítimo\",VLOOKUP(O338,$O$4030:$P$4035,2),IF(N338=\"Transporte Aéreo\",VLOOKUP(O338,$O$4037:$P$4042,2),IF(N338=\"CTT\",VLOOKUP(O338,$O$4044:$P$4045,2),\"\"))))","v":""},null,null,null,null,null,null,null,null,null,null,null,null,null,null,null,{"$f":"+IF(AE338=\"20NL\",1,IF(AE338=\"40NL\",2,IF(AE338=\"20RF\",3,IF(AE338=\"40RF\",4,\"\"))))","v":""},{"$f":"+IF(AF338=\"\",\"\",VLOOKUP(AF338,$AF$4031:$AG$4034,2))","v":""},null,null,null,null,null,null,null,null,null,null,null,null,null,null," "]
[null,null,null,null,null,null,{"$f":"+IF(F339=\"\",\"\",VLOOKUP(F339,$F$4031:$G$4120,2))","v":""},null,{"$f":"IF(H339=\"\",\"\",ROUND(H339/SUM(H338:H345),4))","v":""},null,null,null,null,null,null,{"$f":"+IF(O339=\"\",\"\",IF(N338=\"Transporte Marítimo\",VLOOKUP(O339,$O$4030:$P$4035,2),IF(N338=\"Transporte Aéreo\",VLOOKUP(O339,$O$4037:$P$4042,2),IF(N338=\"Transporte Aéreo\",VLOOKUP(O339,$O$4044:$P$4045,2),\"\"))))","v":""},null,null,null,null,null,null,null,null,null,null,null,null,null,null,null,{"$f":"+IF(AE339=\"20NL\",1,IF(AE339=\"40NL\",2,IF(AE339=\"20RF\",3,IF(AE339=\"40RF\",4,\"\"))))","v":""},{"$f":"+IF(AF339=\"\",\"\",VLOOKUP(AF339,$AF$4031:$AG$4034,2))","v":""}]
[null,null,null,null,null,null,"",null,{"$f":"IF(H340=\"\",\"\",ROUND(H340/SUM(H338:H345),4))","v":""},null,null,null,null,null,null,{"$f":"+IF(O340=\"\",\"\",IF(N338=\"Transporte Marítimo\",VLOOKUP(O340,$O$4030:$P$4035,2),IF(N338=\"Transporte Aéreo\",VLOOKUP(O340,$O$4037:$P$4042,2),IF(N338=\"Transporte Aéreo\",VLOOKUP(O340,$O$4044:$P$4045,2),\"\"))))","v":""},null,null,null,null,null,null,null,null,null,null,null,null,null,null,null,"",""]
[null,null,null,null,null,null,"",null,{"$f":"IF(H341=\"\",\"\",ROUND(H341/SUM(H338:H345),4))","v":""},null,null,null,null,null,null,{"$f":"+IF(O341=\"\",\"\",IF(N338=\"Transporte Marítimo\",VLOOKUP(O341,$O$4030:$P$4035,2),IF(N338=\"Transporte Aéreo\",VLOOKUP(O341,$O$4037:$P$4042,2),IF(N338=\"Transporte Aéreo\",VLOOKUP(O341,$O$4044:$P$4045,2),\"\"))))","v":""},null,null,null,null,null,null,null,null,null,null,null,null,null,null,null,"",""]
[null,null,null,null,null,null,"",null,{"$f":"IF(H342=\"\",\"\",ROUND(H342/SUM(H338:H345),4))","v":""},null,null,null,null,null,null,{"$f":"+IF(O342=\"\",\"\",IF(N338=\"Transporte Marítimo\",VLOOKUP(O342,$O$4030:$P$4035,2),IF(N338=\"Transporte Aéreo\",VLOOKUP(O342,$O$4037:$P$4042,2),IF(N338=\"Transporte Aéreo\",VLOOKUP(O342,$O$4044:$P$4045,2),\"\"))))","v":""},null,null,null,null,null,null,null,null,null,null,null,null,null,null,null,"",""]
[null,null,null,null,null,null,"",null,{"$f":"IF(H343=\"\",\"\",ROUND(H343/SUM(H338:H345),4))","v":""},null,null,null,null,null,null,{"$f":"+IF(O343=\"\",\"\",IF(N338=\"Transporte Marítimo\",VLOOKUP(O343,$O$4030:$P$4035,2),IF(N338=\"Transporte Aéreo\",VLOOKUP(O343,$O$4037:$P$4042,2),IF(N338=\"Transporte Aéreo\",VLOOKUP(O343,$O$4044:$P$4045,2),\"\"))))","v":""},null,null,null,null,null,null,null,null,null,null,null,null,null,null,null,"",""]
[null,null,null,null,null,null,"",null,{"$f":"IF(H344=\"\",\"\",ROUND(H344/SUM(H338:H345),4))","v":""},null,null,null,null,null,null,{"$f":"+IF(O344=\"\",\"\",IF(N338=\"Transporte Marítimo\",VLOOKUP(O344,$O$4030:$P$4035,2),IF(N338=\"Transporte Aéreo\",VLOOKUP(O344,$O$4037:$P$4042,2),IF(N338=\"Transporte Aéreo\",VLOOKUP(O344,$O$4044:$P$4045,2),\"\"))))","v":""},null,null,null,null,null,null,null,null,null,null,null,null,null,null,null,"",""]
[null,null,null,null,null,null,"",null,{"$f":"IF(H345=\"\",\"\",ROUND(H345/SUM(H338:H345),4))","v":""},null,null,null,null,null,null,{"$f":"+IF(O345=\"\",\"\",IF(N338=\"Transporte Marítimo\",VLOOKUP(O345,$O$4030:$P$4035,2),IF(N338=\"Transporte Aéreo\",VLOOKUP(O345,$O$4037:$P$4042,2),IF(N338=\"Transporte Aéreo\",VLOOKUP(O345,$O$4044:$P$4045,2),\"\"))))","v":""},null,null,null,null,null,null,null,null,null,null,null,null,null,null,null,"",""]
[null,{"$f":"+B338+1","v":42},null,null,null,null,{"$f":"+IF(F346=\"\",\"\",VLOOKUP(F346,$F$4031:$G$4120,2))","v":""},null,{"$f":"IF(H346=\"\",\"\",1-SUM(I347:I353))","v":""},null,null,null,null,null,null,{"$f":"+IF(O346=\"\",\"\",IF(N346=\"Transporte Marítimo\",VLOOKUP(O346,$O$4030:$P$4035,2),IF(N346=\"Transporte Aéreo\",VLOOKUP(O346,$O$4037:$P$4042,2),IF(N346=\"CTT\",VLOOKUP(O346,$O$4044:$P$4045,2),\"\"))))","v":""},null,null,null,null,null,null,null,null,null,null,null,null,null,null,null,{"$f":"+IF(AE346=\"20NL\",1,IF(AE346=\"40NL\",2,IF(AE346=\"20RF\",3,IF(AE346=\"40RF\",4,\"\"))))","v":""},{"$f":"+IF(AF346=\"\",\"\",VLOOKUP(AF346,$AF$4031:$AG$4034,2))","v":""},null,null,null,null,null,null,null,null,null,null,null,null,null,null," "]
[null,null,null,null,null,null,"",null,{"$f":"IF(H347=\"\",\"\",ROUND(H347/SUM(H346:H353),4))","v":""},null,null,null,null,null,null,{"$f":"+IF(O347=\"\",\"\",IF(N346=\"Transporte Marítimo\",VLOOKUP(O347,$O$4030:$P$4035,2),IF(N346=\"Transporte Aéreo\",VLOOKUP(O347,$O$4037:$P$4042,2),IF(N346=\"Transporte Aéreo\",VLOOKUP(O347,$O$4044:$P$4045,2),\"\"))))","v":""},null,null,null,null,null,null,null,null,null,null,null,null,null,null,null,{"$f":"+IF(AE347=\"20NL\",1,IF(AE347=\"40NL\",2,IF(AE347=\"20RF\",3,IF(AE347=\"40RF\",4,\"\"))))","v":""},""]
[null,null,null,null,null,null,"",null,{"$f":"IF(H348=\"\",\"\",ROUND(H348/SUM(H346:H353),4))","v":""},null,null,null,null,null,null,{"$f":"+IF(O348=\"\",\"\",IF(N346=\"Transporte Marítimo\",VLOOKUP(O348,$O$4030:$P$4035,2),IF(N346=\"Transporte Aéreo\",VLOOKUP(O348,$O$4037:$P$4042,2),IF(N346=\"Transporte Aéreo\",VLOOKUP(O348,$O$4044:$P$4045,2),\"\"))))","v":""},null,null,null,null,null,null,null,null,null,null,null,null,null,null,null,"",""]
[null,null,null,null,null,null,"",null,{"$f":"IF(H349=\"\",\"\",ROUND(H349/SUM(H346:H353),4))","v":""},null,null,null,null,null,null,{"$f":"+IF(O349=\"\",\"\",IF(N346=\"Transporte Marítimo\",VLOOKUP(O349,$O$4030:$P$4035,2),IF(N346=\"Transporte Aéreo\",VLOOKUP(O349,$O$4037:$P$4042,2),IF(N346=\"Transporte Aéreo\",VLOOKUP(O349,$O$4044:$P$4045,2),\"\"))))","v":""},null,null,null,null,null,null,null,null,null,null,null,null,null,null,null,"",""]
[null,null,null,null,null,null,"",null,{"$f":"IF(H350=\"\",\"\",ROUND(H350/SUM(H346:H353),4))","v":""},null,null,null,null,null,null,{"$f":"+IF(O350=\"\",\"\",IF(N346=\"Transporte Marítimo\",VLOOKUP(O350,$O$4030:$P$4035,2),IF(N346=\"Transporte Aéreo\",VLOOKUP(O350,$O$4037:$P$4042,2),IF(N346=\"Transporte Aéreo\",VLOOKUP(O350,$O$4044:$P$4045,2),\"\"))))","v":""},null,null,null,null,null,null,null,null,null,null,null,null,null,null,null,"",""]
[null,null,null,null,null,null,"",null,{"$f":"IF(H351=\"\",\"\",ROUND(H351/SUM(H346:H353),4))","v":""},null,null,null,null,null,null,{"$f":"+IF(O351=\"\",\"\",IF(N346=\"Transporte Marítimo\",VLOOKUP(O351,$O$4030:$P$4035,2),IF(N346=\"Transporte Aéreo\",VLOOKUP(O351,$O$4037:$P$4042,2),IF(N346=\"Transporte Aéreo\",VLOOKUP(O351,$O$4044:$P$4045,2),\"\"))))","v":""},null,null,null,null,null,null,null,null,null,null,null,null,null,null,null,"",""]
[null,null,null,null,null,null,"",null,{"$f":"IF(H352=\"\",\"\",ROUND(H352/SUM(H346:H353),4))","v":""},null,null,null,null,null,null,{"$f":"+IF(O352=\"\",\"\",IF(N346=\"Transporte Marítimo\",VLOOKUP(O352,$O$4030:$P$4035,2),IF(N346=\"Transporte Aéreo\",VLOOKUP(O352,$O$4037:$P$4042,2),IF(N346=\"Transporte Aéreo\",VLOOKUP(O352,$O$4044:$P$4045,2),\"\"))))","v":""},null,null,null,null,null,null,null,null,null,null,null,null,null,null,null,"",""]
[null,null,null,null,null,null,"",null,{"$f":"IF(H353=\"\",\"\",ROUND(H353/SUM(H346:H353),4))","v":""},null,null,null,null,null,null,{"$f":"+IF(O353=\"\",\"\",IF(N346=\"Transporte Marítimo\",VLOOKUP(O353,$O$4030:$P$4035,2),IF(N346=\"Transporte Aéreo\",VLOOKUP(O353,$O$4037:$P$4042,2),IF(N346=\"Transporte Aéreo\",VLOOKUP(O353,$O$4044:$P$4045,2),\"\"))))","v":""},null,null,null,null,null,null,null,null,null,null,null,null,null,null,null,"",""]
[null,{"$f":"+B346+1","v":43},null,null,null,null,{"$f":"+IF(F354=\"\",\"\",VLOOKUP(F354,$F$4031:$G$4120,2))","v":""},null,{"$f":"IF(H354=\"\",\"\",1-SUM(I355:I361))","v":""},null,null,null,null,null,null,{"$f":"+IF(O354=\"\",\"\",IF(N354=\"Transporte Marítimo\",VLOOKUP(O354,$O$4030:$P$4035,2),IF(N354=\"Transporte Aéreo\",VLOOKUP(O354,$O$4037:$P$4042,2),IF(N354=\"CTT\",VLOOKUP(O354,$O$4044:$P$4045,2),\"\"))))","v":""},null,null,null,null,null,null,null,null,null,null,null,null,null,null,null,{"$f":"+IF(AE354=\"20NL\",1,IF(AE354=\"40NL\",2,IF(AE354=\"20RF\",3,IF(AE354=\"40RF\",4,\"\"))))","v":""},{"$f":"+IF(AF354=\"\",\"\",VLOOKUP(AF354,$AF$4031:$AG$4034,2))","v":""},null,null,null,null,null,null,null,null,null,null,null,null,null,null," "]
[null,null,null,null,null,null,"",null,{"$f":"IF(H355=\"\",\"\",ROUND(H355/SUM(H354:H361),4))","v":""},null,null,null,null,null,null,{"$f":"+IF(O355=\"\",\"\",IF(N354=\"Transporte Marítimo\",VLOOKUP(O355,$O$4030:$P$4035,2),IF(N354=\"Transporte Aéreo\",VLOOKUP(O355,$O$4037:$P$4042,2),IF(N354=\"Transporte Aéreo\",VLOOKUP(O355,$O$4044:$P$4045,2),\"\"))))","v":""},null,null,null,null,null,null,null,null,null,null,null,null,null,null,null,{"$f":"+IF(AE355=\"20NL\",1,IF(AE355=\"40NL\",2,IF(AE355=\"20RF\",3,IF(AE355=\"40RF\",4,\"\"))))","v":""},""]
[null,null,null,null,null,null,"",null,{"$f":"IF(H356=\"\",\"\",ROUND(H356/SUM(H354:H361),4))","v":""},null,null,null,null,null,null,{"$f":"+IF(O356=\"\",\"\",IF(N354=\"Transporte Marítimo\",VLOOKUP(O356,$O$4030:$P$4035,2),IF(N354=\"Transporte Aéreo\",VLOOKUP(O356,$O$4037:$P$4042,2),IF(N354=\"Transporte Aéreo\",VLOOKUP(O356,$O$4044:$P$4045,2),\"\"))))","v":""},null,null,null,null,null,null,null,null,null,null,null,null,null,null,null,"",""]
[null,null,null,null,null,null,"",null,{"$f":"IF(H357=\"\",\"\",ROUND(H357/SUM(H354:H361),4))","v":""},null,null,null,null,null,null,{"$f":"+IF(O357=\"\",\"\",IF(N354=\"Transporte Marítimo\",VLOOKUP(O357,$O$4030:$P$4035,2),IF(N354=\"Transporte Aéreo\",VLOOKUP(O357,$O$4037:$P$4042,2),IF(N354=\"Transporte Aéreo\",VLOOKUP(O357,$O$4044:$P$4045,2),\"\"))))","v":""},null,null,null,null,null,null,null,null,null,null,null,null,null,null,null,"",""]
[null,null,null,null,null,null,"",null,{"$f":"IF(H358=\"\",\"\",ROUND(H358/SUM(H354:H361),4))","v":""},null,null,null,null,null,null,{"$f":"+IF(O358=\"\",\"\",IF(N354=\"Transporte Marítimo\",VLOOKUP(O358,$O$4030:$P$4035,2),IF(N354=\"Transporte Aéreo\",VLOOKUP(O358,$O$4037:$P$4042,2),IF(N354=\"Transporte Aéreo\",VLOOKUP(O358,$O$4044:$P$4045,2),\"\"))))","v":""},null,null,null,null,null,null,null,null,null,null,null,null,null,null,null,"",""]
[null,null,null,null,null,null,"",null,{"$f":"IF(H359=\"\",\"\",ROUND(H359/SUM(H354:H361),4))","v":""},null,null,null,null,null,null,{"$f":"+IF(O359=\"\",\"\",IF(N354=\"Transporte Marítimo\",VLOOKUP(O359,$O$4030:$P$4035,2),IF(N354=\"Transporte Aéreo\",VLOOKUP(O359,$O$4037:$P$4042,2),IF(N354=\"Transporte Aéreo\",VLOOKUP(O359,$O$4044:$P$4045,2),\"\"))))","v":""},null,null,null,null,null,null,null,null,null,null,null,null,null,null,null,"",""]
[null,null,null,null,null,null,"",null,{"$f":"IF(H360=\"\",\"\",ROUND(H360/SUM(H354:H361),4))","v":""},null,null,null,null,null,null,{"$f":"+IF(O360=\"\",\"\",IF(N354=\"Transporte Marítimo\",VLOOKUP(O360,$O$4030:$P$4035,2),IF(N354=\"Transporte Aéreo\",VLOOKUP(O360,$O$4037:$P$4042,2),IF(N354=\"Transporte Aéreo\",VLOOKUP(O360,$O$4044:$P$4045,2),\"\"))))","v":""},null,null,null,null,null,null,null,null,null,null,null,null,null,null,null,"",""]
[null,null,null,null,null,null,"",null,{"$f":"IF(H361=\"\",\"\",ROUND(H361/SUM(H354:H361),4))","v":""},null,null,null,null,null,null,{"$f":"+IF(O361=\"\",\"\",IF(N354=\"Transporte Marítimo\",VLOOKUP(O361,$O$4030:$P$4035,2),IF(N354=\"Transporte Aéreo\",VLOOKUP(O361,$O$4037:$P$4042,2),IF(N354=\"Transporte Aéreo\",VLOOKUP(O361,$O$4044:$P$4045,2),\"\"))))","v":""},null,null,null,null,null,null,null,null,null,null,null,null,null,null,null,"",""]
[null,{"$f":"+B354+1","v":44},null,null,null,null,{"$f":"+IF(F362=\"\",\"\",VLOOKUP(F362,$F$4031:$G$4120,2))","v":""},null,{"$f":"IF(H362=\"\",\"\",1-SUM(I363:I369))","v":""},null,null,null,null,null,null,{"$f":"+IF(O362=\"\",\"\",IF(N362=\"Transporte Marítimo\",VLOOKUP(O362,$O$4030:$P$4035,2),IF(N362=\"Transporte Aéreo\",VLOOKUP(O362,$O$4037:$P$4042,2),IF(N362=\"CTT\",VLOOKUP(O362,$O$4044:$P$4045,2),\"\"))))","v":""},null,null,null,null,null,null,null,null,null,null,null,null,null,null,null,{"$f":"+IF(AE362=\"20NL\",1,IF(AE362=\"40NL\",2,IF(AE362=\"20RF\",3,IF(AE362=\"40RF\",4,\"\"))))","v":""},{"$f":"+IF(AF362=\"\",\"\",VLOOKUP(AF362,$AF$4031:$AG$4034,2))","v":""},null,null,null,null,null,null,null,null,null,null,null,null,null,null," "]
[null,null,null,null,null,null,"",null,{"$f":"IF(H363=\"\",\"\",ROUND(H363/SUM(H362:H369),4))","v":""},null,null,null,null,null,null,{"$f":"+IF(O363=\"\",\"\",IF(N362=\"Transporte Marítimo\",VLOOKUP(O363,$O$4030:$P$4035,2),IF(N362=\"Transporte Aéreo\",VLOOKUP(O363,$O$4037:$P$4042,2),IF(N362=\"Transporte Aéreo\",VLOOKUP(O363,$O$4044:$P$4045,2),\"\"))))","v":""},null,null,null,null,null,null,null,null,null,null,null,null,null,null,null,{"$f":"+IF(AE363=\"20NL\",1,IF(AE363=\"40NL\",2,IF(AE363=\"20RF\",3,IF(AE363=\"40RF\",4,\"\"))))","v":""},""]
[null,null,null,null,null,null,"",null,{"$f":"IF(H364=\"\",\"\",ROUND(H364/SUM(H362:H369),4))","v":""},null,null,null,null,null,null,{"$f":"+IF(O364=\"\",\"\",IF(N362=\"Transporte Marítimo\",VLOOKUP(O364,$O$4030:$P$4035,2),IF(N362=\"Transporte Aéreo\",VLOOKUP(O364,$O$4037:$P$4042,2),IF(N362=\"Transporte Aéreo\",VLOOKUP(O364,$O$4044:$P$4045,2),\"\"))))","v":""},null,null,null,null,null,null,null,null,null,null,null,null,null,null,null,"",""]
[null,null,null,null,null,null,"",null,{"$f":"IF(H365=\"\",\"\",ROUND(H365/SUM(H362:H369),4))","v":""},null,null,null,null,null,null,{"$f":"+IF(O365=\"\",\"\",IF(N362=\"Transporte Marítimo\",VLOOKUP(O365,$O$4030:$P$4035,2),IF(N362=\"Transporte Aéreo\",VLOOKUP(O365,$O$4037:$P$4042,2),IF(N362=\"Transporte Aéreo\",VLOOKUP(O365,$O$4044:$P$4045,2),\"\"))))","v":""},null,null,null,null,null,null,null,null,null,null,null,null,null,null,null,"",""]
[null,null,null,null,null,null,"",null,{"$f":"IF(H366=\"\",\"\",ROUND(H366/SUM(H362:H369),4))","v":""},null,null,null,null,null,null,{"$f":"+IF(O366=\"\",\"\",IF(N362=\"Transporte Marítimo\",VLOOKUP(O366,$O$4030:$P$4035,2),IF(N362=\"Transporte Aéreo\",VLOOKUP(O366,$O$4037:$P$4042,2),IF(N362=\"Transporte Aéreo\",VLOOKUP(O366,$O$4044:$P$4045,2),\"\"))))","v":""},null,null,null,null,null,null,null,null,null,null,null,null,null,null,null,"",""]
[null,null,null,null,null,null,"",null,{"$f":"IF(H367=\"\",\"\",ROUND(H367/SUM(H362:H369),4))","v":""},null,null,null,null,null,null,{"$f":"+IF(O367=\"\",\"\",IF(N362=\"Transporte Marítimo\",VLOOKUP(O367,$O$4030:$P$4035,2),IF(N362=\"Transporte Aéreo\",VLOOKUP(O367,$O$4037:$P$4042,2),IF(N362=\"Transporte Aéreo\",VLOOKUP(O367,$O$4044:$P$4045,2),\"\"))))","v":""},null,null,null,null,null,null,null,null,null,null,null,null,null,null,null,"",""]
[null,null,null,null,null,null,"",null,{"$f":"IF(H368=\"\",\"\",ROUND(H368/SUM(H362:H369),4))","v":""},null,null,null,null,null,null,{"$f":"+IF(O368=\"\",\"\",IF(N362=\"Transporte Marítimo\",VLOOKUP(O368,$O$4030:$P$4035,2),IF(N362=\"Transporte Aéreo\",VLOOKUP(O368,$O$4037:$P$4042,2),IF(N362=\"Transporte Aéreo\",VLOOKUP(O368,$O$4044:$P$4045,2),\"\"))))","v":""},null,null,null,null,null,null,null,null,null,null,null,null,null,null,null,"",""]
[null,null,null,null,null,null,"",null,{"$f":"IF(H369=\"\",\"\",ROUND(H369/SUM(H362:H369),4))","v":""},null,null,null,null,null,null,{"$f":"+IF(O369=\"\",\"\",IF(N362=\"Transporte Marítimo\",VLOOKUP(O369,$O$4030:$P$4035,2),IF(N362=\"Transporte Aéreo\",VLOOKUP(O369,$O$4037:$P$4042,2),IF(N362=\"Transporte Aéreo\",VLOOKUP(O369,$O$4044:$P$4045,2),\"\"))))","v":""},null,null,null,null,null,null,null,null,null,null,null,null,null,null,null,"",""]
[null,{"$f":"+B362+1","v":45},null,null,null,null,{"$f":"+IF(F370=\"\",\"\",VLOOKUP(F370,$F$4031:$G$4120,2))","v":""},null,{"$f":"IF(H370=\"\",\"\",1-SUM(I371:I377))","v":""},null,null,null,null,null,null,{"$f":"+IF(O370=\"\",\"\",IF(N370=\"Transporte Marítimo\",VLOOKUP(O370,$O$4030:$P$4035,2),IF(N370=\"Transporte Aéreo\",VLOOKUP(O370,$O$4037:$P$4042,2),IF(N370=\"CTT\",VLOOKUP(O370,$O$4044:$P$4045,2),\"\"))))","v":""},null,null,null,null,null,null,null,null,null,null,null,null,null,null,null,{"$f":"+IF(AE370=\"20NL\",1,IF(AE370=\"40NL\",2,IF(AE370=\"20RF\",3,IF(AE370=\"40RF\",4,\"\"))))","v":""},{"$f":"+IF(AF370=\"\",\"\",VLOOKUP(AF370,$AF$4031:$AG$4034,2))","v":""},null,null,null,null,null,null,null,null,null,null,null,null,null,null," "]
[null,null,null,null,null,null,"",null,{"$f":"IF(H371=\"\",\"\",ROUND(H371/SUM(H370:H377),4))","v":""},null,null,null,null,null,null,{"$f":"+IF(O371=\"\",\"\",IF(N370=\"Transporte Marítimo\",VLOOKUP(O371,$O$4030:$P$4035,2),IF(N370=\"Transporte Aéreo\",VLOOKUP(O371,$O$4037:$P$4042,2),IF(N370=\"Transporte Aéreo\",VLOOKUP(O371,$O$4044:$P$4045,2),\"\"))))","v":""},null,null,null,null,null,null,null,null,null,null,null,null,null,null,null,{"$f":"+IF(AE371=\"20NL\",1,IF(AE371=\"40NL\",2,IF(AE371=\"20RF\",3,IF(AE371=\"40RF\",4,\"\"))))","v":""},""]
[null,null,null,null,null,null,"",null,{"$f":"IF(H372=\"\",\"\",ROUND(H372/SUM(H370:H377),4))","v":""},null,null,null,null,null,null,{"$f":"+IF(O372=\"\",\"\",IF(N370=\"Transporte Marítimo\",VLOOKUP(O372,$O$4030:$P$4035,2),IF(N370=\"Transporte Aéreo\",VLOOKUP(O372,$O$4037:$P$4042,2),IF(N370=\"Transporte Aéreo\",VLOOKUP(O372,$O$4044:$P$4045,2),\"\"))))","v":""},null,null,null,null,null,null,null,null,null,null,null,null,null,null,null,"",""]
[null,null,null,null,null,null,"",null,{"$f":"IF(H373=\"\",\"\",ROUND(H373/SUM(H370:H377),4))","v":""},null,null,null,null,null,null,{"$f":"+IF(O373=\"\",\"\",IF(N370=\"Transporte Marítimo\",VLOOKUP(O373,$O$4030:$P$4035,2),IF(N370=\"Transporte Aéreo\",VLOOKUP(O373,$O$4037:$P$4042,2),IF(N370=\"Transporte Aéreo\",VLOOKUP(O373,$O$4044:$P$4045,2),\"\"))))","v":""},null,null,null,null,null,null,null,null,null,null,null,null,null,null,null,"",""]
[null,null,null,null,null,null,"",null,{"$f":"IF(H374=\"\",\"\",ROUND(H374/SUM(H370:H377),4))","v":""},null,null,null,null,null,null,{"$f":"+IF(O374=\"\",\"\",IF(N370=\"Transporte Marítimo\",VLOOKUP(O374,$O$4030:$P$4035,2),IF(N370=\"Transporte Aéreo\",VLOOKUP(O374,$O$4037:$P$4042,2),IF(N370=\"Transporte Aéreo\",VLOOKUP(O374,$O$4044:$P$4045,2),\"\"))))","v":""},null,null,null,null,null,null,null,null,null,null,null,null,null,null,null,"",""]
[null,null,null,null,null,null,"",null,{"$f":"IF(H375=\"\",\"\",ROUND(H375/SUM(H370:H377),4))","v":""},null,null,null,null,null,null,{"$f":"+IF(O375=\"\",\"\",IF(N370=\"Transporte Marítimo\",VLOOKUP(O375,$O$4030:$P$4035,2),IF(N370=\"Transporte Aéreo\",VLOOKUP(O375,$O$4037:$P$4042,2),IF(N370=\"Transporte Aéreo\",VLOOKUP(O375,$O$4044:$P$4045,2),\"\"))))","v":""},null,null,null,null,null,null,null,null,null,null,null,null,null,null,null,"",""]
[null,null,null,null,null,null,"",null,{"$f":"IF(H376=\"\",\"\",ROUND(H376/SUM(H370:H377),4))","v":""},null,null,null,null,null,null,{"$f":"+IF(O376=\"\",\"\",IF(N370=\"Transporte Marítimo\",VLOOKUP(O376,$O$4030:$P$4035,2),IF(N370=\"Transporte Aéreo\",VLOOKUP(O376,$O$4037:$P$4042,2),IF(N370=\"Transporte Aéreo\",VLOOKUP(O376,$O$4044:$P$4045,2),\"\"))))","v":""},null,null,null,null,null,null,null,null,null,null,null,null,null,null,null,"",""]
[null,null,null,null,null,null,"",null,{"$f":"IF(H377=\"\",\"\",ROUND(H377/SUM(H370:H377),4))","v":""},null,null,null,null,null,null,{"$f":"+IF(O377=\"\",\"\",IF(N370=\"Transporte Marítimo\",VLOOKUP(O377,$O$4030:$P$4035,2),IF(N370=\"Transporte Aéreo\",VLOOKUP(O377,$O$4037:$P$4042,2),IF(N370=\"Transporte Aéreo\",VLOOKUP(O377,$O$4044:$P$4045,2),\"\"))))","v":""},null,null,null,null,null,null,null,null,null,null,null,null,null,null,null,"",""]
[null,{"$f":"+B370+1","v":46},null,null,null,null,{"$f":"+IF(F378=\"\",\"\",VLOOKUP(F378,$F$4031:$G$4120,2))","v":""},null,{"$f":"IF(H378=\"\",\"\",1-SUM(I379:I385))","v":""},null,null,null,null,null,null,{"$f":"+IF(O378=\"\",\"\",IF(N378=\"Transporte Marítimo\",VLOOKUP(O378,$O$4030:$P$4035,2),IF(N378=\"Transporte Aéreo\",VLOOKUP(O378,$O$4037:$P$4042,2),IF(N378=\"CTT\",VLOOKUP(O378,$O$4044:$P$4045,2),\"\"))))","v":""},null,null,null,null,null,null,null,null,null,null,null,null,null,null,null,{"$f":"+IF(AE378=\"20NL\",1,IF(AE378=\"40NL\",2,IF(AE378=\"20RF\",3,IF(AE378=\"40RF\",4,\"\"))))","v":""},{"$f":"+IF(AF378=\"\",\"\",VLOOKUP(AF378,$AF$4031:$AG$4034,2))","v":""},null,null,null,null,null,null,null,null,null,null,null,null,null,null," "]
[null,null,null,null,null,null,"",null,{"$f":"IF(H379=\"\",\"\",ROUND(H379/SUM(H378:H385),4))","v":""},null,null,null,null,null,null,{"$f":"+IF(O379=\"\",\"\",IF(N378=\"Transporte Marítimo\",VLOOKUP(O379,$O$4030:$P$4035,2),IF(N378=\"Transporte Aéreo\",VLOOKUP(O379,$O$4037:$P$4042,2),IF(N378=\"Transporte Aéreo\",VLOOKUP(O379,$O$4044:$P$4045,2),\"\"))))","v":""},null,null,null,null,null,null,null,null,null,null,null,null,null,null,null,{"$f":"+IF(AE379=\"20NL\",1,IF(AE379=\"40NL\",2,IF(AE379=\"20RF\",3,IF(AE379=\"40RF\",4,\"\"))))","v":""},""]
[null,null,null,null,null,null,"",null,{"$f":"IF(H380=\"\",\"\",ROUND(H380/SUM(H378:H385),4))","v":""},null,null,null,null,null,null,{"$f":"+IF(O380=\"\",\"\",IF(N378=\"Transporte Marítimo\",VLOOKUP(O380,$O$4030:$P$4035,2),IF(N378=\"Transporte Aéreo\",VLOOKUP(O380,$O$4037:$P$4042,2),IF(N378=\"Transporte Aéreo\",VLOOKUP(O380,$O$4044:$P$4045,2),\"\"))))","v":""},null,null,null,null,null,null,null,null,null,null,null,null,null,null,null,"",""]
[null,null,null,null,null,null,"",null,{"$f":"IF(H381=\"\",\"\",ROUND(H381/SUM(H378:H385),4))","v":""},null,null,null,null,null,null,{"$f":"+IF(O381=\"\",\"\",IF(N378=\"Transporte Marítimo\",VLOOKUP(O381,$O$4030:$P$4035,2),IF(N378=\"Transporte Aéreo\",VLOOKUP(O381,$O$4037:$P$4042,2),IF(N378=\"Transporte Aéreo\",VLOOKUP(O381,$O$4044:$P$4045,2),\"\"))))","v":""},null,null,null,null,null,null,null,null,null,null,null,null,null,null,null,"",""]
[null,null,null,null,null,null,"",null,{"$f":"IF(H382=\"\",\"\",ROUND(H382/SUM(H378:H385),4))","v":""},null,null,null,null,null,null,{"$f":"+IF(O382=\"\",\"\",IF(N378=\"Transporte Marítimo\",VLOOKUP(O382,$O$4030:$P$4035,2),IF(N378=\"Transporte Aéreo\",VLOOKUP(O382,$O$4037:$P$4042,2),IF(N378=\"Transporte Aéreo\",VLOOKUP(O382,$O$4044:$P$4045,2),\"\"))))","v":""},null,null,null,null,null,null,null,null,null,null,null,null,null,null,null,"",""]
[null,null,null,null,null,null,"",null,{"$f":"IF(H383=\"\",\"\",ROUND(H383/SUM(H378:H385),4))","v":""},null,null,null,null,null,null,{"$f":"+IF(O383=\"\",\"\",IF(N378=\"Transporte Marítimo\",VLOOKUP(O383,$O$4030:$P$4035,2),IF(N378=\"Transporte Aéreo\",VLOOKUP(O383,$O$4037:$P$4042,2),IF(N378=\"Transporte Aéreo\",VLOOKUP(O383,$O$4044:$P$4045,2),\"\"))))","v":""},null,null,null,null,null,null,null,null,null,null,null,null,null,null,null,"",""]
[null,null,null,null,null,null,"",null,{"$f":"IF(H384=\"\",\"\",ROUND(H384/SUM(H378:H385),4))","v":""},null,null,null,null,null,null,{"$f":"+IF(O384=\"\",\"\",IF(N378=\"Transporte Marítimo\",VLOOKUP(O384,$O$4030:$P$4035,2),IF(N378=\"Transporte Aéreo\",VLOOKUP(O384,$O$4037:$P$4042,2),IF(N378=\"Transporte Aéreo\",VLOOKUP(O384,$O$4044:$P$4045,2),\"\"))))","v":""},null,null,null,null,null,null,null,null,null,null,null,null,null,null,null,"",""]
[null,null,null,null,null,null,"",null,{"$f":"IF(H385=\"\",\"\",ROUND(H385/SUM(H378:H385),4))","v":""},null,null,null,null,null,null,{"$f":"+IF(O385=\"\",\"\",IF(N378=\"Transporte Marítimo\",VLOOKUP(O385,$O$4030:$P$4035,2),IF(N378=\"Transporte Aéreo\",VLOOKUP(O385,$O$4037:$P$4042,2),IF(N378=\"Transporte Aéreo\",VLOOKUP(O385,$O$4044:$P$4045,2),\"\"))))","v":""},null,null,null,null,null,null,null,null,null,null,null,null,null,null,null,"",""]
[null,{"$f":"+B378+1","v":47},null,null,null,null,{"$f":"+IF(F386=\"\",\"\",VLOOKUP(F386,$F$4031:$G$4120,2))","v":""},null,{"$f":"IF(H386=\"\",\"\",1-SUM(I387:I393))","v":""},null,null,null,null,null,null,{"$f":"+IF(O386=\"\",\"\",IF(N386=\"Transporte Marítimo\",VLOOKUP(O386,$O$4030:$P$4035,2),IF(N386=\"Transporte Aéreo\",VLOOKUP(O386,$O$4037:$P$4042,2),IF(N386=\"CTT\",VLOOKUP(O386,$O$4044:$P$4045,2),\"\"))))","v":""},null,null,null,null,null,null,null,null,null,null,null,null,null,null,null,{"$f":"+IF(AE386=\"20NL\",1,IF(AE386=\"40NL\",2,IF(AE386=\"20RF\",3,IF(AE386=\"40RF\",4,\"\"))))","v":""},{"$f":"+IF(AF386=\"\",\"\",VLOOKUP(AF386,$AF$4031:$AG$4034,2))","v":""},null,null,null,null,null,null,null,null,null,null,null,null,null,null," "]
[null,null,null,null,null,null,"",null,{"$f":"IF(H387=\"\",\"\",ROUND(H387/SUM(H386:H393),4))","v":""},null,null,null,null,null,null,{"$f":"+IF(O387=\"\",\"\",IF(N386=\"Transporte Marítimo\",VLOOKUP(O387,$O$4030:$P$4035,2),IF(N386=\"Transporte Aéreo\",VLOOKUP(O387,$O$4037:$P$4042,2),IF(N386=\"Transporte Aéreo\",VLOOKUP(O387,$O$4044:$P$4045,2),\"\"))))","v":""},null,null,null,null,null,null,null,null,null,null,null,null,null,null,null,{"$f":"+IF(AE387=\"20NL\",1,IF(AE387=\"40NL\",2,IF(AE387=\"20RF\",3,IF(AE387=\"40RF\",4,\"\"))))","v":""},""]
[null,null,null,null,null,null,"",null,{"$f":"IF(H388=\"\",\"\",ROUND(H388/SUM(H386:H393),4))","v":""},null,null,null,null,null,null,{"$f":"+IF(O388=\"\",\"\",IF(N386=\"Transporte Marítimo\",VLOOKUP(O388,$O$4030:$P$4035,2),IF(N386=\"Transporte Aéreo\",VLOOKUP(O388,$O$4037:$P$4042,2),IF(N386=\"Transporte Aéreo\",VLOOKUP(O388,$O$4044:$P$4045,2),\"\"))))","v":""},null,null,null,null,null,null,null,null,null,null,null,null,null,null,null,"",""]
[null,null,null,null,null,null,"",null,{"$f":"IF(H389=\"\",\"\",ROUND(H389/SUM(H386:H393),4))","v":""},null,null,null,null,null,null,{"$f":"+IF(O389=\"\",\"\",IF(N386=\"Transporte Marítimo\",VLOOKUP(O389,$O$4030:$P$4035,2),IF(N386=\"Transporte Aéreo\",VLOOKUP(O389,$O$4037:$P$4042,2),IF(N386=\"Transporte Aéreo\",VLOOKUP(O389,$O$4044:$P$4045,2),\"\"))))","v":""},null,null,null,null,null,null,null,null,null,null,null,null,null,null,null,"",""]
[null,null,null,null,null,null,"",null,{"$f":"IF(H390=\"\",\"\",ROUND(H390/SUM(H386:H393),4))","v":""},null,null,null,null,null,null,{"$f":"+IF(O390=\"\",\"\",IF(N386=\"Transporte Marítimo\",VLOOKUP(O390,$O$4030:$P$4035,2),IF(N386=\"Transporte Aéreo\",VLOOKUP(O390,$O$4037:$P$4042,2),IF(N386=\"Transporte Aéreo\",VLOOKUP(O390,$O$4044:$P$4045,2),\"\"))))","v":""},null,null,null,null,null,null,null,null,null,null,null,null,null,null,null,"",""]
[null,null,null,null,null,null,"",null,{"$f":"IF(H391=\"\",\"\",ROUND(H391/SUM(H386:H393),4))","v":""},null,null,null,null,null,null,{"$f":"+IF(O391=\"\",\"\",IF(N386=\"Transporte Marítimo\",VLOOKUP(O391,$O$4030:$P$4035,2),IF(N386=\"Transporte Aéreo\",VLOOKUP(O391,$O$4037:$P$4042,2),IF(N386=\"Transporte Aéreo\",VLOOKUP(O391,$O$4044:$P$4045,2),\"\"))))","v":""},null,null,null,null,null,null,null,null,null,null,null,null,null,null,null,"",""]
[null,null,null,null,null,null,"",null,{"$f":"IF(H392=\"\",\"\",ROUND(H392/SUM(H386:H393),4))","v":""},null,null,null,null,null,null,{"$f":"+IF(O392=\"\",\"\",IF(N386=\"Transporte Marítimo\",VLOOKUP(O392,$O$4030:$P$4035,2),IF(N386=\"Transporte Aéreo\",VLOOKUP(O392,$O$4037:$P$4042,2),IF(N386=\"Transporte Aéreo\",VLOOKUP(O392,$O$4044:$P$4045,2),\"\"))))","v":""},null,null,null,null,null,null,null,null,null,null,null,null,null,null,null,"",""]
[null,null,null,null,null,null,"",null,{"$f":"IF(H393=\"\",\"\",ROUND(H393/SUM(H386:H393),4))","v":""},null,null,null,null,null,null,{"$f":"+IF(O393=\"\",\"\",IF(N386=\"Transporte Marítimo\",VLOOKUP(O393,$O$4030:$P$4035,2),IF(N386=\"Transporte Aéreo\",VLOOKUP(O393,$O$4037:$P$4042,2),IF(N386=\"Transporte Aéreo\",VLOOKUP(O393,$O$4044:$P$4045,2),\"\"))))","v":""},null,null,null,null,null,null,null,null,null,null,null,null,null,null,null,"",""]
[null,{"$f":"+B386+1","v":48},null,null,null,null,{"$f":"+IF(F394=\"\",\"\",VLOOKUP(F394,$F$4031:$G$4120,2))","v":""},null,{"$f":"IF(H394=\"\",\"\",1-SUM(I395:I401))","v":""},null,null,null,null,null,null,{"$f":"+IF(O394=\"\",\"\",IF(N394=\"Transporte Marítimo\",VLOOKUP(O394,$O$4030:$P$4035,2),IF(N394=\"Transporte Aéreo\",VLOOKUP(O394,$O$4037:$P$4042,2),IF(N394=\"CTT\",VLOOKUP(O394,$O$4044:$P$4045,2),\"\"))))","v":""},null,null,null,null,null,null,null,null,null,null,null,null,null,null,null,{"$f":"+IF(AE394=\"20NL\",1,IF(AE394=\"40NL\",2,IF(AE394=\"20RF\",3,IF(AE394=\"40RF\",4,\"\"))))","v":""},{"$f":"+IF(AF394=\"\",\"\",VLOOKUP(AF394,$AF$4031:$AG$4034,2))","v":""},null,null,null,null,null,null,null,null,null,null,null,null,null,null," "]
[null,null,null,null,null,null,"",null,{"$f":"IF(H395=\"\",\"\",ROUND(H395/SUM(H394:H401),4))","v":""},null,null,null,null,null,null,{"$f":"+IF(O395=\"\",\"\",IF(N394=\"Transporte Marítimo\",VLOOKUP(O395,$O$4030:$P$4035,2),IF(N394=\"Transporte Aéreo\",VLOOKUP(O395,$O$4037:$P$4042,2),IF(N394=\"Transporte Aéreo\",VLOOKUP(O395,$O$4044:$P$4045,2),\"\"))))","v":""},null,null,null,null,null,null,null,null,null,null,null,null,null,null,null,{"$f":"+IF(AE395=\"20NL\",1,IF(AE395=\"40NL\",2,IF(AE395=\"20RF\",3,IF(AE395=\"40RF\",4,\"\"))))","v":""},""]
[null,null,null,null,null,null,"",null,{"$f":"IF(H396=\"\",\"\",ROUND(H396/SUM(H394:H401),4))","v":""},null,null,null,null,null,null,{"$f":"+IF(O396=\"\",\"\",IF(N394=\"Transporte Marítimo\",VLOOKUP(O396,$O$4030:$P$4035,2),IF(N394=\"Transporte Aéreo\",VLOOKUP(O396,$O$4037:$P$4042,2),IF(N394=\"Transporte Aéreo\",VLOOKUP(O396,$O$4044:$P$4045,2),\"\"))))","v":""},null,null,null,null,null,null,null,null,null,null,null,null,null,null,null,"",""]
[null,null,null,null,null,null,"",null,{"$f":"IF(H397=\"\",\"\",ROUND(H397/SUM(H394:H401),4))","v":""},null,null,null,null,null,null,{"$f":"+IF(O397=\"\",\"\",IF(N394=\"Transporte Marítimo\",VLOOKUP(O397,$O$4030:$P$4035,2),IF(N394=\"Transporte Aéreo\",VLOOKUP(O397,$O$4037:$P$4042,2),IF(N394=\"Transporte Aéreo\",VLOOKUP(O397,$O$4044:$P$4045,2),\"\"))))","v":""},null,null,null,null,null,null,null,null,null,null,null,null,null,null,null,"",""]
[null,null,null,null,null,null,"",null,{"$f":"IF(H398=\"\",\"\",ROUND(H398/SUM(H394:H401),4))","v":""},null,null,null,null,null,null,{"$f":"+IF(O398=\"\",\"\",IF(N394=\"Transporte Marítimo\",VLOOKUP(O398,$O$4030:$P$4035,2),IF(N394=\"Transporte Aéreo\",VLOOKUP(O398,$O$4037:$P$4042,2),IF(N394=\"Transporte Aéreo\",VLOOKUP(O398,$O$4044:$P$4045,2),\"\"))))","v":""},null,null,null,null,null,null,null,null,null,null,null,null,null,null,null,"",""]
[null,null,null,null,null,null,"",null,{"$f":"IF(H399=\"\",\"\",ROUND(H399/SUM(H394:H401),4))","v":""},null,null,null,null,null,null,{"$f":"+IF(O399=\"\",\"\",IF(N394=\"Transporte Marítimo\",VLOOKUP(O399,$O$4030:$P$4035,2),IF(N394=\"Transporte Aéreo\",VLOOKUP(O399,$O$4037:$P$4042,2),IF(N394=\"Transporte Aéreo\",VLOOKUP(O399,$O$4044:$P$4045,2),\"\"))))","v":""},null,null,null,null,null,null,null,null,null,null,null,null,null,null,null,"",""]
[null,null,null,null,null,null,"",null,{"$f":"IF(H400=\"\",\"\",ROUND(H400/SUM(H394:H401),4))","v":""},null,null,null,null,null,null,{"$f":"+IF(O400=\"\",\"\",IF(N394=\"Transporte Marítimo\",VLOOKUP(O400,$O$4030:$P$4035,2),IF(N394=\"Transporte Aéreo\",VLOOKUP(O400,$O$4037:$P$4042,2),IF(N394=\"Transporte Aéreo\",VLOOKUP(O400,$O$4044:$P$4045,2),\"\"))))","v":""},null,null,null,null,null,null,null,null,null,null,null,null,null,null,null,"",""]
[null,null,null,null,null,null,"",null,{"$f":"IF(H401=\"\",\"\",ROUND(H401/SUM(H394:H401),4))","v":""},null,null,null,null,null,null,{"$f":"+IF(O401=\"\",\"\",IF(N394=\"Transporte Marítimo\",VLOOKUP(O401,$O$4030:$P$4035,2),IF(N394=\"Transporte Aéreo\",VLOOKUP(O401,$O$4037:$P$4042,2),IF(N394=\"Transporte Aéreo\",VLOOKUP(O401,$O$4044:$P$4045,2),\"\"))))","v":""},null,null,null,null,null,null,null,null,null,null,null,null,null,null,null,"",""]
[null,{"$f":"+B394+1","v":49},null,null,null,null,{"$f":"+IF(F402=\"\",\"\",VLOOKUP(F402,$F$4031:$G$4120,2))","v":""},null,{"$f":"IF(H402=\"\",\"\",1-SUM(I403:I409))","v":""},null,null,null,null,null,null,{"$f":"+IF(O402=\"\",\"\",IF(N402=\"Transporte Marítimo\",VLOOKUP(O402,$O$4030:$P$4035,2),IF(N402=\"Transporte Aéreo\",VLOOKUP(O402,$O$4037:$P$4042,2),IF(N402=\"CTT\",VLOOKUP(O402,$O$4044:$P$4045,2),\"\"))))","v":""},null,null,null,null,null,null,null,null,null,null,null,null,null,null,null,{"$f":"+IF(AE402=\"20NL\",1,IF(AE402=\"40NL\",2,IF(AE402=\"20RF\",3,IF(AE402=\"40RF\",4,\"\"))))","v":""},{"$f":"+IF(AF402=\"\",\"\",VLOOKUP(AF402,$AF$4031:$AG$4034,2))","v":""},null,null,null,null,null,null,null,null,null,null,null,null,null,null," "]
[null,null,null,null,null,null,{"$f":"+IF(F403=\"\",\"\",VLOOKUP(F403,$F$4031:$G$4120,2))","v":""},null,{"$f":"IF(H403=\"\",\"\",ROUND(H403/SUM(H402:H409),4))","v":""},null,null,null,null,null,null,{"$f":"+IF(O403=\"\",\"\",IF(N402=\"Transporte Marítimo\",VLOOKUP(O403,$O$4030:$P$4035,2),IF(N402=\"Transporte Aéreo\",VLOOKUP(O403,$O$4037:$P$4042,2),IF(N402=\"Transporte Aéreo\",VLOOKUP(O403,$O$4044:$P$4045,2),\"\"))))","v":""},null,null,null,null,null,null,null,null,null,null,null,null,null,null,null,{"$f":"+IF(AE403=\"20NL\",1,IF(AE403=\"40NL\",2,IF(AE403=\"20RF\",3,IF(AE403=\"40RF\",4,\"\"))))","v":""},{"$f":"+IF(AF403=\"\",\"\",VLOOKUP(AF403,$AF$4031:$AG$4034,2))","v":""}]
[null,null,null,null,null,null,"",null,{"$f":"IF(H404=\"\",\"\",ROUND(H404/SUM(H402:H409),4))","v":""},null,null,null,null,null,null,{"$f":"+IF(O404=\"\",\"\",IF(N402=\"Transporte Marítimo\",VLOOKUP(O404,$O$4030:$P$4035,2),IF(N402=\"Transporte Aéreo\",VLOOKUP(O404,$O$4037:$P$4042,2),IF(N402=\"Transporte Aéreo\",VLOOKUP(O404,$O$4044:$P$4045,2),\"\"))))","v":""},null,null,null,null,null,null,null,null,null,null,null,null,null,null,null,"",""]
[null,null,null,null,null,null,"",null,{"$f":"IF(H405=\"\",\"\",ROUND(H405/SUM(H402:H409),4))","v":""},null,null,null,null,null,null,{"$f":"+IF(O405=\"\",\"\",IF(N402=\"Transporte Marítimo\",VLOOKUP(O405,$O$4030:$P$4035,2),IF(N402=\"Transporte Aéreo\",VLOOKUP(O405,$O$4037:$P$4042,2),IF(N402=\"Transporte Aéreo\",VLOOKUP(O405,$O$4044:$P$4045,2),\"\"))))","v":""},null,null,null,null,null,null,null,null,null,null,null,null,null,null,null,"",""]
[null,null,null,null,null,null,"",null,{"$f":"IF(H406=\"\",\"\",ROUND(H406/SUM(H402:H409),4))","v":""},null,null,null,null,null,null,{"$f":"+IF(O406=\"\",\"\",IF(N402=\"Transporte Marítimo\",VLOOKUP(O406,$O$4030:$P$4035,2),IF(N402=\"Transporte Aéreo\",VLOOKUP(O406,$O$4037:$P$4042,2),IF(N402=\"Transporte Aéreo\",VLOOKUP(O406,$O$4044:$P$4045,2),\"\"))))","v":""},null,null,null,null,null,null,null,null,null,null,null,null,null,null,null,"",""]
[null,null,null,null,null,null,"",null,{"$f":"IF(H407=\"\",\"\",ROUND(H407/SUM(H402:H409),4))","v":""},null,null,null,null,null,null,{"$f":"+IF(O407=\"\",\"\",IF(N402=\"Transporte Marítimo\",VLOOKUP(O407,$O$4030:$P$4035,2),IF(N402=\"Transporte Aéreo\",VLOOKUP(O407,$O$4037:$P$4042,2),IF(N402=\"Transporte Aéreo\",VLOOKUP(O407,$O$4044:$P$4045,2),\"\"))))","v":""},null,null,null,null,null,null,null,null,null,null,null,null,null,null,null,"",""]
[null,null,null,null,null,null,"",null,{"$f":"IF(H408=\"\",\"\",ROUND(H408/SUM(H402:H409),4))","v":""},null,null,null,null,null,null,{"$f":"+IF(O408=\"\",\"\",IF(N402=\"Transporte Marítimo\",VLOOKUP(O408,$O$4030:$P$4035,2),IF(N402=\"Transporte Aéreo\",VLOOKUP(O408,$O$4037:$P$4042,2),IF(N402=\"Transporte Aéreo\",VLOOKUP(O408,$O$4044:$P$4045,2),\"\"))))","v":""},null,null,null,null,null,null,null,null,null,null,null,null,null,null,null,"",""]
[null,null,null,null,null,null,"",null,{"$f":"IF(H409=\"\",\"\",ROUND(H409/SUM(H402:H409),4))","v":""},null,null,null,null,null,null,{"$f":"+IF(O409=\"\",\"\",IF(N402=\"Transporte Marítimo\",VLOOKUP(O409,$O$4030:$P$4035,2),IF(N402=\"Transporte Aéreo\",VLOOKUP(O409,$O$4037:$P$4042,2),IF(N402=\"Transporte Aéreo\",VLOOKUP(O409,$O$4044:$P$4045,2),\"\"))))","v":""},null,null,null,null,null,null,null,null,null,null,null,null,null,null,null,"",""]
[null,{"$f":"+B402+1","v":50},null,null,null,null,{"$f":"+IF(F410=\"\",\"\",VLOOKUP(F410,$F$4031:$G$4120,2))","v":""},null,{"$f":"IF(H410=\"\",\"\",1-SUM(I411:I417))","v":""},null,null,null,null,null,null,{"$f":"+IF(O410=\"\",\"\",IF(N410=\"Transporte Marítimo\",VLOOKUP(O410,$O$4030:$P$4035,2),IF(N410=\"Transporte Aéreo\",VLOOKUP(O410,$O$4037:$P$4042,2),IF(N410=\"CTT\",VLOOKUP(O410,$O$4044:$P$4045,2),\"\"))))","v":""},null,null,null,null,null,null,null,null,null,null,null,null,null,null,null,{"$f":"+IF(AE410=\"20NL\",1,IF(AE410=\"40NL\",2,IF(AE410=\"20RF\",3,IF(AE410=\"40RF\",4,\"\"))))","v":""},{"$f":"+IF(AF410=\"\",\"\",VLOOKUP(AF410,$AF$4031:$AG$4034,2))","v":""},null,null,null,null,null,null,null,null,null,null,null,null,null,null," "]
[null,null,null,null,null,null,"",null,{"$f":"IF(H411=\"\",\"\",ROUND(H411/SUM(H410:H417),4))","v":""},null,null,null,null,null,null,{"$f":"+IF(O411=\"\",\"\",IF(N410=\"Transporte Marítimo\",VLOOKUP(O411,$O$4030:$P$4035,2),IF(N410=\"Transporte Aéreo\",VLOOKUP(O411,$O$4037:$P$4042,2),IF(N410=\"Transporte Aéreo\",VLOOKUP(O411,$O$4044:$P$4045,2),\"\"))))","v":""},null,null,null,null,null,null,null,null,null,null,null,null,null,null,null,{"$f":"+IF(AE411=\"20NL\",1,IF(AE411=\"40NL\",2,IF(AE411=\"20RF\",3,IF(AE411=\"40RF\",4,\"\"))))","v":""},{"$f":"+IF(AF411=\"\",\"\",VLOOKUP(AF411,$AF$4031:$AG$4034,2))","v":""}]
[null,null,null,null,null,null,"",null,{"$f":"IF(H412=\"\",\"\",ROUND(H412/SUM(H410:H417),4))","v":""},null,null,null,null,null,null,{"$f":"+IF(O412=\"\",\"\",IF(N410=\"Transporte Marítimo\",VLOOKUP(O412,$O$4030:$P$4035,2),IF(N410=\"Transporte Aéreo\",VLOOKUP(O412,$O$4037:$P$4042,2),IF(N410=\"Transporte Aéreo\",VLOOKUP(O412,$O$4044:$P$4045,2),\"\"))))","v":""},null,null,null,null,null,null,null,null,null,null,null,null,null,null,null,"",""]
[null,null,null,null,null,null,"",null,{"$f":"IF(H413=\"\",\"\",ROUND(H413/SUM(H410:H417),4))","v":""},null,null,null,null,null,null,{"$f":"+IF(O413=\"\",\"\",IF(N410=\"Transporte Marítimo\",VLOOKUP(O413,$O$4030:$P$4035,2),IF(N410=\"Transporte Aéreo\",VLOOKUP(O413,$O$4037:$P$4042,2),IF(N410=\"Transporte Aéreo\",VLOOKUP(O413,$O$4044:$P$4045,2),\"\"))))","v":""},null,null,null,null,null,null,null,null,null,null,null,null,null,null,null,"",""]
[null,null,null,null,null,null,"",null,{"$f":"IF(H414=\"\",\"\",ROUND(H414/SUM(H410:H417),4))","v":""},null,null,null,null,null,null,{"$f":"+IF(O414=\"\",\"\",IF(N410=\"Transporte Marítimo\",VLOOKUP(O414,$O$4030:$P$4035,2),IF(N410=\"Transporte Aéreo\",VLOOKUP(O414,$O$4037:$P$4042,2),IF(N410=\"Transporte Aéreo\",VLOOKUP(O414,$O$4044:$P$4045,2),\"\"))))","v":""},null,null,null,null,null,null,null,null,null,null,null,null,null,null,null,"",""]
[null,null,null,null,null,null,"",null,{"$f":"IF(H415=\"\",\"\",ROUND(H415/SUM(H410:H417),4))","v":""},null,null,null,null,null,null,{"$f":"+IF(O415=\"\",\"\",IF(N410=\"Transporte Marítimo\",VLOOKUP(O415,$O$4030:$P$4035,2),IF(N410=\"Transporte Aéreo\",VLOOKUP(O415,$O$4037:$P$4042,2),IF(N410=\"Transporte Aéreo\",VLOOKUP(O415,$O$4044:$P$4045,2),\"\"))))","v":""},null,null,null,null,null,null,null,null,null,null,null,null,null,null,null,"",""]
[null,null,null,null,null,null,"",null,{"$f":"IF(H416=\"\",\"\",ROUND(H416/SUM(H410:H417),4))","v":""},null,null,null,null,null,null,{"$f":"+IF(O416=\"\",\"\",IF(N410=\"Transporte Marítimo\",VLOOKUP(O416,$O$4030:$P$4035,2),IF(N410=\"Transporte Aéreo\",VLOOKUP(O416,$O$4037:$P$4042,2),IF(N410=\"Transporte Aéreo\",VLOOKUP(O416,$O$4044:$P$4045,2),\"\"))))","v":""},null,null,null,null,null,null,null,null,null,null,null,null,null,null,null,"",""]
[null,null,null,null,null,null,{"$f":"+IF(F417=\"\",\"\",VLOOKUP(F417,$F$4031:$G$4120,2))","v":""},null,{"$f":"IF(H417=\"\",\"\",ROUND(H417/SUM(H410:H417),4))","v":""},null,null,null,null,null,null,{"$f":"+IF(O417=\"\",\"\",IF(N410=\"Transporte Marítimo\",VLOOKUP(O417,$O$4030:$P$4035,2),IF(N410=\"Transporte Aéreo\",VLOOKUP(O417,$O$4037:$P$4042,2),IF(N410=\"Transporte Aéreo\",VLOOKUP(O417,$O$4044:$P$4045,2),\"\"))))","v":""},null,null,null,null,null,null,null,null,null,null,null,null,null,null,null,"",""]
[null,{"$f":"+B410+1","v":51},null,null,null,null,{"$f":"+IF(F418=\"\",\"\",VLOOKUP(F418,$F$4031:$G$4120,2))","v":""},null,{"$f":"IF(H418=\"\",\"\",1-SUM(I419:I425))","v":""},null,null,null,null,null,null,{"$f":"+IF(O418=\"\",\"\",IF(N418=\"Transporte Marítimo\",VLOOKUP(O418,$O$4030:$P$4035,2),IF(N418=\"Transporte Aéreo\",VLOOKUP(O418,$O$4037:$P$4042,2),IF(N418=\"CTT\",VLOOKUP(O418,$O$4044:$P$4045,2),\"\"))))","v":""},null,null,null,null,null,null,null,null,null,null,null,null,null,null,null,{"$f":"+IF(AE418=\"20NL\",1,IF(AE418=\"40NL\",2,IF(AE418=\"20RF\",3,IF(AE418=\"40RF\",4,\"\"))))","v":""},{"$f":"+IF(AF418=\"\",\"\",VLOOKUP(AF418,$AF$4031:$AG$4034,2))","v":""},null,null,null,null,null,null,null,null,null,null,null,null,null,null," "]
[null,null,null,null,null,null,{"$f":"+IF(F419=\"\",\"\",VLOOKUP(F419,$F$4031:$G$4120,2))","v":""},null,{"$f":"IF(H419=\"\",\"\",ROUND(H419/SUM(H418:H425),4))","v":""},null,null,null,null,null,null,{"$f":"+IF(O419=\"\",\"\",IF(N418=\"Transporte Marítimo\",VLOOKUP(O419,$O$4030:$P$4035,2),IF(N418=\"Transporte Aéreo\",VLOOKUP(O419,$O$4037:$P$4042,2),IF(N418=\"Transporte Aéreo\",VLOOKUP(O419,$O$4044:$P$4045,2),\"\"))))","v":""},null,null,null,null,null,null,null,null,null,null,null,null,null,null,null,{"$f":"+IF(AE419=\"20NL\",1,IF(AE419=\"40NL\",2,IF(AE419=\"20RF\",3,IF(AE419=\"40RF\",4,\"\"))))","v":""},{"$f":"+IF(AF419=\"\",\"\",VLOOKUP(AF419,$AF$4031:$AG$4034,2))","v":""}]
[null,null,null,null,null,null,"",null,{"$f":"IF(H420=\"\",\"\",ROUND(H420/SUM(H418:H425),4))","v":""},null,null,null,null,null,null,{"$f":"+IF(O420=\"\",\"\",IF(N418=\"Transporte Marítimo\",VLOOKUP(O420,$O$4030:$P$4035,2),IF(N418=\"Transporte Aéreo\",VLOOKUP(O420,$O$4037:$P$4042,2),IF(N418=\"Transporte Aéreo\",VLOOKUP(O420,$O$4044:$P$4045,2),\"\"))))","v":""},null,null,null,null,null,null,null,null,null,null,null,null,null,null,null,"",""]
[null,null,null,null,null,null,"",null,{"$f":"IF(H421=\"\",\"\",ROUND(H421/SUM(H418:H425),4))","v":""},null,null,null,null,null,null,{"$f":"+IF(O421=\"\",\"\",IF(N418=\"Transporte Marítimo\",VLOOKUP(O421,$O$4030:$P$4035,2),IF(N418=\"Transporte Aéreo\",VLOOKUP(O421,$O$4037:$P$4042,2),IF(N418=\"Transporte Aéreo\",VLOOKUP(O421,$O$4044:$P$4045,2),\"\"))))","v":""},null,null,null,null,null,null,null,null,null,null,null,null,null,null,null,"",""]
[null,null,null,null,null,null,"",null,{"$f":"IF(H422=\"\",\"\",ROUND(H422/SUM(H418:H425),4))","v":""},null,null,null,null,null,null,{"$f":"+IF(O422=\"\",\"\",IF(N418=\"Transporte Marítimo\",VLOOKUP(O422,$O$4030:$P$4035,2),IF(N418=\"Transporte Aéreo\",VLOOKUP(O422,$O$4037:$P$4042,2),IF(N418=\"Transporte Aéreo\",VLOOKUP(O422,$O$4044:$P$4045,2),\"\"))))","v":""},null,null,null,null,null,null,null,null,null,null,null,null,null,null,null,"",""]
[null,null,null,null,null,null,"",null,{"$f":"IF(H423=\"\",\"\",ROUND(H423/SUM(H418:H425),4))","v":""},null,null,null,null,null,null,{"$f":"+IF(O423=\"\",\"\",IF(N418=\"Transporte Marítimo\",VLOOKUP(O423,$O$4030:$P$4035,2),IF(N418=\"Transporte Aéreo\",VLOOKUP(O423,$O$4037:$P$4042,2),IF(N418=\"Transporte Aéreo\",VLOOKUP(O423,$O$4044:$P$4045,2),\"\"))))","v":""},null,null,null,null,null,null,null,null,null,null,null,null,null,null,null,"",""]
[null,null,null,null,null,null,"",null,{"$f":"IF(H424=\"\",\"\",ROUND(H424/SUM(H418:H425),4))","v":""},null,null,null,null,null,null,{"$f":"+IF(O424=\"\",\"\",IF(N418=\"Transporte Marítimo\",VLOOKUP(O424,$O$4030:$P$4035,2),IF(N418=\"Transporte Aéreo\",VLOOKUP(O424,$O$4037:$P$4042,2),IF(N418=\"Transporte Aéreo\",VLOOKUP(O424,$O$4044:$P$4045,2),\"\"))))","v":""},null,null,null,null,null,null,null,null,null,null,null,null,null,null,null,"",""]
[null,null,null,null,null,null,"",null,{"$f":"IF(H425=\"\",\"\",ROUND(H425/SUM(H418:H425),4))","v":""},null,null,null,null,null,null,{"$f":"+IF(O425=\"\",\"\",IF(N418=\"Transporte Marítimo\",VLOOKUP(O425,$O$4030:$P$4035,2),IF(N418=\"Transporte Aéreo\",VLOOKUP(O425,$O$4037:$P$4042,2),IF(N418=\"Transporte Aéreo\",VLOOKUP(O425,$O$4044:$P$4045,2),\"\"))))","v":""},null,null,null,null,null,null,null,null,null,null,null,null,null,null,null,"",""]
[null,{"$f":"+B418+1","v":52},null,null,null,null,{"$f":"+IF(F426=\"\",\"\",VLOOKUP(F426,$F$4031:$G$4120,2))","v":""},null,{"$f":"IF(H426=\"\",\"\",1-SUM(I427:I433))","v":""},null,null,null,null,null,null,{"$f":"+IF(O426=\"\",\"\",IF(N426=\"Transporte Marítimo\",VLOOKUP(O426,$O$4030:$P$4035,2),IF(N426=\"Transporte Aéreo\",VLOOKUP(O426,$O$4037:$P$4042,2),IF(N426=\"CTT\",VLOOKUP(O426,$O$4044:$P$4045,2),\"\"))))","v":""},null,null,null,null,null,null,null,null,null,null,null,null,null,null,null,{"$f":"+IF(AE426=\"20NL\",1,IF(AE426=\"40NL\",2,IF(AE426=\"20RF\",3,IF(AE426=\"40RF\",4,\"\"))))","v":""},{"$f":"+IF(AF426=\"\",\"\",VLOOKUP(AF426,$AF$4031:$AG$4034,2))","v":""},null,null,null,null,null,null,null,null,null,null,null,null,null,null," "]
[null,null,null,null,null,null,"",null,{"$f":"IF(H427=\"\",\"\",ROUND(H427/SUM(H426:H433),4))","v":""},null,null,null,null,null,null,{"$f":"+IF(O427=\"\",\"\",IF(N426=\"Transporte Marítimo\",VLOOKUP(O427,$O$4030:$P$4035,2),IF(N426=\"Transporte Aéreo\",VLOOKUP(O427,$O$4037:$P$4042,2),IF(N426=\"Transporte Aéreo\",VLOOKUP(O427,$O$4044:$P$4045,2),\"\"))))","v":""},null,null,null,null,null,null,null,null,null,null,null,null,null,null,null,{"$f":"+IF(AE427=\"20NL\",1,IF(AE427=\"40NL\",2,IF(AE427=\"20RF\",3,IF(AE427=\"40RF\",4,\"\"))))","v":""},""]
[null,null,null,null,null,null,"",null,{"$f":"IF(H428=\"\",\"\",ROUND(H428/SUM(H426:H433),4))","v":""},null,null,null,null,null,null,{"$f":"+IF(O428=\"\",\"\",IF(N426=\"Transporte Marítimo\",VLOOKUP(O428,$O$4030:$P$4035,2),IF(N426=\"Transporte Aéreo\",VLOOKUP(O428,$O$4037:$P$4042,2),IF(N426=\"Transporte Aéreo\",VLOOKUP(O428,$O$4044:$P$4045,2),\"\"))))","v":""},null,null,null,null,null,null,null,null,null,null,null,null,null,null,null,"",""]
[null,null,null,null,null,null,"",null,{"$f":"IF(H429=\"\",\"\",ROUND(H429/SUM(H426:H433),4))","v":""},null,null,null,null,null,null,{"$f":"+IF(O429=\"\",\"\",IF(N426=\"Transporte Marítimo\",VLOOKUP(O429,$O$4030:$P$4035,2),IF(N426=\"Transporte Aéreo\",VLOOKUP(O429,$O$4037:$P$4042,2),IF(N426=\"Transporte Aéreo\",VLOOKUP(O429,$O$4044:$P$4045,2),\"\"))))","v":""},null,null,null,null,null,null,null,null,null,null,null,null,null,null,null,"",""]
[null,null,null,null,null,null,"",null,{"$f":"IF(H430=\"\",\"\",ROUND(H430/SUM(H426:H433),4))","v":""},null,null,null,null,null,null,{"$f":"+IF(O430=\"\",\"\",IF(N426=\"Transporte Marítimo\",VLOOKUP(O430,$O$4030:$P$4035,2),IF(N426=\"Transporte Aéreo\",VLOOKUP(O430,$O$4037:$P$4042,2),IF(N426=\"Transporte Aéreo\",VLOOKUP(O430,$O$4044:$P$4045,2),\"\"))))","v":""},null,null,null,null,null,null,null,null,null,null,null,null,null,null,null,"",""]
[null,null,null,null,null,null,"",null,{"$f":"IF(H431=\"\",\"\",ROUND(H431/SUM(H426:H433),4))","v":""},null,null,null,null,null,null,{"$f":"+IF(O431=\"\",\"\",IF(N426=\"Transporte Marítimo\",VLOOKUP(O431,$O$4030:$P$4035,2),IF(N426=\"Transporte Aéreo\",VLOOKUP(O431,$O$4037:$P$4042,2),IF(N426=\"Transporte Aéreo\",VLOOKUP(O431,$O$4044:$P$4045,2),\"\"))))","v":""},null,null,null,null,null,null,null,null,null,null,null,null,null,null,null,"",""]
[null,null,null,null,null,null,"",null,{"$f":"IF(H432=\"\",\"\",ROUND(H432/SUM(H426:H433),4))","v":""},null,null,null,null,null,null,{"$f":"+IF(O432=\"\",\"\",IF(N426=\"Transporte Marítimo\",VLOOKUP(O432,$O$4030:$P$4035,2),IF(N426=\"Transporte Aéreo\",VLOOKUP(O432,$O$4037:$P$4042,2),IF(N426=\"Transporte Aéreo\",VLOOKUP(O432,$O$4044:$P$4045,2),\"\"))))","v":""},null,null,null,null,null,null,null,null,null,null,null,null,null,null,null,"",""]
[null,null,null,null,null,null,"",null,{"$f":"IF(H433=\"\",\"\",ROUND(H433/SUM(H426:H433),4))","v":""},null,null,null,null,null,null,{"$f":"+IF(O433=\"\",\"\",IF(N426=\"Transporte Marítimo\",VLOOKUP(O433,$O$4030:$P$4035,2),IF(N426=\"Transporte Aéreo\",VLOOKUP(O433,$O$4037:$P$4042,2),IF(N426=\"Transporte Aéreo\",VLOOKUP(O433,$O$4044:$P$4045,2),\"\"))))","v":""},null,null,null,null,null,null,null,null,null,null,null,null,null,null,null,"",""]
[null,{"$f":"+B426+1","v":53},null,null,null,null,{"$f":"+IF(F434=\"\",\"\",VLOOKUP(F434,$F$4031:$G$4120,2))","v":""},null,{"$f":"IF(H434=\"\",\"\",1-SUM(I435:I441))","v":""},null,null,null,null,null,null,{"$f":"+IF(O434=\"\",\"\",IF(N434=\"Transporte Marítimo\",VLOOKUP(O434,$O$4030:$P$4035,2),IF(N434=\"Transporte Aéreo\",VLOOKUP(O434,$O$4037:$P$4042,2),IF(N434=\"CTT\",VLOOKUP(O434,$O$4044:$P$4045,2),\"\"))))","v":""},null,null,null,null,null,null,null,null,null,null,null,null,null,null,null,{"$f":"+IF(AE434=\"20NL\",1,IF(AE434=\"40NL\",2,IF(AE434=\"20RF\",3,IF(AE434=\"40RF\",4,\"\"))))","v":""},{"$f":"+IF(AF434=\"\",\"\",VLOOKUP(AF434,$AF$4031:$AG$4034,2))","v":""},null,null,null,null,null,null,null,null,null,null,null,null,null,null," "]
[null,null,null,null,null,null,"",null,{"$f":"IF(H435=\"\",\"\",ROUND(H435/SUM(H434:H441),4))","v":""},null,null,null,null,null,null,{"$f":"+IF(O435=\"\",\"\",IF(N434=\"Transporte Marítimo\",VLOOKUP(O435,$O$4030:$P$4035,2),IF(N434=\"Transporte Aéreo\",VLOOKUP(O435,$O$4037:$P$4042,2),IF(N434=\"Transporte Aéreo\",VLOOKUP(O435,$O$4044:$P$4045,2),\"\"))))","v":""},null,null,null,null,null,null,null,null,null,null,null,null,null,null,null,{"$f":"+IF(AE435=\"20NL\",1,IF(AE435=\"40NL\",2,IF(AE435=\"20RF\",3,IF(AE435=\"40RF\",4,\"\"))))","v":""},""]
[null,null,null,null,null,null,"",null,{"$f":"IF(H436=\"\",\"\",ROUND(H436/SUM(H434:H441),4))","v":""},null,null,null,null,null,null,{"$f":"+IF(O436=\"\",\"\",IF(N434=\"Transporte Marítimo\",VLOOKUP(O436,$O$4030:$P$4035,2),IF(N434=\"Transporte Aéreo\",VLOOKUP(O436,$O$4037:$P$4042,2),IF(N434=\"Transporte Aéreo\",VLOOKUP(O436,$O$4044:$P$4045,2),\"\"))))","v":""},null,null,null,null,null,null,null,null,null,null,null,null,null,null,null,"",""]
[null,null,null,null,null,null,"",null,{"$f":"IF(H437=\"\",\"\",ROUND(H437/SUM(H434:H441),4))","v":""},null,null,null,null,null,null,{"$f":"+IF(O437=\"\",\"\",IF(N434=\"Transporte Marítimo\",VLOOKUP(O437,$O$4030:$P$4035,2),IF(N434=\"Transporte Aéreo\",VLOOKUP(O437,$O$4037:$P$4042,2),IF(N434=\"Transporte Aéreo\",VLOOKUP(O437,$O$4044:$P$4045,2),\"\"))))","v":""},null,null,null,null,null,null,null,null,null,null,null,null,null,null,null,"",""]
[null,null,null,null,null,null,"",null,{"$f":"IF(H438=\"\",\"\",ROUND(H438/SUM(H434:H441),4))","v":""},null,null,null,null,null,null,{"$f":"+IF(O438=\"\",\"\",IF(N434=\"Transporte Marítimo\",VLOOKUP(O438,$O$4030:$P$4035,2),IF(N434=\"Transporte Aéreo\",VLOOKUP(O438,$O$4037:$P$4042,2),IF(N434=\"Transporte Aéreo\",VLOOKUP(O438,$O$4044:$P$4045,2),\"\"))))","v":""},null,null,null,null,null,null,null,null,null,null,null,null,null,null,null,"",""]
[null,null,null,null,null,null,"",null,{"$f":"IF(H439=\"\",\"\",ROUND(H439/SUM(H434:H441),4))","v":""},null,null,null,null,null,null,{"$f":"+IF(O439=\"\",\"\",IF(N434=\"Transporte Marítimo\",VLOOKUP(O439,$O$4030:$P$4035,2),IF(N434=\"Transporte Aéreo\",VLOOKUP(O439,$O$4037:$P$4042,2),IF(N434=\"Transporte Aéreo\",VLOOKUP(O439,$O$4044:$P$4045,2),\"\"))))","v":""},null,null,null,null,null,null,null,null,null,null,null,null,null,null,null,"",""]
[null,null,null,null,null,null,"",null,{"$f":"IF(H440=\"\",\"\",ROUND(H440/SUM(H434:H441),4))","v":""},null,null,null,null,null,null,{"$f":"+IF(O440=\"\",\"\",IF(N434=\"Transporte Marítimo\",VLOOKUP(O440,$O$4030:$P$4035,2),IF(N434=\"Transporte Aéreo\",VLOOKUP(O440,$O$4037:$P$4042,2),IF(N434=\"Transporte Aéreo\",VLOOKUP(O440,$O$4044:$P$4045,2),\"\"))))","v":""},null,null,null,null,null,null,null,null,null,null,null,null,null,null,null,"",""]
[null,null,null,null,null,null,"",null,{"$f":"IF(H441=\"\",\"\",ROUND(H441/SUM(H434:H441),4))","v":""},null,null,null,null,null,null,{"$f":"+IF(O441=\"\",\"\",IF(N434=\"Transporte Marítimo\",VLOOKUP(O441,$O$4030:$P$4035,2),IF(N434=\"Transporte Aéreo\",VLOOKUP(O441,$O$4037:$P$4042,2),IF(N434=\"Transporte Aéreo\",VLOOKUP(O441,$O$4044:$P$4045,2),\"\"))))","v":""},null,null,null,null,null,null,null,null,null,null,null,null,null,null,null,"",""]
[null,{"$f":"+B434+1","v":54},null,null,null,null,{"$f":"+IF(F442=\"\",\"\",VLOOKUP(F442,$F$4031:$G$4120,2))","v":""},null,{"$f":"IF(H442=\"\",\"\",1-SUM(I443:I449))","v":""},null,null,null,null,null,null,{"$f":"+IF(O442=\"\",\"\",IF(N442=\"Transporte Marítimo\",VLOOKUP(O442,$O$4030:$P$4035,2),IF(N442=\"Transporte Aéreo\",VLOOKUP(O442,$O$4037:$P$4042,2),IF(N442=\"CTT\",VLOOKUP(O442,$O$4044:$P$4045,2),\"\"))))","v":""},null,null,null,null,null,null,null,null,null,null,null,null,null,null,null,{"$f":"+IF(AE442=\"20NL\",1,IF(AE442=\"40NL\",2,IF(AE442=\"20RF\",3,IF(AE442=\"40RF\",4,\"\"))))","v":""},{"$f":"+IF(AF442=\"\",\"\",VLOOKUP(AF442,$AF$4031:$AG$4034,2))","v":""},null,null,null,null,null,null,null,null,null,null,null,null,null,null," "]
[null,null,null,null,null,null,"",null,{"$f":"IF(H443=\"\",\"\",ROUND(H443/SUM(H442:H449),4))","v":""},null,null,null,null,null,null,{"$f":"+IF(O443=\"\",\"\",IF(N442=\"Transporte Marítimo\",VLOOKUP(O443,$O$4030:$P$4035,2),IF(N442=\"Transporte Aéreo\",VLOOKUP(O443,$O$4037:$P$4042,2),IF(N442=\"Transporte Aéreo\",VLOOKUP(O443,$O$4044:$P$4045,2),\"\"))))","v":""},null,null,null,null,null,null,null,null,null,null,null,null,null,null,null,{"$f":"+IF(AE443=\"20NL\",1,IF(AE443=\"40NL\",2,IF(AE443=\"20RF\",3,IF(AE443=\"40RF\",4,\"\"))))","v":""},""]
[null,null,null,null,null,null,"",null,{"$f":"IF(H444=\"\",\"\",ROUND(H444/SUM(H442:H449),4))","v":""},null,null,null,null,null,null,{"$f":"+IF(O444=\"\",\"\",IF(N442=\"Transporte Marítimo\",VLOOKUP(O444,$O$4030:$P$4035,2),IF(N442=\"Transporte Aéreo\",VLOOKUP(O444,$O$4037:$P$4042,2),IF(N442=\"Transporte Aéreo\",VLOOKUP(O444,$O$4044:$P$4045,2),\"\"))))","v":""},null,null,null,null,null,null,null,null,null,null,null,null,null,null,null,"",""]
[null,null,null,null,null,null,"",null,{"$f":"IF(H445=\"\",\"\",ROUND(H445/SUM(H442:H449),4))","v":""},null,null,null,null,null,null,{"$f":"+IF(O445=\"\",\"\",IF(N442=\"Transporte Marítimo\",VLOOKUP(O445,$O$4030:$P$4035,2),IF(N442=\"Transporte Aéreo\",VLOOKUP(O445,$O$4037:$P$4042,2),IF(N442=\"Transporte Aéreo\",VLOOKUP(O445,$O$4044:$P$4045,2),\"\"))))","v":""},null,null,null,null,null,null,null,null,null,null,null,null,null,null,null,"",""]
[null,null,null,null,null,null,"",null,{"$f":"IF(H446=\"\",\"\",ROUND(H446/SUM(H442:H449),4))","v":""},null,null,null,null,null,null,{"$f":"+IF(O446=\"\",\"\",IF(N442=\"Transporte Marítimo\",VLOOKUP(O446,$O$4030:$P$4035,2),IF(N442=\"Transporte Aéreo\",VLOOKUP(O446,$O$4037:$P$4042,2),IF(N442=\"Transporte Aéreo\",VLOOKUP(O446,$O$4044:$P$4045,2),\"\"))))","v":""},null,null,null,null,null,null,null,null,null,null,null,null,null,null,null,"",""]
[null,null,null,null,null,null,"",null,{"$f":"IF(H447=\"\",\"\",ROUND(H447/SUM(H442:H449),4))","v":""},null,null,null,null,null,null,{"$f":"+IF(O447=\"\",\"\",IF(N442=\"Transporte Marítimo\",VLOOKUP(O447,$O$4030:$P$4035,2),IF(N442=\"Transporte Aéreo\",VLOOKUP(O447,$O$4037:$P$4042,2),IF(N442=\"Transporte Aéreo\",VLOOKUP(O447,$O$4044:$P$4045,2),\"\"))))","v":""},null,null,null,null,null,null,null,null,null,null,null,null,null,null,null,"",""]
[null,null,null,null,null,null,"",null,{"$f":"IF(H448=\"\",\"\",ROUND(H448/SUM(H442:H449),4))","v":""},null,null,null,null,null,null,{"$f":"+IF(O448=\"\",\"\",IF(N442=\"Transporte Marítimo\",VLOOKUP(O448,$O$4030:$P$4035,2),IF(N442=\"Transporte Aéreo\",VLOOKUP(O448,$O$4037:$P$4042,2),IF(N442=\"Transporte Aéreo\",VLOOKUP(O448,$O$4044:$P$4045,2),\"\"))))","v":""},null,null,null,null,null,null,null,null,null,null,null,null,null,null,null,"",""]
[null,null,null,null,null,null,"",null,{"$f":"IF(H449=\"\",\"\",ROUND(H449/SUM(H442:H449),4))","v":""},null,null,null,null,null,null,{"$f":"+IF(O449=\"\",\"\",IF(N442=\"Transporte Marítimo\",VLOOKUP(O449,$O$4030:$P$4035,2),IF(N442=\"Transporte Aéreo\",VLOOKUP(O449,$O$4037:$P$4042,2),IF(N442=\"Transporte Aéreo\",VLOOKUP(O449,$O$4044:$P$4045,2),\"\"))))","v":""},null,null,null,null,null,null,null,null,null,null,null,null,null,null,null,"",""]
[null,{"$f":"+B442+1","v":55},null,null,null,null,{"$f":"+IF(F450=\"\",\"\",VLOOKUP(F450,$F$4031:$G$4120,2))","v":""},null,{"$f":"IF(H450=\"\",\"\",1-SUM(I451:I457))","v":""},null,null,null,null,null,null,{"$f":"+IF(O450=\"\",\"\",IF(N450=\"Transporte Marítimo\",VLOOKUP(O450,$O$4030:$P$4035,2),IF(N450=\"Transporte Aéreo\",VLOOKUP(O450,$O$4037:$P$4042,2),IF(N450=\"CTT\",VLOOKUP(O450,$O$4044:$P$4045,2),\"\"))))","v":""},null,null,null,null,null,null,null,null,null,null,null,null,null,null,null,{"$f":"+IF(AE450=\"20NL\",1,IF(AE450=\"40NL\",2,IF(AE450=\"20RF\",3,IF(AE450=\"40RF\",4,\"\"))))","v":""},{"$f":"+IF(AF450=\"\",\"\",VLOOKUP(AF450,$AF$4031:$AG$4034,2))","v":""},null,null,null,null,null,null,null,null,null,null,null,null,null,null," "]
[null,null,null,null,null,null,"",null,{"$f":"IF(H451=\"\",\"\",ROUND(H451/SUM(H450:H457),4))","v":""},null,null,null,null,null,null,{"$f":"+IF(O451=\"\",\"\",IF(N450=\"Transporte Marítimo\",VLOOKUP(O451,$O$4030:$P$4035,2),IF(N450=\"Transporte Aéreo\",VLOOKUP(O451,$O$4037:$P$4042,2),IF(N450=\"Transporte Aéreo\",VLOOKUP(O451,$O$4044:$P$4045,2),\"\"))))","v":""},null,null,null,null,null,null,null,null,null,null,null,null,null,null,null,{"$f":"+IF(AE451=\"20NL\",1,IF(AE451=\"40NL\",2,IF(AE451=\"20RF\",3,IF(AE451=\"40RF\",4,\"\"))))","v":""},""]
[null,null,null,null,null,null,"",null,{"$f":"IF(H452=\"\",\"\",ROUND(H452/SUM(H450:H457),4))","v":""},null,null,null,null,null,null,{"$f":"+IF(O452=\"\",\"\",IF(N450=\"Transporte Marítimo\",VLOOKUP(O452,$O$4030:$P$4035,2),IF(N450=\"Transporte Aéreo\",VLOOKUP(O452,$O$4037:$P$4042,2),IF(N450=\"Transporte Aéreo\",VLOOKUP(O452,$O$4044:$P$4045,2),\"\"))))","v":""},null,null,null,null,null,null,null,null,null,null,null,null,null,null,null,"",""]
[null,null,null,null,null,null,"",null,{"$f":"IF(H453=\"\",\"\",ROUND(H453/SUM(H450:H457),4))","v":""},null,null,null,null,null,null,{"$f":"+IF(O453=\"\",\"\",IF(N450=\"Transporte Marítimo\",VLOOKUP(O453,$O$4030:$P$4035,2),IF(N450=\"Transporte Aéreo\",VLOOKUP(O453,$O$4037:$P$4042,2),IF(N450=\"Transporte Aéreo\",VLOOKUP(O453,$O$4044:$P$4045,2),\"\"))))","v":""},null,null,null,null,null,null,null,null,null,null,null,null,null,null,null,"",""]
[null,null,null,null,null,null,"",null,{"$f":"IF(H454=\"\",\"\",ROUND(H454/SUM(H450:H457),4))","v":""},null,null,null,null,null,null,{"$f":"+IF(O454=\"\",\"\",IF(N450=\"Transporte Marítimo\",VLOOKUP(O454,$O$4030:$P$4035,2),IF(N450=\"Transporte Aéreo\",VLOOKUP(O454,$O$4037:$P$4042,2),IF(N450=\"Transporte Aéreo\",VLOOKUP(O454,$O$4044:$P$4045,2),\"\"))))","v":""},null,null,null,null,null,null,null,null,null,null,null,null,null,null,null,"",""]
[null,null,null,null,null,null,"",null,{"$f":"IF(H455=\"\",\"\",ROUND(H455/SUM(H450:H457),4))","v":""},null,null,null,null,null,null,{"$f":"+IF(O455=\"\",\"\",IF(N450=\"Transporte Marítimo\",VLOOKUP(O455,$O$4030:$P$4035,2),IF(N450=\"Transporte Aéreo\",VLOOKUP(O455,$O$4037:$P$4042,2),IF(N450=\"Transporte Aéreo\",VLOOKUP(O455,$O$4044:$P$4045,2),\"\"))))","v":""},null,null,null,null,null,null,null,null,null,null,null,null,null,null,null,"",""]
[null,null,null,null,null,null,"",null,{"$f":"IF(H456=\"\",\"\",ROUND(H456/SUM(H450:H457),4))","v":""},null,null,null,null,null,null,{"$f":"+IF(O456=\"\",\"\",IF(N450=\"Transporte Marítimo\",VLOOKUP(O456,$O$4030:$P$4035,2),IF(N450=\"Transporte Aéreo\",VLOOKUP(O456,$O$4037:$P$4042,2),IF(N450=\"Transporte Aéreo\",VLOOKUP(O456,$O$4044:$P$4045,2),\"\"))))","v":""},null,null,null,null,null,null,null,null,null,null,null,null,null,null,null,"",""]
[null,null,null,null,null,null,"",null,{"$f":"IF(H457=\"\",\"\",ROUND(H457/SUM(H450:H457),4))","v":""},null,null,null,null,null,null,{"$f":"+IF(O457=\"\",\"\",IF(N450=\"Transporte Marítimo\",VLOOKUP(O457,$O$4030:$P$4035,2),IF(N450=\"Transporte Aéreo\",VLOOKUP(O457,$O$4037:$P$4042,2),IF(N450=\"Transporte Aéreo\",VLOOKUP(O457,$O$4044:$P$4045,2),\"\"))))","v":""},null,null,null,null,null,null,null,null,null,null,null,null,null,null,null,"",""]
[null,{"$f":"+B450+1","v":56},null,null,null,null,{"$f":"+IF(F458=\"\",\"\",VLOOKUP(F458,$F$4031:$G$4120,2))","v":""},null,{"$f":"IF(H458=\"\",\"\",1-SUM(I459:I465))","v":""},null,null,null,null,null,null,{"$f":"+IF(O458=\"\",\"\",IF(N458=\"Transporte Marítimo\",VLOOKUP(O458,$O$4030:$P$4035,2),IF(N458=\"Transporte Aéreo\",VLOOKUP(O458,$O$4037:$P$4042,2),IF(N458=\"CTT\",VLOOKUP(O458,$O$4044:$P$4045,2),\"\"))))","v":""},null,null,null,null,null,null,null,null,null,null,null,null,null,null,null,{"$f":"+IF(AE458=\"20NL\",1,IF(AE458=\"40NL\",2,IF(AE458=\"20RF\",3,IF(AE458=\"40RF\",4,\"\"))))","v":""},{"$f":"+IF(AF458=\"\",\"\",VLOOKUP(AF458,$AF$4031:$AG$4034,2))","v":""},null,null,null,null,null,null,null,null,null,null,null,null,null,null," "]
[null,null,null,null,null,null,"",null,{"$f":"IF(H459=\"\",\"\",ROUND(H459/SUM(H458:H465),4))","v":""},null,null,null,null,null,null,{"$f":"+IF(O459=\"\",\"\",IF(N458=\"Transporte Marítimo\",VLOOKUP(O459,$O$4030:$P$4035,2),IF(N458=\"Transporte Aéreo\",VLOOKUP(O459,$O$4037:$P$4042,2),IF(N458=\"Transporte Aéreo\",VLOOKUP(O459,$O$4044:$P$4045,2),\"\"))))","v":""},null,null,null,null,null,null,null,null,null,null,null,null,null,null,null,{"$f":"+IF(AE459=\"20NL\",1,IF(AE459=\"40NL\",2,IF(AE459=\"20RF\",3,IF(AE459=\"40RF\",4,\"\"))))","v":""},""]
[null,null,null,null,null,null,"",null,{"$f":"IF(H460=\"\",\"\",ROUND(H460/SUM(H458:H465),4))","v":""},null,null,null,null,null,null,{"$f":"+IF(O460=\"\",\"\",IF(N458=\"Transporte Marítimo\",VLOOKUP(O460,$O$4030:$P$4035,2),IF(N458=\"Transporte Aéreo\",VLOOKUP(O460,$O$4037:$P$4042,2),IF(N458=\"Transporte Aéreo\",VLOOKUP(O460,$O$4044:$P$4045,2),\"\"))))","v":""},null,null,null,null,null,null,null,null,null,null,null,null,null,null,null,"",""]
[null,null,null,null,null,null,"",null,{"$f":"IF(H461=\"\",\"\",ROUND(H461/SUM(H458:H465),4))","v":""},null,null,null,null,null,null,{"$f":"+IF(O461=\"\",\"\",IF(N458=\"Transporte Marítimo\",VLOOKUP(O461,$O$4030:$P$4035,2),IF(N458=\"Transporte Aéreo\",VLOOKUP(O461,$O$4037:$P$4042,2),IF(N458=\"Transporte Aéreo\",VLOOKUP(O461,$O$4044:$P$4045,2),\"\"))))","v":""},null,null,null,null,null,null,null,null,null,null,null,null,null,null,null,"",""]
[null,null,null,null,null,null,"",null,{"$f":"IF(H462=\"\",\"\",ROUND(H462/SUM(H458:H465),4))","v":""},null,null,null,null,null,null,{"$f":"+IF(O462=\"\",\"\",IF(N458=\"Transporte Marítimo\",VLOOKUP(O462,$O$4030:$P$4035,2),IF(N458=\"Transporte Aéreo\",VLOOKUP(O462,$O$4037:$P$4042,2),IF(N458=\"Transporte Aéreo\",VLOOKUP(O462,$O$4044:$P$4045,2),\"\"))))","v":""},null,null,null,null,null,null,null,null,null,null,null,null,null,null,null,"",""]
[null,null,null,null,null,null,"",null,{"$f":"IF(H463=\"\",\"\",ROUND(H463/SUM(H458:H465),4))","v":""},null,null,null,null,null,null,{"$f":"+IF(O463=\"\",\"\",IF(N458=\"Transporte Marítimo\",VLOOKUP(O463,$O$4030:$P$4035,2),IF(N458=\"Transporte Aéreo\",VLOOKUP(O463,$O$4037:$P$4042,2),IF(N458=\"Transporte Aéreo\",VLOOKUP(O463,$O$4044:$P$4045,2),\"\"))))","v":""},null,null,null,null,null,null,null,null,null,null,null,null,null,null,null,"",""]
[null,null,null,null,null,null,"",null,{"$f":"IF(H464=\"\",\"\",ROUND(H464/SUM(H458:H465),4))","v":""},null,null,null,null,null,null,{"$f":"+IF(O464=\"\",\"\",IF(N458=\"Transporte Marítimo\",VLOOKUP(O464,$O$4030:$P$4035,2),IF(N458=\"Transporte Aéreo\",VLOOKUP(O464,$O$4037:$P$4042,2),IF(N458=\"Transporte Aéreo\",VLOOKUP(O464,$O$4044:$P$4045,2),\"\"))))","v":""},null,null,null,null,null,null,null,null,null,null,null,null,null,null,null,"",""]
[null,null,null,null,null,null,"",null,{"$f":"IF(H465=\"\",\"\",ROUND(H465/SUM(H458:H465),4))","v":""},null,null,null,null,null,null,{"$f":"+IF(O465=\"\",\"\",IF(N458=\"Transporte Marítimo\",VLOOKUP(O465,$O$4030:$P$4035,2),IF(N458=\"Transporte Aéreo\",VLOOKUP(O465,$O$4037:$P$4042,2),IF(N458=\"Transporte Aéreo\",VLOOKUP(O465,$O$4044:$P$4045,2),\"\"))))","v":""},null,null,null,null,null,null,null,null,null,null,null,null,null,null,null,"",""]
[null,{"$f":"+B458+1","v":57},null,null,null,null,{"$f":"+IF(F466=\"\",\"\",VLOOKUP(F466,$F$4031:$G$4120,2))","v":""},null,{"$f":"IF(H466=\"\",\"\",1-SUM(I467:I473))","v":""},null,null,null,null,null,null,{"$f":"+IF(O466=\"\",\"\",IF(N466=\"Transporte Marítimo\",VLOOKUP(O466,$O$4030:$P$4035,2),IF(N466=\"Transporte Aéreo\",VLOOKUP(O466,$O$4037:$P$4042,2),IF(N466=\"CTT\",VLOOKUP(O466,$O$4044:$P$4045,2),\"\"))))","v":""},null,null,null,null,null,null,null,null,null,null,null,null,null,null,null,{"$f":"+IF(AE466=\"20NL\",1,IF(AE466=\"40NL\",2,IF(AE466=\"20RF\",3,IF(AE466=\"40RF\",4,\"\"))))","v":""},{"$f":"+IF(AF466=\"\",\"\",VLOOKUP(AF466,$AF$4031:$AG$4034,2))","v":""},null,null,null,null,null,null,null,null,null,null,null,null,null,null," "]
[null,null,null,null,null,null,"",null,{"$f":"IF(H467=\"\",\"\",ROUND(H467/SUM(H466:H473),4))","v":""},null,null,null,null,null,null,{"$f":"+IF(O467=\"\",\"\",IF(N466=\"Transporte Marítimo\",VLOOKUP(O467,$O$4030:$P$4035,2),IF(N466=\"Transporte Aéreo\",VLOOKUP(O467,$O$4037:$P$4042,2),IF(N466=\"Transporte Aéreo\",VLOOKUP(O467,$O$4044:$P$4045,2),\"\"))))","v":""},null,null,null,null,null,null,null,null,null,null,null,null,null,null,null,{"$f":"+IF(AE467=\"20NL\",1,IF(AE467=\"40NL\",2,IF(AE467=\"20RF\",3,IF(AE467=\"40RF\",4,\"\"))))","v":""},""]
[null,null,null,null,null,null,"",null,{"$f":"IF(H468=\"\",\"\",ROUND(H468/SUM(H466:H473),4))","v":""},null,null,null,null,null,null,{"$f":"+IF(O468=\"\",\"\",IF(N466=\"Transporte Marítimo\",VLOOKUP(O468,$O$4030:$P$4035,2),IF(N466=\"Transporte Aéreo\",VLOOKUP(O468,$O$4037:$P$4042,2),IF(N466=\"Transporte Aéreo\",VLOOKUP(O468,$O$4044:$P$4045,2),\"\"))))","v":""},null,null,null,null,null,null,null,null,null,null,null,null,null,null,null,"",""]
[null,null,null,null,null,null,"",null,{"$f":"IF(H469=\"\",\"\",ROUND(H469/SUM(H466:H473),4))","v":""},null,null,null,null,null,null,{"$f":"+IF(O469=\"\",\"\",IF(N466=\"Transporte Marítimo\",VLOOKUP(O469,$O$4030:$P$4035,2),IF(N466=\"Transporte Aéreo\",VLOOKUP(O469,$O$4037:$P$4042,2),IF(N466=\"Transporte Aéreo\",VLOOKUP(O469,$O$4044:$P$4045,2),\"\"))))","v":""},null,null,null,null,null,null,null,null,null,null,null,null,null,null,null,"",""]
[null,null,null,null,null,null,"",null,{"$f":"IF(H470=\"\",\"\",ROUND(H470/SUM(H466:H473),4))","v":""},null,null,null,null,null,null,{"$f":"+IF(O470=\"\",\"\",IF(N466=\"Transporte Marítimo\",VLOOKUP(O470,$O$4030:$P$4035,2),IF(N466=\"Transporte Aéreo\",VLOOKUP(O470,$O$4037:$P$4042,2),IF(N466=\"Transporte Aéreo\",VLOOKUP(O470,$O$4044:$P$4045,2),\"\"))))","v":""},null,null,null,null,null,null,null,null,null,null,null,null,null,null,null,"",""]
[null,null,null,null,null,null,"",null,{"$f":"IF(H471=\"\",\"\",ROUND(H471/SUM(H466:H473),4))","v":""},null,null,null,null,null,null,{"$f":"+IF(O471=\"\",\"\",IF(N466=\"Transporte Marítimo\",VLOOKUP(O471,$O$4030:$P$4035,2),IF(N466=\"Transporte Aéreo\",VLOOKUP(O471,$O$4037:$P$4042,2),IF(N466=\"Transporte Aéreo\",VLOOKUP(O471,$O$4044:$P$4045,2),\"\"))))","v":""},null,null,null,null,null,null,null,null,null,null,null,null,null,null,null,"",""]
[null,null,null,null,null,null,"",null,{"$f":"IF(H472=\"\",\"\",ROUND(H472/SUM(H466:H473),4))","v":""},null,null,null,null,null,null,{"$f":"+IF(O472=\"\",\"\",IF(N466=\"Transporte Marítimo\",VLOOKUP(O472,$O$4030:$P$4035,2),IF(N466=\"Transporte Aéreo\",VLOOKUP(O472,$O$4037:$P$4042,2),IF(N466=\"Transporte Aéreo\",VLOOKUP(O472,$O$4044:$P$4045,2),\"\"))))","v":""},null,null,null,null,null,null,null,null,null,null,null,null,null,null,null,"",""]
[null,null,null,null,null,null,"",null,{"$f":"IF(H473=\"\",\"\",ROUND(H473/SUM(H466:H473),4))","v":""},null,null,null,null,null,null,{"$f":"+IF(O473=\"\",\"\",IF(N466=\"Transporte Marítimo\",VLOOKUP(O473,$O$4030:$P$4035,2),IF(N466=\"Transporte Aéreo\",VLOOKUP(O473,$O$4037:$P$4042,2),IF(N466=\"Transporte Aéreo\",VLOOKUP(O473,$O$4044:$P$4045,2),\"\"))))","v":""},null,null,null,null,null,null,null,null,null,null,null,null,null,null,null,"",""]
[null,{"$f":"+B466+1","v":58},null,null,null,null,{"$f":"+IF(F474=\"\",\"\",VLOOKUP(F474,$F$4031:$G$4120,2))","v":""},null,{"$f":"IF(H474=\"\",\"\",1-SUM(I475:I481))","v":""},null,null,null,null,null,null,{"$f":"+IF(O474=\"\",\"\",IF(N474=\"Transporte Marítimo\",VLOOKUP(O474,$O$4030:$P$4035,2),IF(N474=\"Transporte Aéreo\",VLOOKUP(O474,$O$4037:$P$4042,2),IF(N474=\"CTT\",VLOOKUP(O474,$O$4044:$P$4045,2),\"\"))))","v":""},null,null,null,null,null,null,null,null,null,null,null,null,null,null,null,{"$f":"+IF(AE474=\"20NL\",1,IF(AE474=\"40NL\",2,IF(AE474=\"20RF\",3,IF(AE474=\"40RF\",4,\"\"))))","v":""},{"$f":"+IF(AF474=\"\",\"\",VLOOKUP(AF474,$AF$4031:$AG$4034,2))","v":""},null,null,null,null,null,null,null,null,null,null,null,null,null,null," "]
[null,null,null,null,null,null,"",null,{"$f":"IF(H475=\"\",\"\",ROUND(H475/SUM(H474:H481),4))","v":""},null,null,null,null,null,null,{"$f":"+IF(O475=\"\",\"\",IF(N474=\"Transporte Marítimo\",VLOOKUP(O475,$O$4030:$P$4035,2),IF(N474=\"Transporte Aéreo\",VLOOKUP(O475,$O$4037:$P$4042,2),IF(N474=\"Transporte Aéreo\",VLOOKUP(O475,$O$4044:$P$4045,2),\"\"))))","v":""},null,null,null,null,null,null,null,null,null,null,null,null,null,null,null,{"$f":"+IF(AE475=\"20NL\",1,IF(AE475=\"40NL\",2,IF(AE475=\"20RF\",3,IF(AE475=\"40RF\",4,\"\"))))","v":""},""]
[null,null,null,null,null,null,"",null,{"$f":"IF(H476=\"\",\"\",ROUND(H476/SUM(H474:H481),4))","v":""},null,null,null,null,null,null,{"$f":"+IF(O476=\"\",\"\",IF(N474=\"Transporte Marítimo\",VLOOKUP(O476,$O$4030:$P$4035,2),IF(N474=\"Transporte Aéreo\",VLOOKUP(O476,$O$4037:$P$4042,2),IF(N474=\"Transporte Aéreo\",VLOOKUP(O476,$O$4044:$P$4045,2),\"\"))))","v":""},null,null,null,null,null,null,null,null,null,null,null,null,null,null,null,"",""]
[null,null,null,null,null,null,"",null,{"$f":"IF(H477=\"\",\"\",ROUND(H477/SUM(H474:H481),4))","v":""},null,null,null,null,null,null,{"$f":"+IF(O477=\"\",\"\",IF(N474=\"Transporte Marítimo\",VLOOKUP(O477,$O$4030:$P$4035,2),IF(N474=\"Transporte Aéreo\",VLOOKUP(O477,$O$4037:$P$4042,2),IF(N474=\"Transporte Aéreo\",VLOOKUP(O477,$O$4044:$P$4045,2),\"\"))))","v":""},null,null,null,null,null,null,null,null,null,null,null,null,null,null,null,"",""]
[null,null,null,null,null,null,"",null,{"$f":"IF(H478=\"\",\"\",ROUND(H478/SUM(H474:H481),4))","v":""},null,null,null,null,null,null,{"$f":"+IF(O478=\"\",\"\",IF(N474=\"Transporte Marítimo\",VLOOKUP(O478,$O$4030:$P$4035,2),IF(N474=\"Transporte Aéreo\",VLOOKUP(O478,$O$4037:$P$4042,2),IF(N474=\"Transporte Aéreo\",VLOOKUP(O478,$O$4044:$P$4045,2),\"\"))))","v":""},null,null,null,null,null,null,null,null,null,null,null,null,null,null,null,"",""]
[null,null,null,null,null,null,"",null,{"$f":"IF(H479=\"\",\"\",ROUND(H479/SUM(H474:H481),4))","v":""},null,null,null,null,null,null,{"$f":"+IF(O479=\"\",\"\",IF(N474=\"Transporte Marítimo\",VLOOKUP(O479,$O$4030:$P$4035,2),IF(N474=\"Transporte Aéreo\",VLOOKUP(O479,$O$4037:$P$4042,2),IF(N474=\"Transporte Aéreo\",VLOOKUP(O479,$O$4044:$P$4045,2),\"\"))))","v":""},null,null,null,null,null,null,null,null,null,null,null,null,null,null,null,"",""]
[null,null,null,null,null,null,"",null,{"$f":"IF(H480=\"\",\"\",ROUND(H480/SUM(H474:H481),4))","v":""},null,null,null,null,null,null,{"$f":"+IF(O480=\"\",\"\",IF(N474=\"Transporte Marítimo\",VLOOKUP(O480,$O$4030:$P$4035,2),IF(N474=\"Transporte Aéreo\",VLOOKUP(O480,$O$4037:$P$4042,2),IF(N474=\"Transporte Aéreo\",VLOOKUP(O480,$O$4044:$P$4045,2),\"\"))))","v":""},null,null,null,null,null,null,null,null,null,null,null,null,null,null,null,"",""]
[null,null,null,null,null,null,"",null,{"$f":"IF(H481=\"\",\"\",ROUND(H481/SUM(H474:H481),4))","v":""},null,null,null,null,null,null,{"$f":"+IF(O481=\"\",\"\",IF(N474=\"Transporte Marítimo\",VLOOKUP(O481,$O$4030:$P$4035,2),IF(N474=\"Transporte Aéreo\",VLOOKUP(O481,$O$4037:$P$4042,2),IF(N474=\"Transporte Aéreo\",VLOOKUP(O481,$O$4044:$P$4045,2),\"\"))))","v":""},null,null,null,null,null,null,null,null,null,null,null,null,null,null,null,"",""]
[null,{"$f":"+B474+1","v":59},null,null,null,null,{"$f":"+IF(F482=\"\",\"\",VLOOKUP(F482,$F$4031:$G$4120,2))","v":""},null,{"$f":"IF(H482=\"\",\"\",1-SUM(I483:I489))","v":""},null,null,null,null,null,null,{"$f":"+IF(O482=\"\",\"\",IF(N482=\"Transporte Marítimo\",VLOOKUP(O482,$O$4030:$P$4035,2),IF(N482=\"Transporte Aéreo\",VLOOKUP(O482,$O$4037:$P$4042,2),IF(N482=\"CTT\",VLOOKUP(O482,$O$4044:$P$4045,2),\"\"))))","v":""},null,null,null,null,null,null,null,null,null,null,null,null,null,null,null,{"$f":"+IF(AE482=\"20NL\",1,IF(AE482=\"40NL\",2,IF(AE482=\"20RF\",3,IF(AE482=\"40RF\",4,\"\"))))","v":""},{"$f":"+IF(AF482=\"\",\"\",VLOOKUP(AF482,$AF$4031:$AG$4034,2))","v":""},null,null,null,null,null,null,null,null,null,null,null,null,null,null," "]
[null,null,null,null,null,null,{"$f":"+IF(F483=\"\",\"\",VLOOKUP(F483,$F$4031:$G$4120,2))","v":""},null,{"$f":"IF(H483=\"\",\"\",ROUND(H483/SUM(H482:H489),4))","v":""},null,null,null,null,null,null,{"$f":"+IF(O483=\"\",\"\",IF(N482=\"Transporte Marítimo\",VLOOKUP(O483,$O$4030:$P$4035,2),IF(N482=\"Transporte Aéreo\",VLOOKUP(O483,$O$4037:$P$4042,2),IF(N482=\"Transporte Aéreo\",VLOOKUP(O483,$O$4044:$P$4045,2),\"\"))))","v":""},null,null,null,null,null,null,null,null,null,null,null,null,null,null,null,{"$f":"+IF(AE483=\"20NL\",1,IF(AE483=\"40NL\",2,IF(AE483=\"20RF\",3,IF(AE483=\"40RF\",4,\"\"))))","v":""},{"$f":"+IF(AF483=\"\",\"\",VLOOKUP(AF483,$AF$4031:$AG$4034,2))","v":""}]
[null,null,null,null,null,null,"",null,{"$f":"IF(H484=\"\",\"\",ROUND(H484/SUM(H482:H489),4))","v":""},null,null,null,null,null,null,{"$f":"+IF(O484=\"\",\"\",IF(N482=\"Transporte Marítimo\",VLOOKUP(O484,$O$4030:$P$4035,2),IF(N482=\"Transporte Aéreo\",VLOOKUP(O484,$O$4037:$P$4042,2),IF(N482=\"Transporte Aéreo\",VLOOKUP(O484,$O$4044:$P$4045,2),\"\"))))","v":""},null,null,null,null,null,null,null,null,null,null,null,null,null,null,null,"",""]
[null,null,null,null,null,null,"",null,{"$f":"IF(H485=\"\",\"\",ROUND(H485/SUM(H482:H489),4))","v":""},null,null,null,null,null,null,{"$f":"+IF(O485=\"\",\"\",IF(N482=\"Transporte Marítimo\",VLOOKUP(O485,$O$4030:$P$4035,2),IF(N482=\"Transporte Aéreo\",VLOOKUP(O485,$O$4037:$P$4042,2),IF(N482=\"Transporte Aéreo\",VLOOKUP(O485,$O$4044:$P$4045,2),\"\"))))","v":""},null,null,null,null,null,null,null,null,null,null,null,null,null,null,null,"",""]
[null,null,null,null,null,null,"",null,{"$f":"IF(H486=\"\",\"\",ROUND(H486/SUM(H482:H489),4))","v":""},null,null,null,null,null,null,{"$f":"+IF(O486=\"\",\"\",IF(N482=\"Transporte Marítimo\",VLOOKUP(O486,$O$4030:$P$4035,2),IF(N482=\"Transporte Aéreo\",VLOOKUP(O486,$O$4037:$P$4042,2),IF(N482=\"Transporte Aéreo\",VLOOKUP(O486,$O$4044:$P$4045,2),\"\"))))","v":""},null,null,null,null,null,null,null,null,null,null,null,null,null,null,null,"",""]
[null,null,null,null,null,null,"",null,{"$f":"IF(H487=\"\",\"\",ROUND(H487/SUM(H482:H489),4))","v":""},null,null,null,null,null,null,{"$f":"+IF(O487=\"\",\"\",IF(N482=\"Transporte Marítimo\",VLOOKUP(O487,$O$4030:$P$4035,2),IF(N482=\"Transporte Aéreo\",VLOOKUP(O487,$O$4037:$P$4042,2),IF(N482=\"Transporte Aéreo\",VLOOKUP(O487,$O$4044:$P$4045,2),\"\"))))","v":""},null,null,null,null,null,null,null,null,null,null,null,null,null,null,null,"",""]
[null,null,null,null,null,null,"",null,{"$f":"IF(H488=\"\",\"\",ROUND(H488/SUM(H482:H489),4))","v":""},null,null,null,null,null,null,{"$f":"+IF(O488=\"\",\"\",IF(N482=\"Transporte Marítimo\",VLOOKUP(O488,$O$4030:$P$4035,2),IF(N482=\"Transporte Aéreo\",VLOOKUP(O488,$O$4037:$P$4042,2),IF(N482=\"Transporte Aéreo\",VLOOKUP(O488,$O$4044:$P$4045,2),\"\"))))","v":""},null,null,null,null,null,null,null,null,null,null,null,null,null,null,null,"",""]
[null,null,null,null,null,null,"",null,{"$f":"IF(H489=\"\",\"\",ROUND(H489/SUM(H482:H489),4))","v":""},null,null,null,null,null,null,{"$f":"+IF(O489=\"\",\"\",IF(N482=\"Transporte Marítimo\",VLOOKUP(O489,$O$4030:$P$4035,2),IF(N482=\"Transporte Aéreo\",VLOOKUP(O489,$O$4037:$P$4042,2),IF(N482=\"Transporte Aéreo\",VLOOKUP(O489,$O$4044:$P$4045,2),\"\"))))","v":""},null,null,null,null,null,null,null,null,null,null,null,null,null,null,null,"",""]
[null,{"$f":"+B482+1","v":60},null,null,null,null,{"$f":"+IF(F490=\"\",\"\",VLOOKUP(F490,$F$4031:$G$4120,2))","v":""},null,{"$f":"IF(H490=\"\",\"\",1-SUM(I491:I497))","v":""},null,null,null,null,null,null,{"$f":"+IF(O490=\"\",\"\",IF(N490=\"Transporte Marítimo\",VLOOKUP(O490,$O$4030:$P$4035,2),IF(N490=\"Transporte Aéreo\",VLOOKUP(O490,$O$4037:$P$4042,2),IF(N490=\"CTT\",VLOOKUP(O490,$O$4044:$P$4045,2),\"\"))))","v":""},null,null,null,null,null,null,null,null,null,null,null,null,null,null,null,{"$f":"+IF(AE490=\"20NL\",1,IF(AE490=\"40NL\",2,IF(AE490=\"20RF\",3,IF(AE490=\"40RF\",4,\"\"))))","v":""},{"$f":"+IF(AF490=\"\",\"\",VLOOKUP(AF490,$AF$4031:$AG$4034,2))","v":""},null,null,null,null,null,null,null,null,null,null,null,null,null,null," "]
[null,null,null,null,null,null,"",null,{"$f":"IF(H491=\"\",\"\",ROUND(H491/SUM(H490:H497),4))","v":""},null,null,null,null,null,null,{"$f":"+IF(O491=\"\",\"\",IF(N490=\"Transporte Marítimo\",VLOOKUP(O491,$O$4030:$P$4035,2),IF(N490=\"Transporte Aéreo\",VLOOKUP(O491,$O$4037:$P$4042,2),IF(N490=\"Transporte Aéreo\",VLOOKUP(O491,$O$4044:$P$4045,2),\"\"))))","v":""},null,null,null,null,null,null,null,null,null,null,null,null,null,null,null,{"$f":"+IF(AE491=\"20NL\",1,IF(AE491=\"40NL\",2,IF(AE491=\"20RF\",3,IF(AE491=\"40RF\",4,\"\"))))","v":""},{"$f":"+IF(AF491=\"\",\"\",VLOOKUP(AF491,$AF$4031:$AG$4034,2))","v":""}]
[null,null,null,null,null,null,"",null,{"$f":"IF(H492=\"\",\"\",ROUND(H492/SUM(H490:H497),4))","v":""},null,null,null,null,null,null,{"$f":"+IF(O492=\"\",\"\",IF(N490=\"Transporte Marítimo\",VLOOKUP(O492,$O$4030:$P$4035,2),IF(N490=\"Transporte Aéreo\",VLOOKUP(O492,$O$4037:$P$4042,2),IF(N490=\"Transporte Aéreo\",VLOOKUP(O492,$O$4044:$P$4045,2),\"\"))))","v":""},null,null,null,null,null,null,null,null,null,null,null,null,null,null,null,"",""]
[null,null,null,null,null,null,"",null,{"$f":"IF(H493=\"\",\"\",ROUND(H493/SUM(H490:H497),4))","v":""},null,null,null,null,null,null,{"$f":"+IF(O493=\"\",\"\",IF(N490=\"Transporte Marítimo\",VLOOKUP(O493,$O$4030:$P$4035,2),IF(N490=\"Transporte Aéreo\",VLOOKUP(O493,$O$4037:$P$4042,2),IF(N490=\"Transporte Aéreo\",VLOOKUP(O493,$O$4044:$P$4045,2),\"\"))))","v":""},null,null,null,null,null,null,null,null,null,null,null,null,null,null,null,"",""]
[null,null,null,null,null,null,"",null,{"$f":"IF(H494=\"\",\"\",ROUND(H494/SUM(H490:H497),4))","v":""},null,null,null,null,null,null,{"$f":"+IF(O494=\"\",\"\",IF(N490=\"Transporte Marítimo\",VLOOKUP(O494,$O$4030:$P$4035,2),IF(N490=\"Transporte Aéreo\",VLOOKUP(O494,$O$4037:$P$4042,2),IF(N490=\"Transporte Aéreo\",VLOOKUP(O494,$O$4044:$P$4045,2),\"\"))))","v":""},null,null,null,null,null,null,null,null,null,null,null,null,null,null,null,"",""]
[null,null,null,null,null,null,"",null,{"$f":"IF(H495=\"\",\"\",ROUND(H495/SUM(H490:H497),4))","v":""},null,null,null,null,null,null,{"$f":"+IF(O495=\"\",\"\",IF(N490=\"Transporte Marítimo\",VLOOKUP(O495,$O$4030:$P$4035,2),IF(N490=\"Transporte Aéreo\",VLOOKUP(O495,$O$4037:$P$4042,2),IF(N490=\"Transporte Aéreo\",VLOOKUP(O495,$O$4044:$P$4045,2),\"\"))))","v":""},null,null,null,null,null,null,null,null,null,null,null,null,null,null,null,"",""]
[null,null,null,null,null,null,"",null,{"$f":"IF(H496=\"\",\"\",ROUND(H496/SUM(H490:H497),4))","v":""},null,null,null,null,null,null,{"$f":"+IF(O496=\"\",\"\",IF(N490=\"Transporte Marítimo\",VLOOKUP(O496,$O$4030:$P$4035,2),IF(N490=\"Transporte Aéreo\",VLOOKUP(O496,$O$4037:$P$4042,2),IF(N490=\"Transporte Aéreo\",VLOOKUP(O496,$O$4044:$P$4045,2),\"\"))))","v":""},null,null,null,null,null,null,null,null,null,null,null,null,null,null,null,"",""]
[null,null,null,null,null,null,{"$f":"+IF(F497=\"\",\"\",VLOOKUP(F497,$F$4031:$G$4120,2))","v":""},null,{"$f":"IF(H497=\"\",\"\",ROUND(H497/SUM(H490:H497),4))","v":""},null,null,null,null,null,null,{"$f":"+IF(O497=\"\",\"\",IF(N490=\"Transporte Marítimo\",VLOOKUP(O497,$O$4030:$P$4035,2),IF(N490=\"Transporte Aéreo\",VLOOKUP(O497,$O$4037:$P$4042,2),IF(N490=\"Transporte Aéreo\",VLOOKUP(O497,$O$4044:$P$4045,2),\"\"))))","v":""},null,null,null,null,null,null,null,null,null,null,null,null,null,null,null,"",""]
[null,{"$f":"+B490+1","v":61},null,null,null,null,{"$f":"+IF(F498=\"\",\"\",VLOOKUP(F498,$F$4031:$G$4120,2))","v":""},null,{"$f":"IF(H498=\"\",\"\",1-SUM(I499:I505))","v":""},null,null,null,null,null,null,{"$f":"+IF(O498=\"\",\"\",IF(N498=\"Transporte Marítimo\",VLOOKUP(O498,$O$4030:$P$4035,2),IF(N498=\"Transporte Aéreo\",VLOOKUP(O498,$O$4037:$P$4042,2),IF(N498=\"CTT\",VLOOKUP(O498,$O$4044:$P$4045,2),\"\"))))","v":""},null,null,null,null,null,null,null,null,null,null,null,null,null,null,null,{"$f":"+IF(AE498=\"20NL\",1,IF(AE498=\"40NL\",2,IF(AE498=\"20RF\",3,IF(AE498=\"40RF\",4,\"\"))))","v":""},{"$f":"+IF(AF498=\"\",\"\",VLOOKUP(AF498,$AF$4031:$AG$4034,2))","v":""},null,null,null,null,null,null,null,null,null,null,null,null,null,null," "]
[null,null,null,null,null,null,{"$f":"+IF(F499=\"\",\"\",VLOOKUP(F499,$F$4031:$G$4120,2))","v":""},null,{"$f":"IF(H499=\"\",\"\",ROUND(H499/SUM(H498:H505),4))","v":""},null,null,null,null,null,null,{"$f":"+IF(O499=\"\",\"\",IF(N498=\"Transporte Marítimo\",VLOOKUP(O499,$O$4030:$P$4035,2),IF(N498=\"Transporte Aéreo\",VLOOKUP(O499,$O$4037:$P$4042,2),IF(N498=\"Transporte Aéreo\",VLOOKUP(O499,$O$4044:$P$4045,2),\"\"))))","v":""},null,null,null,null,null,null,null,null,null,null,null,null,null,null,null,{"$f":"+IF(AE499=\"20NL\",1,IF(AE499=\"40NL\",2,IF(AE499=\"20RF\",3,IF(AE499=\"40RF\",4,\"\"))))","v":""},{"$f":"+IF(AF499=\"\",\"\",VLOOKUP(AF499,$AF$4031:$AG$4034,2))","v":""}]
[null,null,null,null,null,null,"",null,{"$f":"IF(H500=\"\",\"\",ROUND(H500/SUM(H498:H505),4))","v":""},null,null,null,null,null,null,{"$f":"+IF(O500=\"\",\"\",IF(N498=\"Transporte Marítimo\",VLOOKUP(O500,$O$4030:$P$4035,2),IF(N498=\"Transporte Aéreo\",VLOOKUP(O500,$O$4037:$P$4042,2),IF(N498=\"Transporte Aéreo\",VLOOKUP(O500,$O$4044:$P$4045,2),\"\"))))","v":""},null,null,null,null,null,null,null,null,null,null,null,null,null,null,null,"",""]
[null,null,null,null,null,null,"",null,{"$f":"IF(H501=\"\",\"\",ROUND(H501/SUM(H498:H505),4))","v":""},null,null,null,null,null,null,{"$f":"+IF(O501=\"\",\"\",IF(N498=\"Transporte Marítimo\",VLOOKUP(O501,$O$4030:$P$4035,2),IF(N498=\"Transporte Aéreo\",VLOOKUP(O501,$O$4037:$P$4042,2),IF(N498=\"Transporte Aéreo\",VLOOKUP(O501,$O$4044:$P$4045,2),\"\"))))","v":""},null,null,null,null,null,null,null,null,null,null,null,null,null,null,null,"",""]
[null,null,null,null,null,null,"",null,{"$f":"IF(H502=\"\",\"\",ROUND(H502/SUM(H498:H505),4))","v":""},null,null,null,null,null,null,{"$f":"+IF(O502=\"\",\"\",IF(N498=\"Transporte Marítimo\",VLOOKUP(O502,$O$4030:$P$4035,2),IF(N498=\"Transporte Aéreo\",VLOOKUP(O502,$O$4037:$P$4042,2),IF(N498=\"Transporte Aéreo\",VLOOKUP(O502,$O$4044:$P$4045,2),\"\"))))","v":""},null,null,null,null,null,null,null,null,null,null,null,null,null,null,null,"",""]
[null,null,null,null,null,null,"",null,{"$f":"IF(H503=\"\",\"\",ROUND(H503/SUM(H498:H505),4))","v":""},null,null,null,null,null,null,{"$f":"+IF(O503=\"\",\"\",IF(N498=\"Transporte Marítimo\",VLOOKUP(O503,$O$4030:$P$4035,2),IF(N498=\"Transporte Aéreo\",VLOOKUP(O503,$O$4037:$P$4042,2),IF(N498=\"Transporte Aéreo\",VLOOKUP(O503,$O$4044:$P$4045,2),\"\"))))","v":""},null,null,null,null,null,null,null,null,null,null,null,null,null,null,null,"",""]
[null,null,null,null,null,null,"",null,{"$f":"IF(H504=\"\",\"\",ROUND(H504/SUM(H498:H505),4))","v":""},null,null,null,null,null,null,{"$f":"+IF(O504=\"\",\"\",IF(N498=\"Transporte Marítimo\",VLOOKUP(O504,$O$4030:$P$4035,2),IF(N498=\"Transporte Aéreo\",VLOOKUP(O504,$O$4037:$P$4042,2),IF(N498=\"Transporte Aéreo\",VLOOKUP(O504,$O$4044:$P$4045,2),\"\"))))","v":""},null,null,null,null,null,null,null,null,null,null,null,null,null,null,null,"",""]
[null,null,null,null,null,null,"",null,{"$f":"IF(H505=\"\",\"\",ROUND(H505/SUM(H498:H505),4))","v":""},null,null,null,null,null,null,{"$f":"+IF(O505=\"\",\"\",IF(N498=\"Transporte Marítimo\",VLOOKUP(O505,$O$4030:$P$4035,2),IF(N498=\"Transporte Aéreo\",VLOOKUP(O505,$O$4037:$P$4042,2),IF(N498=\"Transporte Aéreo\",VLOOKUP(O505,$O$4044:$P$4045,2),\"\"))))","v":""},null,null,null,null,null,null,null,null,null,null,null,null,null,null,null,"",""]
[null,{"$f":"+B498+1","v":62},null,null,null,null,{"$f":"+IF(F506=\"\",\"\",VLOOKUP(F506,$F$4031:$G$4120,2))","v":""},null,{"$f":"IF(H506=\"\",\"\",1-SUM(I507:I513))","v":""},null,null,null,null,null,null,{"$f":"+IF(O506=\"\",\"\",IF(N506=\"Transporte Marítimo\",VLOOKUP(O506,$O$4030:$P$4035,2),IF(N506=\"Transporte Aéreo\",VLOOKUP(O506,$O$4037:$P$4042,2),IF(N506=\"CTT\",VLOOKUP(O506,$O$4044:$P$4045,2),\"\"))))","v":""},null,null,null,null,null,null,null,null,null,null,null,null,null,null,null,{"$f":"+IF(AE506=\"20NL\",1,IF(AE506=\"40NL\",2,IF(AE506=\"20RF\",3,IF(AE506=\"40RF\",4,\"\"))))","v":""},{"$f":"+IF(AF506=\"\",\"\",VLOOKUP(AF506,$AF$4031:$AG$4034,2))","v":""},null,null,null,null,null,null,null,null,null,null,null,null,null,null," "]
[null,null,null,null,null,null,"",null,{"$f":"IF(H507=\"\",\"\",ROUND(H507/SUM(H506:H513),4))","v":""},null,null,null,null,null,null,{"$f":"+IF(O507=\"\",\"\",IF(N506=\"Transporte Marítimo\",VLOOKUP(O507,$O$4030:$P$4035,2),IF(N506=\"Transporte Aéreo\",VLOOKUP(O507,$O$4037:$P$4042,2),IF(N506=\"Transporte Aéreo\",VLOOKUP(O507,$O$4044:$P$4045,2),\"\"))))","v":""},null,null,null,null,null,null,null,null,null,null,null,null,null,null,null,{"$f":"+IF(AE507=\"20NL\",1,IF(AE507=\"40NL\",2,IF(AE507=\"20RF\",3,IF(AE507=\"40RF\",4,\"\"))))","v":""},""]
[null,null,null,null,null,null,"",null,{"$f":"IF(H508=\"\",\"\",ROUND(H508/SUM(H506:H513),4))","v":""},null,null,null,null,null,null,{"$f":"+IF(O508=\"\",\"\",IF(N506=\"Transporte Marítimo\",VLOOKUP(O508,$O$4030:$P$4035,2),IF(N506=\"Transporte Aéreo\",VLOOKUP(O508,$O$4037:$P$4042,2),IF(N506=\"Transporte Aéreo\",VLOOKUP(O508,$O$4044:$P$4045,2),\"\"))))","v":""},null,null,null,null,null,null,null,null,null,null,null,null,null,null,null,"",""]
[null,null,null,null,null,null,"",null,{"$f":"IF(H509=\"\",\"\",ROUND(H509/SUM(H506:H513),4))","v":""},null,null,null,null,null,null,{"$f":"+IF(O509=\"\",\"\",IF(N506=\"Transporte Marítimo\",VLOOKUP(O509,$O$4030:$P$4035,2),IF(N506=\"Transporte Aéreo\",VLOOKUP(O509,$O$4037:$P$4042,2),IF(N506=\"Transporte Aéreo\",VLOOKUP(O509,$O$4044:$P$4045,2),\"\"))))","v":""},null,null,null,null,null,null,null,null,null,null,null,null,null,null,null,"",""]
[null,null,null,null,null,null,"",null,{"$f":"IF(H510=\"\",\"\",ROUND(H510/SUM(H506:H513),4))","v":""},null,null,null,null,null,null,{"$f":"+IF(O510=\"\",\"\",IF(N506=\"Transporte Marítimo\",VLOOKUP(O510,$O$4030:$P$4035,2),IF(N506=\"Transporte Aéreo\",VLOOKUP(O510,$O$4037:$P$4042,2),IF(N506=\"Transporte Aéreo\",VLOOKUP(O510,$O$4044:$P$4045,2),\"\"))))","v":""},null,null,null,null,null,null,null,null,null,null,null,null,null,null,null,"",""]
[null,null,null,null,null,null,"",null,{"$f":"IF(H511=\"\",\"\",ROUND(H511/SUM(H506:H513),4))","v":""},null,null,null,null,null,null,{"$f":"+IF(O511=\"\",\"\",IF(N506=\"Transporte Marítimo\",VLOOKUP(O511,$O$4030:$P$4035,2),IF(N506=\"Transporte Aéreo\",VLOOKUP(O511,$O$4037:$P$4042,2),IF(N506=\"Transporte Aéreo\",VLOOKUP(O511,$O$4044:$P$4045,2),\"\"))))","v":""},null,null,null,null,null,null,null,null,null,null,null,null,null,null,null,"",""]
[null,null,null,null,null,null,"",null,{"$f":"IF(H512=\"\",\"\",ROUND(H512/SUM(H506:H513),4))","v":""},null,null,null,null,null,null,{"$f":"+IF(O512=\"\",\"\",IF(N506=\"Transporte Marítimo\",VLOOKUP(O512,$O$4030:$P$4035,2),IF(N506=\"Transporte Aéreo\",VLOOKUP(O512,$O$4037:$P$4042,2),IF(N506=\"Transporte Aéreo\",VLOOKUP(O512,$O$4044:$P$4045,2),\"\"))))","v":""},null,null,null,null,null,null,null,null,null,null,null,null,null,null,null,"",""]
[null,null,null,null,null,null,"",null,{"$f":"IF(H513=\"\",\"\",ROUND(H513/SUM(H506:H513),4))","v":""},null,null,null,null,null,null,{"$f":"+IF(O513=\"\",\"\",IF(N506=\"Transporte Marítimo\",VLOOKUP(O513,$O$4030:$P$4035,2),IF(N506=\"Transporte Aéreo\",VLOOKUP(O513,$O$4037:$P$4042,2),IF(N506=\"Transporte Aéreo\",VLOOKUP(O513,$O$4044:$P$4045,2),\"\"))))","v":""},null,null,null,null,null,null,null,null,null,null,null,null,null,null,null,"",""]
[null,{"$f":"+B506+1","v":63},null,null,null,null,{"$f":"+IF(F514=\"\",\"\",VLOOKUP(F514,$F$4031:$G$4120,2))","v":""},null,{"$f":"IF(H514=\"\",\"\",1-SUM(I515:I521))","v":""},null,null,null,null,null,null,{"$f":"+IF(O514=\"\",\"\",IF(N514=\"Transporte Marítimo\",VLOOKUP(O514,$O$4030:$P$4035,2),IF(N514=\"Transporte Aéreo\",VLOOKUP(O514,$O$4037:$P$4042,2),IF(N514=\"CTT\",VLOOKUP(O514,$O$4044:$P$4045,2),\"\"))))","v":""},null,null,null,null,null,null,null,null,null,null,null,null,null,null,null,{"$f":"+IF(AE514=\"20NL\",1,IF(AE514=\"40NL\",2,IF(AE514=\"20RF\",3,IF(AE514=\"40RF\",4,\"\"))))","v":""},{"$f":"+IF(AF514=\"\",\"\",VLOOKUP(AF514,$AF$4031:$AG$4034,2))","v":""},null,null,null,null,null,null,null,null,null,null,null,null,null,null," "]
[null,null,null,null,null,null,"",null,{"$f":"IF(H515=\"\",\"\",ROUND(H515/SUM(H514:H521),4))","v":""},null,null,null,null,null,null,{"$f":"+IF(O515=\"\",\"\",IF(N514=\"Transporte Marítimo\",VLOOKUP(O515,$O$4030:$P$4035,2),IF(N514=\"Transporte Aéreo\",VLOOKUP(O515,$O$4037:$P$4042,2),IF(N514=\"Transporte Aéreo\",VLOOKUP(O515,$O$4044:$P$4045,2),\"\"))))","v":""},null,null,null,null,null,null,null,null,null,null,null,null,null,null,null,{"$f":"+IF(AE515=\"20NL\",1,IF(AE515=\"40NL\",2,IF(AE515=\"20RF\",3,IF(AE515=\"40RF\",4,\"\"))))","v":""},""]
[null,null,null,null,null,null,"",null,{"$f":"IF(H516=\"\",\"\",ROUND(H516/SUM(H514:H521),4))","v":""},null,null,null,null,null,null,{"$f":"+IF(O516=\"\",\"\",IF(N514=\"Transporte Marítimo\",VLOOKUP(O516,$O$4030:$P$4035,2),IF(N514=\"Transporte Aéreo\",VLOOKUP(O516,$O$4037:$P$4042,2),IF(N514=\"Transporte Aéreo\",VLOOKUP(O516,$O$4044:$P$4045,2),\"\"))))","v":""},null,null,null,null,null,null,null,null,null,null,null,null,null,null,null,"",""]
[null,null,null,null,null,null,"",null,{"$f":"IF(H517=\"\",\"\",ROUND(H517/SUM(H514:H521),4))","v":""},null,null,null,null,null,null,{"$f":"+IF(O517=\"\",\"\",IF(N514=\"Transporte Marítimo\",VLOOKUP(O517,$O$4030:$P$4035,2),IF(N514=\"Transporte Aéreo\",VLOOKUP(O517,$O$4037:$P$4042,2),IF(N514=\"Transporte Aéreo\",VLOOKUP(O517,$O$4044:$P$4045,2),\"\"))))","v":""},null,null,null,null,null,null,null,null,null,null,null,null,null,null,null,"",""]
[null,null,null,null,null,null,"",null,{"$f":"IF(H518=\"\",\"\",ROUND(H518/SUM(H514:H521),4))","v":""},null,null,null,null,null,null,{"$f":"+IF(O518=\"\",\"\",IF(N514=\"Transporte Marítimo\",VLOOKUP(O518,$O$4030:$P$4035,2),IF(N514=\"Transporte Aéreo\",VLOOKUP(O518,$O$4037:$P$4042,2),IF(N514=\"Transporte Aéreo\",VLOOKUP(O518,$O$4044:$P$4045,2),\"\"))))","v":""},null,null,null,null,null,null,null,null,null,null,null,null,null,null,null,"",""]
[null,null,null,null,null,null,"",null,{"$f":"IF(H519=\"\",\"\",ROUND(H519/SUM(H514:H521),4))","v":""},null,null,null,null,null,null,{"$f":"+IF(O519=\"\",\"\",IF(N514=\"Transporte Marítimo\",VLOOKUP(O519,$O$4030:$P$4035,2),IF(N514=\"Transporte Aéreo\",VLOOKUP(O519,$O$4037:$P$4042,2),IF(N514=\"Transporte Aéreo\",VLOOKUP(O519,$O$4044:$P$4045,2),\"\"))))","v":""},null,null,null,null,null,null,null,null,null,null,null,null,null,null,null,"",""]
[null,null,null,null,null,null,"",null,{"$f":"IF(H520=\"\",\"\",ROUND(H520/SUM(H514:H521),4))","v":""},null,null,null,null,null,null,{"$f":"+IF(O520=\"\",\"\",IF(N514=\"Transporte Marítimo\",VLOOKUP(O520,$O$4030:$P$4035,2),IF(N514=\"Transporte Aéreo\",VLOOKUP(O520,$O$4037:$P$4042,2),IF(N514=\"Transporte Aéreo\",VLOOKUP(O520,$O$4044:$P$4045,2),\"\"))))","v":""},null,null,null,null,null,null,null,null,null,null,null,null,null,null,null,"",""]
[null,null,null,null,null,null,"",null,{"$f":"IF(H521=\"\",\"\",ROUND(H521/SUM(H514:H521),4))","v":""},null,null,null,null,null,null,{"$f":"+IF(O521=\"\",\"\",IF(N514=\"Transporte Marítimo\",VLOOKUP(O521,$O$4030:$P$4035,2),IF(N514=\"Transporte Aéreo\",VLOOKUP(O521,$O$4037:$P$4042,2),IF(N514=\"Transporte Aéreo\",VLOOKUP(O521,$O$4044:$P$4045,2),\"\"))))","v":""},null,null,null,null,null,null,null,null,null,null,null,null,null,null,null,"",""]
[null,{"$f":"+B514+1","v":64},null,null,null,null,{"$f":"+IF(F522=\"\",\"\",VLOOKUP(F522,$F$4031:$G$4120,2))","v":""},null,{"$f":"IF(H522=\"\",\"\",1-SUM(I523:I529))","v":""},null,null,null,null,null,null,{"$f":"+IF(O522=\"\",\"\",IF(N522=\"Transporte Marítimo\",VLOOKUP(O522,$O$4030:$P$4035,2),IF(N522=\"Transporte Aéreo\",VLOOKUP(O522,$O$4037:$P$4042,2),IF(N522=\"CTT\",VLOOKUP(O522,$O$4044:$P$4045,2),\"\"))))","v":""},null,null,null,null,null,null,null,null,null,null,null,null,null,null,null,{"$f":"+IF(AE522=\"20NL\",1,IF(AE522=\"40NL\",2,IF(AE522=\"20RF\",3,IF(AE522=\"40RF\",4,\"\"))))","v":""},{"$f":"+IF(AF522=\"\",\"\",VLOOKUP(AF522,$AF$4031:$AG$4034,2))","v":""},null,null,null,null,null,null,null,null,null,null,null,null,null,null," "]
[null,null,null,null,null,null,"",null,{"$f":"IF(H523=\"\",\"\",ROUND(H523/SUM(H522:H529),4))","v":""},null,null,null,null,null,null,{"$f":"+IF(O523=\"\",\"\",IF(N522=\"Transporte Marítimo\",VLOOKUP(O523,$O$4030:$P$4035,2),IF(N522=\"Transporte Aéreo\",VLOOKUP(O523,$O$4037:$P$4042,2),IF(N522=\"Transporte Aéreo\",VLOOKUP(O523,$O$4044:$P$4045,2),\"\"))))","v":""},null,null,null,null,null,null,null,null,null,null,null,null,null,null,null,{"$f":"+IF(AE523=\"20NL\",1,IF(AE523=\"40NL\",2,IF(AE523=\"20RF\",3,IF(AE523=\"40RF\",4,\"\"))))","v":""},""]
[null,null,null,null,null,null,"",null,{"$f":"IF(H524=\"\",\"\",ROUND(H524/SUM(H522:H529),4))","v":""},null,null,null,null,null,null,{"$f":"+IF(O524=\"\",\"\",IF(N522=\"Transporte Marítimo\",VLOOKUP(O524,$O$4030:$P$4035,2),IF(N522=\"Transporte Aéreo\",VLOOKUP(O524,$O$4037:$P$4042,2),IF(N522=\"Transporte Aéreo\",VLOOKUP(O524,$O$4044:$P$4045,2),\"\"))))","v":""},null,null,null,null,null,null,null,null,null,null,null,null,null,null,null,"",""]
[null,null,null,null,null,null,"",null,{"$f":"IF(H525=\"\",\"\",ROUND(H525/SUM(H522:H529),4))","v":""},null,null,null,null,null,null,{"$f":"+IF(O525=\"\",\"\",IF(N522=\"Transporte Marítimo\",VLOOKUP(O525,$O$4030:$P$4035,2),IF(N522=\"Transporte Aéreo\",VLOOKUP(O525,$O$4037:$P$4042,2),IF(N522=\"Transporte Aéreo\",VLOOKUP(O525,$O$4044:$P$4045,2),\"\"))))","v":""},null,null,null,null,null,null,null,null,null,null,null,null,null,null,null,"",""]
[null,null,null,null,null,null,"",null,{"$f":"IF(H526=\"\",\"\",ROUND(H526/SUM(H522:H529),4))","v":""},null,null,null,null,null,null,{"$f":"+IF(O526=\"\",\"\",IF(N522=\"Transporte Marítimo\",VLOOKUP(O526,$O$4030:$P$4035,2),IF(N522=\"Transporte Aéreo\",VLOOKUP(O526,$O$4037:$P$4042,2),IF(N522=\"Transporte Aéreo\",VLOOKUP(O526,$O$4044:$P$4045,2),\"\"))))","v":""},null,null,null,null,null,null,null,null,null,null,null,null,null,null,null,"",""]
[null,null,null,null,null,null,"",null,{"$f":"IF(H527=\"\",\"\",ROUND(H527/SUM(H522:H529),4))","v":""},null,null,null,null,null,null,{"$f":"+IF(O527=\"\",\"\",IF(N522=\"Transporte Marítimo\",VLOOKUP(O527,$O$4030:$P$4035,2),IF(N522=\"Transporte Aéreo\",VLOOKUP(O527,$O$4037:$P$4042,2),IF(N522=\"Transporte Aéreo\",VLOOKUP(O527,$O$4044:$P$4045,2),\"\"))))","v":""},null,null,null,null,null,null,null,null,null,null,null,null,null,null,null,"",""]
[null,null,null,null,null,null,"",null,{"$f":"IF(H528=\"\",\"\",ROUND(H528/SUM(H522:H529),4))","v":""},null,null,null,null,null,null,{"$f":"+IF(O528=\"\",\"\",IF(N522=\"Transporte Marítimo\",VLOOKUP(O528,$O$4030:$P$4035,2),IF(N522=\"Transporte Aéreo\",VLOOKUP(O528,$O$4037:$P$4042,2),IF(N522=\"Transporte Aéreo\",VLOOKUP(O528,$O$4044:$P$4045,2),\"\"))))","v":""},null,null,null,null,null,null,null,null,null,null,null,null,null,null,null,"",""]
[null,null,null,null,null,null,"",null,{"$f":"IF(H529=\"\",\"\",ROUND(H529/SUM(H522:H529),4))","v":""},null,null,null,null,null,null,{"$f":"+IF(O529=\"\",\"\",IF(N522=\"Transporte Marítimo\",VLOOKUP(O529,$O$4030:$P$4035,2),IF(N522=\"Transporte Aéreo\",VLOOKUP(O529,$O$4037:$P$4042,2),IF(N522=\"Transporte Aéreo\",VLOOKUP(O529,$O$4044:$P$4045,2),\"\"))))","v":""},null,null,null,null,null,null,null,null,null,null,null,null,null,null,null,"",""]
[null,{"$f":"+B522+1","v":65},null,null,null,null,{"$f":"+IF(F530=\"\",\"\",VLOOKUP(F530,$F$4031:$G$4120,2))","v":""},null,{"$f":"IF(H530=\"\",\"\",1-SUM(I531:I537))","v":""},null,null,null,null,null,null,{"$f":"+IF(O530=\"\",\"\",IF(N530=\"Transporte Marítimo\",VLOOKUP(O530,$O$4030:$P$4035,2),IF(N530=\"Transporte Aéreo\",VLOOKUP(O530,$O$4037:$P$4042,2),IF(N530=\"CTT\",VLOOKUP(O530,$O$4044:$P$4045,2),\"\"))))","v":""},null,null,null,null,null,null,null,null,null,null,null,null,null,null,null,{"$f":"+IF(AE530=\"20NL\",1,IF(AE530=\"40NL\",2,IF(AE530=\"20RF\",3,IF(AE530=\"40RF\",4,\"\"))))","v":""},{"$f":"+IF(AF530=\"\",\"\",VLOOKUP(AF530,$AF$4031:$AG$4034,2))","v":""},null,null,null,null,null,null,null,null,null,null,null,null,null,null," "]
[null,null,null,null,null,null,"",null,{"$f":"IF(H531=\"\",\"\",ROUND(H531/SUM(H530:H537),4))","v":""},null,null,null,null,null,null,{"$f":"+IF(O531=\"\",\"\",IF(N530=\"Transporte Marítimo\",VLOOKUP(O531,$O$4030:$P$4035,2),IF(N530=\"Transporte Aéreo\",VLOOKUP(O531,$O$4037:$P$4042,2),IF(N530=\"Transporte Aéreo\",VLOOKUP(O531,$O$4044:$P$4045,2),\"\"))))","v":""},null,null,null,null,null,null,null,null,null,null,null,null,null,null,null,{"$f":"+IF(AE531=\"20NL\",1,IF(AE531=\"40NL\",2,IF(AE531=\"20RF\",3,IF(AE531=\"40RF\",4,\"\"))))","v":""},""]
[null,null,null,null,null,null,"",null,{"$f":"IF(H532=\"\",\"\",ROUND(H532/SUM(H530:H537),4))","v":""},null,null,null,null,null,null,{"$f":"+IF(O532=\"\",\"\",IF(N530=\"Transporte Marítimo\",VLOOKUP(O532,$O$4030:$P$4035,2),IF(N530=\"Transporte Aéreo\",VLOOKUP(O532,$O$4037:$P$4042,2),IF(N530=\"Transporte Aéreo\",VLOOKUP(O532,$O$4044:$P$4045,2),\"\"))))","v":""},null,null,null,null,null,null,null,null,null,null,null,null,null,null,null,"",""]
[null,null,null,null,null,null,"",null,{"$f":"IF(H533=\"\",\"\",ROUND(H533/SUM(H530:H537),4))","v":""},null,null,null,null,null,null,{"$f":"+IF(O533=\"\",\"\",IF(N530=\"Transporte Marítimo\",VLOOKUP(O533,$O$4030:$P$4035,2),IF(N530=\"Transporte Aéreo\",VLOOKUP(O533,$O$4037:$P$4042,2),IF(N530=\"Transporte Aéreo\",VLOOKUP(O533,$O$4044:$P$4045,2),\"\"))))","v":""},null,null,null,null,null,null,null,null,null,null,null,null,null,null,null,"",""]
[null,null,null,null,null,null,"",null,{"$f":"IF(H534=\"\",\"\",ROUND(H534/SUM(H530:H537),4))","v":""},null,null,null,null,null,null,{"$f":"+IF(O534=\"\",\"\",IF(N530=\"Transporte Marítimo\",VLOOKUP(O534,$O$4030:$P$4035,2),IF(N530=\"Transporte Aéreo\",VLOOKUP(O534,$O$4037:$P$4042,2),IF(N530=\"Transporte Aéreo\",VLOOKUP(O534,$O$4044:$P$4045,2),\"\"))))","v":""},null,null,null,null,null,null,null,null,null,null,null,null,null,null,null,"",""]
[null,null,null,null,null,null,"",null,{"$f":"IF(H535=\"\",\"\",ROUND(H535/SUM(H530:H537),4))","v":""},null,null,null,null,null,null,{"$f":"+IF(O535=\"\",\"\",IF(N530=\"Transporte Marítimo\",VLOOKUP(O535,$O$4030:$P$4035,2),IF(N530=\"Transporte Aéreo\",VLOOKUP(O535,$O$4037:$P$4042,2),IF(N530=\"Transporte Aéreo\",VLOOKUP(O535,$O$4044:$P$4045,2),\"\"))))","v":""},null,null,null,null,null,null,null,null,null,null,null,null,null,null,null,"",""]
[null,null,null,null,null,null,"",null,{"$f":"IF(H536=\"\",\"\",ROUND(H536/SUM(H530:H537),4))","v":""},null,null,null,null,null,null,{"$f":"+IF(O536=\"\",\"\",IF(N530=\"Transporte Marítimo\",VLOOKUP(O536,$O$4030:$P$4035,2),IF(N530=\"Transporte Aéreo\",VLOOKUP(O536,$O$4037:$P$4042,2),IF(N530=\"Transporte Aéreo\",VLOOKUP(O536,$O$4044:$P$4045,2),\"\"))))","v":""},null,null,null,null,null,null,null,null,null,null,null,null,null,null,null,"",""]
[null,null,null,null,null,null,"",null,{"$f":"IF(H537=\"\",\"\",ROUND(H537/SUM(H530:H537),4))","v":""},null,null,null,null,null,null,{"$f":"+IF(O537=\"\",\"\",IF(N530=\"Transporte Marítimo\",VLOOKUP(O537,$O$4030:$P$4035,2),IF(N530=\"Transporte Aéreo\",VLOOKUP(O537,$O$4037:$P$4042,2),IF(N530=\"Transporte Aéreo\",VLOOKUP(O537,$O$4044:$P$4045,2),\"\"))))","v":""},null,null,null,null,null,null,null,null,null,null,null,null,null,null,null,"",""]
[null,{"$f":"+B530+1","v":66},null,null,null,null,{"$f":"+IF(F538=\"\",\"\",VLOOKUP(F538,$F$4031:$G$4120,2))","v":""},null,{"$f":"IF(H538=\"\",\"\",1-SUM(I539:I545))","v":""},null,null,null,null,null,null,{"$f":"+IF(O538=\"\",\"\",IF(N538=\"Transporte Marítimo\",VLOOKUP(O538,$O$4030:$P$4035,2),IF(N538=\"Transporte Aéreo\",VLOOKUP(O538,$O$4037:$P$4042,2),IF(N538=\"CTT\",VLOOKUP(O538,$O$4044:$P$4045,2),\"\"))))","v":""},null,null,null,null,null,null,null,null,null,null,null,null,null,null,null,{"$f":"+IF(AE538=\"20NL\",1,IF(AE538=\"40NL\",2,IF(AE538=\"20RF\",3,IF(AE538=\"40RF\",4,\"\"))))","v":""},{"$f":"+IF(AF538=\"\",\"\",VLOOKUP(AF538,$AF$4031:$AG$4034,2))","v":""},null,null,null,null,null,null,null,null,null,null,null,null,null,null," "]
[null,null,null,null,null,null,"",null,{"$f":"IF(H539=\"\",\"\",ROUND(H539/SUM(H538:H545),4))","v":""},null,null,null,null,null,null,{"$f":"+IF(O539=\"\",\"\",IF(N538=\"Transporte Marítimo\",VLOOKUP(O539,$O$4030:$P$4035,2),IF(N538=\"Transporte Aéreo\",VLOOKUP(O539,$O$4037:$P$4042,2),IF(N538=\"Transporte Aéreo\",VLOOKUP(O539,$O$4044:$P$4045,2),\"\"))))","v":""},null,null,null,null,null,null,null,null,null,null,null,null,null,null,null,{"$f":"+IF(AE539=\"20NL\",1,IF(AE539=\"40NL\",2,IF(AE539=\"20RF\",3,IF(AE539=\"40RF\",4,\"\"))))","v":""},""]
[null,null,null,null,null,null,"",null,{"$f":"IF(H540=\"\",\"\",ROUND(H540/SUM(H538:H545),4))","v":""},null,null,null,null,null,null,{"$f":"+IF(O540=\"\",\"\",IF(N538=\"Transporte Marítimo\",VLOOKUP(O540,$O$4030:$P$4035,2),IF(N538=\"Transporte Aéreo\",VLOOKUP(O540,$O$4037:$P$4042,2),IF(N538=\"Transporte Aéreo\",VLOOKUP(O540,$O$4044:$P$4045,2),\"\"))))","v":""},null,null,null,null,null,null,null,null,null,null,null,null,null,null,null,"",""]
[null,null,null,null,null,null,"",null,{"$f":"IF(H541=\"\",\"\",ROUND(H541/SUM(H538:H545),4))","v":""},null,null,null,null,null,null,{"$f":"+IF(O541=\"\",\"\",IF(N538=\"Transporte Marítimo\",VLOOKUP(O541,$O$4030:$P$4035,2),IF(N538=\"Transporte Aéreo\",VLOOKUP(O541,$O$4037:$P$4042,2),IF(N538=\"Transporte Aéreo\",VLOOKUP(O541,$O$4044:$P$4045,2),\"\"))))","v":""},null,null,null,null,null,null,null,null,null,null,null,null,null,null,null,"",""]
[null,null,null,null,null,null,"",null,{"$f":"IF(H542=\"\",\"\",ROUND(H542/SUM(H538:H545),4))","v":""},null,null,null,null,null,null,{"$f":"+IF(O542=\"\",\"\",IF(N538=\"Transporte Marítimo\",VLOOKUP(O542,$O$4030:$P$4035,2),IF(N538=\"Transporte Aéreo\",VLOOKUP(O542,$O$4037:$P$4042,2),IF(N538=\"Transporte Aéreo\",VLOOKUP(O542,$O$4044:$P$4045,2),\"\"))))","v":""},null,null,null,null,null,null,null,null,null,null,null,null,null,null,null,"",""]
[null,null,null,null,null,null,"",null,{"$f":"IF(H543=\"\",\"\",ROUND(H543/SUM(H538:H545),4))","v":""},null,null,null,null,null,null,{"$f":"+IF(O543=\"\",\"\",IF(N538=\"Transporte Marítimo\",VLOOKUP(O543,$O$4030:$P$4035,2),IF(N538=\"Transporte Aéreo\",VLOOKUP(O543,$O$4037:$P$4042,2),IF(N538=\"Transporte Aéreo\",VLOOKUP(O543,$O$4044:$P$4045,2),\"\"))))","v":""},null,null,null,null,null,null,null,null,null,null,null,null,null,null,null,"",""]
[null,null,null,null,null,null,"",null,{"$f":"IF(H544=\"\",\"\",ROUND(H544/SUM(H538:H545),4))","v":""},null,null,null,null,null,null,{"$f":"+IF(O544=\"\",\"\",IF(N538=\"Transporte Marítimo\",VLOOKUP(O544,$O$4030:$P$4035,2),IF(N538=\"Transporte Aéreo\",VLOOKUP(O544,$O$4037:$P$4042,2),IF(N538=\"Transporte Aéreo\",VLOOKUP(O544,$O$4044:$P$4045,2),\"\"))))","v":""},null,null,null,null,null,null,null,null,null,null,null,null,null,null,null,"",""]
[null,null,null,null,null,null,"",null,{"$f":"IF(H545=\"\",\"\",ROUND(H545/SUM(H538:H545),4))","v":""},null,null,null,null,null,null,{"$f":"+IF(O545=\"\",\"\",IF(N538=\"Transporte Marítimo\",VLOOKUP(O545,$O$4030:$P$4035,2),IF(N538=\"Transporte Aéreo\",VLOOKUP(O545,$O$4037:$P$4042,2),IF(N538=\"Transporte Aéreo\",VLOOKUP(O545,$O$4044:$P$4045,2),\"\"))))","v":""},null,null,null,null,null,null,null,null,null,null,null,null,null,null,null,"",""]
[null,{"$f":"+B538+1","v":67},null,null,null,null,{"$f":"+IF(F546=\"\",\"\",VLOOKUP(F546,$F$4031:$G$4120,2))","v":""},null,{"$f":"IF(H546=\"\",\"\",1-SUM(I547:I553))","v":""},null,null,null,null,null,null,{"$f":"+IF(O546=\"\",\"\",IF(N546=\"Transporte Marítimo\",VLOOKUP(O546,$O$4030:$P$4035,2),IF(N546=\"Transporte Aéreo\",VLOOKUP(O546,$O$4037:$P$4042,2),IF(N546=\"CTT\",VLOOKUP(O546,$O$4044:$P$4045,2),\"\"))))","v":""},null,null,null,null,null,null,null,null,null,null,null,null,null,null,null,{"$f":"+IF(AE546=\"20NL\",1,IF(AE546=\"40NL\",2,IF(AE546=\"20RF\",3,IF(AE546=\"40RF\",4,\"\"))))","v":""},{"$f":"+IF(AF546=\"\",\"\",VLOOKUP(AF546,$AF$4031:$AG$4034,2))","v":""},null,null,null,null,null,null,null,null,null,null,null,null,null,null," "]
[null,null,null,null,null,null,"",null,{"$f":"IF(H547=\"\",\"\",ROUND(H547/SUM(H546:H553),4))","v":""},null,null,null,null,null,null,{"$f":"+IF(O547=\"\",\"\",IF(N546=\"Transporte Marítimo\",VLOOKUP(O547,$O$4030:$P$4035,2),IF(N546=\"Transporte Aéreo\",VLOOKUP(O547,$O$4037:$P$4042,2),IF(N546=\"Transporte Aéreo\",VLOOKUP(O547,$O$4044:$P$4045,2),\"\"))))","v":""},null,null,null,null,null,null,null,null,null,null,null,null,null,null,null,{"$f":"+IF(AE547=\"20NL\",1,IF(AE547=\"40NL\",2,IF(AE547=\"20RF\",3,IF(AE547=\"40RF\",4,\"\"))))","v":""},""]
[null,null,null,null,null,null,"",null,{"$f":"IF(H548=\"\",\"\",ROUND(H548/SUM(H546:H553),4))","v":""},null,null,null,null,null,null,{"$f":"+IF(O548=\"\",\"\",IF(N546=\"Transporte Marítimo\",VLOOKUP(O548,$O$4030:$P$4035,2),IF(N546=\"Transporte Aéreo\",VLOOKUP(O548,$O$4037:$P$4042,2),IF(N546=\"Transporte Aéreo\",VLOOKUP(O548,$O$4044:$P$4045,2),\"\"))))","v":""},null,null,null,null,null,null,null,null,null,null,null,null,null,null,null,"",""]
[null,null,null,null,null,null,"",null,{"$f":"IF(H549=\"\",\"\",ROUND(H549/SUM(H546:H553),4))","v":""},null,null,null,null,null,null,{"$f":"+IF(O549=\"\",\"\",IF(N546=\"Transporte Marítimo\",VLOOKUP(O549,$O$4030:$P$4035,2),IF(N546=\"Transporte Aéreo\",VLOOKUP(O549,$O$4037:$P$4042,2),IF(N546=\"Transporte Aéreo\",VLOOKUP(O549,$O$4044:$P$4045,2),\"\"))))","v":""},null,null,null,null,null,null,null,null,null,null,null,null,null,null,null,"",""]
[null,null,null,null,null,null,"",null,{"$f":"IF(H550=\"\",\"\",ROUND(H550/SUM(H546:H553),4))","v":""},null,null,null,null,null,null,{"$f":"+IF(O550=\"\",\"\",IF(N546=\"Transporte Marítimo\",VLOOKUP(O550,$O$4030:$P$4035,2),IF(N546=\"Transporte Aéreo\",VLOOKUP(O550,$O$4037:$P$4042,2),IF(N546=\"Transporte Aéreo\",VLOOKUP(O550,$O$4044:$P$4045,2),\"\"))))","v":""},null,null,null,null,null,null,null,null,null,null,null,null,null,null,null,"",""]
[null,null,null,null,null,null,"",null,{"$f":"IF(H551=\"\",\"\",ROUND(H551/SUM(H546:H553),4))","v":""},null,null,null,null,null,null,{"$f":"+IF(O551=\"\",\"\",IF(N546=\"Transporte Marítimo\",VLOOKUP(O551,$O$4030:$P$4035,2),IF(N546=\"Transporte Aéreo\",VLOOKUP(O551,$O$4037:$P$4042,2),IF(N546=\"Transporte Aéreo\",VLOOKUP(O551,$O$4044:$P$4045,2),\"\"))))","v":""},null,null,null,null,null,null,null,null,null,null,null,null,null,null,null,"",""]
[null,null,null,null,null,null,"",null,{"$f":"IF(H552=\"\",\"\",ROUND(H552/SUM(H546:H553),4))","v":""},null,null,null,null,null,null,{"$f":"+IF(O552=\"\",\"\",IF(N546=\"Transporte Marítimo\",VLOOKUP(O552,$O$4030:$P$4035,2),IF(N546=\"Transporte Aéreo\",VLOOKUP(O552,$O$4037:$P$4042,2),IF(N546=\"Transporte Aéreo\",VLOOKUP(O552,$O$4044:$P$4045,2),\"\"))))","v":""},null,null,null,null,null,null,null,null,null,null,null,null,null,null,null,"",""]
[null,null,null,null,null,null,"",null,{"$f":"IF(H553=\"\",\"\",ROUND(H553/SUM(H546:H553),4))","v":""},null,null,null,null,null,null,{"$f":"+IF(O553=\"\",\"\",IF(N546=\"Transporte Marítimo\",VLOOKUP(O553,$O$4030:$P$4035,2),IF(N546=\"Transporte Aéreo\",VLOOKUP(O553,$O$4037:$P$4042,2),IF(N546=\"Transporte Aéreo\",VLOOKUP(O553,$O$4044:$P$4045,2),\"\"))))","v":""},null,null,null,null,null,null,null,null,null,null,null,null,null,null,null,"",""]
[null,{"$f":"+B546+1","v":68},null,null,null,null,{"$f":"+IF(F554=\"\",\"\",VLOOKUP(F554,$F$4031:$G$4120,2))","v":""},null,{"$f":"IF(H554=\"\",\"\",1-SUM(I555:I561))","v":""},null,null,null,null,null,null,{"$f":"+IF(O554=\"\",\"\",IF(N554=\"Transporte Marítimo\",VLOOKUP(O554,$O$4030:$P$4035,2),IF(N554=\"Transporte Aéreo\",VLOOKUP(O554,$O$4037:$P$4042,2),IF(N554=\"CTT\",VLOOKUP(O554,$O$4044:$P$4045,2),\"\"))))","v":""},null,null,null,null,null,null,null,null,null,null,null,null,null,null,null,{"$f":"+IF(AE554=\"20NL\",1,IF(AE554=\"40NL\",2,IF(AE554=\"20RF\",3,IF(AE554=\"40RF\",4,\"\"))))","v":""},{"$f":"+IF(AF554=\"\",\"\",VLOOKUP(AF554,$AF$4031:$AG$4034,2))","v":""},null,null,null,null,null,null,null,null,null,null,null,null,null,null," "]
[null,null,null,null,null,null,"",null,{"$f":"IF(H555=\"\",\"\",ROUND(H555/SUM(H554:H561),4))","v":""},null,null,null,null,null,null,{"$f":"+IF(O555=\"\",\"\",IF(N554=\"Transporte Marítimo\",VLOOKUP(O555,$O$4030:$P$4035,2),IF(N554=\"Transporte Aéreo\",VLOOKUP(O555,$O$4037:$P$4042,2),IF(N554=\"Transporte Aéreo\",VLOOKUP(O555,$O$4044:$P$4045,2),\"\"))))","v":""},null,null,null,null,null,null,null,null,null,null,null,null,null,null,null,{"$f":"+IF(AE555=\"20NL\",1,IF(AE555=\"40NL\",2,IF(AE555=\"20RF\",3,IF(AE555=\"40RF\",4,\"\"))))","v":""},""]
[null,null,null,null,null,null,"",null,{"$f":"IF(H556=\"\",\"\",ROUND(H556/SUM(H554:H561),4))","v":""},null,null,null,null,null,null,{"$f":"+IF(O556=\"\",\"\",IF(N554=\"Transporte Marítimo\",VLOOKUP(O556,$O$4030:$P$4035,2),IF(N554=\"Transporte Aéreo\",VLOOKUP(O556,$O$4037:$P$4042,2),IF(N554=\"Transporte Aéreo\",VLOOKUP(O556,$O$4044:$P$4045,2),\"\"))))","v":""},null,null,null,null,null,null,null,null,null,null,null,null,null,null,null,"",""]
[null,null,null,null,null,null,"",null,{"$f":"IF(H557=\"\",\"\",ROUND(H557/SUM(H554:H561),4))","v":""},null,null,null,null,null,null,{"$f":"+IF(O557=\"\",\"\",IF(N554=\"Transporte Marítimo\",VLOOKUP(O557,$O$4030:$P$4035,2),IF(N554=\"Transporte Aéreo\",VLOOKUP(O557,$O$4037:$P$4042,2),IF(N554=\"Transporte Aéreo\",VLOOKUP(O557,$O$4044:$P$4045,2),\"\"))))","v":""},null,null,null,null,null,null,null,null,null,null,null,null,null,null,null,"",""]
[null,null,null,null,null,null,"",null,{"$f":"IF(H558=\"\",\"\",ROUND(H558/SUM(H554:H561),4))","v":""},null,null,null,null,null,null,{"$f":"+IF(O558=\"\",\"\",IF(N554=\"Transporte Marítimo\",VLOOKUP(O558,$O$4030:$P$4035,2),IF(N554=\"Transporte Aéreo\",VLOOKUP(O558,$O$4037:$P$4042,2),IF(N554=\"Transporte Aéreo\",VLOOKUP(O558,$O$4044:$P$4045,2),\"\"))))","v":""},null,null,null,null,null,null,null,null,null,null,null,null,null,null,null,"",""]
[null,null,null,null,null,null,"",null,{"$f":"IF(H559=\"\",\"\",ROUND(H559/SUM(H554:H561),4))","v":""},null,null,null,null,null,null,{"$f":"+IF(O559=\"\",\"\",IF(N554=\"Transporte Marítimo\",VLOOKUP(O559,$O$4030:$P$4035,2),IF(N554=\"Transporte Aéreo\",VLOOKUP(O559,$O$4037:$P$4042,2),IF(N554=\"Transporte Aéreo\",VLOOKUP(O559,$O$4044:$P$4045,2),\"\"))))","v":""},null,null,null,null,null,null,null,null,null,null,null,null,null,null,null,"",""]
[null,null,null,null,null,null,"",null,{"$f":"IF(H560=\"\",\"\",ROUND(H560/SUM(H554:H561),4))","v":""},null,null,null,null,null,null,{"$f":"+IF(O560=\"\",\"\",IF(N554=\"Transporte Marítimo\",VLOOKUP(O560,$O$4030:$P$4035,2),IF(N554=\"Transporte Aéreo\",VLOOKUP(O560,$O$4037:$P$4042,2),IF(N554=\"Transporte Aéreo\",VLOOKUP(O560,$O$4044:$P$4045,2),\"\"))))","v":""},null,null,null,null,null,null,null,null,null,null,null,null,null,null,null,"",""]
[null,null,null,null,null,null,"",null,{"$f":"IF(H561=\"\",\"\",ROUND(H561/SUM(H554:H561),4))","v":""},null,null,null,null,null,null,{"$f":"+IF(O561=\"\",\"\",IF(N554=\"Transporte Marítimo\",VLOOKUP(O561,$O$4030:$P$4035,2),IF(N554=\"Transporte Aéreo\",VLOOKUP(O561,$O$4037:$P$4042,2),IF(N554=\"Transporte Aéreo\",VLOOKUP(O561,$O$4044:$P$4045,2),\"\"))))","v":""},null,null,null,null,null,null,null,null,null,null,null,null,null,null,null,"",""]
[null,{"$f":"+B554+1","v":69},null,null,null,null,{"$f":"+IF(F562=\"\",\"\",VLOOKUP(F562,$F$4031:$G$4120,2))","v":""},null,{"$f":"IF(H562=\"\",\"\",1-SUM(I563:I569))","v":""},null,null,null,null,null,null,{"$f":"+IF(O562=\"\",\"\",IF(N562=\"Transporte Marítimo\",VLOOKUP(O562,$O$4030:$P$4035,2),IF(N562=\"Transporte Aéreo\",VLOOKUP(O562,$O$4037:$P$4042,2),IF(N562=\"CTT\",VLOOKUP(O562,$O$4044:$P$4045,2),\"\"))))","v":""},null,null,null,null,null,null,null,null,null,null,null,null,null,null,null,{"$f":"+IF(AE562=\"20NL\",1,IF(AE562=\"40NL\",2,IF(AE562=\"20RF\",3,IF(AE562=\"40RF\",4,\"\"))))","v":""},{"$f":"+IF(AF562=\"\",\"\",VLOOKUP(AF562,$AF$4031:$AG$4034,2))","v":""},null,null,null,null,null,null,null,null,null,null,null,null,null,null," "]
[null,null,null,null,null,null,{"$f":"+IF(F563=\"\",\"\",VLOOKUP(F563,$F$4031:$G$4120,2))","v":""},null,{"$f":"IF(H563=\"\",\"\",ROUND(H563/SUM(H562:H569),4))","v":""},null,null,null,null,null,null,{"$f":"+IF(O563=\"\",\"\",IF(N562=\"Transporte Marítimo\",VLOOKUP(O563,$O$4030:$P$4035,2),IF(N562=\"Transporte Aéreo\",VLOOKUP(O563,$O$4037:$P$4042,2),IF(N562=\"Transporte Aéreo\",VLOOKUP(O563,$O$4044:$P$4045,2),\"\"))))","v":""},null,null,null,null,null,null,null,null,null,null,null,null,null,null,null,{"$f":"+IF(AE563=\"20NL\",1,IF(AE563=\"40NL\",2,IF(AE563=\"20RF\",3,IF(AE563=\"40RF\",4,\"\"))))","v":""},{"$f":"+IF(AF563=\"\",\"\",VLOOKUP(AF563,$AF$4031:$AG$4034,2))","v":""}]
[null,null,null,null,null,null,"",null,{"$f":"IF(H564=\"\",\"\",ROUND(H564/SUM(H562:H569),4))","v":""},null,null,null,null,null,null,{"$f":"+IF(O564=\"\",\"\",IF(N562=\"Transporte Marítimo\",VLOOKUP(O564,$O$4030:$P$4035,2),IF(N562=\"Transporte Aéreo\",VLOOKUP(O564,$O$4037:$P$4042,2),IF(N562=\"Transporte Aéreo\",VLOOKUP(O564,$O$4044:$P$4045,2),\"\"))))","v":""},null,null,null,null,null,null,null,null,null,null,null,null,null,null,null,"",""]
[null,null,null,null,null,null,"",null,{"$f":"IF(H565=\"\",\"\",ROUND(H565/SUM(H562:H569),4))","v":""},null,null,null,null,null,null,{"$f":"+IF(O565=\"\",\"\",IF(N562=\"Transporte Marítimo\",VLOOKUP(O565,$O$4030:$P$4035,2),IF(N562=\"Transporte Aéreo\",VLOOKUP(O565,$O$4037:$P$4042,2),IF(N562=\"Transporte Aéreo\",VLOOKUP(O565,$O$4044:$P$4045,2),\"\"))))","v":""},null,null,null,null,null,null,null,null,null,null,null,null,null,null,null,"",""]
[null,null,null,null,null,null,"",null,{"$f":"IF(H566=\"\",\"\",ROUND(H566/SUM(H562:H569),4))","v":""},null,null,null,null,null,null,{"$f":"+IF(O566=\"\",\"\",IF(N562=\"Transporte Marítimo\",VLOOKUP(O566,$O$4030:$P$4035,2),IF(N562=\"Transporte Aéreo\",VLOOKUP(O566,$O$4037:$P$4042,2),IF(N562=\"Transporte Aéreo\",VLOOKUP(O566,$O$4044:$P$4045,2),\"\"))))","v":""},null,null,null,null,null,null,null,null,null,null,null,null,null,null,null,"",""]
[null,null,null,null,null,null,"",null,{"$f":"IF(H567=\"\",\"\",ROUND(H567/SUM(H562:H569),4))","v":""},null,null,null,null,null,null,{"$f":"+IF(O567=\"\",\"\",IF(N562=\"Transporte Marítimo\",VLOOKUP(O567,$O$4030:$P$4035,2),IF(N562=\"Transporte Aéreo\",VLOOKUP(O567,$O$4037:$P$4042,2),IF(N562=\"Transporte Aéreo\",VLOOKUP(O567,$O$4044:$P$4045,2),\"\"))))","v":""},null,null,null,null,null,null,null,null,null,null,null,null,null,null,null,"",""]
[null,null,null,null,null,null,"",null,{"$f":"IF(H568=\"\",\"\",ROUND(H568/SUM(H562:H569),4))","v":""},null,null,null,null,null,null,{"$f":"+IF(O568=\"\",\"\",IF(N562=\"Transporte Marítimo\",VLOOKUP(O568,$O$4030:$P$4035,2),IF(N562=\"Transporte Aéreo\",VLOOKUP(O568,$O$4037:$P$4042,2),IF(N562=\"Transporte Aéreo\",VLOOKUP(O568,$O$4044:$P$4045,2),\"\"))))","v":""},null,null,null,null,null,null,null,null,null,null,null,null,null,null,null,"",""]
[null,null,null,null,null,null,"",null,{"$f":"IF(H569=\"\",\"\",ROUND(H569/SUM(H562:H569),4))","v":""},null,null,null,null,null,null,{"$f":"+IF(O569=\"\",\"\",IF(N562=\"Transporte Marítimo\",VLOOKUP(O569,$O$4030:$P$4035,2),IF(N562=\"Transporte Aéreo\",VLOOKUP(O569,$O$4037:$P$4042,2),IF(N562=\"Transporte Aéreo\",VLOOKUP(O569,$O$4044:$P$4045,2),\"\"))))","v":""},null,null,null,null,null,null,null,null,null,null,null,null,null,null,null,"",""]
[null,{"$f":"+B562+1","v":70},null,null,null,null,{"$f":"+IF(F570=\"\",\"\",VLOOKUP(F570,$F$4031:$G$4120,2))","v":""},null,{"$f":"IF(H570=\"\",\"\",1-SUM(I571:I577))","v":""},null,null,null,null,null,null,{"$f":"+IF(O570=\"\",\"\",IF(N570=\"Transporte Marítimo\",VLOOKUP(O570,$O$4030:$P$4035,2),IF(N570=\"Transporte Aéreo\",VLOOKUP(O570,$O$4037:$P$4042,2),IF(N570=\"CTT\",VLOOKUP(O570,$O$4044:$P$4045,2),\"\"))))","v":""},null,null,null,null,null,null,null,null,null,null,null,null,null,null,null,{"$f":"+IF(AE570=\"20NL\",1,IF(AE570=\"40NL\",2,IF(AE570=\"20RF\",3,IF(AE570=\"40RF\",4,\"\"))))","v":""},{"$f":"+IF(AF570=\"\",\"\",VLOOKUP(AF570,$AF$4031:$AG$4034,2))","v":""},null,null,null,null,null,null,null,null,null,null,null,null,null,null," "]
[null,null,null,null,null,null,"",null,{"$f":"IF(H571=\"\",\"\",ROUND(H571/SUM(H570:H577),4))","v":""},null,null,null,null,null,null,{"$f":"+IF(O571=\"\",\"\",IF(N570=\"Transporte Marítimo\",VLOOKUP(O571,$O$4030:$P$4035,2),IF(N570=\"Transporte Aéreo\",VLOOKUP(O571,$O$4037:$P$4042,2),IF(N570=\"Transporte Aéreo\",VLOOKUP(O571,$O$4044:$P$4045,2),\"\"))))","v":""},null,null,null,null,null,null,null,null,null,null,null,null,null,null,null,{"$f":"+IF(AE571=\"20NL\",1,IF(AE571=\"40NL\",2,IF(AE571=\"20RF\",3,IF(AE571=\"40RF\",4,\"\"))))","v":""},{"$f":"+IF(AF571=\"\",\"\",VLOOKUP(AF571,$AF$4031:$AG$4034,2))","v":""}]
[null,null,null,null,null,null,"",null,{"$f":"IF(H572=\"\",\"\",ROUND(H572/SUM(H570:H577),4))","v":""},null,null,null,null,null,null,{"$f":"+IF(O572=\"\",\"\",IF(N570=\"Transporte Marítimo\",VLOOKUP(O572,$O$4030:$P$4035,2),IF(N570=\"Transporte Aéreo\",VLOOKUP(O572,$O$4037:$P$4042,2),IF(N570=\"Transporte Aéreo\",VLOOKUP(O572,$O$4044:$P$4045,2),\"\"))))","v":""},null,null,null,null,null,null,null,null,null,null,null,null,null,null,null,"",""]
[null,null,null,null,null,null,"",null,{"$f":"IF(H573=\"\",\"\",ROUND(H573/SUM(H570:H577),4))","v":""},null,null,null,null,null,null,{"$f":"+IF(O573=\"\",\"\",IF(N570=\"Transporte Marítimo\",VLOOKUP(O573,$O$4030:$P$4035,2),IF(N570=\"Transporte Aéreo\",VLOOKUP(O573,$O$4037:$P$4042,2),IF(N570=\"Transporte Aéreo\",VLOOKUP(O573,$O$4044:$P$4045,2),\"\"))))","v":""},null,null,null,null,null,null,null,null,null,null,null,null,null,null,null,"",""]
[null,null,null,null,null,null,"",null,{"$f":"IF(H574=\"\",\"\",ROUND(H574/SUM(H570:H577),4))","v":""},null,null,null,null,null,null,{"$f":"+IF(O574=\"\",\"\",IF(N570=\"Transporte Marítimo\",VLOOKUP(O574,$O$4030:$P$4035,2),IF(N570=\"Transporte Aéreo\",VLOOKUP(O574,$O$4037:$P$4042,2),IF(N570=\"Transporte Aéreo\",VLOOKUP(O574,$O$4044:$P$4045,2),\"\"))))","v":""},null,null,null,null,null,null,null,null,null,null,null,null,null,null,null,"",""]
[null,null,null,null,null,null,"",null,{"$f":"IF(H575=\"\",\"\",ROUND(H575/SUM(H570:H577),4))","v":""},null,null,null,null,null,null,{"$f":"+IF(O575=\"\",\"\",IF(N570=\"Transporte Marítimo\",VLOOKUP(O575,$O$4030:$P$4035,2),IF(N570=\"Transporte Aéreo\",VLOOKUP(O575,$O$4037:$P$4042,2),IF(N570=\"Transporte Aéreo\",VLOOKUP(O575,$O$4044:$P$4045,2),\"\"))))","v":""},null,null,null,null,null,null,null,null,null,null,null,null,null,null,null,"",""]
[null,null,null,null,null,null,"",null,{"$f":"IF(H576=\"\",\"\",ROUND(H576/SUM(H570:H577),4))","v":""},null,null,null,null,null,null,{"$f":"+IF(O576=\"\",\"\",IF(N570=\"Transporte Marítimo\",VLOOKUP(O576,$O$4030:$P$4035,2),IF(N570=\"Transporte Aéreo\",VLOOKUP(O576,$O$4037:$P$4042,2),IF(N570=\"Transporte Aéreo\",VLOOKUP(O576,$O$4044:$P$4045,2),\"\"))))","v":""},null,null,null,null,null,null,null,null,null,null,null,null,null,null,null,"",""]
[null,null,null,null,null,null,{"$f":"+IF(F577=\"\",\"\",VLOOKUP(F577,$F$4031:$G$4120,2))","v":""},null,{"$f":"IF(H577=\"\",\"\",ROUND(H577/SUM(H570:H577),4))","v":""},null,null,null,null,null,null,{"$f":"+IF(O577=\"\",\"\",IF(N570=\"Transporte Marítimo\",VLOOKUP(O577,$O$4030:$P$4035,2),IF(N570=\"Transporte Aéreo\",VLOOKUP(O577,$O$4037:$P$4042,2),IF(N570=\"Transporte Aéreo\",VLOOKUP(O577,$O$4044:$P$4045,2),\"\"))))","v":""},null,null,null,null,null,null,null,null,null,null,null,null,null,null,null,"",""]
[null,{"$f":"+B570+1","v":71},null,null,null,null,{"$f":"+IF(F578=\"\",\"\",VLOOKUP(F578,$F$4031:$G$4120,2))","v":""},null,{"$f":"IF(H578=\"\",\"\",1-SUM(I579:I585))","v":""},null,null,null,null,null,null,{"$f":"+IF(O578=\"\",\"\",IF(N578=\"Transporte Marítimo\",VLOOKUP(O578,$O$4030:$P$4035,2),IF(N578=\"Transporte Aéreo\",VLOOKUP(O578,$O$4037:$P$4042,2),IF(N578=\"CTT\",VLOOKUP(O578,$O$4044:$P$4045,2),\"\"))))","v":""},null,null,null,null,null,null,null,null,null,null,null,null,null,null,null,{"$f":"+IF(AE578=\"20NL\",1,IF(AE578=\"40NL\",2,IF(AE578=\"20RF\",3,IF(AE578=\"40RF\",4,\"\"))))","v":""},{"$f":"+IF(AF578=\"\",\"\",VLOOKUP(AF578,$AF$4031:$AG$4034,2))","v":""},null,null,null,null,null,null,null,null,null,null,null,null,null,null," "]
[null,null,null,null,null,null,{"$f":"+IF(F579=\"\",\"\",VLOOKUP(F579,$F$4031:$G$4120,2))","v":""},null,{"$f":"IF(H579=\"\",\"\",ROUND(H579/SUM(H578:H585),4))","v":""},null,null,null,null,null,null,{"$f":"+IF(O579=\"\",\"\",IF(N578=\"Transporte Marítimo\",VLOOKUP(O579,$O$4030:$P$4035,2),IF(N578=\"Transporte Aéreo\",VLOOKUP(O579,$O$4037:$P$4042,2),IF(N578=\"Transporte Aéreo\",VLOOKUP(O579,$O$4044:$P$4045,2),\"\"))))","v":""},null,null,null,null,null,null,null,null,null,null,null,null,null,null,null,{"$f":"+IF(AE579=\"20NL\",1,IF(AE579=\"40NL\",2,IF(AE579=\"20RF\",3,IF(AE579=\"40RF\",4,\"\"))))","v":""},{"$f":"+IF(AF579=\"\",\"\",VLOOKUP(AF579,$AF$4031:$AG$4034,2))","v":""}]
[null,null,null,null,null,null,"",null,{"$f":"IF(H580=\"\",\"\",ROUND(H580/SUM(H578:H585),4))","v":""},null,null,null,null,null,null,{"$f":"+IF(O580=\"\",\"\",IF(N578=\"Transporte Marítimo\",VLOOKUP(O580,$O$4030:$P$4035,2),IF(N578=\"Transporte Aéreo\",VLOOKUP(O580,$O$4037:$P$4042,2),IF(N578=\"Transporte Aéreo\",VLOOKUP(O580,$O$4044:$P$4045,2),\"\"))))","v":""},null,null,null,null,null,null,null,null,null,null,null,null,null,null,null,"",""]
[null,null,null,null,null,null,"",null,{"$f":"IF(H581=\"\",\"\",ROUND(H581/SUM(H578:H585),4))","v":""},null,null,null,null,null,null,{"$f":"+IF(O581=\"\",\"\",IF(N578=\"Transporte Marítimo\",VLOOKUP(O581,$O$4030:$P$4035,2),IF(N578=\"Transporte Aéreo\",VLOOKUP(O581,$O$4037:$P$4042,2),IF(N578=\"Transporte Aéreo\",VLOOKUP(O581,$O$4044:$P$4045,2),\"\"))))","v":""},null,null,null,null,null,null,null,null,null,null,null,null,null,null,null,"",""]
[null,null,null,null,null,null,"",null,{"$f":"IF(H582=\"\",\"\",ROUND(H582/SUM(H578:H585),4))","v":""},null,null,null,null,null,null,{"$f":"+IF(O582=\"\",\"\",IF(N578=\"Transporte Marítimo\",VLOOKUP(O582,$O$4030:$P$4035,2),IF(N578=\"Transporte Aéreo\",VLOOKUP(O582,$O$4037:$P$4042,2),IF(N578=\"Transporte Aéreo\",VLOOKUP(O582,$O$4044:$P$4045,2),\"\"))))","v":""},null,null,null,null,null,null,null,null,null,null,null,null,null,null,null,"",""]
[null,null,null,null,null,null,"",null,{"$f":"IF(H583=\"\",\"\",ROUND(H583/SUM(H578:H585),4))","v":""},null,null,null,null,null,null,{"$f":"+IF(O583=\"\",\"\",IF(N578=\"Transporte Marítimo\",VLOOKUP(O583,$O$4030:$P$4035,2),IF(N578=\"Transporte Aéreo\",VLOOKUP(O583,$O$4037:$P$4042,2),IF(N578=\"Transporte Aéreo\",VLOOKUP(O583,$O$4044:$P$4045,2),\"\"))))","v":""},null,null,null,null,null,null,null,null,null,null,null,null,null,null,null,"",""]
[null,null,null,null,null,null,"",null,{"$f":"IF(H584=\"\",\"\",ROUND(H584/SUM(H578:H585),4))","v":""},null,null,null,null,null,null,{"$f":"+IF(O584=\"\",\"\",IF(N578=\"Transporte Marítimo\",VLOOKUP(O584,$O$4030:$P$4035,2),IF(N578=\"Transporte Aéreo\",VLOOKUP(O584,$O$4037:$P$4042,2),IF(N578=\"Transporte Aéreo\",VLOOKUP(O584,$O$4044:$P$4045,2),\"\"))))","v":""},null,null,null,null,null,null,null,null,null,null,null,null,null,null,null,"",""]
[null,null,null,null,null,null,"",null,{"$f":"IF(H585=\"\",\"\",ROUND(H585/SUM(H578:H585),4))","v":""},null,null,null,null,null,null,{"$f":"+IF(O585=\"\",\"\",IF(N578=\"Transporte Marítimo\",VLOOKUP(O585,$O$4030:$P$4035,2),IF(N578=\"Transporte Aéreo\",VLOOKUP(O585,$O$4037:$P$4042,2),IF(N578=\"Transporte Aéreo\",VLOOKUP(O585,$O$4044:$P$4045,2),\"\"))))","v":""},null,null,null,null,null,null,null,null,null,null,null,null,null,null,null,"",""]
[null,{"$f":"+B578+1","v":72},null,null,null,null,{"$f":"+IF(F586=\"\",\"\",VLOOKUP(F586,$F$4031:$G$4120,2))","v":""},null,{"$f":"IF(H586=\"\",\"\",1-SUM(I587:I593))","v":""},null,null,null,null,null,null,{"$f":"+IF(O586=\"\",\"\",IF(N586=\"Transporte Marítimo\",VLOOKUP(O586,$O$4030:$P$4035,2),IF(N586=\"Transporte Aéreo\",VLOOKUP(O586,$O$4037:$P$4042,2),IF(N586=\"CTT\",VLOOKUP(O586,$O$4044:$P$4045,2),\"\"))))","v":""},null,null,null,null,null,null,null,null,null,null,null,null,null,null,null,{"$f":"+IF(AE586=\"20NL\",1,IF(AE586=\"40NL\",2,IF(AE586=\"20RF\",3,IF(AE586=\"40RF\",4,\"\"))))","v":""},{"$f":"+IF(AF586=\"\",\"\",VLOOKUP(AF586,$AF$4031:$AG$4034,2))","v":""},null,null,null,null,null,null,null,null,null,null,null,null,null,null," "]
[null,null,null,null,null,null,"",null,{"$f":"IF(H587=\"\",\"\",ROUND(H587/SUM(H586:H593),4))","v":""},null,null,null,null,null,null,{"$f":"+IF(O587=\"\",\"\",IF(N586=\"Transporte Marítimo\",VLOOKUP(O587,$O$4030:$P$4035,2),IF(N586=\"Transporte Aéreo\",VLOOKUP(O587,$O$4037:$P$4042,2),IF(N586=\"Transporte Aéreo\",VLOOKUP(O587,$O$4044:$P$4045,2),\"\"))))","v":""},null,null,null,null,null,null,null,null,null,null,null,null,null,null,null,{"$f":"+IF(AE587=\"20NL\",1,IF(AE587=\"40NL\",2,IF(AE587=\"20RF\",3,IF(AE587=\"40RF\",4,\"\"))))","v":""},""]
[null,null,null,null,null,null,"",null,{"$f":"IF(H588=\"\",\"\",ROUND(H588/SUM(H586:H593),4))","v":""},null,null,null,null,null,null,{"$f":"+IF(O588=\"\",\"\",IF(N586=\"Transporte Marítimo\",VLOOKUP(O588,$O$4030:$P$4035,2),IF(N586=\"Transporte Aéreo\",VLOOKUP(O588,$O$4037:$P$4042,2),IF(N586=\"Transporte Aéreo\",VLOOKUP(O588,$O$4044:$P$4045,2),\"\"))))","v":""},null,null,null,null,null,null,null,null,null,null,null,null,null,null,null,"",""]
[null,null,null,null,null,null,"",null,{"$f":"IF(H589=\"\",\"\",ROUND(H589/SUM(H586:H593),4))","v":""},null,null,null,null,null,null,{"$f":"+IF(O589=\"\",\"\",IF(N586=\"Transporte Marítimo\",VLOOKUP(O589,$O$4030:$P$4035,2),IF(N586=\"Transporte Aéreo\",VLOOKUP(O589,$O$4037:$P$4042,2),IF(N586=\"Transporte Aéreo\",VLOOKUP(O589,$O$4044:$P$4045,2),\"\"))))","v":""},null,null,null,null,null,null,null,null,null,null,null,null,null,null,null,"",""]
[null,null,null,null,null,null,"",null,{"$f":"IF(H590=\"\",\"\",ROUND(H590/SUM(H586:H593),4))","v":""},null,null,null,null,null,null,{"$f":"+IF(O590=\"\",\"\",IF(N586=\"Transporte Marítimo\",VLOOKUP(O590,$O$4030:$P$4035,2),IF(N586=\"Transporte Aéreo\",VLOOKUP(O590,$O$4037:$P$4042,2),IF(N586=\"Transporte Aéreo\",VLOOKUP(O590,$O$4044:$P$4045,2),\"\"))))","v":""},null,null,null,null,null,null,null,null,null,null,null,null,null,null,null,"",""]
[null,null,null,null,null,null,"",null,{"$f":"IF(H591=\"\",\"\",ROUND(H591/SUM(H586:H593),4))","v":""},null,null,null,null,null,null,{"$f":"+IF(O591=\"\",\"\",IF(N586=\"Transporte Marítimo\",VLOOKUP(O591,$O$4030:$P$4035,2),IF(N586=\"Transporte Aéreo\",VLOOKUP(O591,$O$4037:$P$4042,2),IF(N586=\"Transporte Aéreo\",VLOOKUP(O591,$O$4044:$P$4045,2),\"\"))))","v":""},null,null,null,null,null,null,null,null,null,null,null,null,null,null,null,"",""]
[null,null,null,null,null,null,"",null,{"$f":"IF(H592=\"\",\"\",ROUND(H592/SUM(H586:H593),4))","v":""},null,null,null,null,null,null,{"$f":"+IF(O592=\"\",\"\",IF(N586=\"Transporte Marítimo\",VLOOKUP(O592,$O$4030:$P$4035,2),IF(N586=\"Transporte Aéreo\",VLOOKUP(O592,$O$4037:$P$4042,2),IF(N586=\"Transporte Aéreo\",VLOOKUP(O592,$O$4044:$P$4045,2),\"\"))))","v":""},null,null,null,null,null,null,null,null,null,null,null,null,null,null,null,"",""]
[null,null,null,null,null,null,"",null,{"$f":"IF(H593=\"\",\"\",ROUND(H593/SUM(H586:H593),4))","v":""},null,null,null,null,null,null,{"$f":"+IF(O593=\"\",\"\",IF(N586=\"Transporte Marítimo\",VLOOKUP(O593,$O$4030:$P$4035,2),IF(N586=\"Transporte Aéreo\",VLOOKUP(O593,$O$4037:$P$4042,2),IF(N586=\"Transporte Aéreo\",VLOOKUP(O593,$O$4044:$P$4045,2),\"\"))))","v":""},null,null,null,null,null,null,null,null,null,null,null,null,null,null,null,"",""]
[null,{"$f":"+B586+1","v":73},null,null,null,null,{"$f":"+IF(F594=\"\",\"\",VLOOKUP(F594,$F$4031:$G$4120,2))","v":""},null,{"$f":"IF(H594=\"\",\"\",1-SUM(I595:I601))","v":""},null,null,null,null,null,null,{"$f":"+IF(O594=\"\",\"\",IF(N594=\"Transporte Marítimo\",VLOOKUP(O594,$O$4030:$P$4035,2),IF(N594=\"Transporte Aéreo\",VLOOKUP(O594,$O$4037:$P$4042,2),IF(N594=\"CTT\",VLOOKUP(O594,$O$4044:$P$4045,2),\"\"))))","v":""},null,null,null,null,null,null,null,null,null,null,null,null,null,null,null,{"$f":"+IF(AE594=\"20NL\",1,IF(AE594=\"40NL\",2,IF(AE594=\"20RF\",3,IF(AE594=\"40RF\",4,\"\"))))","v":""},{"$f":"+IF(AF594=\"\",\"\",VLOOKUP(AF594,$AF$4031:$AG$4034,2))","v":""},null,null,null,null,null,null,null,null,null,null,null,null,null,null," "]
[null,null,null,null,null,null,"",null,{"$f":"IF(H595=\"\",\"\",ROUND(H595/SUM(H594:H601),4))","v":""},null,null,null,null,null,null,{"$f":"+IF(O595=\"\",\"\",IF(N594=\"Transporte Marítimo\",VLOOKUP(O595,$O$4030:$P$4035,2),IF(N594=\"Transporte Aéreo\",VLOOKUP(O595,$O$4037:$P$4042,2),IF(N594=\"Transporte Aéreo\",VLOOKUP(O595,$O$4044:$P$4045,2),\"\"))))","v":""},null,null,null,null,null,null,null,null,null,null,null,null,null,null,null,{"$f":"+IF(AE595=\"20NL\",1,IF(AE595=\"40NL\",2,IF(AE595=\"20RF\",3,IF(AE595=\"40RF\",4,\"\"))))","v":""},""]
[null,null,null,null,null,null,"",null,{"$f":"IF(H596=\"\",\"\",ROUND(H596/SUM(H594:H601),4))","v":""},null,null,null,null,null,null,{"$f":"+IF(O596=\"\",\"\",IF(N594=\"Transporte Marítimo\",VLOOKUP(O596,$O$4030:$P$4035,2),IF(N594=\"Transporte Aéreo\",VLOOKUP(O596,$O$4037:$P$4042,2),IF(N594=\"Transporte Aéreo\",VLOOKUP(O596,$O$4044:$P$4045,2),\"\"))))","v":""},null,null,null,null,null,null,null,null,null,null,null,null,null,null,null,"",""]
[null,null,null,null,null,null,"",null,{"$f":"IF(H597=\"\",\"\",ROUND(H597/SUM(H594:H601),4))","v":""},null,null,null,null,null,null,{"$f":"+IF(O597=\"\",\"\",IF(N594=\"Transporte Marítimo\",VLOOKUP(O597,$O$4030:$P$4035,2),IF(N594=\"Transporte Aéreo\",VLOOKUP(O597,$O$4037:$P$4042,2),IF(N594=\"Transporte Aéreo\",VLOOKUP(O597,$O$4044:$P$4045,2),\"\"))))","v":""},null,null,null,null,null,null,null,null,null,null,null,null,null,null,null,"",""]
[null,null,null,null,null,null,"",null,{"$f":"IF(H598=\"\",\"\",ROUND(H598/SUM(H594:H601),4))","v":""},null,null,null,null,null,null,{"$f":"+IF(O598=\"\",\"\",IF(N594=\"Transporte Marítimo\",VLOOKUP(O598,$O$4030:$P$4035,2),IF(N594=\"Transporte Aéreo\",VLOOKUP(O598,$O$4037:$P$4042,2),IF(N594=\"Transporte Aéreo\",VLOOKUP(O598,$O$4044:$P$4045,2),\"\"))))","v":""},null,null,null,null,null,null,null,null,null,null,null,null,null,null,null,"",""]
[null,null,null,null,null,null,"",null,{"$f":"IF(H599=\"\",\"\",ROUND(H599/SUM(H594:H601),4))","v":""},null,null,null,null,null,null,{"$f":"+IF(O599=\"\",\"\",IF(N594=\"Transporte Marítimo\",VLOOKUP(O599,$O$4030:$P$4035,2),IF(N594=\"Transporte Aéreo\",VLOOKUP(O599,$O$4037:$P$4042,2),IF(N594=\"Transporte Aéreo\",VLOOKUP(O599,$O$4044:$P$4045,2),\"\"))))","v":""},null,null,null,null,null,null,null,null,null,null,null,null,null,null,null,"",""]
[null,null,null,null,null,null,"",null,{"$f":"IF(H600=\"\",\"\",ROUND(H600/SUM(H594:H601),4))","v":""},null,null,null,null,null,null,{"$f":"+IF(O600=\"\",\"\",IF(N594=\"Transporte Marítimo\",VLOOKUP(O600,$O$4030:$P$4035,2),IF(N594=\"Transporte Aéreo\",VLOOKUP(O600,$O$4037:$P$4042,2),IF(N594=\"Transporte Aéreo\",VLOOKUP(O600,$O$4044:$P$4045,2),\"\"))))","v":""},null,null,null,null,null,null,null,null,null,null,null,null,null,null,null,"",""]
[null,null,null,null,null,null,"",null,{"$f":"IF(H601=\"\",\"\",ROUND(H601/SUM(H594:H601),4))","v":""},null,null,null,null,null,null,{"$f":"+IF(O601=\"\",\"\",IF(N594=\"Transporte Marítimo\",VLOOKUP(O601,$O$4030:$P$4035,2),IF(N594=\"Transporte Aéreo\",VLOOKUP(O601,$O$4037:$P$4042,2),IF(N594=\"Transporte Aéreo\",VLOOKUP(O601,$O$4044:$P$4045,2),\"\"))))","v":""},null,null,null,null,null,null,null,null,null,null,null,null,null,null,null,"",""]
[null,{"$f":"+B594+1","v":74},null,null,null,null,{"$f":"+IF(F602=\"\",\"\",VLOOKUP(F602,$F$4031:$G$4120,2))","v":""},null,{"$f":"IF(H602=\"\",\"\",1-SUM(I603:I609))","v":""},null,null,null,null,null,null,{"$f":"+IF(O602=\"\",\"\",IF(N602=\"Transporte Marítimo\",VLOOKUP(O602,$O$4030:$P$4035,2),IF(N602=\"Transporte Aéreo\",VLOOKUP(O602,$O$4037:$P$4042,2),IF(N602=\"CTT\",VLOOKUP(O602,$O$4044:$P$4045,2),\"\"))))","v":""},null,null,null,null,null,null,null,null,null,null,null,null,null,null,null,{"$f":"+IF(AE602=\"20NL\",1,IF(AE602=\"40NL\",2,IF(AE602=\"20RF\",3,IF(AE602=\"40RF\",4,\"\"))))","v":""},{"$f":"+IF(AF602=\"\",\"\",VLOOKUP(AF602,$AF$4031:$AG$4034,2))","v":""},null,null,null,null,null,null,null,null,null,null,null,null,null,null," "]
[null,null,null,null,null,null,"",null,{"$f":"IF(H603=\"\",\"\",ROUND(H603/SUM(H602:H609),4))","v":""},null,null,null,null,null,null,{"$f":"+IF(O603=\"\",\"\",IF(N602=\"Transporte Marítimo\",VLOOKUP(O603,$O$4030:$P$4035,2),IF(N602=\"Transporte Aéreo\",VLOOKUP(O603,$O$4037:$P$4042,2),IF(N602=\"Transporte Aéreo\",VLOOKUP(O603,$O$4044:$P$4045,2),\"\"))))","v":""},null,null,null,null,null,null,null,null,null,null,null,null,null,null,null,{"$f":"+IF(AE603=\"20NL\",1,IF(AE603=\"40NL\",2,IF(AE603=\"20RF\",3,IF(AE603=\"40RF\",4,\"\"))))","v":""},""]
[null,null,null,null,null,null,"",null,{"$f":"IF(H604=\"\",\"\",ROUND(H604/SUM(H602:H609),4))","v":""},null,null,null,null,null,null,{"$f":"+IF(O604=\"\",\"\",IF(N602=\"Transporte Marítimo\",VLOOKUP(O604,$O$4030:$P$4035,2),IF(N602=\"Transporte Aéreo\",VLOOKUP(O604,$O$4037:$P$4042,2),IF(N602=\"Transporte Aéreo\",VLOOKUP(O604,$O$4044:$P$4045,2),\"\"))))","v":""},null,null,null,null,null,null,null,null,null,null,null,null,null,null,null,"",""]
[null,null,null,null,null,null,"",null,{"$f":"IF(H605=\"\",\"\",ROUND(H605/SUM(H602:H609),4))","v":""},null,null,null,null,null,null,{"$f":"+IF(O605=\"\",\"\",IF(N602=\"Transporte Marítimo\",VLOOKUP(O605,$O$4030:$P$4035,2),IF(N602=\"Transporte Aéreo\",VLOOKUP(O605,$O$4037:$P$4042,2),IF(N602=\"Transporte Aéreo\",VLOOKUP(O605,$O$4044:$P$4045,2),\"\"))))","v":""},null,null,null,null,null,null,null,null,null,null,null,null,null,null,null,"",""]
[null,null,null,null,null,null,"",null,{"$f":"IF(H606=\"\",\"\",ROUND(H606/SUM(H602:H609),4))","v":""},null,null,null,null,null,null,{"$f":"+IF(O606=\"\",\"\",IF(N602=\"Transporte Marítimo\",VLOOKUP(O606,$O$4030:$P$4035,2),IF(N602=\"Transporte Aéreo\",VLOOKUP(O606,$O$4037:$P$4042,2),IF(N602=\"Transporte Aéreo\",VLOOKUP(O606,$O$4044:$P$4045,2),\"\"))))","v":""},null,null,null,null,null,null,null,null,null,null,null,null,null,null,null,"",""]
[null,null,null,null,null,null,"",null,{"$f":"IF(H607=\"\",\"\",ROUND(H607/SUM(H602:H609),4))","v":""},null,null,null,null,null,null,{"$f":"+IF(O607=\"\",\"\",IF(N602=\"Transporte Marítimo\",VLOOKUP(O607,$O$4030:$P$4035,2),IF(N602=\"Transporte Aéreo\",VLOOKUP(O607,$O$4037:$P$4042,2),IF(N602=\"Transporte Aéreo\",VLOOKUP(O607,$O$4044:$P$4045,2),\"\"))))","v":""},null,null,null,null,null,null,null,null,null,null,null,null,null,null,null,"",""]
[null,null,null,null,null,null,"",null,{"$f":"IF(H608=\"\",\"\",ROUND(H608/SUM(H602:H609),4))","v":""},null,null,null,null,null,null,{"$f":"+IF(O608=\"\",\"\",IF(N602=\"Transporte Marítimo\",VLOOKUP(O608,$O$4030:$P$4035,2),IF(N602=\"Transporte Aéreo\",VLOOKUP(O608,$O$4037:$P$4042,2),IF(N602=\"Transporte Aéreo\",VLOOKUP(O608,$O$4044:$P$4045,2),\"\"))))","v":""},null,null,null,null,null,null,null,null,null,null,null,null,null,null,null,"",""]
[null,null,null,null,null,null,"",null,{"$f":"IF(H609=\"\",\"\",ROUND(H609/SUM(H602:H609),4))","v":""},null,null,null,null,null,null,{"$f":"+IF(O609=\"\",\"\",IF(N602=\"Transporte Marítimo\",VLOOKUP(O609,$O$4030:$P$4035,2),IF(N602=\"Transporte Aéreo\",VLOOKUP(O609,$O$4037:$P$4042,2),IF(N602=\"Transporte Aéreo\",VLOOKUP(O609,$O$4044:$P$4045,2),\"\"))))","v":""},null,null,null,null,null,null,null,null,null,null,null,null,null,null,null,"",""]
[null,{"$f":"+B602+1","v":75},null,null,null,null,{"$f":"+IF(F610=\"\",\"\",VLOOKUP(F610,$F$4031:$G$4120,2))","v":""},null,{"$f":"IF(H610=\"\",\"\",1-SUM(I611:I617))","v":""},null,null,null,null,null,null,{"$f":"+IF(O610=\"\",\"\",IF(N610=\"Transporte Marítimo\",VLOOKUP(O610,$O$4030:$P$4035,2),IF(N610=\"Transporte Aéreo\",VLOOKUP(O610,$O$4037:$P$4042,2),IF(N610=\"CTT\",VLOOKUP(O610,$O$4044:$P$4045,2),\"\"))))","v":""},null,null,null,null,null,null,null,null,null,null,null,null,null,null,null,{"$f":"+IF(AE610=\"20NL\",1,IF(AE610=\"40NL\",2,IF(AE610=\"20RF\",3,IF(AE610=\"40RF\",4,\"\"))))","v":""},{"$f":"+IF(AF610=\"\",\"\",VLOOKUP(AF610,$AF$4031:$AG$4034,2))","v":""},null,null,null,null,null,null,null,null,null,null,null,null,null,null," "]
[null,null,null,null,null,null,"",null,{"$f":"IF(H611=\"\",\"\",ROUND(H611/SUM(H610:H617),4))","v":""},null,null,null,null,null,null,{"$f":"+IF(O611=\"\",\"\",IF(N610=\"Transporte Marítimo\",VLOOKUP(O611,$O$4030:$P$4035,2),IF(N610=\"Transporte Aéreo\",VLOOKUP(O611,$O$4037:$P$4042,2),IF(N610=\"Transporte Aéreo\",VLOOKUP(O611,$O$4044:$P$4045,2),\"\"))))","v":""},null,null,null,null,null,null,null,null,null,null,null,null,null,null,null,{"$f":"+IF(AE611=\"20NL\",1,IF(AE611=\"40NL\",2,IF(AE611=\"20RF\",3,IF(AE611=\"40RF\",4,\"\"))))","v":""},""]
[null,null,null,null,null,null,"",null,{"$f":"IF(H612=\"\",\"\",ROUND(H612/SUM(H610:H617),4))","v":""},null,null,null,null,null,null,{"$f":"+IF(O612=\"\",\"\",IF(N610=\"Transporte Marítimo\",VLOOKUP(O612,$O$4030:$P$4035,2),IF(N610=\"Transporte Aéreo\",VLOOKUP(O612,$O$4037:$P$4042,2),IF(N610=\"Transporte Aéreo\",VLOOKUP(O612,$O$4044:$P$4045,2),\"\"))))","v":""},null,null,null,null,null,null,null,null,null,null,null,null,null,null,null,"",""]
[null,null,null,null,null,null,"",null,{"$f":"IF(H613=\"\",\"\",ROUND(H613/SUM(H610:H617),4))","v":""},null,null,null,null,null,null,{"$f":"+IF(O613=\"\",\"\",IF(N610=\"Transporte Marítimo\",VLOOKUP(O613,$O$4030:$P$4035,2),IF(N610=\"Transporte Aéreo\",VLOOKUP(O613,$O$4037:$P$4042,2),IF(N610=\"Transporte Aéreo\",VLOOKUP(O613,$O$4044:$P$4045,2),\"\"))))","v":""},null,null,null,null,null,null,null,null,null,null,null,null,null,null,null,"",""]
[null,null,null,null,null,null,"",null,{"$f":"IF(H614=\"\",\"\",ROUND(H614/SUM(H610:H617),4))","v":""},null,null,null,null,null,null,{"$f":"+IF(O614=\"\",\"\",IF(N610=\"Transporte Marítimo\",VLOOKUP(O614,$O$4030:$P$4035,2),IF(N610=\"Transporte Aéreo\",VLOOKUP(O614,$O$4037:$P$4042,2),IF(N610=\"Transporte Aéreo\",VLOOKUP(O614,$O$4044:$P$4045,2),\"\"))))","v":""},null,null,null,null,null,null,null,null,null,null,null,null,null,null,null,"",""]
[null,null,null,null,null,null,"",null,{"$f":"IF(H615=\"\",\"\",ROUND(H615/SUM(H610:H617),4))","v":""},null,null,null,null,null,null,{"$f":"+IF(O615=\"\",\"\",IF(N610=\"Transporte Marítimo\",VLOOKUP(O615,$O$4030:$P$4035,2),IF(N610=\"Transporte Aéreo\",VLOOKUP(O615,$O$4037:$P$4042,2),IF(N610=\"Transporte Aéreo\",VLOOKUP(O615,$O$4044:$P$4045,2),\"\"))))","v":""},null,null,null,null,null,null,null,null,null,null,null,null,null,null,null,"",""]
[null,null,null,null,null,null,"",null,{"$f":"IF(H616=\"\",\"\",ROUND(H616/SUM(H610:H617),4))","v":""},null,null,null,null,null,null,{"$f":"+IF(O616=\"\",\"\",IF(N610=\"Transporte Marítimo\",VLOOKUP(O616,$O$4030:$P$4035,2),IF(N610=\"Transporte Aéreo\",VLOOKUP(O616,$O$4037:$P$4042,2),IF(N610=\"Transporte Aéreo\",VLOOKUP(O616,$O$4044:$P$4045,2),\"\"))))","v":""},null,null,null,null,null,null,null,null,null,null,null,null,null,null,null,"",""]
[null,null,null,null,null,null,"",null,{"$f":"IF(H617=\"\",\"\",ROUND(H617/SUM(H610:H617),4))","v":""},null,null,null,null,null,null,{"$f":"+IF(O617=\"\",\"\",IF(N610=\"Transporte Marítimo\",VLOOKUP(O617,$O$4030:$P$4035,2),IF(N610=\"Transporte Aéreo\",VLOOKUP(O617,$O$4037:$P$4042,2),IF(N610=\"Transporte Aéreo\",VLOOKUP(O617,$O$4044:$P$4045,2),\"\"))))","v":""},null,null,null,null,null,null,null,null,null,null,null,null,null,null,null,"",""]
[null,{"$f":"+B610+1","v":76},null,null,null,null,{"$f":"+IF(F618=\"\",\"\",VLOOKUP(F618,$F$4031:$G$4120,2))","v":""},null,{"$f":"IF(H618=\"\",\"\",1-SUM(I619:I625))","v":""},null,null,null,null,null,null,{"$f":"+IF(O618=\"\",\"\",IF(N618=\"Transporte Marítimo\",VLOOKUP(O618,$O$4030:$P$4035,2),IF(N618=\"Transporte Aéreo\",VLOOKUP(O618,$O$4037:$P$4042,2),IF(N618=\"CTT\",VLOOKUP(O618,$O$4044:$P$4045,2),\"\"))))","v":""},null,null,null,null,null,null,null,null,null,null,null,null,null,null,null,{"$f":"+IF(AE618=\"20NL\",1,IF(AE618=\"40NL\",2,IF(AE618=\"20RF\",3,IF(AE618=\"40RF\",4,\"\"))))","v":""},{"$f":"+IF(AF618=\"\",\"\",VLOOKUP(AF618,$AF$4031:$AG$4034,2))","v":""},null,null,null,null,null,null,null,null,null,null,null,null,null,null," "]
[null,null,null,null,null,null,"",null,{"$f":"IF(H619=\"\",\"\",ROUND(H619/SUM(H618:H625),4))","v":""},null,null,null,null,null,null,{"$f":"+IF(O619=\"\",\"\",IF(N618=\"Transporte Marítimo\",VLOOKUP(O619,$O$4030:$P$4035,2),IF(N618=\"Transporte Aéreo\",VLOOKUP(O619,$O$4037:$P$4042,2),IF(N618=\"Transporte Aéreo\",VLOOKUP(O619,$O$4044:$P$4045,2),\"\"))))","v":""},null,null,null,null,null,null,null,null,null,null,null,null,null,null,null,{"$f":"+IF(AE619=\"20NL\",1,IF(AE619=\"40NL\",2,IF(AE619=\"20RF\",3,IF(AE619=\"40RF\",4,\"\"))))","v":""},""]
[null,null,null,null,null,null,"",null,{"$f":"IF(H620=\"\",\"\",ROUND(H620/SUM(H618:H625),4))","v":""},null,null,null,null,null,null,{"$f":"+IF(O620=\"\",\"\",IF(N618=\"Transporte Marítimo\",VLOOKUP(O620,$O$4030:$P$4035,2),IF(N618=\"Transporte Aéreo\",VLOOKUP(O620,$O$4037:$P$4042,2),IF(N618=\"Transporte Aéreo\",VLOOKUP(O620,$O$4044:$P$4045,2),\"\"))))","v":""},null,null,null,null,null,null,null,null,null,null,null,null,null,null,null,"",""]
[null,null,null,null,null,null,"",null,{"$f":"IF(H621=\"\",\"\",ROUND(H621/SUM(H618:H625),4))","v":""},null,null,null,null,null,null,{"$f":"+IF(O621=\"\",\"\",IF(N618=\"Transporte Marítimo\",VLOOKUP(O621,$O$4030:$P$4035,2),IF(N618=\"Transporte Aéreo\",VLOOKUP(O621,$O$4037:$P$4042,2),IF(N618=\"Transporte Aéreo\",VLOOKUP(O621,$O$4044:$P$4045,2),\"\"))))","v":""},null,null,null,null,null,null,null,null,null,null,null,null,null,null,null,"",""]
[null,null,null,null,null,null,"",null,{"$f":"IF(H622=\"\",\"\",ROUND(H622/SUM(H618:H625),4))","v":""},null,null,null,null,null,null,{"$f":"+IF(O622=\"\",\"\",IF(N618=\"Transporte Marítimo\",VLOOKUP(O622,$O$4030:$P$4035,2),IF(N618=\"Transporte Aéreo\",VLOOKUP(O622,$O$4037:$P$4042,2),IF(N618=\"Transporte Aéreo\",VLOOKUP(O622,$O$4044:$P$4045,2),\"\"))))","v":""},null,null,null,null,null,null,null,null,null,null,null,null,null,null,null,"",""]
[null,null,null,null,null,null,"",null,{"$f":"IF(H623=\"\",\"\",ROUND(H623/SUM(H618:H625),4))","v":""},null,null,null,null,null,null,{"$f":"+IF(O623=\"\",\"\",IF(N618=\"Transporte Marítimo\",VLOOKUP(O623,$O$4030:$P$4035,2),IF(N618=\"Transporte Aéreo\",VLOOKUP(O623,$O$4037:$P$4042,2),IF(N618=\"Transporte Aéreo\",VLOOKUP(O623,$O$4044:$P$4045,2),\"\"))))","v":""},null,null,null,null,null,null,null,null,null,null,null,null,null,null,null,"",""]
[null,null,null,null,null,null,"",null,{"$f":"IF(H624=\"\",\"\",ROUND(H624/SUM(H618:H625),4))","v":""},null,null,null,null,null,null,{"$f":"+IF(O624=\"\",\"\",IF(N618=\"Transporte Marítimo\",VLOOKUP(O624,$O$4030:$P$4035,2),IF(N618=\"Transporte Aéreo\",VLOOKUP(O624,$O$4037:$P$4042,2),IF(N618=\"Transporte Aéreo\",VLOOKUP(O624,$O$4044:$P$4045,2),\"\"))))","v":""},null,null,null,null,null,null,null,null,null,null,null,null,null,null,null,"",""]
[null,null,null,null,null,null,"",null,{"$f":"IF(H625=\"\",\"\",ROUND(H625/SUM(H618:H625),4))","v":""},null,null,null,null,null,null,{"$f":"+IF(O625=\"\",\"\",IF(N618=\"Transporte Marítimo\",VLOOKUP(O625,$O$4030:$P$4035,2),IF(N618=\"Transporte Aéreo\",VLOOKUP(O625,$O$4037:$P$4042,2),IF(N618=\"Transporte Aéreo\",VLOOKUP(O625,$O$4044:$P$4045,2),\"\"))))","v":""},null,null,null,null,null,null,null,null,null,null,null,null,null,null,null,"",""]
[null,{"$f":"+B618+1","v":77},null,null,null,null,{"$f":"+IF(F626=\"\",\"\",VLOOKUP(F626,$F$4031:$G$4120,2))","v":""},null,{"$f":"IF(H626=\"\",\"\",1-SUM(I627:I633))","v":""},null,null,null,null,null,null,{"$f":"+IF(O626=\"\",\"\",IF(N626=\"Transporte Marítimo\",VLOOKUP(O626,$O$4030:$P$4035,2),IF(N626=\"Transporte Aéreo\",VLOOKUP(O626,$O$4037:$P$4042,2),IF(N626=\"CTT\",VLOOKUP(O626,$O$4044:$P$4045,2),\"\"))))","v":""},null,null,null,null,null,null,null,null,null,null,null,null,null,null,null,{"$f":"+IF(AE626=\"20NL\",1,IF(AE626=\"40NL\",2,IF(AE626=\"20RF\",3,IF(AE626=\"40RF\",4,\"\"))))","v":""},{"$f":"+IF(AF626=\"\",\"\",VLOOKUP(AF626,$AF$4031:$AG$4034,2))","v":""},null,null,null,null,null,null,null,null,null,null,null,null,null,null," "]
[null,null,null,null,null,null,"",null,{"$f":"IF(H627=\"\",\"\",ROUND(H627/SUM(H626:H633),4))","v":""},null,null,null,null,null,null,{"$f":"+IF(O627=\"\",\"\",IF(N626=\"Transporte Marítimo\",VLOOKUP(O627,$O$4030:$P$4035,2),IF(N626=\"Transporte Aéreo\",VLOOKUP(O627,$O$4037:$P$4042,2),IF(N626=\"Transporte Aéreo\",VLOOKUP(O627,$O$4044:$P$4045,2),\"\"))))","v":""},null,null,null,null,null,null,null,null,null,null,null,null,null,null,null,{"$f":"+IF(AE627=\"20NL\",1,IF(AE627=\"40NL\",2,IF(AE627=\"20RF\",3,IF(AE627=\"40RF\",4,\"\"))))","v":""},""]
[null,null,null,null,null,null,"",null,{"$f":"IF(H628=\"\",\"\",ROUND(H628/SUM(H626:H633),4))","v":""},null,null,null,null,null,null,{"$f":"+IF(O628=\"\",\"\",IF(N626=\"Transporte Marítimo\",VLOOKUP(O628,$O$4030:$P$4035,2),IF(N626=\"Transporte Aéreo\",VLOOKUP(O628,$O$4037:$P$4042,2),IF(N626=\"Transporte Aéreo\",VLOOKUP(O628,$O$4044:$P$4045,2),\"\"))))","v":""},null,null,null,null,null,null,null,null,null,null,null,null,null,null,null,"",""]
[null,null,null,null,null,null,"",null,{"$f":"IF(H629=\"\",\"\",ROUND(H629/SUM(H626:H633),4))","v":""},null,null,null,null,null,null,{"$f":"+IF(O629=\"\",\"\",IF(N626=\"Transporte Marítimo\",VLOOKUP(O629,$O$4030:$P$4035,2),IF(N626=\"Transporte Aéreo\",VLOOKUP(O629,$O$4037:$P$4042,2),IF(N626=\"Transporte Aéreo\",VLOOKUP(O629,$O$4044:$P$4045,2),\"\"))))","v":""},null,null,null,null,null,null,null,null,null,null,null,null,null,null,null,"",""]
[null,null,null,null,null,null,"",null,{"$f":"IF(H630=\"\",\"\",ROUND(H630/SUM(H626:H633),4))","v":""},null,null,null,null,null,null,{"$f":"+IF(O630=\"\",\"\",IF(N626=\"Transporte Marítimo\",VLOOKUP(O630,$O$4030:$P$4035,2),IF(N626=\"Transporte Aéreo\",VLOOKUP(O630,$O$4037:$P$4042,2),IF(N626=\"Transporte Aéreo\",VLOOKUP(O630,$O$4044:$P$4045,2),\"\"))))","v":""},null,null,null,null,null,null,null,null,null,null,null,null,null,null,null,"",""]
[null,null,null,null,null,null,"",null,{"$f":"IF(H631=\"\",\"\",ROUND(H631/SUM(H626:H633),4))","v":""},null,null,null,null,null,null,{"$f":"+IF(O631=\"\",\"\",IF(N626=\"Transporte Marítimo\",VLOOKUP(O631,$O$4030:$P$4035,2),IF(N626=\"Transporte Aéreo\",VLOOKUP(O631,$O$4037:$P$4042,2),IF(N626=\"Transporte Aéreo\",VLOOKUP(O631,$O$4044:$P$4045,2),\"\"))))","v":""},null,null,null,null,null,null,null,null,null,null,null,null,null,null,null,"",""]
[null,null,null,null,null,null,"",null,{"$f":"IF(H632=\"\",\"\",ROUND(H632/SUM(H626:H633),4))","v":""},null,null,null,null,null,null,{"$f":"+IF(O632=\"\",\"\",IF(N626=\"Transporte Marítimo\",VLOOKUP(O632,$O$4030:$P$4035,2),IF(N626=\"Transporte Aéreo\",VLOOKUP(O632,$O$4037:$P$4042,2),IF(N626=\"Transporte Aéreo\",VLOOKUP(O632,$O$4044:$P$4045,2),\"\"))))","v":""},null,null,null,null,null,null,null,null,null,null,null,null,null,null,null,"",""]
[null,null,null,null,null,null,"",null,{"$f":"IF(H633=\"\",\"\",ROUND(H633/SUM(H626:H633),4))","v":""},null,null,null,null,null,null,{"$f":"+IF(O633=\"\",\"\",IF(N626=\"Transporte Marítimo\",VLOOKUP(O633,$O$4030:$P$4035,2),IF(N626=\"Transporte Aéreo\",VLOOKUP(O633,$O$4037:$P$4042,2),IF(N626=\"Transporte Aéreo\",VLOOKUP(O633,$O$4044:$P$4045,2),\"\"))))","v":""},null,null,null,null,null,null,null,null,null,null,null,null,null,null,null,"",""]
[null,{"$f":"+B626+1","v":78},null,null,null,null,{"$f":"+IF(F634=\"\",\"\",VLOOKUP(F634,$F$4031:$G$4120,2))","v":""},null,{"$f":"IF(H634=\"\",\"\",1-SUM(I635:I641))","v":""},null,null,null,null,null,null,{"$f":"+IF(O634=\"\",\"\",IF(N634=\"Transporte Marítimo\",VLOOKUP(O634,$O$4030:$P$4035,2),IF(N634=\"Transporte Aéreo\",VLOOKUP(O634,$O$4037:$P$4042,2),IF(N634=\"CTT\",VLOOKUP(O634,$O$4044:$P$4045,2),\"\"))))","v":""},null,null,null,null,null,null,null,null,null,null,null,null,null,null,null,{"$f":"+IF(AE634=\"20NL\",1,IF(AE634=\"40NL\",2,IF(AE634=\"20RF\",3,IF(AE634=\"40RF\",4,\"\"))))","v":""},{"$f":"+IF(AF634=\"\",\"\",VLOOKUP(AF634,$AF$4031:$AG$4034,2))","v":""},null,null,null,null,null,null,null,null,null,null,null,null,null,null," "]
[null,null,null,null,null,null,"",null,{"$f":"IF(H635=\"\",\"\",ROUND(H635/SUM(H634:H641),4))","v":""},null,null,null,null,null,null,{"$f":"+IF(O635=\"\",\"\",IF(N634=\"Transporte Marítimo\",VLOOKUP(O635,$O$4030:$P$4035,2),IF(N634=\"Transporte Aéreo\",VLOOKUP(O635,$O$4037:$P$4042,2),IF(N634=\"Transporte Aéreo\",VLOOKUP(O635,$O$4044:$P$4045,2),\"\"))))","v":""},null,null,null,null,null,null,null,null,null,null,null,null,null,null,null,{"$f":"+IF(AE635=\"20NL\",1,IF(AE635=\"40NL\",2,IF(AE635=\"20RF\",3,IF(AE635=\"40RF\",4,\"\"))))","v":""},""]
[null,null,null,null,null,null,"",null,{"$f":"IF(H636=\"\",\"\",ROUND(H636/SUM(H634:H641),4))","v":""},null,null,null,null,null,null,{"$f":"+IF(O636=\"\",\"\",IF(N634=\"Transporte Marítimo\",VLOOKUP(O636,$O$4030:$P$4035,2),IF(N634=\"Transporte Aéreo\",VLOOKUP(O636,$O$4037:$P$4042,2),IF(N634=\"Transporte Aéreo\",VLOOKUP(O636,$O$4044:$P$4045,2),\"\"))))","v":""},null,null,null,null,null,null,null,null,null,null,null,null,null,null,null,"",""]
[null,null,null,null,null,null,"",null,{"$f":"IF(H637=\"\",\"\",ROUND(H637/SUM(H634:H641),4))","v":""},null,null,null,null,null,null,{"$f":"+IF(O637=\"\",\"\",IF(N634=\"Transporte Marítimo\",VLOOKUP(O637,$O$4030:$P$4035,2),IF(N634=\"Transporte Aéreo\",VLOOKUP(O637,$O$4037:$P$4042,2),IF(N634=\"Transporte Aéreo\",VLOOKUP(O637,$O$4044:$P$4045,2),\"\"))))","v":""},null,null,null,null,null,null,null,null,null,null,null,null,null,null,null,"",""]
[null,null,null,null,null,null,"",null,{"$f":"IF(H638=\"\",\"\",ROUND(H638/SUM(H634:H641),4))","v":""},null,null,null,null,null,null,{"$f":"+IF(O638=\"\",\"\",IF(N634=\"Transporte Marítimo\",VLOOKUP(O638,$O$4030:$P$4035,2),IF(N634=\"Transporte Aéreo\",VLOOKUP(O638,$O$4037:$P$4042,2),IF(N634=\"Transporte Aéreo\",VLOOKUP(O638,$O$4044:$P$4045,2),\"\"))))","v":""},null,null,null,null,null,null,null,null,null,null,null,null,null,null,null,"",""]
[null,null,null,null,null,null,"",null,{"$f":"IF(H639=\"\",\"\",ROUND(H639/SUM(H634:H641),4))","v":""},null,null,null,null,null,null,{"$f":"+IF(O639=\"\",\"\",IF(N634=\"Transporte Marítimo\",VLOOKUP(O639,$O$4030:$P$4035,2),IF(N634=\"Transporte Aéreo\",VLOOKUP(O639,$O$4037:$P$4042,2),IF(N634=\"Transporte Aéreo\",VLOOKUP(O639,$O$4044:$P$4045,2),\"\"))))","v":""},null,null,null,null,null,null,null,null,null,null,null,null,null,null,null,"",""]
[null,null,null,null,null,null,"",null,{"$f":"IF(H640=\"\",\"\",ROUND(H640/SUM(H634:H641),4))","v":""},null,null,null,null,null,null,{"$f":"+IF(O640=\"\",\"\",IF(N634=\"Transporte Marítimo\",VLOOKUP(O640,$O$4030:$P$4035,2),IF(N634=\"Transporte Aéreo\",VLOOKUP(O640,$O$4037:$P$4042,2),IF(N634=\"Transporte Aéreo\",VLOOKUP(O640,$O$4044:$P$4045,2),\"\"))))","v":""},null,null,null,null,null,null,null,null,null,null,null,null,null,null,null,"",""]
[null,null,null,null,null,null,"",null,{"$f":"IF(H641=\"\",\"\",ROUND(H641/SUM(H634:H641),4))","v":""},null,null,null,null,null,null,{"$f":"+IF(O641=\"\",\"\",IF(N634=\"Transporte Marítimo\",VLOOKUP(O641,$O$4030:$P$4035,2),IF(N634=\"Transporte Aéreo\",VLOOKUP(O641,$O$4037:$P$4042,2),IF(N634=\"Transporte Aéreo\",VLOOKUP(O641,$O$4044:$P$4045,2),\"\"))))","v":""},null,null,null,null,null,null,null,null,null,null,null,null,null,null,null,"",""]
[null,{"$f":"+B634+1","v":79},null,null,null,null,{"$f":"+IF(F642=\"\",\"\",VLOOKUP(F642,$F$4031:$G$4120,2))","v":""},null,{"$f":"IF(H642=\"\",\"\",1-SUM(I643:I649))","v":""},null,null,null,null,null,null,{"$f":"+IF(O642=\"\",\"\",IF(N642=\"Transporte Marítimo\",VLOOKUP(O642,$O$4030:$P$4035,2),IF(N642=\"Transporte Aéreo\",VLOOKUP(O642,$O$4037:$P$4042,2),IF(N642=\"CTT\",VLOOKUP(O642,$O$4044:$P$4045,2),\"\"))))","v":""},null,null,null,null,null,null,null,null,null,null,null,null,null,null,null,{"$f":"+IF(AE642=\"20NL\",1,IF(AE642=\"40NL\",2,IF(AE642=\"20RF\",3,IF(AE642=\"40RF\",4,\"\"))))","v":""},{"$f":"+IF(AF642=\"\",\"\",VLOOKUP(AF642,$AF$4031:$AG$4034,2))","v":""},null,null,null,null,null,null,null,null,null,null,null,null,null,null," "]
[null,null,null,null,null,null,{"$f":"+IF(F643=\"\",\"\",VLOOKUP(F643,$F$4031:$G$4120,2))","v":""},null,{"$f":"IF(H643=\"\",\"\",ROUND(H643/SUM(H642:H649),4))","v":""},null,null,null,null,null,null,{"$f":"+IF(O643=\"\",\"\",IF(N642=\"Transporte Marítimo\",VLOOKUP(O643,$O$4030:$P$4035,2),IF(N642=\"Transporte Aéreo\",VLOOKUP(O643,$O$4037:$P$4042,2),IF(N642=\"Transporte Aéreo\",VLOOKUP(O643,$O$4044:$P$4045,2),\"\"))))","v":""},null,null,null,null,null,null,null,null,null,null,null,null,null,null,null,{"$f":"+IF(AE643=\"20NL\",1,IF(AE643=\"40NL\",2,IF(AE643=\"20RF\",3,IF(AE643=\"40RF\",4,\"\"))))","v":""},{"$f":"+IF(AF643=\"\",\"\",VLOOKUP(AF643,$AF$4031:$AG$4034,2))","v":""}]
[null,null,null,null,null,null,"",null,{"$f":"IF(H644=\"\",\"\",ROUND(H644/SUM(H642:H649),4))","v":""},null,null,null,null,null,null,{"$f":"+IF(O644=\"\",\"\",IF(N642=\"Transporte Marítimo\",VLOOKUP(O644,$O$4030:$P$4035,2),IF(N642=\"Transporte Aéreo\",VLOOKUP(O644,$O$4037:$P$4042,2),IF(N642=\"Transporte Aéreo\",VLOOKUP(O644,$O$4044:$P$4045,2),\"\"))))","v":""},null,null,null,null,null,null,null,null,null,null,null,null,null,null,null,"",""]
[null,null,null,null,null,null,"",null,{"$f":"IF(H645=\"\",\"\",ROUND(H645/SUM(H642:H649),4))","v":""},null,null,null,null,null,null,{"$f":"+IF(O645=\"\",\"\",IF(N642=\"Transporte Marítimo\",VLOOKUP(O645,$O$4030:$P$4035,2),IF(N642=\"Transporte Aéreo\",VLOOKUP(O645,$O$4037:$P$4042,2),IF(N642=\"Transporte Aéreo\",VLOOKUP(O645,$O$4044:$P$4045,2),\"\"))))","v":""},null,null,null,null,null,null,null,null,null,null,null,null,null,null,null,"",""]
[null,null,null,null,null,null,"",null,{"$f":"IF(H646=\"\",\"\",ROUND(H646/SUM(H642:H649),4))","v":""},null,null,null,null,null,null,{"$f":"+IF(O646=\"\",\"\",IF(N642=\"Transporte Marítimo\",VLOOKUP(O646,$O$4030:$P$4035,2),IF(N642=\"Transporte Aéreo\",VLOOKUP(O646,$O$4037:$P$4042,2),IF(N642=\"Transporte Aéreo\",VLOOKUP(O646,$O$4044:$P$4045,2),\"\"))))","v":""},null,null,null,null,null,null,null,null,null,null,null,null,null,null,null,"",""]
[null,null,null,null,null,null,"",null,{"$f":"IF(H647=\"\",\"\",ROUND(H647/SUM(H642:H649),4))","v":""},null,null,null,null,null,null,{"$f":"+IF(O647=\"\",\"\",IF(N642=\"Transporte Marítimo\",VLOOKUP(O647,$O$4030:$P$4035,2),IF(N642=\"Transporte Aéreo\",VLOOKUP(O647,$O$4037:$P$4042,2),IF(N642=\"Transporte Aéreo\",VLOOKUP(O647,$O$4044:$P$4045,2),\"\"))))","v":""},null,null,null,null,null,null,null,null,null,null,null,null,null,null,null,"",""]
[null,null,null,null,null,null,"",null,{"$f":"IF(H648=\"\",\"\",ROUND(H648/SUM(H642:H649),4))","v":""},null,null,null,null,null,null,{"$f":"+IF(O648=\"\",\"\",IF(N642=\"Transporte Marítimo\",VLOOKUP(O648,$O$4030:$P$4035,2),IF(N642=\"Transporte Aéreo\",VLOOKUP(O648,$O$4037:$P$4042,2),IF(N642=\"Transporte Aéreo\",VLOOKUP(O648,$O$4044:$P$4045,2),\"\"))))","v":""},null,null,null,null,null,null,null,null,null,null,null,null,null,null,null,"",""]
[null,null,null,null,null,null,"",null,{"$f":"IF(H649=\"\",\"\",ROUND(H649/SUM(H642:H649),4))","v":""},null,null,null,null,null,null,{"$f":"+IF(O649=\"\",\"\",IF(N642=\"Transporte Marítimo\",VLOOKUP(O649,$O$4030:$P$4035,2),IF(N642=\"Transporte Aéreo\",VLOOKUP(O649,$O$4037:$P$4042,2),IF(N642=\"Transporte Aéreo\",VLOOKUP(O649,$O$4044:$P$4045,2),\"\"))))","v":""},null,null,null,null,null,null,null,null,null,null,null,null,null,null,null,"",""]
[null,{"$f":"+B642+1","v":80},null,null,null,null,{"$f":"+IF(F650=\"\",\"\",VLOOKUP(F650,$F$4031:$G$4120,2))","v":""},null,{"$f":"IF(H650=\"\",\"\",1-SUM(I651:I657))","v":""},null,null,null,null,null,null,{"$f":"+IF(O650=\"\",\"\",IF(N650=\"Transporte Marítimo\",VLOOKUP(O650,$O$4030:$P$4035,2),IF(N650=\"Transporte Aéreo\",VLOOKUP(O650,$O$4037:$P$4042,2),IF(N650=\"CTT\",VLOOKUP(O650,$O$4044:$P$4045,2),\"\"))))","v":""},null,null,null,null,null,null,null,null,null,null,null,null,null,null,null,{"$f":"+IF(AE650=\"20NL\",1,IF(AE650=\"40NL\",2,IF(AE650=\"20RF\",3,IF(AE650=\"40RF\",4,\"\"))))","v":""},{"$f":"+IF(AF650=\"\",\"\",VLOOKUP(AF650,$AF$4031:$AG$4034,2))","v":""},null,null,null,null,null,null,null,null,null,null,null,null,null,null," "]
[null,null,null,null,null,null,"",null,{"$f":"IF(H651=\"\",\"\",ROUND(H651/SUM(H650:H657),4))","v":""},null,null,null,null,null,null,{"$f":"+IF(O651=\"\",\"\",IF(N650=\"Transporte Marítimo\",VLOOKUP(O651,$O$4030:$P$4035,2),IF(N650=\"Transporte Aéreo\",VLOOKUP(O651,$O$4037:$P$4042,2),IF(N650=\"Transporte Aéreo\",VLOOKUP(O651,$O$4044:$P$4045,2),\"\"))))","v":""},null,null,null,null,null,null,null,null,null,null,null,null,null,null,null,{"$f":"+IF(AE651=\"20NL\",1,IF(AE651=\"40NL\",2,IF(AE651=\"20RF\",3,IF(AE651=\"40RF\",4,\"\"))))","v":""},{"$f":"+IF(AF651=\"\",\"\",VLOOKUP(AF651,$AF$4031:$AG$4034,2))","v":""}]
[null,null,null,null,null,null,"",null,{"$f":"IF(H652=\"\",\"\",ROUND(H652/SUM(H650:H657),4))","v":""},null,null,null,null,null,null,{"$f":"+IF(O652=\"\",\"\",IF(N650=\"Transporte Marítimo\",VLOOKUP(O652,$O$4030:$P$4035,2),IF(N650=\"Transporte Aéreo\",VLOOKUP(O652,$O$4037:$P$4042,2),IF(N650=\"Transporte Aéreo\",VLOOKUP(O652,$O$4044:$P$4045,2),\"\"))))","v":""},null,null,null,null,null,null,null,null,null,null,null,null,null,null,null,"",""]
[null,null,null,null,null,null,"",null,{"$f":"IF(H653=\"\",\"\",ROUND(H653/SUM(H650:H657),4))","v":""},null,null,null,null,null,null,{"$f":"+IF(O653=\"\",\"\",IF(N650=\"Transporte Marítimo\",VLOOKUP(O653,$O$4030:$P$4035,2),IF(N650=\"Transporte Aéreo\",VLOOKUP(O653,$O$4037:$P$4042,2),IF(N650=\"Transporte Aéreo\",VLOOKUP(O653,$O$4044:$P$4045,2),\"\"))))","v":""},null,null,null,null,null,null,null,null,null,null,null,null,null,null,null,"",""]
[null,null,null,null,null,null,"",null,{"$f":"IF(H654=\"\",\"\",ROUND(H654/SUM(H650:H657),4))","v":""},null,null,null,null,null,null,{"$f":"+IF(O654=\"\",\"\",IF(N650=\"Transporte Marítimo\",VLOOKUP(O654,$O$4030:$P$4035,2),IF(N650=\"Transporte Aéreo\",VLOOKUP(O654,$O$4037:$P$4042,2),IF(N650=\"Transporte Aéreo\",VLOOKUP(O654,$O$4044:$P$4045,2),\"\"))))","v":""},null,null,null,null,null,null,null,null,null,null,null,null,null,null,null,"",""]
[null,null,null,null,null,null,"",null,{"$f":"IF(H655=\"\",\"\",ROUND(H655/SUM(H650:H657),4))","v":""},null,null,null,null,null,null,{"$f":"+IF(O655=\"\",\"\",IF(N650=\"Transporte Marítimo\",VLOOKUP(O655,$O$4030:$P$4035,2),IF(N650=\"Transporte Aéreo\",VLOOKUP(O655,$O$4037:$P$4042,2),IF(N650=\"Transporte Aéreo\",VLOOKUP(O655,$O$4044:$P$4045,2),\"\"))))","v":""},null,null,null,null,null,null,null,null,null,null,null,null,null,null,null,"",""]
[null,null,null,null,null,null,"",null,{"$f":"IF(H656=\"\",\"\",ROUND(H656/SUM(H650:H657),4))","v":""},null,null,null,null,null,null,{"$f":"+IF(O656=\"\",\"\",IF(N650=\"Transporte Marítimo\",VLOOKUP(O656,$O$4030:$P$4035,2),IF(N650=\"Transporte Aéreo\",VLOOKUP(O656,$O$4037:$P$4042,2),IF(N650=\"Transporte Aéreo\",VLOOKUP(O656,$O$4044:$P$4045,2),\"\"))))","v":""},null,null,null,null,null,null,null,null,null,null,null,null,null,null,null,"",""]
[null,null,null,null,null,null,{"$f":"+IF(F657=\"\",\"\",VLOOKUP(F657,$F$4031:$G$4120,2))","v":""},null,{"$f":"IF(H657=\"\",\"\",ROUND(H657/SUM(H650:H657),4))","v":""},null,null,null,null,null,null,{"$f":"+IF(O657=\"\",\"\",IF(N650=\"Transporte Marítimo\",VLOOKUP(O657,$O$4030:$P$4035,2),IF(N650=\"Transporte Aéreo\",VLOOKUP(O657,$O$4037:$P$4042,2),IF(N650=\"Transporte Aéreo\",VLOOKUP(O657,$O$4044:$P$4045,2),\"\"))))","v":""},null,null,null,null,null,null,null,null,null,null,null,null,null,null,null,"",""]
[null,{"$f":"+B650+1","v":81},null,null,null,null,{"$f":"+IF(F658=\"\",\"\",VLOOKUP(F658,$F$4031:$G$4120,2))","v":""},null,{"$f":"IF(H658=\"\",\"\",1-SUM(I659:I665))","v":""},null,null,null,null,null,null,{"$f":"+IF(O658=\"\",\"\",IF(N658=\"Transporte Marítimo\",VLOOKUP(O658,$O$4030:$P$4035,2),IF(N658=\"Transporte Aéreo\",VLOOKUP(O658,$O$4037:$P$4042,2),IF(N658=\"CTT\",VLOOKUP(O658,$O$4044:$P$4045,2),\"\"))))","v":""},null,null,null,null,null,null,null,null,null,null,null,null,null,null,null,{"$f":"+IF(AE658=\"20NL\",1,IF(AE658=\"40NL\",2,IF(AE658=\"20RF\",3,IF(AE658=\"40RF\",4,\"\"))))","v":""},{"$f":"+IF(AF658=\"\",\"\",VLOOKUP(AF658,$AF$4031:$AG$4034,2))","v":""},null,null,null,null,null,null,null,null,null,null,null,null,null,null," "]
[null,null,null,null,null,null,{"$f":"+IF(F659=\"\",\"\",VLOOKUP(F659,$F$4031:$G$4120,2))","v":""},null,{"$f":"IF(H659=\"\",\"\",ROUND(H659/SUM(H658:H665),4))","v":""},null,null,null,null,null,null,{"$f":"+IF(O659=\"\",\"\",IF(N658=\"Transporte Marítimo\",VLOOKUP(O659,$O$4030:$P$4035,2),IF(N658=\"Transporte Aéreo\",VLOOKUP(O659,$O$4037:$P$4042,2),IF(N658=\"Transporte Aéreo\",VLOOKUP(O659,$O$4044:$P$4045,2),\"\"))))","v":""},null,null,null,null,null,null,null,null,null,null,null,null,null,null,null,{"$f":"+IF(AE659=\"20NL\",1,IF(AE659=\"40NL\",2,IF(AE659=\"20RF\",3,IF(AE659=\"40RF\",4,\"\"))))","v":""},{"$f":"+IF(AF659=\"\",\"\",VLOOKUP(AF659,$AF$4031:$AG$4034,2))","v":""}]
[null,null,null,null,null,null,"",null,{"$f":"IF(H660=\"\",\"\",ROUND(H660/SUM(H658:H665),4))","v":""},null,null,null,null,null,null,{"$f":"+IF(O660=\"\",\"\",IF(N658=\"Transporte Marítimo\",VLOOKUP(O660,$O$4030:$P$4035,2),IF(N658=\"Transporte Aéreo\",VLOOKUP(O660,$O$4037:$P$4042,2),IF(N658=\"Transporte Aéreo\",VLOOKUP(O660,$O$4044:$P$4045,2),\"\"))))","v":""},null,null,null,null,null,null,null,null,null,null,null,null,null,null,null,"",""]
[null,null,null,null,null,null,"",null,{"$f":"IF(H661=\"\",\"\",ROUND(H661/SUM(H658:H665),4))","v":""},null,null,null,null,null,null,{"$f":"+IF(O661=\"\",\"\",IF(N658=\"Transporte Marítimo\",VLOOKUP(O661,$O$4030:$P$4035,2),IF(N658=\"Transporte Aéreo\",VLOOKUP(O661,$O$4037:$P$4042,2),IF(N658=\"Transporte Aéreo\",VLOOKUP(O661,$O$4044:$P$4045,2),\"\"))))","v":""},null,null,null,null,null,null,null,null,null,null,null,null,null,null,null,"",""]
[null,null,null,null,null,null,"",null,{"$f":"IF(H662=\"\",\"\",ROUND(H662/SUM(H658:H665),4))","v":""},null,null,null,null,null,null,{"$f":"+IF(O662=\"\",\"\",IF(N658=\"Transporte Marítimo\",VLOOKUP(O662,$O$4030:$P$4035,2),IF(N658=\"Transporte Aéreo\",VLOOKUP(O662,$O$4037:$P$4042,2),IF(N658=\"Transporte Aéreo\",VLOOKUP(O662,$O$4044:$P$4045,2),\"\"))))","v":""},null,null,null,null,null,null,null,null,null,null,null,null,null,null,null,"",""]
[null,null,null,null,null,null,"",null,{"$f":"IF(H663=\"\",\"\",ROUND(H663/SUM(H658:H665),4))","v":""},null,null,null,null,null,null,{"$f":"+IF(O663=\"\",\"\",IF(N658=\"Transporte Marítimo\",VLOOKUP(O663,$O$4030:$P$4035,2),IF(N658=\"Transporte Aéreo\",VLOOKUP(O663,$O$4037:$P$4042,2),IF(N658=\"Transporte Aéreo\",VLOOKUP(O663,$O$4044:$P$4045,2),\"\"))))","v":""},null,null,null,null,null,null,null,null,null,null,null,null,null,null,null,"",""]
[null,null,null,null,null,null,"",null,{"$f":"IF(H664=\"\",\"\",ROUND(H664/SUM(H658:H665),4))","v":""},null,null,null,null,null,null,{"$f":"+IF(O664=\"\",\"\",IF(N658=\"Transporte Marítimo\",VLOOKUP(O664,$O$4030:$P$4035,2),IF(N658=\"Transporte Aéreo\",VLOOKUP(O664,$O$4037:$P$4042,2),IF(N658=\"Transporte Aéreo\",VLOOKUP(O664,$O$4044:$P$4045,2),\"\"))))","v":""},null,null,null,null,null,null,null,null,null,null,null,null,null,null,null,"",""]
[null,null,null,null,null,null,"",null,{"$f":"IF(H665=\"\",\"\",ROUND(H665/SUM(H658:H665),4))","v":""},null,null,null,null,null,null,{"$f":"+IF(O665=\"\",\"\",IF(N658=\"Transporte Marítimo\",VLOOKUP(O665,$O$4030:$P$4035,2),IF(N658=\"Transporte Aéreo\",VLOOKUP(O665,$O$4037:$P$4042,2),IF(N658=\"Transporte Aéreo\",VLOOKUP(O665,$O$4044:$P$4045,2),\"\"))))","v":""},null,null,null,null,null,null,null,null,null,null,null,null,null,null,null,"",""]
[null,{"$f":"+B658+1","v":82},null,null,null,null,{"$f":"+IF(F666=\"\",\"\",VLOOKUP(F666,$F$4031:$G$4120,2))","v":""},null,{"$f":"IF(H666=\"\",\"\",1-SUM(I667:I673))","v":""},null,null,null,null,null,null,{"$f":"+IF(O666=\"\",\"\",IF(N666=\"Transporte Marítimo\",VLOOKUP(O666,$O$4030:$P$4035,2),IF(N666=\"Transporte Aéreo\",VLOOKUP(O666,$O$4037:$P$4042,2),IF(N666=\"CTT\",VLOOKUP(O666,$O$4044:$P$4045,2),\"\"))))","v":""},null,null,null,null,null,null,null,null,null,null,null,null,null,null,null,{"$f":"+IF(AE666=\"20NL\",1,IF(AE666=\"40NL\",2,IF(AE666=\"20RF\",3,IF(AE666=\"40RF\",4,\"\"))))","v":""},{"$f":"+IF(AF666=\"\",\"\",VLOOKUP(AF666,$AF$4031:$AG$4034,2))","v":""},null,null,null,null,null,null,null,null,null,null,null,null,null,null," "]
[null,null,null,null,null,null,"",null,{"$f":"IF(H667=\"\",\"\",ROUND(H667/SUM(H666:H673),4))","v":""},null,null,null,null,null,null,{"$f":"+IF(O667=\"\",\"\",IF(N666=\"Transporte Marítimo\",VLOOKUP(O667,$O$4030:$P$4035,2),IF(N666=\"Transporte Aéreo\",VLOOKUP(O667,$O$4037:$P$4042,2),IF(N666=\"Transporte Aéreo\",VLOOKUP(O667,$O$4044:$P$4045,2),\"\"))))","v":""},null,null,null,null,null,null,null,null,null,null,null,null,null,null,null,{"$f":"+IF(AE667=\"20NL\",1,IF(AE667=\"40NL\",2,IF(AE667=\"20RF\",3,IF(AE667=\"40RF\",4,\"\"))))","v":""},""]
[null,null,null,null,null,null,"",null,{"$f":"IF(H668=\"\",\"\",ROUND(H668/SUM(H666:H673),4))","v":""},null,null,null,null,null,null,{"$f":"+IF(O668=\"\",\"\",IF(N666=\"Transporte Marítimo\",VLOOKUP(O668,$O$4030:$P$4035,2),IF(N666=\"Transporte Aéreo\",VLOOKUP(O668,$O$4037:$P$4042,2),IF(N666=\"Transporte Aéreo\",VLOOKUP(O668,$O$4044:$P$4045,2),\"\"))))","v":""},null,null,null,null,null,null,null,null,null,null,null,null,null,null,null,"",""]
[null,null,null,null,null,null,"",null,{"$f":"IF(H669=\"\",\"\",ROUND(H669/SUM(H666:H673),4))","v":""},null,null,null,null,null,null,{"$f":"+IF(O669=\"\",\"\",IF(N666=\"Transporte Marítimo\",VLOOKUP(O669,$O$4030:$P$4035,2),IF(N666=\"Transporte Aéreo\",VLOOKUP(O669,$O$4037:$P$4042,2),IF(N666=\"Transporte Aéreo\",VLOOKUP(O669,$O$4044:$P$4045,2),\"\"))))","v":""},null,null,null,null,null,null,null,null,null,null,null,null,null,null,null,"",""]
[null,null,null,null,null,null,"",null,{"$f":"IF(H670=\"\",\"\",ROUND(H670/SUM(H666:H673),4))","v":""},null,null,null,null,null,null,{"$f":"+IF(O670=\"\",\"\",IF(N666=\"Transporte Marítimo\",VLOOKUP(O670,$O$4030:$P$4035,2),IF(N666=\"Transporte Aéreo\",VLOOKUP(O670,$O$4037:$P$4042,2),IF(N666=\"Transporte Aéreo\",VLOOKUP(O670,$O$4044:$P$4045,2),\"\"))))","v":""},null,null,null,null,null,null,null,null,null,null,null,null,null,null,null,"",""]
[null,null,null,null,null,null,"",null,{"$f":"IF(H671=\"\",\"\",ROUND(H671/SUM(H666:H673),4))","v":""},null,null,null,null,null,null,{"$f":"+IF(O671=\"\",\"\",IF(N666=\"Transporte Marítimo\",VLOOKUP(O671,$O$4030:$P$4035,2),IF(N666=\"Transporte Aéreo\",VLOOKUP(O671,$O$4037:$P$4042,2),IF(N666=\"Transporte Aéreo\",VLOOKUP(O671,$O$4044:$P$4045,2),\"\"))))","v":""},null,null,null,null,null,null,null,null,null,null,null,null,null,null,null,"",""]
[null,null,null,null,null,null,"",null,{"$f":"IF(H672=\"\",\"\",ROUND(H672/SUM(H666:H673),4))","v":""},null,null,null,null,null,null,{"$f":"+IF(O672=\"\",\"\",IF(N666=\"Transporte Marítimo\",VLOOKUP(O672,$O$4030:$P$4035,2),IF(N666=\"Transporte Aéreo\",VLOOKUP(O672,$O$4037:$P$4042,2),IF(N666=\"Transporte Aéreo\",VLOOKUP(O672,$O$4044:$P$4045,2),\"\"))))","v":""},null,null,null,null,null,null,null,null,null,null,null,null,null,null,null,"",""]
[null,null,null,null,null,null,"",null,{"$f":"IF(H673=\"\",\"\",ROUND(H673/SUM(H666:H673),4))","v":""},null,null,null,null,null,null,{"$f":"+IF(O673=\"\",\"\",IF(N666=\"Transporte Marítimo\",VLOOKUP(O673,$O$4030:$P$4035,2),IF(N666=\"Transporte Aéreo\",VLOOKUP(O673,$O$4037:$P$4042,2),IF(N666=\"Transporte Aéreo\",VLOOKUP(O673,$O$4044:$P$4045,2),\"\"))))","v":""},null,null,null,null,null,null,null,null,null,null,null,null,null,null,null,"",""]
[null,{"$f":"+B666+1","v":83},null,null,null,null,{"$f":"+IF(F674=\"\",\"\",VLOOKUP(F674,$F$4031:$G$4120,2))","v":""},null,{"$f":"IF(H674=\"\",\"\",1-SUM(I675:I681))","v":""},null,null,null,null,null,null,{"$f":"+IF(O674=\"\",\"\",IF(N674=\"Transporte Marítimo\",VLOOKUP(O674,$O$4030:$P$4035,2),IF(N674=\"Transporte Aéreo\",VLOOKUP(O674,$O$4037:$P$4042,2),IF(N674=\"CTT\",VLOOKUP(O674,$O$4044:$P$4045,2),\"\"))))","v":""},null,null,null,null,null,null,null,null,null,null,null,null,null,null,null,{"$f":"+IF(AE674=\"20NL\",1,IF(AE674=\"40NL\",2,IF(AE674=\"20RF\",3,IF(AE674=\"40RF\",4,\"\"))))","v":""},{"$f":"+IF(AF674=\"\",\"\",VLOOKUP(AF674,$AF$4031:$AG$4034,2))","v":""},null,null,null,null,null,null,null,null,null,null,null,null,null,null," "]
[null,null,null,null,null,null,"",null,{"$f":"IF(H675=\"\",\"\",ROUND(H675/SUM(H674:H681),4))","v":""},null,null,null,null,null,null,{"$f":"+IF(O675=\"\",\"\",IF(N674=\"Transporte Marítimo\",VLOOKUP(O675,$O$4030:$P$4035,2),IF(N674=\"Transporte Aéreo\",VLOOKUP(O675,$O$4037:$P$4042,2),IF(N674=\"Transporte Aéreo\",VLOOKUP(O675,$O$4044:$P$4045,2),\"\"))))","v":""},null,null,null,null,null,null,null,null,null,null,null,null,null,null,null,{"$f":"+IF(AE675=\"20NL\",1,IF(AE675=\"40NL\",2,IF(AE675=\"20RF\",3,IF(AE675=\"40RF\",4,\"\"))))","v":""},""]
[null,null,null,null,null,null,"",null,{"$f":"IF(H676=\"\",\"\",ROUND(H676/SUM(H674:H681),4))","v":""},null,null,null,null,null,null,{"$f":"+IF(O676=\"\",\"\",IF(N674=\"Transporte Marítimo\",VLOOKUP(O676,$O$4030:$P$4035,2),IF(N674=\"Transporte Aéreo\",VLOOKUP(O676,$O$4037:$P$4042,2),IF(N674=\"Transporte Aéreo\",VLOOKUP(O676,$O$4044:$P$4045,2),\"\"))))","v":""},null,null,null,null,null,null,null,null,null,null,null,null,null,null,null,"",""]
[null,null,null,null,null,null,"",null,{"$f":"IF(H677=\"\",\"\",ROUND(H677/SUM(H674:H681),4))","v":""},null,null,null,null,null,null,{"$f":"+IF(O677=\"\",\"\",IF(N674=\"Transporte Marítimo\",VLOOKUP(O677,$O$4030:$P$4035,2),IF(N674=\"Transporte Aéreo\",VLOOKUP(O677,$O$4037:$P$4042,2),IF(N674=\"Transporte Aéreo\",VLOOKUP(O677,$O$4044:$P$4045,2),\"\"))))","v":""},null,null,null,null,null,null,null,null,null,null,null,null,null,null,null,"",""]
[null,null,null,null,null,null,"",null,{"$f":"IF(H678=\"\",\"\",ROUND(H678/SUM(H674:H681),4))","v":""},null,null,null,null,null,null,{"$f":"+IF(O678=\"\",\"\",IF(N674=\"Transporte Marítimo\",VLOOKUP(O678,$O$4030:$P$4035,2),IF(N674=\"Transporte Aéreo\",VLOOKUP(O678,$O$4037:$P$4042,2),IF(N674=\"Transporte Aéreo\",VLOOKUP(O678,$O$4044:$P$4045,2),\"\"))))","v":""},null,null,null,null,null,null,null,null,null,null,null,null,null,null,null,"",""]
[null,null,null,null,null,null,"",null,{"$f":"IF(H679=\"\",\"\",ROUND(H679/SUM(H674:H681),4))","v":""},null,null,null,null,null,null,{"$f":"+IF(O679=\"\",\"\",IF(N674=\"Transporte Marítimo\",VLOOKUP(O679,$O$4030:$P$4035,2),IF(N674=\"Transporte Aéreo\",VLOOKUP(O679,$O$4037:$P$4042,2),IF(N674=\"Transporte Aéreo\",VLOOKUP(O679,$O$4044:$P$4045,2),\"\"))))","v":""},null,null,null,null,null,null,null,null,null,null,null,null,null,null,null,"",""]
[null,null,null,null,null,null,"",null,{"$f":"IF(H680=\"\",\"\",ROUND(H680/SUM(H674:H681),4))","v":""},null,null,null,null,null,null,{"$f":"+IF(O680=\"\",\"\",IF(N674=\"Transporte Marítimo\",VLOOKUP(O680,$O$4030:$P$4035,2),IF(N674=\"Transporte Aéreo\",VLOOKUP(O680,$O$4037:$P$4042,2),IF(N674=\"Transporte Aéreo\",VLOOKUP(O680,$O$4044:$P$4045,2),\"\"))))","v":""},null,null,null,null,null,null,null,null,null,null,null,null,null,null,null,"",""]
[null,null,null,null,null,null,"",null,{"$f":"IF(H681=\"\",\"\",ROUND(H681/SUM(H674:H681),4))","v":""},null,null,null,null,null,null,{"$f":"+IF(O681=\"\",\"\",IF(N674=\"Transporte Marítimo\",VLOOKUP(O681,$O$4030:$P$4035,2),IF(N674=\"Transporte Aéreo\",VLOOKUP(O681,$O$4037:$P$4042,2),IF(N674=\"Transporte Aéreo\",VLOOKUP(O681,$O$4044:$P$4045,2),\"\"))))","v":""},null,null,null,null,null,null,null,null,null,null,null,null,null,null,null,"",""]
[null,{"$f":"+B674+1","v":84},null,null,null,null,{"$f":"+IF(F682=\"\",\"\",VLOOKUP(F682,$F$4031:$G$4120,2))","v":""},null,{"$f":"IF(H682=\"\",\"\",1-SUM(I683:I689))","v":""},null,null,null,null,null,null,{"$f":"+IF(O682=\"\",\"\",IF(N682=\"Transporte Marítimo\",VLOOKUP(O682,$O$4030:$P$4035,2),IF(N682=\"Transporte Aéreo\",VLOOKUP(O682,$O$4037:$P$4042,2),IF(N682=\"CTT\",VLOOKUP(O682,$O$4044:$P$4045,2),\"\"))))","v":""},null,null,null,null,null,null,null,null,null,null,null,null,null,null,null,{"$f":"+IF(AE682=\"20NL\",1,IF(AE682=\"40NL\",2,IF(AE682=\"20RF\",3,IF(AE682=\"40RF\",4,\"\"))))","v":""},{"$f":"+IF(AF682=\"\",\"\",VLOOKUP(AF682,$AF$4031:$AG$4034,2))","v":""},null,null,null,null,null,null,null,null,null,null,null,null,null,null," "]
[null,null,null,null,null,null,"",null,{"$f":"IF(H683=\"\",\"\",ROUND(H683/SUM(H682:H689),4))","v":""},null,null,null,null,null,null,{"$f":"+IF(O683=\"\",\"\",IF(N682=\"Transporte Marítimo\",VLOOKUP(O683,$O$4030:$P$4035,2),IF(N682=\"Transporte Aéreo\",VLOOKUP(O683,$O$4037:$P$4042,2),IF(N682=\"Transporte Aéreo\",VLOOKUP(O683,$O$4044:$P$4045,2),\"\"))))","v":""},null,null,null,null,null,null,null,null,null,null,null,null,null,null,null,{"$f":"+IF(AE683=\"20NL\",1,IF(AE683=\"40NL\",2,IF(AE683=\"20RF\",3,IF(AE683=\"40RF\",4,\"\"))))","v":""},""]
[null,null,null,null,null,null,"",null,{"$f":"IF(H684=\"\",\"\",ROUND(H684/SUM(H682:H689),4))","v":""},null,null,null,null,null,null,{"$f":"+IF(O684=\"\",\"\",IF(N682=\"Transporte Marítimo\",VLOOKUP(O684,$O$4030:$P$4035,2),IF(N682=\"Transporte Aéreo\",VLOOKUP(O684,$O$4037:$P$4042,2),IF(N682=\"Transporte Aéreo\",VLOOKUP(O684,$O$4044:$P$4045,2),\"\"))))","v":""},null,null,null,null,null,null,null,null,null,null,null,null,null,null,null,"",""]
[null,null,null,null,null,null,"",null,{"$f":"IF(H685=\"\",\"\",ROUND(H685/SUM(H682:H689),4))","v":""},null,null,null,null,null,null,{"$f":"+IF(O685=\"\",\"\",IF(N682=\"Transporte Marítimo\",VLOOKUP(O685,$O$4030:$P$4035,2),IF(N682=\"Transporte Aéreo\",VLOOKUP(O685,$O$4037:$P$4042,2),IF(N682=\"Transporte Aéreo\",VLOOKUP(O685,$O$4044:$P$4045,2),\"\"))))","v":""},null,null,null,null,null,null,null,null,null,null,null,null,null,null,null,"",""]
[null,null,null,null,null,null,"",null,{"$f":"IF(H686=\"\",\"\",ROUND(H686/SUM(H682:H689),4))","v":""},null,null,null,null,null,null,{"$f":"+IF(O686=\"\",\"\",IF(N682=\"Transporte Marítimo\",VLOOKUP(O686,$O$4030:$P$4035,2),IF(N682=\"Transporte Aéreo\",VLOOKUP(O686,$O$4037:$P$4042,2),IF(N682=\"Transporte Aéreo\",VLOOKUP(O686,$O$4044:$P$4045,2),\"\"))))","v":""},null,null,null,null,null,null,null,null,null,null,null,null,null,null,null,"",""]
[null,null,null,null,null,null,"",null,{"$f":"IF(H687=\"\",\"\",ROUND(H687/SUM(H682:H689),4))","v":""},null,null,null,null,null,null,{"$f":"+IF(O687=\"\",\"\",IF(N682=\"Transporte Marítimo\",VLOOKUP(O687,$O$4030:$P$4035,2),IF(N682=\"Transporte Aéreo\",VLOOKUP(O687,$O$4037:$P$4042,2),IF(N682=\"Transporte Aéreo\",VLOOKUP(O687,$O$4044:$P$4045,2),\"\"))))","v":""},null,null,null,null,null,null,null,null,null,null,null,null,null,null,null,"",""]
[null,null,null,null,null,null,"",null,{"$f":"IF(H688=\"\",\"\",ROUND(H688/SUM(H682:H689),4))","v":""},null,null,null,null,null,null,{"$f":"+IF(O688=\"\",\"\",IF(N682=\"Transporte Marítimo\",VLOOKUP(O688,$O$4030:$P$4035,2),IF(N682=\"Transporte Aéreo\",VLOOKUP(O688,$O$4037:$P$4042,2),IF(N682=\"Transporte Aéreo\",VLOOKUP(O688,$O$4044:$P$4045,2),\"\"))))","v":""},null,null,null,null,null,null,null,null,null,null,null,null,null,null,null,"",""]
[null,null,null,null,null,null,"",null,{"$f":"IF(H689=\"\",\"\",ROUND(H689/SUM(H682:H689),4))","v":""},null,null,null,null,null,null,{"$f":"+IF(O689=\"\",\"\",IF(N682=\"Transporte Marítimo\",VLOOKUP(O689,$O$4030:$P$4035,2),IF(N682=\"Transporte Aéreo\",VLOOKUP(O689,$O$4037:$P$4042,2),IF(N682=\"Transporte Aéreo\",VLOOKUP(O689,$O$4044:$P$4045,2),\"\"))))","v":""},null,null,null,null,null,null,null,null,null,null,null,null,null,null,null,"",""]
[null,{"$f":"+B682+1","v":85},null,null,null,null,{"$f":"+IF(F690=\"\",\"\",VLOOKUP(F690,$F$4031:$G$4120,2))","v":""},null,{"$f":"IF(H690=\"\",\"\",1-SUM(I691:I697))","v":""},null,null,null,null,null,null,{"$f":"+IF(O690=\"\",\"\",IF(N690=\"Transporte Marítimo\",VLOOKUP(O690,$O$4030:$P$4035,2),IF(N690=\"Transporte Aéreo\",VLOOKUP(O690,$O$4037:$P$4042,2),IF(N690=\"CTT\",VLOOKUP(O690,$O$4044:$P$4045,2),\"\"))))","v":""},null,null,null,null,null,null,null,null,null,null,null,null,null,null,null,{"$f":"+IF(AE690=\"20NL\",1,IF(AE690=\"40NL\",2,IF(AE690=\"20RF\",3,IF(AE690=\"40RF\",4,\"\"))))","v":""},{"$f":"+IF(AF690=\"\",\"\",VLOOKUP(AF690,$AF$4031:$AG$4034,2))","v":""},null,null,null,null,null,null,null,null,null,null,null,null,null,null," "]
[null,null,null,null,null,null,"",null,{"$f":"IF(H691=\"\",\"\",ROUND(H691/SUM(H690:H697),4))","v":""},null,null,null,null,null,null,{"$f":"+IF(O691=\"\",\"\",IF(N690=\"Transporte Marítimo\",VLOOKUP(O691,$O$4030:$P$4035,2),IF(N690=\"Transporte Aéreo\",VLOOKUP(O691,$O$4037:$P$4042,2),IF(N690=\"Transporte Aéreo\",VLOOKUP(O691,$O$4044:$P$4045,2),\"\"))))","v":""},null,null,null,null,null,null,null,null,null,null,null,null,null,null,null,{"$f":"+IF(AE691=\"20NL\",1,IF(AE691=\"40NL\",2,IF(AE691=\"20RF\",3,IF(AE691=\"40RF\",4,\"\"))))","v":""},""]
[null,null,null,null,null,null,"",null,{"$f":"IF(H692=\"\",\"\",ROUND(H692/SUM(H690:H697),4))","v":""},null,null,null,null,null,null,{"$f":"+IF(O692=\"\",\"\",IF(N690=\"Transporte Marítimo\",VLOOKUP(O692,$O$4030:$P$4035,2),IF(N690=\"Transporte Aéreo\",VLOOKUP(O692,$O$4037:$P$4042,2),IF(N690=\"Transporte Aéreo\",VLOOKUP(O692,$O$4044:$P$4045,2),\"\"))))","v":""},null,null,null,null,null,null,null,null,null,null,null,null,null,null,null,"",""]
[null,null,null,null,null,null,"",null,{"$f":"IF(H693=\"\",\"\",ROUND(H693/SUM(H690:H697),4))","v":""},null,null,null,null,null,null,{"$f":"+IF(O693=\"\",\"\",IF(N690=\"Transporte Marítimo\",VLOOKUP(O693,$O$4030:$P$4035,2),IF(N690=\"Transporte Aéreo\",VLOOKUP(O693,$O$4037:$P$4042,2),IF(N690=\"Transporte Aéreo\",VLOOKUP(O693,$O$4044:$P$4045,2),\"\"))))","v":""},null,null,null,null,null,null,null,null,null,null,null,null,null,null,null,"",""]
[null,null,null,null,null,null,"",null,{"$f":"IF(H694=\"\",\"\",ROUND(H694/SUM(H690:H697),4))","v":""},null,null,null,null,null,null,{"$f":"+IF(O694=\"\",\"\",IF(N690=\"Transporte Marítimo\",VLOOKUP(O694,$O$4030:$P$4035,2),IF(N690=\"Transporte Aéreo\",VLOOKUP(O694,$O$4037:$P$4042,2),IF(N690=\"Transporte Aéreo\",VLOOKUP(O694,$O$4044:$P$4045,2),\"\"))))","v":""},null,null,null,null,null,null,null,null,null,null,null,null,null,null,null,"",""]
[null,null,null,null,null,null,"",null,{"$f":"IF(H695=\"\",\"\",ROUND(H695/SUM(H690:H697),4))","v":""},null,null,null,null,null,null,{"$f":"+IF(O695=\"\",\"\",IF(N690=\"Transporte Marítimo\",VLOOKUP(O695,$O$4030:$P$4035,2),IF(N690=\"Transporte Aéreo\",VLOOKUP(O695,$O$4037:$P$4042,2),IF(N690=\"Transporte Aéreo\",VLOOKUP(O695,$O$4044:$P$4045,2),\"\"))))","v":""},null,null,null,null,null,null,null,null,null,null,null,null,null,null,null,"",""]
[null,null,null,null,null,null,"",null,{"$f":"IF(H696=\"\",\"\",ROUND(H696/SUM(H690:H697),4))","v":""},null,null,null,null,null,null,{"$f":"+IF(O696=\"\",\"\",IF(N690=\"Transporte Marítimo\",VLOOKUP(O696,$O$4030:$P$4035,2),IF(N690=\"Transporte Aéreo\",VLOOKUP(O696,$O$4037:$P$4042,2),IF(N690=\"Transporte Aéreo\",VLOOKUP(O696,$O$4044:$P$4045,2),\"\"))))","v":""},null,null,null,null,null,null,null,null,null,null,null,null,null,null,null,"",""]
[null,null,null,null,null,null,"",null,{"$f":"IF(H697=\"\",\"\",ROUND(H697/SUM(H690:H697),4))","v":""},null,null,null,null,null,null,{"$f":"+IF(O697=\"\",\"\",IF(N690=\"Transporte Marítimo\",VLOOKUP(O697,$O$4030:$P$4035,2),IF(N690=\"Transporte Aéreo\",VLOOKUP(O697,$O$4037:$P$4042,2),IF(N690=\"Transporte Aéreo\",VLOOKUP(O697,$O$4044:$P$4045,2),\"\"))))","v":""},null,null,null,null,null,null,null,null,null,null,null,null,null,null,null,"",""]
[null,{"$f":"+B690+1","v":86},null,null,null,null,{"$f":"+IF(F698=\"\",\"\",VLOOKUP(F698,$F$4031:$G$4120,2))","v":""},null,{"$f":"IF(H698=\"\",\"\",1-SUM(I699:I705))","v":""},null,null,null,null,null,null,{"$f":"+IF(O698=\"\",\"\",IF(N698=\"Transporte Marítimo\",VLOOKUP(O698,$O$4030:$P$4035,2),IF(N698=\"Transporte Aéreo\",VLOOKUP(O698,$O$4037:$P$4042,2),IF(N698=\"CTT\",VLOOKUP(O698,$O$4044:$P$4045,2),\"\"))))","v":""},null,null,null,null,null,null,null,null,null,null,null,null,null,null,null,{"$f":"+IF(AE698=\"20NL\",1,IF(AE698=\"40NL\",2,IF(AE698=\"20RF\",3,IF(AE698=\"40RF\",4,\"\"))))","v":""},{"$f":"+IF(AF698=\"\",\"\",VLOOKUP(AF698,$AF$4031:$AG$4034,2))","v":""},null,null,null,null,null,null,null,null,null,null,null,null,null,null," "]
[null,null,null,null,null,null,"",null,{"$f":"IF(H699=\"\",\"\",ROUND(H699/SUM(H698:H705),4))","v":""},null,null,null,null,null,null,{"$f":"+IF(O699=\"\",\"\",IF(N698=\"Transporte Marítimo\",VLOOKUP(O699,$O$4030:$P$4035,2),IF(N698=\"Transporte Aéreo\",VLOOKUP(O699,$O$4037:$P$4042,2),IF(N698=\"Transporte Aéreo\",VLOOKUP(O699,$O$4044:$P$4045,2),\"\"))))","v":""},null,null,null,null,null,null,null,null,null,null,null,null,null,null,null,{"$f":"+IF(AE699=\"20NL\",1,IF(AE699=\"40NL\",2,IF(AE699=\"20RF\",3,IF(AE699=\"40RF\",4,\"\"))))","v":""},""]
[null,null,null,null,null,null,"",null,{"$f":"IF(H700=\"\",\"\",ROUND(H700/SUM(H698:H705),4))","v":""},null,null,null,null,null,null,{"$f":"+IF(O700=\"\",\"\",IF(N698=\"Transporte Marítimo\",VLOOKUP(O700,$O$4030:$P$4035,2),IF(N698=\"Transporte Aéreo\",VLOOKUP(O700,$O$4037:$P$4042,2),IF(N698=\"Transporte Aéreo\",VLOOKUP(O700,$O$4044:$P$4045,2),\"\"))))","v":""},null,null,null,null,null,null,null,null,null,null,null,null,null,null,null,"",""]
[null,null,null,null,null,null,"",null,{"$f":"IF(H701=\"\",\"\",ROUND(H701/SUM(H698:H705),4))","v":""},null,null,null,null,null,null,{"$f":"+IF(O701=\"\",\"\",IF(N698=\"Transporte Marítimo\",VLOOKUP(O701,$O$4030:$P$4035,2),IF(N698=\"Transporte Aéreo\",VLOOKUP(O701,$O$4037:$P$4042,2),IF(N698=\"Transporte Aéreo\",VLOOKUP(O701,$O$4044:$P$4045,2),\"\"))))","v":""},null,null,null,null,null,null,null,null,null,null,null,null,null,null,null,"",""]
[null,null,null,null,null,null,"",null,{"$f":"IF(H702=\"\",\"\",ROUND(H702/SUM(H698:H705),4))","v":""},null,null,null,null,null,null,{"$f":"+IF(O702=\"\",\"\",IF(N698=\"Transporte Marítimo\",VLOOKUP(O702,$O$4030:$P$4035,2),IF(N698=\"Transporte Aéreo\",VLOOKUP(O702,$O$4037:$P$4042,2),IF(N698=\"Transporte Aéreo\",VLOOKUP(O702,$O$4044:$P$4045,2),\"\"))))","v":""},null,null,null,null,null,null,null,null,null,null,null,null,null,null,null,"",""]
[null,null,null,null,null,null,"",null,{"$f":"IF(H703=\"\",\"\",ROUND(H703/SUM(H698:H705),4))","v":""},null,null,null,null,null,null,{"$f":"+IF(O703=\"\",\"\",IF(N698=\"Transporte Marítimo\",VLOOKUP(O703,$O$4030:$P$4035,2),IF(N698=\"Transporte Aéreo\",VLOOKUP(O703,$O$4037:$P$4042,2),IF(N698=\"Transporte Aéreo\",VLOOKUP(O703,$O$4044:$P$4045,2),\"\"))))","v":""},null,null,null,null,null,null,null,null,null,null,null,null,null,null,null,"",""]
[null,null,null,null,null,null,"",null,{"$f":"IF(H704=\"\",\"\",ROUND(H704/SUM(H698:H705),4))","v":""},null,null,null,null,null,null,{"$f":"+IF(O704=\"\",\"\",IF(N698=\"Transporte Marítimo\",VLOOKUP(O704,$O$4030:$P$4035,2),IF(N698=\"Transporte Aéreo\",VLOOKUP(O704,$O$4037:$P$4042,2),IF(N698=\"Transporte Aéreo\",VLOOKUP(O704,$O$4044:$P$4045,2),\"\"))))","v":""},null,null,null,null,null,null,null,null,null,null,null,null,null,null,null,"",""]
[null,null,null,null,null,null,"",null,{"$f":"IF(H705=\"\",\"\",ROUND(H705/SUM(H698:H705),4))","v":""},null,null,null,null,null,null,{"$f":"+IF(O705=\"\",\"\",IF(N698=\"Transporte Marítimo\",VLOOKUP(O705,$O$4030:$P$4035,2),IF(N698=\"Transporte Aéreo\",VLOOKUP(O705,$O$4037:$P$4042,2),IF(N698=\"Transporte Aéreo\",VLOOKUP(O705,$O$4044:$P$4045,2),\"\"))))","v":""},null,null,null,null,null,null,null,null,null,null,null,null,null,null,null,"",""]
[null,{"$f":"+B698+1","v":87},null,null,null,null,{"$f":"+IF(F706=\"\",\"\",VLOOKUP(F706,$F$4031:$G$4120,2))","v":""},null,{"$f":"IF(H706=\"\",\"\",1-SUM(I707:I713))","v":""},null,null,null,null,null,null,{"$f":"+IF(O706=\"\",\"\",IF(N706=\"Transporte Marítimo\",VLOOKUP(O706,$O$4030:$P$4035,2),IF(N706=\"Transporte Aéreo\",VLOOKUP(O706,$O$4037:$P$4042,2),IF(N706=\"CTT\",VLOOKUP(O706,$O$4044:$P$4045,2),\"\"))))","v":""},null,null,null,null,null,null,null,null,null,null,null,null,null,null,null,{"$f":"+IF(AE706=\"20NL\",1,IF(AE706=\"40NL\",2,IF(AE706=\"20RF\",3,IF(AE706=\"40RF\",4,\"\"))))","v":""},{"$f":"+IF(AF706=\"\",\"\",VLOOKUP(AF706,$AF$4031:$AG$4034,2))","v":""},null,null,null,null,null,null,null,null,null,null,null,null,null,null," "]
[null,null,null,null,null,null,"",null,{"$f":"IF(H707=\"\",\"\",ROUND(H707/SUM(H706:H713),4))","v":""},null,null,null,null,null,null,{"$f":"+IF(O707=\"\",\"\",IF(N706=\"Transporte Marítimo\",VLOOKUP(O707,$O$4030:$P$4035,2),IF(N706=\"Transporte Aéreo\",VLOOKUP(O707,$O$4037:$P$4042,2),IF(N706=\"Transporte Aéreo\",VLOOKUP(O707,$O$4044:$P$4045,2),\"\"))))","v":""},null,null,null,null,null,null,null,null,null,null,null,null,null,null,null,{"$f":"+IF(AE707=\"20NL\",1,IF(AE707=\"40NL\",2,IF(AE707=\"20RF\",3,IF(AE707=\"40RF\",4,\"\"))))","v":""},""]
[null,null,null,null,null,null,"",null,{"$f":"IF(H708=\"\",\"\",ROUND(H708/SUM(H706:H713),4))","v":""},null,null,null,null,null,null,{"$f":"+IF(O708=\"\",\"\",IF(N706=\"Transporte Marítimo\",VLOOKUP(O708,$O$4030:$P$4035,2),IF(N706=\"Transporte Aéreo\",VLOOKUP(O708,$O$4037:$P$4042,2),IF(N706=\"Transporte Aéreo\",VLOOKUP(O708,$O$4044:$P$4045,2),\"\"))))","v":""},null,null,null,null,null,null,null,null,null,null,null,null,null,null,null,"",""]
[null,null,null,null,null,null,"",null,{"$f":"IF(H709=\"\",\"\",ROUND(H709/SUM(H706:H713),4))","v":""},null,null,null,null,null,null,{"$f":"+IF(O709=\"\",\"\",IF(N706=\"Transporte Marítimo\",VLOOKUP(O709,$O$4030:$P$4035,2),IF(N706=\"Transporte Aéreo\",VLOOKUP(O709,$O$4037:$P$4042,2),IF(N706=\"Transporte Aéreo\",VLOOKUP(O709,$O$4044:$P$4045,2),\"\"))))","v":""},null,null,null,null,null,null,null,null,null,null,null,null,null,null,null,"",""]
[null,null,null,null,null,null,"",null,{"$f":"IF(H710=\"\",\"\",ROUND(H710/SUM(H706:H713),4))","v":""},null,null,null,null,null,null,{"$f":"+IF(O710=\"\",\"\",IF(N706=\"Transporte Marítimo\",VLOOKUP(O710,$O$4030:$P$4035,2),IF(N706=\"Transporte Aéreo\",VLOOKUP(O710,$O$4037:$P$4042,2),IF(N706=\"Transporte Aéreo\",VLOOKUP(O710,$O$4044:$P$4045,2),\"\"))))","v":""},null,null,null,null,null,null,null,null,null,null,null,null,null,null,null,"",""]
[null,null,null,null,null,null,"",null,{"$f":"IF(H711=\"\",\"\",ROUND(H711/SUM(H706:H713),4))","v":""},null,null,null,null,null,null,{"$f":"+IF(O711=\"\",\"\",IF(N706=\"Transporte Marítimo\",VLOOKUP(O711,$O$4030:$P$4035,2),IF(N706=\"Transporte Aéreo\",VLOOKUP(O711,$O$4037:$P$4042,2),IF(N706=\"Transporte Aéreo\",VLOOKUP(O711,$O$4044:$P$4045,2),\"\"))))","v":""},null,null,null,null,null,null,null,null,null,null,null,null,null,null,null,"",""]
[null,null,null,null,null,null,"",null,{"$f":"IF(H712=\"\",\"\",ROUND(H712/SUM(H706:H713),4))","v":""},null,null,null,null,null,null,{"$f":"+IF(O712=\"\",\"\",IF(N706=\"Transporte Marítimo\",VLOOKUP(O712,$O$4030:$P$4035,2),IF(N706=\"Transporte Aéreo\",VLOOKUP(O712,$O$4037:$P$4042,2),IF(N706=\"Transporte Aéreo\",VLOOKUP(O712,$O$4044:$P$4045,2),\"\"))))","v":""},null,null,null,null,null,null,null,null,null,null,null,null,null,null,null,"",""]
[null,null,null,null,null,null,"",null,{"$f":"IF(H713=\"\",\"\",ROUND(H713/SUM(H706:H713),4))","v":""},null,null,null,null,null,null,{"$f":"+IF(O713=\"\",\"\",IF(N706=\"Transporte Marítimo\",VLOOKUP(O713,$O$4030:$P$4035,2),IF(N706=\"Transporte Aéreo\",VLOOKUP(O713,$O$4037:$P$4042,2),IF(N706=\"Transporte Aéreo\",VLOOKUP(O713,$O$4044:$P$4045,2),\"\"))))","v":""},null,null,null,null,null,null,null,null,null,null,null,null,null,null,null,"",""]
[null,{"$f":"+B706+1","v":88},null,null,null,null,{"$f":"+IF(F714=\"\",\"\",VLOOKUP(F714,$F$4031:$G$4120,2))","v":""},null,{"$f":"IF(H714=\"\",\"\",1-SUM(I715:I721))","v":""},null,null,null,null,null,null,{"$f":"+IF(O714=\"\",\"\",IF(N714=\"Transporte Marítimo\",VLOOKUP(O714,$O$4030:$P$4035,2),IF(N714=\"Transporte Aéreo\",VLOOKUP(O714,$O$4037:$P$4042,2),IF(N714=\"CTT\",VLOOKUP(O714,$O$4044:$P$4045,2),\"\"))))","v":""},null,null,null,null,null,null,null,null,null,null,null,null,null,null,null,{"$f":"+IF(AE714=\"20NL\",1,IF(AE714=\"40NL\",2,IF(AE714=\"20RF\",3,IF(AE714=\"40RF\",4,\"\"))))","v":""},{"$f":"+IF(AF714=\"\",\"\",VLOOKUP(AF714,$AF$4031:$AG$4034,2))","v":""},null,null,null,null,null,null,null,null,null,null,null,null,null,null," "]
[null,null,null,null,null,null,"",null,{"$f":"IF(H715=\"\",\"\",ROUND(H715/SUM(H714:H721),4))","v":""},null,null,null,null,null,null,{"$f":"+IF(O715=\"\",\"\",IF(N714=\"Transporte Marítimo\",VLOOKUP(O715,$O$4030:$P$4035,2),IF(N714=\"Transporte Aéreo\",VLOOKUP(O715,$O$4037:$P$4042,2),IF(N714=\"Transporte Aéreo\",VLOOKUP(O715,$O$4044:$P$4045,2),\"\"))))","v":""},null,null,null,null,null,null,null,null,null,null,null,null,null,null,null,{"$f":"+IF(AE715=\"20NL\",1,IF(AE715=\"40NL\",2,IF(AE715=\"20RF\",3,IF(AE715=\"40RF\",4,\"\"))))","v":""},""]
[null,null,null,null,null,null,"",null,{"$f":"IF(H716=\"\",\"\",ROUND(H716/SUM(H714:H721),4))","v":""},null,null,null,null,null,null,{"$f":"+IF(O716=\"\",\"\",IF(N714=\"Transporte Marítimo\",VLOOKUP(O716,$O$4030:$P$4035,2),IF(N714=\"Transporte Aéreo\",VLOOKUP(O716,$O$4037:$P$4042,2),IF(N714=\"Transporte Aéreo\",VLOOKUP(O716,$O$4044:$P$4045,2),\"\"))))","v":""},null,null,null,null,null,null,null,null,null,null,null,null,null,null,null,"",""]
[null,null,null,null,null,null,"",null,{"$f":"IF(H717=\"\",\"\",ROUND(H717/SUM(H714:H721),4))","v":""},null,null,null,null,null,null,{"$f":"+IF(O717=\"\",\"\",IF(N714=\"Transporte Marítimo\",VLOOKUP(O717,$O$4030:$P$4035,2),IF(N714=\"Transporte Aéreo\",VLOOKUP(O717,$O$4037:$P$4042,2),IF(N714=\"Transporte Aéreo\",VLOOKUP(O717,$O$4044:$P$4045,2),\"\"))))","v":""},null,null,null,null,null,null,null,null,null,null,null,null,null,null,null,"",""]
[null,null,null,null,null,null,"",null,{"$f":"IF(H718=\"\",\"\",ROUND(H718/SUM(H714:H721),4))","v":""},null,null,null,null,null,null,{"$f":"+IF(O718=\"\",\"\",IF(N714=\"Transporte Marítimo\",VLOOKUP(O718,$O$4030:$P$4035,2),IF(N714=\"Transporte Aéreo\",VLOOKUP(O718,$O$4037:$P$4042,2),IF(N714=\"Transporte Aéreo\",VLOOKUP(O718,$O$4044:$P$4045,2),\"\"))))","v":""},null,null,null,null,null,null,null,null,null,null,null,null,null,null,null,"",""]
[null,null,null,null,null,null,"",null,{"$f":"IF(H719=\"\",\"\",ROUND(H719/SUM(H714:H721),4))","v":""},null,null,null,null,null,null,{"$f":"+IF(O719=\"\",\"\",IF(N714=\"Transporte Marítimo\",VLOOKUP(O719,$O$4030:$P$4035,2),IF(N714=\"Transporte Aéreo\",VLOOKUP(O719,$O$4037:$P$4042,2),IF(N714=\"Transporte Aéreo\",VLOOKUP(O719,$O$4044:$P$4045,2),\"\"))))","v":""},null,null,null,null,null,null,null,null,null,null,null,null,null,null,null,"",""]
[null,null,null,null,null,null,"",null,{"$f":"IF(H720=\"\",\"\",ROUND(H720/SUM(H714:H721),4))","v":""},null,null,null,null,null,null,{"$f":"+IF(O720=\"\",\"\",IF(N714=\"Transporte Marítimo\",VLOOKUP(O720,$O$4030:$P$4035,2),IF(N714=\"Transporte Aéreo\",VLOOKUP(O720,$O$4037:$P$4042,2),IF(N714=\"Transporte Aéreo\",VLOOKUP(O720,$O$4044:$P$4045,2),\"\"))))","v":""},null,null,null,null,null,null,null,null,null,null,null,null,null,null,null,"",""]
[null,null,null,null,null,null,"",null,{"$f":"IF(H721=\"\",\"\",ROUND(H721/SUM(H714:H721),4))","v":""},null,null,null,null,null,null,{"$f":"+IF(O721=\"\",\"\",IF(N714=\"Transporte Marítimo\",VLOOKUP(O721,$O$4030:$P$4035,2),IF(N714=\"Transporte Aéreo\",VLOOKUP(O721,$O$4037:$P$4042,2),IF(N714=\"Transporte Aéreo\",VLOOKUP(O721,$O$4044:$P$4045,2),\"\"))))","v":""},null,null,null,null,null,null,null,null,null,null,null,null,null,null,null,"",""]
[null,{"$f":"+B714+1","v":89},null,null,null,null,{"$f":"+IF(F722=\"\",\"\",VLOOKUP(F722,$F$4031:$G$4120,2))","v":""},null,{"$f":"IF(H722=\"\",\"\",1-SUM(I723:I729))","v":""},null,null,null,null,null,null,{"$f":"+IF(O722=\"\",\"\",IF(N722=\"Transporte Marítimo\",VLOOKUP(O722,$O$4030:$P$4035,2),IF(N722=\"Transporte Aéreo\",VLOOKUP(O722,$O$4037:$P$4042,2),IF(N722=\"CTT\",VLOOKUP(O722,$O$4044:$P$4045,2),\"\"))))","v":""},null,null,null,null,null,null,null,null,null,null,null,null,null,null,null,{"$f":"+IF(AE722=\"20NL\",1,IF(AE722=\"40NL\",2,IF(AE722=\"20RF\",3,IF(AE722=\"40RF\",4,\"\"))))","v":""},{"$f":"+IF(AF722=\"\",\"\",VLOOKUP(AF722,$AF$4031:$AG$4034,2))","v":""},null,null,null,null,null,null,null,null,null,null,null,null,null,null," "]
[null,null,null,null,null,null,{"$f":"+IF(F723=\"\",\"\",VLOOKUP(F723,$F$4031:$G$4120,2))","v":""},null,{"$f":"IF(H723=\"\",\"\",ROUND(H723/SUM(H722:H729),4))","v":""},null,null,null,null,null,null,{"$f":"+IF(O723=\"\",\"\",IF(N722=\"Transporte Marítimo\",VLOOKUP(O723,$O$4030:$P$4035,2),IF(N722=\"Transporte Aéreo\",VLOOKUP(O723,$O$4037:$P$4042,2),IF(N722=\"Transporte Aéreo\",VLOOKUP(O723,$O$4044:$P$4045,2),\"\"))))","v":""},null,null,null,null,null,null,null,null,null,null,null,null,null,null,null,{"$f":"+IF(AE723=\"20NL\",1,IF(AE723=\"40NL\",2,IF(AE723=\"20RF\",3,IF(AE723=\"40RF\",4,\"\"))))","v":""},{"$f":"+IF(AF723=\"\",\"\",VLOOKUP(AF723,$AF$4031:$AG$4034,2))","v":""}]
[null,null,null,null,null,null,"",null,{"$f":"IF(H724=\"\",\"\",ROUND(H724/SUM(H722:H729),4))","v":""},null,null,null,null,null,null,{"$f":"+IF(O724=\"\",\"\",IF(N722=\"Transporte Marítimo\",VLOOKUP(O724,$O$4030:$P$4035,2),IF(N722=\"Transporte Aéreo\",VLOOKUP(O724,$O$4037:$P$4042,2),IF(N722=\"Transporte Aéreo\",VLOOKUP(O724,$O$4044:$P$4045,2),\"\"))))","v":""},null,null,null,null,null,null,null,null,null,null,null,null,null,null,null,"",""]
[null,null,null,null,null,null,"",null,{"$f":"IF(H725=\"\",\"\",ROUND(H725/SUM(H722:H729),4))","v":""},null,null,null,null,null,null,{"$f":"+IF(O725=\"\",\"\",IF(N722=\"Transporte Marítimo\",VLOOKUP(O725,$O$4030:$P$4035,2),IF(N722=\"Transporte Aéreo\",VLOOKUP(O725,$O$4037:$P$4042,2),IF(N722=\"Transporte Aéreo\",VLOOKUP(O725,$O$4044:$P$4045,2),\"\"))))","v":""},null,null,null,null,null,null,null,null,null,null,null,null,null,null,null,"",""]
[null,null,null,null,null,null,"",null,{"$f":"IF(H726=\"\",\"\",ROUND(H726/SUM(H722:H729),4))","v":""},null,null,null,null,null,null,{"$f":"+IF(O726=\"\",\"\",IF(N722=\"Transporte Marítimo\",VLOOKUP(O726,$O$4030:$P$4035,2),IF(N722=\"Transporte Aéreo\",VLOOKUP(O726,$O$4037:$P$4042,2),IF(N722=\"Transporte Aéreo\",VLOOKUP(O726,$O$4044:$P$4045,2),\"\"))))","v":""},null,null,null,null,null,null,null,null,null,null,null,null,null,null,null,"",""]
[null,null,null,null,null,null,"",null,{"$f":"IF(H727=\"\",\"\",ROUND(H727/SUM(H722:H729),4))","v":""},null,null,null,null,null,null,{"$f":"+IF(O727=\"\",\"\",IF(N722=\"Transporte Marítimo\",VLOOKUP(O727,$O$4030:$P$4035,2),IF(N722=\"Transporte Aéreo\",VLOOKUP(O727,$O$4037:$P$4042,2),IF(N722=\"Transporte Aéreo\",VLOOKUP(O727,$O$4044:$P$4045,2),\"\"))))","v":""},null,null,null,null,null,null,null,null,null,null,null,null,null,null,null,"",""]
[null,null,null,null,null,null,"",null,{"$f":"IF(H728=\"\",\"\",ROUND(H728/SUM(H722:H729),4))","v":""},null,null,null,null,null,null,{"$f":"+IF(O728=\"\",\"\",IF(N722=\"Transporte Marítimo\",VLOOKUP(O728,$O$4030:$P$4035,2),IF(N722=\"Transporte Aéreo\",VLOOKUP(O728,$O$4037:$P$4042,2),IF(N722=\"Transporte Aéreo\",VLOOKUP(O728,$O$4044:$P$4045,2),\"\"))))","v":""},null,null,null,null,null,null,null,null,null,null,null,null,null,null,null,"",""]
[null,null,null,null,null,null,"",null,{"$f":"IF(H729=\"\",\"\",ROUND(H729/SUM(H722:H729),4))","v":""},null,null,null,null,null,null,{"$f":"+IF(O729=\"\",\"\",IF(N722=\"Transporte Marítimo\",VLOOKUP(O729,$O$4030:$P$4035,2),IF(N722=\"Transporte Aéreo\",VLOOKUP(O729,$O$4037:$P$4042,2),IF(N722=\"Transporte Aéreo\",VLOOKUP(O729,$O$4044:$P$4045,2),\"\"))))","v":""},null,null,null,null,null,null,null,null,null,null,null,null,null,null,null,"",""]
[null,{"$f":"+B722+1","v":90},null,null,null,null,{"$f":"+IF(F730=\"\",\"\",VLOOKUP(F730,$F$4031:$G$4120,2))","v":""},null,{"$f":"IF(H730=\"\",\"\",1-SUM(I731:I737))","v":""},null,null,null,null,null,null,{"$f":"+IF(O730=\"\",\"\",IF(N730=\"Transporte Marítimo\",VLOOKUP(O730,$O$4030:$P$4035,2),IF(N730=\"Transporte Aéreo\",VLOOKUP(O730,$O$4037:$P$4042,2),IF(N730=\"CTT\",VLOOKUP(O730,$O$4044:$P$4045,2),\"\"))))","v":""},null,null,null,null,null,null,null,null,null,null,null,null,null,null,null,{"$f":"+IF(AE730=\"20NL\",1,IF(AE730=\"40NL\",2,IF(AE730=\"20RF\",3,IF(AE730=\"40RF\",4,\"\"))))","v":""},{"$f":"+IF(AF730=\"\",\"\",VLOOKUP(AF730,$AF$4031:$AG$4034,2))","v":""},null,null,null,null,null,null,null,null,null,null,null,null,null,null," "]
[null,null,null,null,null,null,"",null,{"$f":"IF(H731=\"\",\"\",ROUND(H731/SUM(H730:H737),4))","v":""},null,null,null,null,null,null,{"$f":"+IF(O731=\"\",\"\",IF(N730=\"Transporte Marítimo\",VLOOKUP(O731,$O$4030:$P$4035,2),IF(N730=\"Transporte Aéreo\",VLOOKUP(O731,$O$4037:$P$4042,2),IF(N730=\"Transporte Aéreo\",VLOOKUP(O731,$O$4044:$P$4045,2),\"\"))))","v":""},null,null,null,null,null,null,null,null,null,null,null,null,null,null,null,{"$f":"+IF(AE731=\"20NL\",1,IF(AE731=\"40NL\",2,IF(AE731=\"20RF\",3,IF(AE731=\"40RF\",4,\"\"))))","v":""},{"$f":"+IF(AF731=\"\",\"\",VLOOKUP(AF731,$AF$4031:$AG$4034,2))","v":""}]
[null,null,null,null,null,null,"",null,{"$f":"IF(H732=\"\",\"\",ROUND(H732/SUM(H730:H737),4))","v":""},null,null,null,null,null,null,{"$f":"+IF(O732=\"\",\"\",IF(N730=\"Transporte Marítimo\",VLOOKUP(O732,$O$4030:$P$4035,2),IF(N730=\"Transporte Aéreo\",VLOOKUP(O732,$O$4037:$P$4042,2),IF(N730=\"Transporte Aéreo\",VLOOKUP(O732,$O$4044:$P$4045,2),\"\"))))","v":""},null,null,null,null,null,null,null,null,null,null,null,null,null,null,null,"",""]
[null,null,null,null,null,null,"",null,{"$f":"IF(H733=\"\",\"\",ROUND(H733/SUM(H730:H737),4))","v":""},null,null,null,null,null,null,{"$f":"+IF(O733=\"\",\"\",IF(N730=\"Transporte Marítimo\",VLOOKUP(O733,$O$4030:$P$4035,2),IF(N730=\"Transporte Aéreo\",VLOOKUP(O733,$O$4037:$P$4042,2),IF(N730=\"Transporte Aéreo\",VLOOKUP(O733,$O$4044:$P$4045,2),\"\"))))","v":""},null,null,null,null,null,null,null,null,null,null,null,null,null,null,null,"",""]
[null,null,null,null,null,null,"",null,{"$f":"IF(H734=\"\",\"\",ROUND(H734/SUM(H730:H737),4))","v":""},null,null,null,null,null,null,{"$f":"+IF(O734=\"\",\"\",IF(N730=\"Transporte Marítimo\",VLOOKUP(O734,$O$4030:$P$4035,2),IF(N730=\"Transporte Aéreo\",VLOOKUP(O734,$O$4037:$P$4042,2),IF(N730=\"Transporte Aéreo\",VLOOKUP(O734,$O$4044:$P$4045,2),\"\"))))","v":""},null,null,null,null,null,null,null,null,null,null,null,null,null,null,null,"",""]
[null,null,null,null,null,null,"",null,{"$f":"IF(H735=\"\",\"\",ROUND(H735/SUM(H730:H737),4))","v":""},null,null,null,null,null,null,{"$f":"+IF(O735=\"\",\"\",IF(N730=\"Transporte Marítimo\",VLOOKUP(O735,$O$4030:$P$4035,2),IF(N730=\"Transporte Aéreo\",VLOOKUP(O735,$O$4037:$P$4042,2),IF(N730=\"Transporte Aéreo\",VLOOKUP(O735,$O$4044:$P$4045,2),\"\"))))","v":""},null,null,null,null,null,null,null,null,null,null,null,null,null,null,null,"",""]
[null,null,null,null,null,null,"",null,{"$f":"IF(H736=\"\",\"\",ROUND(H736/SUM(H730:H737),4))","v":""},null,null,null,null,null,null,{"$f":"+IF(O736=\"\",\"\",IF(N730=\"Transporte Marítimo\",VLOOKUP(O736,$O$4030:$P$4035,2),IF(N730=\"Transporte Aéreo\",VLOOKUP(O736,$O$4037:$P$4042,2),IF(N730=\"Transporte Aéreo\",VLOOKUP(O736,$O$4044:$P$4045,2),\"\"))))","v":""},null,null,null,null,null,null,null,null,null,null,null,null,null,null,null,"",""]
[null,null,null,null,null,null,{"$f":"+IF(F737=\"\",\"\",VLOOKUP(F737,$F$4031:$G$4120,2))","v":""},null,{"$f":"IF(H737=\"\",\"\",ROUND(H737/SUM(H730:H737),4))","v":""},null,null,null,null,null,null,{"$f":"+IF(O737=\"\",\"\",IF(N730=\"Transporte Marítimo\",VLOOKUP(O737,$O$4030:$P$4035,2),IF(N730=\"Transporte Aéreo\",VLOOKUP(O737,$O$4037:$P$4042,2),IF(N730=\"Transporte Aéreo\",VLOOKUP(O737,$O$4044:$P$4045,2),\"\"))))","v":""},null,null,null,null,null,null,null,null,null,null,null,null,null,null,null,"",""]
[null,{"$f":"+B730+1","v":91},null,null,null,null,{"$f":"+IF(F738=\"\",\"\",VLOOKUP(F738,$F$4031:$G$4120,2))","v":""},null,{"$f":"IF(H738=\"\",\"\",1-SUM(I739:I745))","v":""},null,null,null,null,null,null,{"$f":"+IF(O738=\"\",\"\",IF(N738=\"Transporte Marítimo\",VLOOKUP(O738,$O$4030:$P$4035,2),IF(N738=\"Transporte Aéreo\",VLOOKUP(O738,$O$4037:$P$4042,2),IF(N738=\"CTT\",VLOOKUP(O738,$O$4044:$P$4045,2),\"\"))))","v":""},null,null,null,null,null,null,null,null,null,null,null,null,null,null,null,{"$f":"+IF(AE738=\"20NL\",1,IF(AE738=\"40NL\",2,IF(AE738=\"20RF\",3,IF(AE738=\"40RF\",4,\"\"))))","v":""},{"$f":"+IF(AF738=\"\",\"\",VLOOKUP(AF738,$AF$4031:$AG$4034,2))","v":""},null,null,null,null,null,null,null,null,null,null,null,null,null,null," "]
[null,null,null,null,null,null,{"$f":"+IF(F739=\"\",\"\",VLOOKUP(F739,$F$4031:$G$4120,2))","v":""},null,{"$f":"IF(H739=\"\",\"\",ROUND(H739/SUM(H738:H745),4))","v":""},null,null,null,null,null,null,{"$f":"+IF(O739=\"\",\"\",IF(N738=\"Transporte Marítimo\",VLOOKUP(O739,$O$4030:$P$4035,2),IF(N738=\"Transporte Aéreo\",VLOOKUP(O739,$O$4037:$P$4042,2),IF(N738=\"Transporte Aéreo\",VLOOKUP(O739,$O$4044:$P$4045,2),\"\"))))","v":""},null,null,null,null,null,null,null,null,null,null,null,null,null,null,null,{"$f":"+IF(AE739=\"20NL\",1,IF(AE739=\"40NL\",2,IF(AE739=\"20RF\",3,IF(AE739=\"40RF\",4,\"\"))))","v":""},{"$f":"+IF(AF739=\"\",\"\",VLOOKUP(AF739,$AF$4031:$AG$4034,2))","v":""}]
[null,null,null,null,null,null,"",null,{"$f":"IF(H740=\"\",\"\",ROUND(H740/SUM(H738:H745),4))","v":""},null,null,null,null,null,null,{"$f":"+IF(O740=\"\",\"\",IF(N738=\"Transporte Marítimo\",VLOOKUP(O740,$O$4030:$P$4035,2),IF(N738=\"Transporte Aéreo\",VLOOKUP(O740,$O$4037:$P$4042,2),IF(N738=\"Transporte Aéreo\",VLOOKUP(O740,$O$4044:$P$4045,2),\"\"))))","v":""},null,null,null,null,null,null,null,null,null,null,null,null,null,null,null,"",""]
[null,null,null,null,null,null,"",null,{"$f":"IF(H741=\"\",\"\",ROUND(H741/SUM(H738:H745),4))","v":""},null,null,null,null,null,null,{"$f":"+IF(O741=\"\",\"\",IF(N738=\"Transporte Marítimo\",VLOOKUP(O741,$O$4030:$P$4035,2),IF(N738=\"Transporte Aéreo\",VLOOKUP(O741,$O$4037:$P$4042,2),IF(N738=\"Transporte Aéreo\",VLOOKUP(O741,$O$4044:$P$4045,2),\"\"))))","v":""},null,null,null,null,null,null,null,null,null,null,null,null,null,null,null,"",""]
[null,null,null,null,null,null,"",null,{"$f":"IF(H742=\"\",\"\",ROUND(H742/SUM(H738:H745),4))","v":""},null,null,null,null,null,null,{"$f":"+IF(O742=\"\",\"\",IF(N738=\"Transporte Marítimo\",VLOOKUP(O742,$O$4030:$P$4035,2),IF(N738=\"Transporte Aéreo\",VLOOKUP(O742,$O$4037:$P$4042,2),IF(N738=\"Transporte Aéreo\",VLOOKUP(O742,$O$4044:$P$4045,2),\"\"))))","v":""},null,null,null,null,null,null,null,null,null,null,null,null,null,null,null,"",""]
[null,null,null,null,null,null,"",null,{"$f":"IF(H743=\"\",\"\",ROUND(H743/SUM(H738:H745),4))","v":""},null,null,null,null,null,null,{"$f":"+IF(O743=\"\",\"\",IF(N738=\"Transporte Marítimo\",VLOOKUP(O743,$O$4030:$P$4035,2),IF(N738=\"Transporte Aéreo\",VLOOKUP(O743,$O$4037:$P$4042,2),IF(N738=\"Transporte Aéreo\",VLOOKUP(O743,$O$4044:$P$4045,2),\"\"))))","v":""},null,null,null,null,null,null,null,null,null,null,null,null,null,null,null,"",""]
[null,null,null,null,null,null,"",null,{"$f":"IF(H744=\"\",\"\",ROUND(H744/SUM(H738:H745),4))","v":""},null,null,null,null,null,null,{"$f":"+IF(O744=\"\",\"\",IF(N738=\"Transporte Marítimo\",VLOOKUP(O744,$O$4030:$P$4035,2),IF(N738=\"Transporte Aéreo\",VLOOKUP(O744,$O$4037:$P$4042,2),IF(N738=\"Transporte Aéreo\",VLOOKUP(O744,$O$4044:$P$4045,2),\"\"))))","v":""},null,null,null,null,null,null,null,null,null,null,null,null,null,null,null,"",""]
[null,null,null,null,null,null,"",null,{"$f":"IF(H745=\"\",\"\",ROUND(H745/SUM(H738:H745),4))","v":""},null,null,null,null,null,null,{"$f":"+IF(O745=\"\",\"\",IF(N738=\"Transporte Marítimo\",VLOOKUP(O745,$O$4030:$P$4035,2),IF(N738=\"Transporte Aéreo\",VLOOKUP(O745,$O$4037:$P$4042,2),IF(N738=\"Transporte Aéreo\",VLOOKUP(O745,$O$4044:$P$4045,2),\"\"))))","v":""},null,null,null,null,null,null,null,null,null,null,null,null,null,null,null,"",""]
[null,{"$f":"+B738+1","v":92},null,null,null,null,{"$f":"+IF(F746=\"\",\"\",VLOOKUP(F746,$F$4031:$G$4120,2))","v":""},null,{"$f":"IF(H746=\"\",\"\",1-SUM(I747:I753))","v":""},null,null,null,null,null,null,{"$f":"+IF(O746=\"\",\"\",IF(N746=\"Transporte Marítimo\",VLOOKUP(O746,$O$4030:$P$4035,2),IF(N746=\"Transporte Aéreo\",VLOOKUP(O746,$O$4037:$P$4042,2),IF(N746=\"CTT\",VLOOKUP(O746,$O$4044:$P$4045,2),\"\"))))","v":""},null,null,null,null,null,null,null,null,null,null,null,null,null,null,null,{"$f":"+IF(AE746=\"20NL\",1,IF(AE746=\"40NL\",2,IF(AE746=\"20RF\",3,IF(AE746=\"40RF\",4,\"\"))))","v":""},{"$f":"+IF(AF746=\"\",\"\",VLOOKUP(AF746,$AF$4031:$AG$4034,2))","v":""},null,null,null,null,null,null,null,null,null,null,null,null,null,null," "]
[null,null,null,null,null,null,"",null,{"$f":"IF(H747=\"\",\"\",ROUND(H747/SUM(H746:H753),4))","v":""},null,null,null,null,null,null,{"$f":"+IF(O747=\"\",\"\",IF(N746=\"Transporte Marítimo\",VLOOKUP(O747,$O$4030:$P$4035,2),IF(N746=\"Transporte Aéreo\",VLOOKUP(O747,$O$4037:$P$4042,2),IF(N746=\"Transporte Aéreo\",VLOOKUP(O747,$O$4044:$P$4045,2),\"\"))))","v":""},null,null,null,null,null,null,null,null,null,null,null,null,null,null,null,{"$f":"+IF(AE747=\"20NL\",1,IF(AE747=\"40NL\",2,IF(AE747=\"20RF\",3,IF(AE747=\"40RF\",4,\"\"))))","v":""},""]
[null,null,null,null,null,null,"",null,{"$f":"IF(H748=\"\",\"\",ROUND(H748/SUM(H746:H753),4))","v":""},null,null,null,null,null,null,{"$f":"+IF(O748=\"\",\"\",IF(N746=\"Transporte Marítimo\",VLOOKUP(O748,$O$4030:$P$4035,2),IF(N746=\"Transporte Aéreo\",VLOOKUP(O748,$O$4037:$P$4042,2),IF(N746=\"Transporte Aéreo\",VLOOKUP(O748,$O$4044:$P$4045,2),\"\"))))","v":""},null,null,null,null,null,null,null,null,null,null,null,null,null,null,null,"",""]
[null,null,null,null,null,null,"",null,{"$f":"IF(H749=\"\",\"\",ROUND(H749/SUM(H746:H753),4))","v":""},null,null,null,null,null,null,{"$f":"+IF(O749=\"\",\"\",IF(N746=\"Transporte Marítimo\",VLOOKUP(O749,$O$4030:$P$4035,2),IF(N746=\"Transporte Aéreo\",VLOOKUP(O749,$O$4037:$P$4042,2),IF(N746=\"Transporte Aéreo\",VLOOKUP(O749,$O$4044:$P$4045,2),\"\"))))","v":""},null,null,null,null,null,null,null,null,null,null,null,null,null,null,null,"",""]
[null,null,null,null,null,null,"",null,{"$f":"IF(H750=\"\",\"\",ROUND(H750/SUM(H746:H753),4))","v":""},null,null,null,null,null,null,{"$f":"+IF(O750=\"\",\"\",IF(N746=\"Transporte Marítimo\",VLOOKUP(O750,$O$4030:$P$4035,2),IF(N746=\"Transporte Aéreo\",VLOOKUP(O750,$O$4037:$P$4042,2),IF(N746=\"Transporte Aéreo\",VLOOKUP(O750,$O$4044:$P$4045,2),\"\"))))","v":""},null,null,null,null,null,null,null,null,null,null,null,null,null,null,null,"",""]
[null,null,null,null,null,null,"",null,{"$f":"IF(H751=\"\",\"\",ROUND(H751/SUM(H746:H753),4))","v":""},null,null,null,null,null,null,{"$f":"+IF(O751=\"\",\"\",IF(N746=\"Transporte Marítimo\",VLOOKUP(O751,$O$4030:$P$4035,2),IF(N746=\"Transporte Aéreo\",VLOOKUP(O751,$O$4037:$P$4042,2),IF(N746=\"Transporte Aéreo\",VLOOKUP(O751,$O$4044:$P$4045,2),\"\"))))","v":""},null,null,null,null,null,null,null,null,null,null,null,null,null,null,null,"",""]
[null,null,null,null,null,null,"",null,{"$f":"IF(H752=\"\",\"\",ROUND(H752/SUM(H746:H753),4))","v":""},null,null,null,null,null,null,{"$f":"+IF(O752=\"\",\"\",IF(N746=\"Transporte Marítimo\",VLOOKUP(O752,$O$4030:$P$4035,2),IF(N746=\"Transporte Aéreo\",VLOOKUP(O752,$O$4037:$P$4042,2),IF(N746=\"Transporte Aéreo\",VLOOKUP(O752,$O$4044:$P$4045,2),\"\"))))","v":""},null,null,null,null,null,null,null,null,null,null,null,null,null,null,null,"",""]
[null,null,null,null,null,null,"",null,{"$f":"IF(H753=\"\",\"\",ROUND(H753/SUM(H746:H753),4))","v":""},null,null,null,null,null,null,{"$f":"+IF(O753=\"\",\"\",IF(N746=\"Transporte Marítimo\",VLOOKUP(O753,$O$4030:$P$4035,2),IF(N746=\"Transporte Aéreo\",VLOOKUP(O753,$O$4037:$P$4042,2),IF(N746=\"Transporte Aéreo\",VLOOKUP(O753,$O$4044:$P$4045,2),\"\"))))","v":""},null,null,null,null,null,null,null,null,null,null,null,null,null,null,null,"",""]
[null,{"$f":"+B746+1","v":93},null,null,null,null,{"$f":"+IF(F754=\"\",\"\",VLOOKUP(F754,$F$4031:$G$4120,2))","v":""},null,{"$f":"IF(H754=\"\",\"\",1-SUM(I755:I761))","v":""},null,null,null,null,null,null,{"$f":"+IF(O754=\"\",\"\",IF(N754=\"Transporte Marítimo\",VLOOKUP(O754,$O$4030:$P$4035,2),IF(N754=\"Transporte Aéreo\",VLOOKUP(O754,$O$4037:$P$4042,2),IF(N754=\"CTT\",VLOOKUP(O754,$O$4044:$P$4045,2),\"\"))))","v":""},null,null,null,null,null,null,null,null,null,null,null,null,null,null,null,{"$f":"+IF(AE754=\"20NL\",1,IF(AE754=\"40NL\",2,IF(AE754=\"20RF\",3,IF(AE754=\"40RF\",4,\"\"))))","v":""},{"$f":"+IF(AF754=\"\",\"\",VLOOKUP(AF754,$AF$4031:$AG$4034,2))","v":""},null,null,null,null,null,null,null,null,null,null,null,null,null,null," "]
[null,null,null,null,null,null,"",null,{"$f":"IF(H755=\"\",\"\",ROUND(H755/SUM(H754:H761),4))","v":""},null,null,null,null,null,null,{"$f":"+IF(O755=\"\",\"\",IF(N754=\"Transporte Marítimo\",VLOOKUP(O755,$O$4030:$P$4035,2),IF(N754=\"Transporte Aéreo\",VLOOKUP(O755,$O$4037:$P$4042,2),IF(N754=\"Transporte Aéreo\",VLOOKUP(O755,$O$4044:$P$4045,2),\"\"))))","v":""},null,null,null,null,null,null,null,null,null,null,null,null,null,null,null,{"$f":"+IF(AE755=\"20NL\",1,IF(AE755=\"40NL\",2,IF(AE755=\"20RF\",3,IF(AE755=\"40RF\",4,\"\"))))","v":""},""]
[null,null,null,null,null,null,"",null,{"$f":"IF(H756=\"\",\"\",ROUND(H756/SUM(H754:H761),4))","v":""},null,null,null,null,null,null,{"$f":"+IF(O756=\"\",\"\",IF(N754=\"Transporte Marítimo\",VLOOKUP(O756,$O$4030:$P$4035,2),IF(N754=\"Transporte Aéreo\",VLOOKUP(O756,$O$4037:$P$4042,2),IF(N754=\"Transporte Aéreo\",VLOOKUP(O756,$O$4044:$P$4045,2),\"\"))))","v":""},null,null,null,null,null,null,null,null,null,null,null,null,null,null,null,"",""]
[null,null,null,null,null,null,"",null,{"$f":"IF(H757=\"\",\"\",ROUND(H757/SUM(H754:H761),4))","v":""},null,null,null,null,null,null,{"$f":"+IF(O757=\"\",\"\",IF(N754=\"Transporte Marítimo\",VLOOKUP(O757,$O$4030:$P$4035,2),IF(N754=\"Transporte Aéreo\",VLOOKUP(O757,$O$4037:$P$4042,2),IF(N754=\"Transporte Aéreo\",VLOOKUP(O757,$O$4044:$P$4045,2),\"\"))))","v":""},null,null,null,null,null,null,null,null,null,null,null,null,null,null,null,"",""]
[null,null,null,null,null,null,"",null,{"$f":"IF(H758=\"\",\"\",ROUND(H758/SUM(H754:H761),4))","v":""},null,null,null,null,null,null,{"$f":"+IF(O758=\"\",\"\",IF(N754=\"Transporte Marítimo\",VLOOKUP(O758,$O$4030:$P$4035,2),IF(N754=\"Transporte Aéreo\",VLOOKUP(O758,$O$4037:$P$4042,2),IF(N754=\"Transporte Aéreo\",VLOOKUP(O758,$O$4044:$P$4045,2),\"\"))))","v":""},null,null,null,null,null,null,null,null,null,null,null,null,null,null,null,"",""]
[null,null,null,null,null,null,"",null,{"$f":"IF(H759=\"\",\"\",ROUND(H759/SUM(H754:H761),4))","v":""},null,null,null,null,null,null,{"$f":"+IF(O759=\"\",\"\",IF(N754=\"Transporte Marítimo\",VLOOKUP(O759,$O$4030:$P$4035,2),IF(N754=\"Transporte Aéreo\",VLOOKUP(O759,$O$4037:$P$4042,2),IF(N754=\"Transporte Aéreo\",VLOOKUP(O759,$O$4044:$P$4045,2),\"\"))))","v":""},null,null,null,null,null,null,null,null,null,null,null,null,null,null,null,"",""]
[null,null,null,null,null,null,"",null,{"$f":"IF(H760=\"\",\"\",ROUND(H760/SUM(H754:H761),4))","v":""},null,null,null,null,null,null,{"$f":"+IF(O760=\"\",\"\",IF(N754=\"Transporte Marítimo\",VLOOKUP(O760,$O$4030:$P$4035,2),IF(N754=\"Transporte Aéreo\",VLOOKUP(O760,$O$4037:$P$4042,2),IF(N754=\"Transporte Aéreo\",VLOOKUP(O760,$O$4044:$P$4045,2),\"\"))))","v":""},null,null,null,null,null,null,null,null,null,null,null,null,null,null,null,"",""]
[null,null,null,null,null,null,"",null,{"$f":"IF(H761=\"\",\"\",ROUND(H761/SUM(H754:H761),4))","v":""},null,null,null,null,null,null,{"$f":"+IF(O761=\"\",\"\",IF(N754=\"Transporte Marítimo\",VLOOKUP(O761,$O$4030:$P$4035,2),IF(N754=\"Transporte Aéreo\",VLOOKUP(O761,$O$4037:$P$4042,2),IF(N754=\"Transporte Aéreo\",VLOOKUP(O761,$O$4044:$P$4045,2),\"\"))))","v":""},null,null,null,null,null,null,null,null,null,null,null,null,null,null,null,"",""]
[null,{"$f":"+B754+1","v":94},null,null,null,null,{"$f":"+IF(F762=\"\",\"\",VLOOKUP(F762,$F$4031:$G$4120,2))","v":""},null,{"$f":"IF(H762=\"\",\"\",1-SUM(I763:I769))","v":""},null,null,null,null,null,null,{"$f":"+IF(O762=\"\",\"\",IF(N762=\"Transporte Marítimo\",VLOOKUP(O762,$O$4030:$P$4035,2),IF(N762=\"Transporte Aéreo\",VLOOKUP(O762,$O$4037:$P$4042,2),IF(N762=\"CTT\",VLOOKUP(O762,$O$4044:$P$4045,2),\"\"))))","v":""},null,null,null,null,null,null,null,null,null,null,null,null,null,null,null,{"$f":"+IF(AE762=\"20NL\",1,IF(AE762=\"40NL\",2,IF(AE762=\"20RF\",3,IF(AE762=\"40RF\",4,\"\"))))","v":""},{"$f":"+IF(AF762=\"\",\"\",VLOOKUP(AF762,$AF$4031:$AG$4034,2))","v":""},null,null,null,null,null,null,null,null,null,null,null,null,null,null," "]
[null,null,null,null,null,null,"",null,{"$f":"IF(H763=\"\",\"\",ROUND(H763/SUM(H762:H769),4))","v":""},null,null,null,null,null,null,{"$f":"+IF(O763=\"\",\"\",IF(N762=\"Transporte Marítimo\",VLOOKUP(O763,$O$4030:$P$4035,2),IF(N762=\"Transporte Aéreo\",VLOOKUP(O763,$O$4037:$P$4042,2),IF(N762=\"Transporte Aéreo\",VLOOKUP(O763,$O$4044:$P$4045,2),\"\"))))","v":""},null,null,null,null,null,null,null,null,null,null,null,null,null,null,null,{"$f":"+IF(AE763=\"20NL\",1,IF(AE763=\"40NL\",2,IF(AE763=\"20RF\",3,IF(AE763=\"40RF\",4,\"\"))))","v":""},""]
[null,null,null,null,null,null,"",null,{"$f":"IF(H764=\"\",\"\",ROUND(H764/SUM(H762:H769),4))","v":""},null,null,null,null,null,null,{"$f":"+IF(O764=\"\",\"\",IF(N762=\"Transporte Marítimo\",VLOOKUP(O764,$O$4030:$P$4035,2),IF(N762=\"Transporte Aéreo\",VLOOKUP(O764,$O$4037:$P$4042,2),IF(N762=\"Transporte Aéreo\",VLOOKUP(O764,$O$4044:$P$4045,2),\"\"))))","v":""},null,null,null,null,null,null,null,null,null,null,null,null,null,null,null,"",""]
[null,null,null,null,null,null,"",null,{"$f":"IF(H765=\"\",\"\",ROUND(H765/SUM(H762:H769),4))","v":""},null,null,null,null,null,null,{"$f":"+IF(O765=\"\",\"\",IF(N762=\"Transporte Marítimo\",VLOOKUP(O765,$O$4030:$P$4035,2),IF(N762=\"Transporte Aéreo\",VLOOKUP(O765,$O$4037:$P$4042,2),IF(N762=\"Transporte Aéreo\",VLOOKUP(O765,$O$4044:$P$4045,2),\"\"))))","v":""},null,null,null,null,null,null,null,null,null,null,null,null,null,null,null,"",""]
[null,null,null,null,null,null,"",null,{"$f":"IF(H766=\"\",\"\",ROUND(H766/SUM(H762:H769),4))","v":""},null,null,null,null,null,null,{"$f":"+IF(O766=\"\",\"\",IF(N762=\"Transporte Marítimo\",VLOOKUP(O766,$O$4030:$P$4035,2),IF(N762=\"Transporte Aéreo\",VLOOKUP(O766,$O$4037:$P$4042,2),IF(N762=\"Transporte Aéreo\",VLOOKUP(O766,$O$4044:$P$4045,2),\"\"))))","v":""},null,null,null,null,null,null,null,null,null,null,null,null,null,null,null,"",""]
[null,null,null,null,null,null,"",null,{"$f":"IF(H767=\"\",\"\",ROUND(H767/SUM(H762:H769),4))","v":""},null,null,null,null,null,null,{"$f":"+IF(O767=\"\",\"\",IF(N762=\"Transporte Marítimo\",VLOOKUP(O767,$O$4030:$P$4035,2),IF(N762=\"Transporte Aéreo\",VLOOKUP(O767,$O$4037:$P$4042,2),IF(N762=\"Transporte Aéreo\",VLOOKUP(O767,$O$4044:$P$4045,2),\"\"))))","v":""},null,null,null,null,null,null,null,null,null,null,null,null,null,null,null,"",""]
[null,null,null,null,null,null,"",null,{"$f":"IF(H768=\"\",\"\",ROUND(H768/SUM(H762:H769),4))","v":""},null,null,null,null,null,null,{"$f":"+IF(O768=\"\",\"\",IF(N762=\"Transporte Marítimo\",VLOOKUP(O768,$O$4030:$P$4035,2),IF(N762=\"Transporte Aéreo\",VLOOKUP(O768,$O$4037:$P$4042,2),IF(N762=\"Transporte Aéreo\",VLOOKUP(O768,$O$4044:$P$4045,2),\"\"))))","v":""},null,null,null,null,null,null,null,null,null,null,null,null,null,null,null,"",""]
[null,null,null,null,null,null,"",null,{"$f":"IF(H769=\"\",\"\",ROUND(H769/SUM(H762:H769),4))","v":""},null,null,null,null,null,null,{"$f":"+IF(O769=\"\",\"\",IF(N762=\"Transporte Marítimo\",VLOOKUP(O769,$O$4030:$P$4035,2),IF(N762=\"Transporte Aéreo\",VLOOKUP(O769,$O$4037:$P$4042,2),IF(N762=\"Transporte Aéreo\",VLOOKUP(O769,$O$4044:$P$4045,2),\"\"))))","v":""},null,null,null,null,null,null,null,null,null,null,null,null,null,null,null,"",""]
[null,{"$f":"+B762+1","v":95},null,null,null,null,{"$f":"+IF(F770=\"\",\"\",VLOOKUP(F770,$F$4031:$G$4120,2))","v":""},null,{"$f":"IF(H770=\"\",\"\",1-SUM(I771:I777))","v":""},null,null,null,null,null,null,{"$f":"+IF(O770=\"\",\"\",IF(N770=\"Transporte Marítimo\",VLOOKUP(O770,$O$4030:$P$4035,2),IF(N770=\"Transporte Aéreo\",VLOOKUP(O770,$O$4037:$P$4042,2),IF(N770=\"CTT\",VLOOKUP(O770,$O$4044:$P$4045,2),\"\"))))","v":""},null,null,null,null,null,null,null,null,null,null,null,null,null,null,null,{"$f":"+IF(AE770=\"20NL\",1,IF(AE770=\"40NL\",2,IF(AE770=\"20RF\",3,IF(AE770=\"40RF\",4,\"\"))))","v":""},{"$f":"+IF(AF770=\"\",\"\",VLOOKUP(AF770,$AF$4031:$AG$4034,2))","v":""},null,null,null,null,null,null,null,null,null,null,null,null,null,null," "]
[null,null,null,null,null,null,"",null,{"$f":"IF(H771=\"\",\"\",ROUND(H771/SUM(H770:H777),4))","v":""},null,null,null,null,null,null,{"$f":"+IF(O771=\"\",\"\",IF(N770=\"Transporte Marítimo\",VLOOKUP(O771,$O$4030:$P$4035,2),IF(N770=\"Transporte Aéreo\",VLOOKUP(O771,$O$4037:$P$4042,2),IF(N770=\"Transporte Aéreo\",VLOOKUP(O771,$O$4044:$P$4045,2),\"\"))))","v":""},null,null,null,null,null,null,null,null,null,null,null,null,null,null,null,{"$f":"+IF(AE771=\"20NL\",1,IF(AE771=\"40NL\",2,IF(AE771=\"20RF\",3,IF(AE771=\"40RF\",4,\"\"))))","v":""},""]
[null,null,null,null,null,null,"",null,{"$f":"IF(H772=\"\",\"\",ROUND(H772/SUM(H770:H777),4))","v":""},null,null,null,null,null,null,{"$f":"+IF(O772=\"\",\"\",IF(N770=\"Transporte Marítimo\",VLOOKUP(O772,$O$4030:$P$4035,2),IF(N770=\"Transporte Aéreo\",VLOOKUP(O772,$O$4037:$P$4042,2),IF(N770=\"Transporte Aéreo\",VLOOKUP(O772,$O$4044:$P$4045,2),\"\"))))","v":""},null,null,null,null,null,null,null,null,null,null,null,null,null,null,null,"",""]
[null,null,null,null,null,null,"",null,{"$f":"IF(H773=\"\",\"\",ROUND(H773/SUM(H770:H777),4))","v":""},null,null,null,null,null,null,{"$f":"+IF(O773=\"\",\"\",IF(N770=\"Transporte Marítimo\",VLOOKUP(O773,$O$4030:$P$4035,2),IF(N770=\"Transporte Aéreo\",VLOOKUP(O773,$O$4037:$P$4042,2),IF(N770=\"Transporte Aéreo\",VLOOKUP(O773,$O$4044:$P$4045,2),\"\"))))","v":""},null,null,null,null,null,null,null,null,null,null,null,null,null,null,null,"",""]
[null,null,null,null,null,null,"",null,{"$f":"IF(H774=\"\",\"\",ROUND(H774/SUM(H770:H777),4))","v":""},null,null,null,null,null,null,{"$f":"+IF(O774=\"\",\"\",IF(N770=\"Transporte Marítimo\",VLOOKUP(O774,$O$4030:$P$4035,2),IF(N770=\"Transporte Aéreo\",VLOOKUP(O774,$O$4037:$P$4042,2),IF(N770=\"Transporte Aéreo\",VLOOKUP(O774,$O$4044:$P$4045,2),\"\"))))","v":""},null,null,null,null,null,null,null,null,null,null,null,null,null,null,null,"",""]
[null,null,null,null,null,null,"",null,{"$f":"IF(H775=\"\",\"\",ROUND(H775/SUM(H770:H777),4))","v":""},null,null,null,null,null,null,{"$f":"+IF(O775=\"\",\"\",IF(N770=\"Transporte Marítimo\",VLOOKUP(O775,$O$4030:$P$4035,2),IF(N770=\"Transporte Aéreo\",VLOOKUP(O775,$O$4037:$P$4042,2),IF(N770=\"Transporte Aéreo\",VLOOKUP(O775,$O$4044:$P$4045,2),\"\"))))","v":""},null,null,null,null,null,null,null,null,null,null,null,null,null,null,null,"",""]
[null,null,null,null,null,null,"",null,{"$f":"IF(H776=\"\",\"\",ROUND(H776/SUM(H770:H777),4))","v":""},null,null,null,null,null,null,{"$f":"+IF(O776=\"\",\"\",IF(N770=\"Transporte Marítimo\",VLOOKUP(O776,$O$4030:$P$4035,2),IF(N770=\"Transporte Aéreo\",VLOOKUP(O776,$O$4037:$P$4042,2),IF(N770=\"Transporte Aéreo\",VLOOKUP(O776,$O$4044:$P$4045,2),\"\"))))","v":""},null,null,null,null,null,null,null,null,null,null,null,null,null,null,null,"",""]
[null,null,null,null,null,null,"",null,{"$f":"IF(H777=\"\",\"\",ROUND(H777/SUM(H770:H777),4))","v":""},null,null,null,null,null,null,{"$f":"+IF(O777=\"\",\"\",IF(N770=\"Transporte Marítimo\",VLOOKUP(O777,$O$4030:$P$4035,2),IF(N770=\"Transporte Aéreo\",VLOOKUP(O777,$O$4037:$P$4042,2),IF(N770=\"Transporte Aéreo\",VLOOKUP(O777,$O$4044:$P$4045,2),\"\"))))","v":""},null,null,null,null,null,null,null,null,null,null,null,null,null,null,null,"",""]
[null,{"$f":"+B770+1","v":96},null,null,null,null,{"$f":"+IF(F778=\"\",\"\",VLOOKUP(F778,$F$4031:$G$4120,2))","v":""},null,{"$f":"IF(H778=\"\",\"\",1-SUM(I779:I785))","v":""},null,null,null,null,null,null,{"$f":"+IF(O778=\"\",\"\",IF(N778=\"Transporte Marítimo\",VLOOKUP(O778,$O$4030:$P$4035,2),IF(N778=\"Transporte Aéreo\",VLOOKUP(O778,$O$4037:$P$4042,2),IF(N778=\"CTT\",VLOOKUP(O778,$O$4044:$P$4045,2),\"\"))))","v":""},null,null,null,null,null,null,null,null,null,null,null,null,null,null,null,{"$f":"+IF(AE778=\"20NL\",1,IF(AE778=\"40NL\",2,IF(AE778=\"20RF\",3,IF(AE778=\"40RF\",4,\"\"))))","v":""},{"$f":"+IF(AF778=\"\",\"\",VLOOKUP(AF778,$AF$4031:$AG$4034,2))","v":""},null,null,null,null,null,null,null,null,null,null,null,null,null,null," "]
[null,null,null,null,null,null,"",null,{"$f":"IF(H779=\"\",\"\",ROUND(H779/SUM(H778:H785),4))","v":""},null,null,null,null,null,null,{"$f":"+IF(O779=\"\",\"\",IF(N778=\"Transporte Marítimo\",VLOOKUP(O779,$O$4030:$P$4035,2),IF(N778=\"Transporte Aéreo\",VLOOKUP(O779,$O$4037:$P$4042,2),IF(N778=\"Transporte Aéreo\",VLOOKUP(O779,$O$4044:$P$4045,2),\"\"))))","v":""},null,null,null,null,null,null,null,null,null,null,null,null,null,null,null,{"$f":"+IF(AE779=\"20NL\",1,IF(AE779=\"40NL\",2,IF(AE779=\"20RF\",3,IF(AE779=\"40RF\",4,\"\"))))","v":""},""]
[null,null,null,null,null,null,"",null,{"$f":"IF(H780=\"\",\"\",ROUND(H780/SUM(H778:H785),4))","v":""},null,null,null,null,null,null,{"$f":"+IF(O780=\"\",\"\",IF(N778=\"Transporte Marítimo\",VLOOKUP(O780,$O$4030:$P$4035,2),IF(N778=\"Transporte Aéreo\",VLOOKUP(O780,$O$4037:$P$4042,2),IF(N778=\"Transporte Aéreo\",VLOOKUP(O780,$O$4044:$P$4045,2),\"\"))))","v":""},null,null,null,null,null,null,null,null,null,null,null,null,null,null,null,"",""]
[null,null,null,null,null,null,"",null,{"$f":"IF(H781=\"\",\"\",ROUND(H781/SUM(H778:H785),4))","v":""},null,null,null,null,null,null,{"$f":"+IF(O781=\"\",\"\",IF(N778=\"Transporte Marítimo\",VLOOKUP(O781,$O$4030:$P$4035,2),IF(N778=\"Transporte Aéreo\",VLOOKUP(O781,$O$4037:$P$4042,2),IF(N778=\"Transporte Aéreo\",VLOOKUP(O781,$O$4044:$P$4045,2),\"\"))))","v":""},null,null,null,null,null,null,null,null,null,null,null,null,null,null,null,"",""]
[null,null,null,null,null,null,"",null,{"$f":"IF(H782=\"\",\"\",ROUND(H782/SUM(H778:H785),4))","v":""},null,null,null,null,null,null,{"$f":"+IF(O782=\"\",\"\",IF(N778=\"Transporte Marítimo\",VLOOKUP(O782,$O$4030:$P$4035,2),IF(N778=\"Transporte Aéreo\",VLOOKUP(O782,$O$4037:$P$4042,2),IF(N778=\"Transporte Aéreo\",VLOOKUP(O782,$O$4044:$P$4045,2),\"\"))))","v":""},null,null,null,null,null,null,null,null,null,null,null,null,null,null,null,"",""]
[null,null,null,null,null,null,"",null,{"$f":"IF(H783=\"\",\"\",ROUND(H783/SUM(H778:H785),4))","v":""},null,null,null,null,null,null,{"$f":"+IF(O783=\"\",\"\",IF(N778=\"Transporte Marítimo\",VLOOKUP(O783,$O$4030:$P$4035,2),IF(N778=\"Transporte Aéreo\",VLOOKUP(O783,$O$4037:$P$4042,2),IF(N778=\"Transporte Aéreo\",VLOOKUP(O783,$O$4044:$P$4045,2),\"\"))))","v":""},null,null,null,null,null,null,null,null,null,null,null,null,null,null,null,"",""]
[null,null,null,null,null,null,"",null,{"$f":"IF(H784=\"\",\"\",ROUND(H784/SUM(H778:H785),4))","v":""},null,null,null,null,null,null,{"$f":"+IF(O784=\"\",\"\",IF(N778=\"Transporte Marítimo\",VLOOKUP(O784,$O$4030:$P$4035,2),IF(N778=\"Transporte Aéreo\",VLOOKUP(O784,$O$4037:$P$4042,2),IF(N778=\"Transporte Aéreo\",VLOOKUP(O784,$O$4044:$P$4045,2),\"\"))))","v":""},null,null,null,null,null,null,null,null,null,null,null,null,null,null,null,"",""]
[null,null,null,null,null,null,"",null,{"$f":"IF(H785=\"\",\"\",ROUND(H785/SUM(H778:H785),4))","v":""},null,null,null,null,null,null,{"$f":"+IF(O785=\"\",\"\",IF(N778=\"Transporte Marítimo\",VLOOKUP(O785,$O$4030:$P$4035,2),IF(N778=\"Transporte Aéreo\",VLOOKUP(O785,$O$4037:$P$4042,2),IF(N778=\"Transporte Aéreo\",VLOOKUP(O785,$O$4044:$P$4045,2),\"\"))))","v":""},null,null,null,null,null,null,null,null,null,null,null,null,null,null,null,"",""]
[null,{"$f":"+B778+1","v":97},null,null,null,null,{"$f":"+IF(F786=\"\",\"\",VLOOKUP(F786,$F$4031:$G$4120,2))","v":""},null,{"$f":"IF(H786=\"\",\"\",1-SUM(I787:I793))","v":""},null,null,null,null,null,null,{"$f":"+IF(O786=\"\",\"\",IF(N786=\"Transporte Marítimo\",VLOOKUP(O786,$O$4030:$P$4035,2),IF(N786=\"Transporte Aéreo\",VLOOKUP(O786,$O$4037:$P$4042,2),IF(N786=\"CTT\",VLOOKUP(O786,$O$4044:$P$4045,2),\"\"))))","v":""},null,null,null,null,null,null,null,null,null,null,null,null,null,null,null,{"$f":"+IF(AE786=\"20NL\",1,IF(AE786=\"40NL\",2,IF(AE786=\"20RF\",3,IF(AE786=\"40RF\",4,\"\"))))","v":""},{"$f":"+IF(AF786=\"\",\"\",VLOOKUP(AF786,$AF$4031:$AG$4034,2))","v":""},null,null,null,null,null,null,null,null,null,null,null,null,null,null," "]
[null,null,null,null,null,null,"",null,{"$f":"IF(H787=\"\",\"\",ROUND(H787/SUM(H786:H793),4))","v":""},null,null,null,null,null,null,{"$f":"+IF(O787=\"\",\"\",IF(N786=\"Transporte Marítimo\",VLOOKUP(O787,$O$4030:$P$4035,2),IF(N786=\"Transporte Aéreo\",VLOOKUP(O787,$O$4037:$P$4042,2),IF(N786=\"Transporte Aéreo\",VLOOKUP(O787,$O$4044:$P$4045,2),\"\"))))","v":""},null,null,null,null,null,null,null,null,null,null,null,null,null,null,null,{"$f":"+IF(AE787=\"20NL\",1,IF(AE787=\"40NL\",2,IF(AE787=\"20RF\",3,IF(AE787=\"40RF\",4,\"\"))))","v":""},""]
[null,null,null,null,null,null,"",null,{"$f":"IF(H788=\"\",\"\",ROUND(H788/SUM(H786:H793),4))","v":""},null,null,null,null,null,null,{"$f":"+IF(O788=\"\",\"\",IF(N786=\"Transporte Marítimo\",VLOOKUP(O788,$O$4030:$P$4035,2),IF(N786=\"Transporte Aéreo\",VLOOKUP(O788,$O$4037:$P$4042,2),IF(N786=\"Transporte Aéreo\",VLOOKUP(O788,$O$4044:$P$4045,2),\"\"))))","v":""},null,null,null,null,null,null,null,null,null,null,null,null,null,null,null,"",""]
[null,null,null,null,null,null,"",null,{"$f":"IF(H789=\"\",\"\",ROUND(H789/SUM(H786:H793),4))","v":""},null,null,null,null,null,null,{"$f":"+IF(O789=\"\",\"\",IF(N786=\"Transporte Marítimo\",VLOOKUP(O789,$O$4030:$P$4035,2),IF(N786=\"Transporte Aéreo\",VLOOKUP(O789,$O$4037:$P$4042,2),IF(N786=\"Transporte Aéreo\",VLOOKUP(O789,$O$4044:$P$4045,2),\"\"))))","v":""},null,null,null,null,null,null,null,null,null,null,null,null,null,null,null,"",""]
[null,null,null,null,null,null,"",null,{"$f":"IF(H790=\"\",\"\",ROUND(H790/SUM(H786:H793),4))","v":""},null,null,null,null,null,null,{"$f":"+IF(O790=\"\",\"\",IF(N786=\"Transporte Marítimo\",VLOOKUP(O790,$O$4030:$P$4035,2),IF(N786=\"Transporte Aéreo\",VLOOKUP(O790,$O$4037:$P$4042,2),IF(N786=\"Transporte Aéreo\",VLOOKUP(O790,$O$4044:$P$4045,2),\"\"))))","v":""},null,null,null,null,null,null,null,null,null,null,null,null,null,null,null,"",""]
[null,null,null,null,null,null,"",null,{"$f":"IF(H791=\"\",\"\",ROUND(H791/SUM(H786:H793),4))","v":""},null,null,null,null,null,null,{"$f":"+IF(O791=\"\",\"\",IF(N786=\"Transporte Marítimo\",VLOOKUP(O791,$O$4030:$P$4035,2),IF(N786=\"Transporte Aéreo\",VLOOKUP(O791,$O$4037:$P$4042,2),IF(N786=\"Transporte Aéreo\",VLOOKUP(O791,$O$4044:$P$4045,2),\"\"))))","v":""},null,null,null,null,null,null,null,null,null,null,null,null,null,null,null,"",""]
[null,null,null,null,null,null,"",null,{"$f":"IF(H792=\"\",\"\",ROUND(H792/SUM(H786:H793),4))","v":""},null,null,null,null,null,null,{"$f":"+IF(O792=\"\",\"\",IF(N786=\"Transporte Marítimo\",VLOOKUP(O792,$O$4030:$P$4035,2),IF(N786=\"Transporte Aéreo\",VLOOKUP(O792,$O$4037:$P$4042,2),IF(N786=\"Transporte Aéreo\",VLOOKUP(O792,$O$4044:$P$4045,2),\"\"))))","v":""},null,null,null,null,null,null,null,null,null,null,null,null,null,null,null,"",""]
[null,null,null,null,null,null,"",null,{"$f":"IF(H793=\"\",\"\",ROUND(H793/SUM(H786:H793),4))","v":""},null,null,null,null,null,null,{"$f":"+IF(O793=\"\",\"\",IF(N786=\"Transporte Marítimo\",VLOOKUP(O793,$O$4030:$P$4035,2),IF(N786=\"Transporte Aéreo\",VLOOKUP(O793,$O$4037:$P$4042,2),IF(N786=\"Transporte Aéreo\",VLOOKUP(O793,$O$4044:$P$4045,2),\"\"))))","v":""},null,null,null,null,null,null,null,null,null,null,null,null,null,null,null,"",""]
[null,{"$f":"+B786+1","v":98},null,null,null,null,{"$f":"+IF(F794=\"\",\"\",VLOOKUP(F794,$F$4031:$G$4120,2))","v":""},null,{"$f":"IF(H794=\"\",\"\",1-SUM(I795:I801))","v":""},null,null,null,null,null,null,{"$f":"+IF(O794=\"\",\"\",IF(N794=\"Transporte Marítimo\",VLOOKUP(O794,$O$4030:$P$4035,2),IF(N794=\"Transporte Aéreo\",VLOOKUP(O794,$O$4037:$P$4042,2),IF(N794=\"CTT\",VLOOKUP(O794,$O$4044:$P$4045,2),\"\"))))","v":""},null,null,null,null,null,null,null,null,null,null,null,null,null,null,null,{"$f":"+IF(AE794=\"20NL\",1,IF(AE794=\"40NL\",2,IF(AE794=\"20RF\",3,IF(AE794=\"40RF\",4,\"\"))))","v":""},{"$f":"+IF(AF794=\"\",\"\",VLOOKUP(AF794,$AF$4031:$AG$4034,2))","v":""},null,null,null,null,null,null,null,null,null,null,null,null,null,null," "]
[null,null,null,null,null,null,"",null,{"$f":"IF(H795=\"\",\"\",ROUND(H795/SUM(H794:H801),4))","v":""},null,null,null,null,null,null,{"$f":"+IF(O795=\"\",\"\",IF(N794=\"Transporte Marítimo\",VLOOKUP(O795,$O$4030:$P$4035,2),IF(N794=\"Transporte Aéreo\",VLOOKUP(O795,$O$4037:$P$4042,2),IF(N794=\"Transporte Aéreo\",VLOOKUP(O795,$O$4044:$P$4045,2),\"\"))))","v":""},null,null,null,null,null,null,null,null,null,null,null,null,null,null,null,{"$f":"+IF(AE795=\"20NL\",1,IF(AE795=\"40NL\",2,IF(AE795=\"20RF\",3,IF(AE795=\"40RF\",4,\"\"))))","v":""},""]
[null,null,null,null,null,null,"",null,{"$f":"IF(H796=\"\",\"\",ROUND(H796/SUM(H794:H801),4))","v":""},null,null,null,null,null,null,{"$f":"+IF(O796=\"\",\"\",IF(N794=\"Transporte Marítimo\",VLOOKUP(O796,$O$4030:$P$4035,2),IF(N794=\"Transporte Aéreo\",VLOOKUP(O796,$O$4037:$P$4042,2),IF(N794=\"Transporte Aéreo\",VLOOKUP(O796,$O$4044:$P$4045,2),\"\"))))","v":""},null,null,null,null,null,null,null,null,null,null,null,null,null,null,null,"",""]
[null,null,null,null,null,null,"",null,{"$f":"IF(H797=\"\",\"\",ROUND(H797/SUM(H794:H801),4))","v":""},null,null,null,null,null,null,{"$f":"+IF(O797=\"\",\"\",IF(N794=\"Transporte Marítimo\",VLOOKUP(O797,$O$4030:$P$4035,2),IF(N794=\"Transporte Aéreo\",VLOOKUP(O797,$O$4037:$P$4042,2),IF(N794=\"Transporte Aéreo\",VLOOKUP(O797,$O$4044:$P$4045,2),\"\"))))","v":""},null,null,null,null,null,null,null,null,null,null,null,null,null,null,null,"",""]
[null,null,null,null,null,null,"",null,{"$f":"IF(H798=\"\",\"\",ROUND(H798/SUM(H794:H801),4))","v":""},null,null,null,null,null,null,{"$f":"+IF(O798=\"\",\"\",IF(N794=\"Transporte Marítimo\",VLOOKUP(O798,$O$4030:$P$4035,2),IF(N794=\"Transporte Aéreo\",VLOOKUP(O798,$O$4037:$P$4042,2),IF(N794=\"Transporte Aéreo\",VLOOKUP(O798,$O$4044:$P$4045,2),\"\"))))","v":""},null,null,null,null,null,null,null,null,null,null,null,null,null,null,null,"",""]
[null,null,null,null,null,null,"",null,{"$f":"IF(H799=\"\",\"\",ROUND(H799/SUM(H794:H801),4))","v":""},null,null,null,null,null,null,{"$f":"+IF(O799=\"\",\"\",IF(N794=\"Transporte Marítimo\",VLOOKUP(O799,$O$4030:$P$4035,2),IF(N794=\"Transporte Aéreo\",VLOOKUP(O799,$O$4037:$P$4042,2),IF(N794=\"Transporte Aéreo\",VLOOKUP(O799,$O$4044:$P$4045,2),\"\"))))","v":""},null,null,null,null,null,null,null,null,null,null,null,null,null,null,null,"",""]
[null,null,null,null,null,null,"",null,{"$f":"IF(H800=\"\",\"\",ROUND(H800/SUM(H794:H801),4))","v":""},null,null,null,null,null,null,{"$f":"+IF(O800=\"\",\"\",IF(N794=\"Transporte Marítimo\",VLOOKUP(O800,$O$4030:$P$4035,2),IF(N794=\"Transporte Aéreo\",VLOOKUP(O800,$O$4037:$P$4042,2),IF(N794=\"Transporte Aéreo\",VLOOKUP(O800,$O$4044:$P$4045,2),\"\"))))","v":""},null,null,null,null,null,null,null,null,null,null,null,null,null,null,null,"",""]
[null,null,null,null,null,null,"",null,{"$f":"IF(H801=\"\",\"\",ROUND(H801/SUM(H794:H801),4))","v":""},null,null,null,null,null,null,{"$f":"+IF(O801=\"\",\"\",IF(N794=\"Transporte Marítimo\",VLOOKUP(O801,$O$4030:$P$4035,2),IF(N794=\"Transporte Aéreo\",VLOOKUP(O801,$O$4037:$P$4042,2),IF(N794=\"Transporte Aéreo\",VLOOKUP(O801,$O$4044:$P$4045,2),\"\"))))","v":""},null,null,null,null,null,null,null,null,null,null,null,null,null,null,null,"",""]
[null,{"$f":"+B794+1","v":99},null,null,null,null,{"$f":"+IF(F802=\"\",\"\",VLOOKUP(F802,$F$4031:$G$4120,2))","v":""},null,{"$f":"IF(H802=\"\",\"\",1-SUM(I803:I809))","v":""},null,null,null,null,null,null,{"$f":"+IF(O802=\"\",\"\",IF(N802=\"Transporte Marítimo\",VLOOKUP(O802,$O$4030:$P$4035,2),IF(N802=\"Transporte Aéreo\",VLOOKUP(O802,$O$4037:$P$4042,2),IF(N802=\"CTT\",VLOOKUP(O802,$O$4044:$P$4045,2),\"\"))))","v":""},null,null,null,null,null,null,null,null,null,null,null,null,null,null,null,{"$f":"+IF(AE802=\"20NL\",1,IF(AE802=\"40NL\",2,IF(AE802=\"20RF\",3,IF(AE802=\"40RF\",4,\"\"))))","v":""},{"$f":"+IF(AF802=\"\",\"\",VLOOKUP(AF802,$AF$4031:$AG$4034,2))","v":""},null,null,null,null,null,null,null,null,null,null,null,null,null,null," "]
[null,null,null,null,null,null,{"$f":"+IF(F803=\"\",\"\",VLOOKUP(F803,$F$4031:$G$4120,2))","v":""},null,{"$f":"IF(H803=\"\",\"\",ROUND(H803/SUM(H802:H809),4))","v":""},null,null,null,null,null,null,{"$f":"+IF(O803=\"\",\"\",IF(N802=\"Transporte Marítimo\",VLOOKUP(O803,$O$4030:$P$4035,2),IF(N802=\"Transporte Aéreo\",VLOOKUP(O803,$O$4037:$P$4042,2),IF(N802=\"Transporte Aéreo\",VLOOKUP(O803,$O$4044:$P$4045,2),\"\"))))","v":""},null,null,null,null,null,null,null,null,null,null,null,null,null,null,null,{"$f":"+IF(AE803=\"20NL\",1,IF(AE803=\"40NL\",2,IF(AE803=\"20RF\",3,IF(AE803=\"40RF\",4,\"\"))))","v":""},{"$f":"+IF(AF803=\"\",\"\",VLOOKUP(AF803,$AF$4031:$AG$4034,2))","v":""}]
[null,null,null,null,null,null,"",null,{"$f":"IF(H804=\"\",\"\",ROUND(H804/SUM(H802:H809),4))","v":""},null,null,null,null,null,null,{"$f":"+IF(O804=\"\",\"\",IF(N802=\"Transporte Marítimo\",VLOOKUP(O804,$O$4030:$P$4035,2),IF(N802=\"Transporte Aéreo\",VLOOKUP(O804,$O$4037:$P$4042,2),IF(N802=\"Transporte Aéreo\",VLOOKUP(O804,$O$4044:$P$4045,2),\"\"))))","v":""},null,null,null,null,null,null,null,null,null,null,null,null,null,null,null,"",""]
[null,null,null,null,null,null,"",null,{"$f":"IF(H805=\"\",\"\",ROUND(H805/SUM(H802:H809),4))","v":""},null,null,null,null,null,null,{"$f":"+IF(O805=\"\",\"\",IF(N802=\"Transporte Marítimo\",VLOOKUP(O805,$O$4030:$P$4035,2),IF(N802=\"Transporte Aéreo\",VLOOKUP(O805,$O$4037:$P$4042,2),IF(N802=\"Transporte Aéreo\",VLOOKUP(O805,$O$4044:$P$4045,2),\"\"))))","v":""},null,null,null,null,null,null,null,null,null,null,null,null,null,null,null,"",""]
[null,null,null,null,null,null,"",null,{"$f":"IF(H806=\"\",\"\",ROUND(H806/SUM(H802:H809),4))","v":""},null,null,null,null,null,null,{"$f":"+IF(O806=\"\",\"\",IF(N802=\"Transporte Marítimo\",VLOOKUP(O806,$O$4030:$P$4035,2),IF(N802=\"Transporte Aéreo\",VLOOKUP(O806,$O$4037:$P$4042,2),IF(N802=\"Transporte Aéreo\",VLOOKUP(O806,$O$4044:$P$4045,2),\"\"))))","v":""},null,null,null,null,null,null,null,null,null,null,null,null,null,null,null,"",""]
[null,null,null,null,null,null,"",null,{"$f":"IF(H807=\"\",\"\",ROUND(H807/SUM(H802:H809),4))","v":""},null,null,null,null,null,null,{"$f":"+IF(O807=\"\",\"\",IF(N802=\"Transporte Marítimo\",VLOOKUP(O807,$O$4030:$P$4035,2),IF(N802=\"Transporte Aéreo\",VLOOKUP(O807,$O$4037:$P$4042,2),IF(N802=\"Transporte Aéreo\",VLOOKUP(O807,$O$4044:$P$4045,2),\"\"))))","v":""},null,null,null,null,null,null,null,null,null,null,null,null,null,null,null,"",""]
[null,null,null,null,null,null,"",null,{"$f":"IF(H808=\"\",\"\",ROUND(H808/SUM(H802:H809),4))","v":""},null,null,null,null,null,null,{"$f":"+IF(O808=\"\",\"\",IF(N802=\"Transporte Marítimo\",VLOOKUP(O808,$O$4030:$P$4035,2),IF(N802=\"Transporte Aéreo\",VLOOKUP(O808,$O$4037:$P$4042,2),IF(N802=\"Transporte Aéreo\",VLOOKUP(O808,$O$4044:$P$4045,2),\"\"))))","v":""},null,null,null,null,null,null,null,null,null,null,null,null,null,null,null,"",""]
[null,null,null,null,null,null,"",null,{"$f":"IF(H809=\"\",\"\",ROUND(H809/SUM(H802:H809),4))","v":""},null,null,null,null,null,null,{"$f":"+IF(O809=\"\",\"\",IF(N802=\"Transporte Marítimo\",VLOOKUP(O809,$O$4030:$P$4035,2),IF(N802=\"Transporte Aéreo\",VLOOKUP(O809,$O$4037:$P$4042,2),IF(N802=\"Transporte Aéreo\",VLOOKUP(O809,$O$4044:$P$4045,2),\"\"))))","v":""},null,null,null,null,null,null,null,null,null,null,null,null,null,null,null,"",""]
[null,{"$f":"+B802+1","v":100},null,null,null,null,{"$f":"+IF(F810=\"\",\"\",VLOOKUP(F810,$F$4031:$G$4120,2))","v":""},null,{"$f":"IF(H810=\"\",\"\",1-SUM(I811:I817))","v":""},null,null,null,null,null,null,{"$f":"+IF(O810=\"\",\"\",IF(N810=\"Transporte Marítimo\",VLOOKUP(O810,$O$4030:$P$4035,2),IF(N810=\"Transporte Aéreo\",VLOOKUP(O810,$O$4037:$P$4042,2),IF(N810=\"CTT\",VLOOKUP(O810,$O$4044:$P$4045,2),\"\"))))","v":""},null,null,null,null,null,null,null,null,null,null,null,null,null,null,null,{"$f":"+IF(AE810=\"20NL\",1,IF(AE810=\"40NL\",2,IF(AE810=\"20RF\",3,IF(AE810=\"40RF\",4,\"\"))))","v":""},{"$f":"+IF(AF810=\"\",\"\",VLOOKUP(AF810,$AF$4031:$AG$4034,2))","v":""},null,null,null,null,null,null,null,null,null,null,null,null,null,null," "]
[null,null,null,null,null,null,"",null,{"$f":"IF(H811=\"\",\"\",ROUND(H811/SUM(H810:H817),4))","v":""},null,null,null,null,null,null,{"$f":"+IF(O811=\"\",\"\",IF(N810=\"Transporte Marítimo\",VLOOKUP(O811,$O$4030:$P$4035,2),IF(N810=\"Transporte Aéreo\",VLOOKUP(O811,$O$4037:$P$4042,2),IF(N810=\"Transporte Aéreo\",VLOOKUP(O811,$O$4044:$P$4045,2),\"\"))))","v":""},null,null,null,null,null,null,null,null,null,null,null,null,null,null,null,{"$f":"+IF(AE811=\"20NL\",1,IF(AE811=\"40NL\",2,IF(AE811=\"20RF\",3,IF(AE811=\"40RF\",4,\"\"))))","v":""},{"$f":"+IF(AF811=\"\",\"\",VLOOKUP(AF811,$AF$4031:$AG$4034,2))","v":""}]
[null,null,null,null,null,null,"",null,{"$f":"IF(H812=\"\",\"\",ROUND(H812/SUM(H810:H817),4))","v":""},null,null,null,null,null,null,{"$f":"+IF(O812=\"\",\"\",IF(N810=\"Transporte Marítimo\",VLOOKUP(O812,$O$4030:$P$4035,2),IF(N810=\"Transporte Aéreo\",VLOOKUP(O812,$O$4037:$P$4042,2),IF(N810=\"Transporte Aéreo\",VLOOKUP(O812,$O$4044:$P$4045,2),\"\"))))","v":""},null,null,null,null,null,null,null,null,null,null,null,null,null,null,null,"",""]
[null,null,null,null,null,null,"",null,{"$f":"IF(H813=\"\",\"\",ROUND(H813/SUM(H810:H817),4))","v":""},null,null,null,null,null,null,{"$f":"+IF(O813=\"\",\"\",IF(N810=\"Transporte Marítimo\",VLOOKUP(O813,$O$4030:$P$4035,2),IF(N810=\"Transporte Aéreo\",VLOOKUP(O813,$O$4037:$P$4042,2),IF(N810=\"Transporte Aéreo\",VLOOKUP(O813,$O$4044:$P$4045,2),\"\"))))","v":""},null,null,null,null,null,null,null,null,null,null,null,null,null,null,null,"",""]
[null,null,null,null,null,null,"",null,{"$f":"IF(H814=\"\",\"\",ROUND(H814/SUM(H810:H817),4))","v":""},null,null,null,null,null,null,{"$f":"+IF(O814=\"\",\"\",IF(N810=\"Transporte Marítimo\",VLOOKUP(O814,$O$4030:$P$4035,2),IF(N810=\"Transporte Aéreo\",VLOOKUP(O814,$O$4037:$P$4042,2),IF(N810=\"Transporte Aéreo\",VLOOKUP(O814,$O$4044:$P$4045,2),\"\"))))","v":""},null,null,null,null,null,null,null,null,null,null,null,null,null,null,null,"",""]
[null,null,null,null,null,null,"",null,{"$f":"IF(H815=\"\",\"\",ROUND(H815/SUM(H810:H817),4))","v":""},null,null,null,null,null,null,{"$f":"+IF(O815=\"\",\"\",IF(N810=\"Transporte Marítimo\",VLOOKUP(O815,$O$4030:$P$4035,2),IF(N810=\"Transporte Aéreo\",VLOOKUP(O815,$O$4037:$P$4042,2),IF(N810=\"Transporte Aéreo\",VLOOKUP(O815,$O$4044:$P$4045,2),\"\"))))","v":""},null,null,null,null,null,null,null,null,null,null,null,null,null,null,null,"",""]
[null,null,null,null,null,null,"",null,{"$f":"IF(H816=\"\",\"\",ROUND(H816/SUM(H810:H817),4))","v":""},null,null,null,null,null,null,{"$f":"+IF(O816=\"\",\"\",IF(N810=\"Transporte Marítimo\",VLOOKUP(O816,$O$4030:$P$4035,2),IF(N810=\"Transporte Aéreo\",VLOOKUP(O816,$O$4037:$P$4042,2),IF(N810=\"Transporte Aéreo\",VLOOKUP(O816,$O$4044:$P$4045,2),\"\"))))","v":""},null,null,null,null,null,null,null,null,null,null,null,null,null,null,null,"",""]
[null,null,null,null,null,null,{"$f":"+IF(F817=\"\",\"\",VLOOKUP(F817,$F$4031:$G$4120,2))","v":""},null,{"$f":"IF(H817=\"\",\"\",ROUND(H817/SUM(H810:H817),4))","v":""},null,null,null,null,null,null,{"$f":"+IF(O817=\"\",\"\",IF(N810=\"Transporte Marítimo\",VLOOKUP(O817,$O$4030:$P$4035,2),IF(N810=\"Transporte Aéreo\",VLOOKUP(O817,$O$4037:$P$4042,2),IF(N810=\"Transporte Aéreo\",VLOOKUP(O817,$O$4044:$P$4045,2),\"\"))))","v":""},null,null,null,null,null,null,null,null,null,null,null,null,null,null,null,"",""]
[null,{"$f":"+B810+1","v":101},null,null,null,null,{"$f":"+IF(F818=\"\",\"\",VLOOKUP(F818,$F$4031:$G$4120,2))","v":""},null,{"$f":"IF(H818=\"\",\"\",1-SUM(I819:I825))","v":""},null,null,null,null,null,null,{"$f":"+IF(O818=\"\",\"\",IF(N818=\"Transporte Marítimo\",VLOOKUP(O818,$O$4030:$P$4035,2),IF(N818=\"Transporte Aéreo\",VLOOKUP(O818,$O$4037:$P$4042,2),IF(N818=\"CTT\",VLOOKUP(O818,$O$4044:$P$4045,2),\"\"))))","v":""},null,null,null,null,null,null,null,null,null,null,null,null,null,null,null,{"$f":"+IF(AE818=\"20NL\",1,IF(AE818=\"40NL\",2,IF(AE818=\"20RF\",3,IF(AE818=\"40RF\",4,\"\"))))","v":""},{"$f":"+IF(AF818=\"\",\"\",VLOOKUP(AF818,$AF$4031:$AG$4034,2))","v":""},null,null,null,null,null,null,null,null,null,null,null,null,null,null," "]
[null,null,null,null,null,null,{"$f":"+IF(F819=\"\",\"\",VLOOKUP(F819,$F$4031:$G$4120,2))","v":""},null,{"$f":"IF(H819=\"\",\"\",ROUND(H819/SUM(H818:H825),4))","v":""},null,null,null,null,null,null,{"$f":"+IF(O819=\"\",\"\",IF(N818=\"Transporte Marítimo\",VLOOKUP(O819,$O$4030:$P$4035,2),IF(N818=\"Transporte Aéreo\",VLOOKUP(O819,$O$4037:$P$4042,2),IF(N818=\"Transporte Aéreo\",VLOOKUP(O819,$O$4044:$P$4045,2),\"\"))))","v":""},null,null,null,null,null,null,null,null,null,null,null,null,null,null,null,{"$f":"+IF(AE819=\"20NL\",1,IF(AE819=\"40NL\",2,IF(AE819=\"20RF\",3,IF(AE819=\"40RF\",4,\"\"))))","v":""},{"$f":"+IF(AF819=\"\",\"\",VLOOKUP(AF819,$AF$4031:$AG$4034,2))","v":""}]
[null,null,null,null,null,null,"",null,{"$f":"IF(H820=\"\",\"\",ROUND(H820/SUM(H818:H825),4))","v":""},null,null,null,null,null,null,{"$f":"+IF(O820=\"\",\"\",IF(N818=\"Transporte Marítimo\",VLOOKUP(O820,$O$4030:$P$4035,2),IF(N818=\"Transporte Aéreo\",VLOOKUP(O820,$O$4037:$P$4042,2),IF(N818=\"Transporte Aéreo\",VLOOKUP(O820,$O$4044:$P$4045,2),\"\"))))","v":""},null,null,null,null,null,null,null,null,null,null,null,null,null,null,null,"",""]
[null,null,null,null,null,null,"",null,{"$f":"IF(H821=\"\",\"\",ROUND(H821/SUM(H818:H825),4))","v":""},null,null,null,null,null,null,{"$f":"+IF(O821=\"\",\"\",IF(N818=\"Transporte Marítimo\",VLOOKUP(O821,$O$4030:$P$4035,2),IF(N818=\"Transporte Aéreo\",VLOOKUP(O821,$O$4037:$P$4042,2),IF(N818=\"Transporte Aéreo\",VLOOKUP(O821,$O$4044:$P$4045,2),\"\"))))","v":""},null,null,null,null,null,null,null,null,null,null,null,null,null,null,null,"",""]
[null,null,null,null,null,null,"",null,{"$f":"IF(H822=\"\",\"\",ROUND(H822/SUM(H818:H825),4))","v":""},null,null,null,null,null,null,{"$f":"+IF(O822=\"\",\"\",IF(N818=\"Transporte Marítimo\",VLOOKUP(O822,$O$4030:$P$4035,2),IF(N818=\"Transporte Aéreo\",VLOOKUP(O822,$O$4037:$P$4042,2),IF(N818=\"Transporte Aéreo\",VLOOKUP(O822,$O$4044:$P$4045,2),\"\"))))","v":""},null,null,null,null,null,null,null,null,null,null,null,null,null,null,null,"",""]
[null,null,null,null,null,null,"",null,{"$f":"IF(H823=\"\",\"\",ROUND(H823/SUM(H818:H825),4))","v":""},null,null,null,null,null,null,{"$f":"+IF(O823=\"\",\"\",IF(N818=\"Transporte Marítimo\",VLOOKUP(O823,$O$4030:$P$4035,2),IF(N818=\"Transporte Aéreo\",VLOOKUP(O823,$O$4037:$P$4042,2),IF(N818=\"Transporte Aéreo\",VLOOKUP(O823,$O$4044:$P$4045,2),\"\"))))","v":""},null,null,null,null,null,null,null,null,null,null,null,null,null,null,null,"",""]
[null,null,null,null,null,null,"",null,{"$f":"IF(H824=\"\",\"\",ROUND(H824/SUM(H818:H825),4))","v":""},null,null,null,null,null,null,{"$f":"+IF(O824=\"\",\"\",IF(N818=\"Transporte Marítimo\",VLOOKUP(O824,$O$4030:$P$4035,2),IF(N818=\"Transporte Aéreo\",VLOOKUP(O824,$O$4037:$P$4042,2),IF(N818=\"Transporte Aéreo\",VLOOKUP(O824,$O$4044:$P$4045,2),\"\"))))","v":""},null,null,null,null,null,null,null,null,null,null,null,null,null,null,null,"",""]
[null,null,null,null,null,null,"",null,{"$f":"IF(H825=\"\",\"\",ROUND(H825/SUM(H818:H825),4))","v":""},null,null,null,null,null,null,{"$f":"+IF(O825=\"\",\"\",IF(N818=\"Transporte Marítimo\",VLOOKUP(O825,$O$4030:$P$4035,2),IF(N818=\"Transporte Aéreo\",VLOOKUP(O825,$O$4037:$P$4042,2),IF(N818=\"Transporte Aéreo\",VLOOKUP(O825,$O$4044:$P$4045,2),\"\"))))","v":""},null,null,null,null,null,null,null,null,null,null,null,null,null,null,null,"",""]
[null,{"$f":"+B818+1","v":102},null,null,null,null,{"$f":"+IF(F826=\"\",\"\",VLOOKUP(F826,$F$4031:$G$4120,2))","v":""},null,{"$f":"IF(H826=\"\",\"\",1-SUM(I827:I833))","v":""},null,null,null,null,null,null,{"$f":"+IF(O826=\"\",\"\",IF(N826=\"Transporte Marítimo\",VLOOKUP(O826,$O$4030:$P$4035,2),IF(N826=\"Transporte Aéreo\",VLOOKUP(O826,$O$4037:$P$4042,2),IF(N826=\"CTT\",VLOOKUP(O826,$O$4044:$P$4045,2),\"\"))))","v":""},null,null,null,null,null,null,null,null,null,null,null,null,null,null,null,{"$f":"+IF(AE826=\"20NL\",1,IF(AE826=\"40NL\",2,IF(AE826=\"20RF\",3,IF(AE826=\"40RF\",4,\"\"))))","v":""},{"$f":"+IF(AF826=\"\",\"\",VLOOKUP(AF826,$AF$4031:$AG$4034,2))","v":""},null,null,null,null,null,null,null,null,null,null,null,null,null,null," "]
[null,null,null,null,null,null,"",null,{"$f":"IF(H827=\"\",\"\",ROUND(H827/SUM(H826:H833),4))","v":""},null,null,null,null,null,null,{"$f":"+IF(O827=\"\",\"\",IF(N826=\"Transporte Marítimo\",VLOOKUP(O827,$O$4030:$P$4035,2),IF(N826=\"Transporte Aéreo\",VLOOKUP(O827,$O$4037:$P$4042,2),IF(N826=\"Transporte Aéreo\",VLOOKUP(O827,$O$4044:$P$4045,2),\"\"))))","v":""},null,null,null,null,null,null,null,null,null,null,null,null,null,null,null,{"$f":"+IF(AE827=\"20NL\",1,IF(AE827=\"40NL\",2,IF(AE827=\"20RF\",3,IF(AE827=\"40RF\",4,\"\"))))","v":""},""]
[null,null,null,null,null,null,"",null,{"$f":"IF(H828=\"\",\"\",ROUND(H828/SUM(H826:H833),4))","v":""},null,null,null,null,null,null,{"$f":"+IF(O828=\"\",\"\",IF(N826=\"Transporte Marítimo\",VLOOKUP(O828,$O$4030:$P$4035,2),IF(N826=\"Transporte Aéreo\",VLOOKUP(O828,$O$4037:$P$4042,2),IF(N826=\"Transporte Aéreo\",VLOOKUP(O828,$O$4044:$P$4045,2),\"\"))))","v":""},null,null,null,null,null,null,null,null,null,null,null,null,null,null,null,"",""]
[null,null,null,null,null,null,"",null,{"$f":"IF(H829=\"\",\"\",ROUND(H829/SUM(H826:H833),4))","v":""},null,null,null,null,null,null,{"$f":"+IF(O829=\"\",\"\",IF(N826=\"Transporte Marítimo\",VLOOKUP(O829,$O$4030:$P$4035,2),IF(N826=\"Transporte Aéreo\",VLOOKUP(O829,$O$4037:$P$4042,2),IF(N826=\"Transporte Aéreo\",VLOOKUP(O829,$O$4044:$P$4045,2),\"\"))))","v":""},null,null,null,null,null,null,null,null,null,null,null,null,null,null,null,"",""]
[null,null,null,null,null,null,"",null,{"$f":"IF(H830=\"\",\"\",ROUND(H830/SUM(H826:H833),4))","v":""},null,null,null,null,null,null,{"$f":"+IF(O830=\"\",\"\",IF(N826=\"Transporte Marítimo\",VLOOKUP(O830,$O$4030:$P$4035,2),IF(N826=\"Transporte Aéreo\",VLOOKUP(O830,$O$4037:$P$4042,2),IF(N826=\"Transporte Aéreo\",VLOOKUP(O830,$O$4044:$P$4045,2),\"\"))))","v":""},null,null,null,null,null,null,null,null,null,null,null,null,null,null,null,"",""]
[null,null,null,null,null,null,"",null,{"$f":"IF(H831=\"\",\"\",ROUND(H831/SUM(H826:H833),4))","v":""},null,null,null,null,null,null,{"$f":"+IF(O831=\"\",\"\",IF(N826=\"Transporte Marítimo\",VLOOKUP(O831,$O$4030:$P$4035,2),IF(N826=\"Transporte Aéreo\",VLOOKUP(O831,$O$4037:$P$4042,2),IF(N826=\"Transporte Aéreo\",VLOOKUP(O831,$O$4044:$P$4045,2),\"\"))))","v":""},null,null,null,null,null,null,null,null,null,null,null,null,null,null,null,"",""]
[null,null,null,null,null,null,"",null,{"$f":"IF(H832=\"\",\"\",ROUND(H832/SUM(H826:H833),4))","v":""},null,null,null,null,null,null,{"$f":"+IF(O832=\"\",\"\",IF(N826=\"Transporte Marítimo\",VLOOKUP(O832,$O$4030:$P$4035,2),IF(N826=\"Transporte Aéreo\",VLOOKUP(O832,$O$4037:$P$4042,2),IF(N826=\"Transporte Aéreo\",VLOOKUP(O832,$O$4044:$P$4045,2),\"\"))))","v":""},null,null,null,null,null,null,null,null,null,null,null,null,null,null,null,"",""]
[null,null,null,null,null,null,"",null,{"$f":"IF(H833=\"\",\"\",ROUND(H833/SUM(H826:H833),4))","v":""},null,null,null,null,null,null,{"$f":"+IF(O833=\"\",\"\",IF(N826=\"Transporte Marítimo\",VLOOKUP(O833,$O$4030:$P$4035,2),IF(N826=\"Transporte Aéreo\",VLOOKUP(O833,$O$4037:$P$4042,2),IF(N826=\"Transporte Aéreo\",VLOOKUP(O833,$O$4044:$P$4045,2),\"\"))))","v":""},null,null,null,null,null,null,null,null,null,null,null,null,null,null,null,"",""]
[null,{"$f":"+B826+1","v":103},null,null,null,null,{"$f":"+IF(F834=\"\",\"\",VLOOKUP(F834,$F$4031:$G$4120,2))","v":""},null,{"$f":"IF(H834=\"\",\"\",1-SUM(I835:I841))","v":""},null,null,null,null,null,null,{"$f":"+IF(O834=\"\",\"\",IF(N834=\"Transporte Marítimo\",VLOOKUP(O834,$O$4030:$P$4035,2),IF(N834=\"Transporte Aéreo\",VLOOKUP(O834,$O$4037:$P$4042,2),IF(N834=\"CTT\",VLOOKUP(O834,$O$4044:$P$4045,2),\"\"))))","v":""},null,null,null,null,null,null,null,null,null,null,null,null,null,null,null,{"$f":"+IF(AE834=\"20NL\",1,IF(AE834=\"40NL\",2,IF(AE834=\"20RF\",3,IF(AE834=\"40RF\",4,\"\"))))","v":""},{"$f":"+IF(AF834=\"\",\"\",VLOOKUP(AF834,$AF$4031:$AG$4034,2))","v":""},null,null,null,null,null,null,null,null,null,null,null,null,null,null," "]
[null,null,null,null,null,null,"",null,{"$f":"IF(H835=\"\",\"\",ROUND(H835/SUM(H834:H841),4))","v":""},null,null,null,null,null,null,{"$f":"+IF(O835=\"\",\"\",IF(N834=\"Transporte Marítimo\",VLOOKUP(O835,$O$4030:$P$4035,2),IF(N834=\"Transporte Aéreo\",VLOOKUP(O835,$O$4037:$P$4042,2),IF(N834=\"Transporte Aéreo\",VLOOKUP(O835,$O$4044:$P$4045,2),\"\"))))","v":""},null,null,null,null,null,null,null,null,null,null,null,null,null,null,null,{"$f":"+IF(AE835=\"20NL\",1,IF(AE835=\"40NL\",2,IF(AE835=\"20RF\",3,IF(AE835=\"40RF\",4,\"\"))))","v":""},""]
[null,null,null,null,null,null,"",null,{"$f":"IF(H836=\"\",\"\",ROUND(H836/SUM(H834:H841),4))","v":""},null,null,null,null,null,null,{"$f":"+IF(O836=\"\",\"\",IF(N834=\"Transporte Marítimo\",VLOOKUP(O836,$O$4030:$P$4035,2),IF(N834=\"Transporte Aéreo\",VLOOKUP(O836,$O$4037:$P$4042,2),IF(N834=\"Transporte Aéreo\",VLOOKUP(O836,$O$4044:$P$4045,2),\"\"))))","v":""},null,null,null,null,null,null,null,null,null,null,null,null,null,null,null,"",""]
[null,null,null,null,null,null,"",null,{"$f":"IF(H837=\"\",\"\",ROUND(H837/SUM(H834:H841),4))","v":""},null,null,null,null,null,null,{"$f":"+IF(O837=\"\",\"\",IF(N834=\"Transporte Marítimo\",VLOOKUP(O837,$O$4030:$P$4035,2),IF(N834=\"Transporte Aéreo\",VLOOKUP(O837,$O$4037:$P$4042,2),IF(N834=\"Transporte Aéreo\",VLOOKUP(O837,$O$4044:$P$4045,2),\"\"))))","v":""},null,null,null,null,null,null,null,null,null,null,null,null,null,null,null,"",""]
[null,null,null,null,null,null,"",null,{"$f":"IF(H838=\"\",\"\",ROUND(H838/SUM(H834:H841),4))","v":""},null,null,null,null,null,null,{"$f":"+IF(O838=\"\",\"\",IF(N834=\"Transporte Marítimo\",VLOOKUP(O838,$O$4030:$P$4035,2),IF(N834=\"Transporte Aéreo\",VLOOKUP(O838,$O$4037:$P$4042,2),IF(N834=\"Transporte Aéreo\",VLOOKUP(O838,$O$4044:$P$4045,2),\"\"))))","v":""},null,null,null,null,null,null,null,null,null,null,null,null,null,null,null,"",""]
[null,null,null,null,null,null,"",null,{"$f":"IF(H839=\"\",\"\",ROUND(H839/SUM(H834:H841),4))","v":""},null,null,null,null,null,null,{"$f":"+IF(O839=\"\",\"\",IF(N834=\"Transporte Marítimo\",VLOOKUP(O839,$O$4030:$P$4035,2),IF(N834=\"Transporte Aéreo\",VLOOKUP(O839,$O$4037:$P$4042,2),IF(N834=\"Transporte Aéreo\",VLOOKUP(O839,$O$4044:$P$4045,2),\"\"))))","v":""},null,null,null,null,null,null,null,null,null,null,null,null,null,null,null,"",""]
[null,null,null,null,null,null,"",null,{"$f":"IF(H840=\"\",\"\",ROUND(H840/SUM(H834:H841),4))","v":""},null,null,null,null,null,null,{"$f":"+IF(O840=\"\",\"\",IF(N834=\"Transporte Marítimo\",VLOOKUP(O840,$O$4030:$P$4035,2),IF(N834=\"Transporte Aéreo\",VLOOKUP(O840,$O$4037:$P$4042,2),IF(N834=\"Transporte Aéreo\",VLOOKUP(O840,$O$4044:$P$4045,2),\"\"))))","v":""},null,null,null,null,null,null,null,null,null,null,null,null,null,null,null,"",""]
[null,null,null,null,null,null,"",null,{"$f":"IF(H841=\"\",\"\",ROUND(H841/SUM(H834:H841),4))","v":""},null,null,null,null,null,null,{"$f":"+IF(O841=\"\",\"\",IF(N834=\"Transporte Marítimo\",VLOOKUP(O841,$O$4030:$P$4035,2),IF(N834=\"Transporte Aéreo\",VLOOKUP(O841,$O$4037:$P$4042,2),IF(N834=\"Transporte Aéreo\",VLOOKUP(O841,$O$4044:$P$4045,2),\"\"))))","v":""},null,null,null,null,null,null,null,null,null,null,null,null,null,null,null,"",""]
[null,{"$f":"+B834+1","v":104},null,null,null,null,{"$f":"+IF(F842=\"\",\"\",VLOOKUP(F842,$F$4031:$G$4120,2))","v":""},null,{"$f":"IF(H842=\"\",\"\",1-SUM(I843:I849))","v":""},null,null,null,null,null,null,{"$f":"+IF(O842=\"\",\"\",IF(N842=\"Transporte Marítimo\",VLOOKUP(O842,$O$4030:$P$4035,2),IF(N842=\"Transporte Aéreo\",VLOOKUP(O842,$O$4037:$P$4042,2),IF(N842=\"CTT\",VLOOKUP(O842,$O$4044:$P$4045,2),\"\"))))","v":""},null,null,null,null,null,null,null,null,null,null,null,null,null,null,null,{"$f":"+IF(AE842=\"20NL\",1,IF(AE842=\"40NL\",2,IF(AE842=\"20RF\",3,IF(AE842=\"40RF\",4,\"\"))))","v":""},{"$f":"+IF(AF842=\"\",\"\",VLOOKUP(AF842,$AF$4031:$AG$4034,2))","v":""},null,null,null,null,null,null,null,null,null,null,null,null,null,null," "]
[null,null,null,null,null,null,"",null,{"$f":"IF(H843=\"\",\"\",ROUND(H843/SUM(H842:H849),4))","v":""},null,null,null,null,null,null,{"$f":"+IF(O843=\"\",\"\",IF(N842=\"Transporte Marítimo\",VLOOKUP(O843,$O$4030:$P$4035,2),IF(N842=\"Transporte Aéreo\",VLOOKUP(O843,$O$4037:$P$4042,2),IF(N842=\"Transporte Aéreo\",VLOOKUP(O843,$O$4044:$P$4045,2),\"\"))))","v":""},null,null,null,null,null,null,null,null,null,null,null,null,null,null,null,{"$f":"+IF(AE843=\"20NL\",1,IF(AE843=\"40NL\",2,IF(AE843=\"20RF\",3,IF(AE843=\"40RF\",4,\"\"))))","v":""},""]
[null,null,null,null,null,null,"",null,{"$f":"IF(H844=\"\",\"\",ROUND(H844/SUM(H842:H849),4))","v":""},null,null,null,null,null,null,{"$f":"+IF(O844=\"\",\"\",IF(N842=\"Transporte Marítimo\",VLOOKUP(O844,$O$4030:$P$4035,2),IF(N842=\"Transporte Aéreo\",VLOOKUP(O844,$O$4037:$P$4042,2),IF(N842=\"Transporte Aéreo\",VLOOKUP(O844,$O$4044:$P$4045,2),\"\"))))","v":""},null,null,null,null,null,null,null,null,null,null,null,null,null,null,null,"",""]
[null,null,null,null,null,null,"",null,{"$f":"IF(H845=\"\",\"\",ROUND(H845/SUM(H842:H849),4))","v":""},null,null,null,null,null,null,{"$f":"+IF(O845=\"\",\"\",IF(N842=\"Transporte Marítimo\",VLOOKUP(O845,$O$4030:$P$4035,2),IF(N842=\"Transporte Aéreo\",VLOOKUP(O845,$O$4037:$P$4042,2),IF(N842=\"Transporte Aéreo\",VLOOKUP(O845,$O$4044:$P$4045,2),\"\"))))","v":""},null,null,null,null,null,null,null,null,null,null,null,null,null,null,null,"",""]
[null,null,null,null,null,null,"",null,{"$f":"IF(H846=\"\",\"\",ROUND(H846/SUM(H842:H849),4))","v":""},null,null,null,null,null,null,{"$f":"+IF(O846=\"\",\"\",IF(N842=\"Transporte Marítimo\",VLOOKUP(O846,$O$4030:$P$4035,2),IF(N842=\"Transporte Aéreo\",VLOOKUP(O846,$O$4037:$P$4042,2),IF(N842=\"Transporte Aéreo\",VLOOKUP(O846,$O$4044:$P$4045,2),\"\"))))","v":""},null,null,null,null,null,null,null,null,null,null,null,null,null,null,null,"",""]
[null,null,null,null,null,null,"",null,{"$f":"IF(H847=\"\",\"\",ROUND(H847/SUM(H842:H849),4))","v":""},null,null,null,null,null,null,{"$f":"+IF(O847=\"\",\"\",IF(N842=\"Transporte Marítimo\",VLOOKUP(O847,$O$4030:$P$4035,2),IF(N842=\"Transporte Aéreo\",VLOOKUP(O847,$O$4037:$P$4042,2),IF(N842=\"Transporte Aéreo\",VLOOKUP(O847,$O$4044:$P$4045,2),\"\"))))","v":""},null,null,null,null,null,null,null,null,null,null,null,null,null,null,null,"",""]
[null,null,null,null,null,null,"",null,{"$f":"IF(H848=\"\",\"\",ROUND(H848/SUM(H842:H849),4))","v":""},null,null,null,null,null,null,{"$f":"+IF(O848=\"\",\"\",IF(N842=\"Transporte Marítimo\",VLOOKUP(O848,$O$4030:$P$4035,2),IF(N842=\"Transporte Aéreo\",VLOOKUP(O848,$O$4037:$P$4042,2),IF(N842=\"Transporte Aéreo\",VLOOKUP(O848,$O$4044:$P$4045,2),\"\"))))","v":""},null,null,null,null,null,null,null,null,null,null,null,null,null,null,null,"",""]
[null,null,null,null,null,null,"",null,{"$f":"IF(H849=\"\",\"\",ROUND(H849/SUM(H842:H849),4))","v":""},null,null,null,null,null,null,{"$f":"+IF(O849=\"\",\"\",IF(N842=\"Transporte Marítimo\",VLOOKUP(O849,$O$4030:$P$4035,2),IF(N842=\"Transporte Aéreo\",VLOOKUP(O849,$O$4037:$P$4042,2),IF(N842=\"Transporte Aéreo\",VLOOKUP(O849,$O$4044:$P$4045,2),\"\"))))","v":""},null,null,null,null,null,null,null,null,null,null,null,null,null,null,null,"",""]
[null,{"$f":"+B842+1","v":105},null,null,null,null,{"$f":"+IF(F850=\"\",\"\",VLOOKUP(F850,$F$4031:$G$4120,2))","v":""},null,{"$f":"IF(H850=\"\",\"\",1-SUM(I851:I857))","v":""},null,null,null,null,null,null,{"$f":"+IF(O850=\"\",\"\",IF(N850=\"Transporte Marítimo\",VLOOKUP(O850,$O$4030:$P$4035,2),IF(N850=\"Transporte Aéreo\",VLOOKUP(O850,$O$4037:$P$4042,2),IF(N850=\"CTT\",VLOOKUP(O850,$O$4044:$P$4045,2),\"\"))))","v":""},null,null,null,null,null,null,null,null,null,null,null,null,null,null,null,{"$f":"+IF(AE850=\"20NL\",1,IF(AE850=\"40NL\",2,IF(AE850=\"20RF\",3,IF(AE850=\"40RF\",4,\"\"))))","v":""},{"$f":"+IF(AF850=\"\",\"\",VLOOKUP(AF850,$AF$4031:$AG$4034,2))","v":""},null,null,null,null,null,null,null,null,null,null,null,null,null,null," "]
[null,null,null,null,null,null,"",null,{"$f":"IF(H851=\"\",\"\",ROUND(H851/SUM(H850:H857),4))","v":""},null,null,null,null,null,null,{"$f":"+IF(O851=\"\",\"\",IF(N850=\"Transporte Marítimo\",VLOOKUP(O851,$O$4030:$P$4035,2),IF(N850=\"Transporte Aéreo\",VLOOKUP(O851,$O$4037:$P$4042,2),IF(N850=\"Transporte Aéreo\",VLOOKUP(O851,$O$4044:$P$4045,2),\"\"))))","v":""},null,null,null,null,null,null,null,null,null,null,null,null,null,null,null,{"$f":"+IF(AE851=\"20NL\",1,IF(AE851=\"40NL\",2,IF(AE851=\"20RF\",3,IF(AE851=\"40RF\",4,\"\"))))","v":""},""]
[null,null,null,null,null,null,"",null,{"$f":"IF(H852=\"\",\"\",ROUND(H852/SUM(H850:H857),4))","v":""},null,null,null,null,null,null,{"$f":"+IF(O852=\"\",\"\",IF(N850=\"Transporte Marítimo\",VLOOKUP(O852,$O$4030:$P$4035,2),IF(N850=\"Transporte Aéreo\",VLOOKUP(O852,$O$4037:$P$4042,2),IF(N850=\"Transporte Aéreo\",VLOOKUP(O852,$O$4044:$P$4045,2),\"\"))))","v":""},null,null,null,null,null,null,null,null,null,null,null,null,null,null,null,"",""]
[null,null,null,null,null,null,"",null,{"$f":"IF(H853=\"\",\"\",ROUND(H853/SUM(H850:H857),4))","v":""},null,null,null,null,null,null,{"$f":"+IF(O853=\"\",\"\",IF(N850=\"Transporte Marítimo\",VLOOKUP(O853,$O$4030:$P$4035,2),IF(N850=\"Transporte Aéreo\",VLOOKUP(O853,$O$4037:$P$4042,2),IF(N850=\"Transporte Aéreo\",VLOOKUP(O853,$O$4044:$P$4045,2),\"\"))))","v":""},null,null,null,null,null,null,null,null,null,null,null,null,null,null,null,"",""]
[null,null,null,null,null,null,"",null,{"$f":"IF(H854=\"\",\"\",ROUND(H854/SUM(H850:H857),4))","v":""},null,null,null,null,null,null,{"$f":"+IF(O854=\"\",\"\",IF(N850=\"Transporte Marítimo\",VLOOKUP(O854,$O$4030:$P$4035,2),IF(N850=\"Transporte Aéreo\",VLOOKUP(O854,$O$4037:$P$4042,2),IF(N850=\"Transporte Aéreo\",VLOOKUP(O854,$O$4044:$P$4045,2),\"\"))))","v":""},null,null,null,null,null,null,null,null,null,null,null,null,null,null,null,"",""]
[null,null,null,null,null,null,"",null,{"$f":"IF(H855=\"\",\"\",ROUND(H855/SUM(H850:H857),4))","v":""},null,null,null,null,null,null,{"$f":"+IF(O855=\"\",\"\",IF(N850=\"Transporte Marítimo\",VLOOKUP(O855,$O$4030:$P$4035,2),IF(N850=\"Transporte Aéreo\",VLOOKUP(O855,$O$4037:$P$4042,2),IF(N850=\"Transporte Aéreo\",VLOOKUP(O855,$O$4044:$P$4045,2),\"\"))))","v":""},null,null,null,null,null,null,null,null,null,null,null,null,null,null,null,"",""]
[null,null,null,null,null,null,"",null,{"$f":"IF(H856=\"\",\"\",ROUND(H856/SUM(H850:H857),4))","v":""},null,null,null,null,null,null,{"$f":"+IF(O856=\"\",\"\",IF(N850=\"Transporte Marítimo\",VLOOKUP(O856,$O$4030:$P$4035,2),IF(N850=\"Transporte Aéreo\",VLOOKUP(O856,$O$4037:$P$4042,2),IF(N850=\"Transporte Aéreo\",VLOOKUP(O856,$O$4044:$P$4045,2),\"\"))))","v":""},null,null,null,null,null,null,null,null,null,null,null,null,null,null,null,"",""]
[null,null,null,null,null,null,"",null,{"$f":"IF(H857=\"\",\"\",ROUND(H857/SUM(H850:H857),4))","v":""},null,null,null,null,null,null,{"$f":"+IF(O857=\"\",\"\",IF(N850=\"Transporte Marítimo\",VLOOKUP(O857,$O$4030:$P$4035,2),IF(N850=\"Transporte Aéreo\",VLOOKUP(O857,$O$4037:$P$4042,2),IF(N850=\"Transporte Aéreo\",VLOOKUP(O857,$O$4044:$P$4045,2),\"\"))))","v":""},null,null,null,null,null,null,null,null,null,null,null,null,null,null,null,"",""]
[null,{"$f":"+B850+1","v":106},null,null,null,null,{"$f":"+IF(F858=\"\",\"\",VLOOKUP(F858,$F$4031:$G$4120,2))","v":""},null,{"$f":"IF(H858=\"\",\"\",1-SUM(I859:I865))","v":""},null,null,null,null,null,null,{"$f":"+IF(O858=\"\",\"\",IF(N858=\"Transporte Marítimo\",VLOOKUP(O858,$O$4030:$P$4035,2),IF(N858=\"Transporte Aéreo\",VLOOKUP(O858,$O$4037:$P$4042,2),IF(N858=\"CTT\",VLOOKUP(O858,$O$4044:$P$4045,2),\"\"))))","v":""},null,null,null,null,null,null,null,null,null,null,null,null,null,null,null,{"$f":"+IF(AE858=\"20NL\",1,IF(AE858=\"40NL\",2,IF(AE858=\"20RF\",3,IF(AE858=\"40RF\",4,\"\"))))","v":""},{"$f":"+IF(AF858=\"\",\"\",VLOOKUP(AF858,$AF$4031:$AG$4034,2))","v":""},null,null,null,null,null,null,null,null,null,null,null,null,null,null," "]
[null,null,null,null,null,null,"",null,{"$f":"IF(H859=\"\",\"\",ROUND(H859/SUM(H858:H865),4))","v":""},null,null,null,null,null,null,{"$f":"+IF(O859=\"\",\"\",IF(N858=\"Transporte Marítimo\",VLOOKUP(O859,$O$4030:$P$4035,2),IF(N858=\"Transporte Aéreo\",VLOOKUP(O859,$O$4037:$P$4042,2),IF(N858=\"Transporte Aéreo\",VLOOKUP(O859,$O$4044:$P$4045,2),\"\"))))","v":""},null,null,null,null,null,null,null,null,null,null,null,null,null,null,null,{"$f":"+IF(AE859=\"20NL\",1,IF(AE859=\"40NL\",2,IF(AE859=\"20RF\",3,IF(AE859=\"40RF\",4,\"\"))))","v":""},""]
[null,null,null,null,null,null,"",null,{"$f":"IF(H860=\"\",\"\",ROUND(H860/SUM(H858:H865),4))","v":""},null,null,null,null,null,null,{"$f":"+IF(O860=\"\",\"\",IF(N858=\"Transporte Marítimo\",VLOOKUP(O860,$O$4030:$P$4035,2),IF(N858=\"Transporte Aéreo\",VLOOKUP(O860,$O$4037:$P$4042,2),IF(N858=\"Transporte Aéreo\",VLOOKUP(O860,$O$4044:$P$4045,2),\"\"))))","v":""},null,null,null,null,null,null,null,null,null,null,null,null,null,null,null,"",""]
[null,null,null,null,null,null,"",null,{"$f":"IF(H861=\"\",\"\",ROUND(H861/SUM(H858:H865),4))","v":""},null,null,null,null,null,null,{"$f":"+IF(O861=\"\",\"\",IF(N858=\"Transporte Marítimo\",VLOOKUP(O861,$O$4030:$P$4035,2),IF(N858=\"Transporte Aéreo\",VLOOKUP(O861,$O$4037:$P$4042,2),IF(N858=\"Transporte Aéreo\",VLOOKUP(O861,$O$4044:$P$4045,2),\"\"))))","v":""},null,null,null,null,null,null,null,null,null,null,null,null,null,null,null,"",""]
[null,null,null,null,null,null,"",null,{"$f":"IF(H862=\"\",\"\",ROUND(H862/SUM(H858:H865),4))","v":""},null,null,null,null,null,null,{"$f":"+IF(O862=\"\",\"\",IF(N858=\"Transporte Marítimo\",VLOOKUP(O862,$O$4030:$P$4035,2),IF(N858=\"Transporte Aéreo\",VLOOKUP(O862,$O$4037:$P$4042,2),IF(N858=\"Transporte Aéreo\",VLOOKUP(O862,$O$4044:$P$4045,2),\"\"))))","v":""},null,null,null,null,null,null,null,null,null,null,null,null,null,null,null,"",""]
[null,null,null,null,null,null,"",null,{"$f":"IF(H863=\"\",\"\",ROUND(H863/SUM(H858:H865),4))","v":""},null,null,null,null,null,null,{"$f":"+IF(O863=\"\",\"\",IF(N858=\"Transporte Marítimo\",VLOOKUP(O863,$O$4030:$P$4035,2),IF(N858=\"Transporte Aéreo\",VLOOKUP(O863,$O$4037:$P$4042,2),IF(N858=\"Transporte Aéreo\",VLOOKUP(O863,$O$4044:$P$4045,2),\"\"))))","v":""},null,null,null,null,null,null,null,null,null,null,null,null,null,null,null,"",""]
[null,null,null,null,null,null,"",null,{"$f":"IF(H864=\"\",\"\",ROUND(H864/SUM(H858:H865),4))","v":""},null,null,null,null,null,null,{"$f":"+IF(O864=\"\",\"\",IF(N858=\"Transporte Marítimo\",VLOOKUP(O864,$O$4030:$P$4035,2),IF(N858=\"Transporte Aéreo\",VLOOKUP(O864,$O$4037:$P$4042,2),IF(N858=\"Transporte Aéreo\",VLOOKUP(O864,$O$4044:$P$4045,2),\"\"))))","v":""},null,null,null,null,null,null,null,null,null,null,null,null,null,null,null,"",""]
[null,null,null,null,null,null,"",null,{"$f":"IF(H865=\"\",\"\",ROUND(H865/SUM(H858:H865),4))","v":""},null,null,null,null,null,null,{"$f":"+IF(O865=\"\",\"\",IF(N858=\"Transporte Marítimo\",VLOOKUP(O865,$O$4030:$P$4035,2),IF(N858=\"Transporte Aéreo\",VLOOKUP(O865,$O$4037:$P$4042,2),IF(N858=\"Transporte Aéreo\",VLOOKUP(O865,$O$4044:$P$4045,2),\"\"))))","v":""},null,null,null,null,null,null,null,null,null,null,null,null,null,null,null,"",""]
[null,{"$f":"+B858+1","v":107},null,null,null,null,{"$f":"+IF(F866=\"\",\"\",VLOOKUP(F866,$F$4031:$G$4120,2))","v":""},null,{"$f":"IF(H866=\"\",\"\",1-SUM(I867:I873))","v":""},null,null,null,null,null,null,{"$f":"+IF(O866=\"\",\"\",IF(N866=\"Transporte Marítimo\",VLOOKUP(O866,$O$4030:$P$4035,2),IF(N866=\"Transporte Aéreo\",VLOOKUP(O866,$O$4037:$P$4042,2),IF(N866=\"CTT\",VLOOKUP(O866,$O$4044:$P$4045,2),\"\"))))","v":""},null,null,null,null,null,null,null,null,null,null,null,null,null,null,null,{"$f":"+IF(AE866=\"20NL\",1,IF(AE866=\"40NL\",2,IF(AE866=\"20RF\",3,IF(AE866=\"40RF\",4,\"\"))))","v":""},{"$f":"+IF(AF866=\"\",\"\",VLOOKUP(AF866,$AF$4031:$AG$4034,2))","v":""},null,null,null,null,null,null,null,null,null,null,null,null,null,null," "]
[null,null,null,null,null,null,"",null,{"$f":"IF(H867=\"\",\"\",ROUND(H867/SUM(H866:H873),4))","v":""},null,null,null,null,null,null,{"$f":"+IF(O867=\"\",\"\",IF(N866=\"Transporte Marítimo\",VLOOKUP(O867,$O$4030:$P$4035,2),IF(N866=\"Transporte Aéreo\",VLOOKUP(O867,$O$4037:$P$4042,2),IF(N866=\"Transporte Aéreo\",VLOOKUP(O867,$O$4044:$P$4045,2),\"\"))))","v":""},null,null,null,null,null,null,null,null,null,null,null,null,null,null,null,{"$f":"+IF(AE867=\"20NL\",1,IF(AE867=\"40NL\",2,IF(AE867=\"20RF\",3,IF(AE867=\"40RF\",4,\"\"))))","v":""},""]
[null,null,null,null,null,null,"",null,{"$f":"IF(H868=\"\",\"\",ROUND(H868/SUM(H866:H873),4))","v":""},null,null,null,null,null,null,{"$f":"+IF(O868=\"\",\"\",IF(N866=\"Transporte Marítimo\",VLOOKUP(O868,$O$4030:$P$4035,2),IF(N866=\"Transporte Aéreo\",VLOOKUP(O868,$O$4037:$P$4042,2),IF(N866=\"Transporte Aéreo\",VLOOKUP(O868,$O$4044:$P$4045,2),\"\"))))","v":""},null,null,null,null,null,null,null,null,null,null,null,null,null,null,null,"",""]
[null,null,null,null,null,null,"",null,{"$f":"IF(H869=\"\",\"\",ROUND(H869/SUM(H866:H873),4))","v":""},null,null,null,null,null,null,{"$f":"+IF(O869=\"\",\"\",IF(N866=\"Transporte Marítimo\",VLOOKUP(O869,$O$4030:$P$4035,2),IF(N866=\"Transporte Aéreo\",VLOOKUP(O869,$O$4037:$P$4042,2),IF(N866=\"Transporte Aéreo\",VLOOKUP(O869,$O$4044:$P$4045,2),\"\"))))","v":""},null,null,null,null,null,null,null,null,null,null,null,null,null,null,null,"",""]
[null,null,null,null,null,null,"",null,{"$f":"IF(H870=\"\",\"\",ROUND(H870/SUM(H866:H873),4))","v":""},null,null,null,null,null,null,{"$f":"+IF(O870=\"\",\"\",IF(N866=\"Transporte Marítimo\",VLOOKUP(O870,$O$4030:$P$4035,2),IF(N866=\"Transporte Aéreo\",VLOOKUP(O870,$O$4037:$P$4042,2),IF(N866=\"Transporte Aéreo\",VLOOKUP(O870,$O$4044:$P$4045,2),\"\"))))","v":""},null,null,null,null,null,null,null,null,null,null,null,null,null,null,null,"",""]
[null,null,null,null,null,null,"",null,{"$f":"IF(H871=\"\",\"\",ROUND(H871/SUM(H866:H873),4))","v":""},null,null,null,null,null,null,{"$f":"+IF(O871=\"\",\"\",IF(N866=\"Transporte Marítimo\",VLOOKUP(O871,$O$4030:$P$4035,2),IF(N866=\"Transporte Aéreo\",VLOOKUP(O871,$O$4037:$P$4042,2),IF(N866=\"Transporte Aéreo\",VLOOKUP(O871,$O$4044:$P$4045,2),\"\"))))","v":""},null,null,null,null,null,null,null,null,null,null,null,null,null,null,null,"",""]
[null,null,null,null,null,null,"",null,{"$f":"IF(H872=\"\",\"\",ROUND(H872/SUM(H866:H873),4))","v":""},null,null,null,null,null,null,{"$f":"+IF(O872=\"\",\"\",IF(N866=\"Transporte Marítimo\",VLOOKUP(O872,$O$4030:$P$4035,2),IF(N866=\"Transporte Aéreo\",VLOOKUP(O872,$O$4037:$P$4042,2),IF(N866=\"Transporte Aéreo\",VLOOKUP(O872,$O$4044:$P$4045,2),\"\"))))","v":""},null,null,null,null,null,null,null,null,null,null,null,null,null,null,null,"",""]
[null,null,null,null,null,null,"",null,{"$f":"IF(H873=\"\",\"\",ROUND(H873/SUM(H866:H873),4))","v":""},null,null,null,null,null,null,{"$f":"+IF(O873=\"\",\"\",IF(N866=\"Transporte Marítimo\",VLOOKUP(O873,$O$4030:$P$4035,2),IF(N866=\"Transporte Aéreo\",VLOOKUP(O873,$O$4037:$P$4042,2),IF(N866=\"Transporte Aéreo\",VLOOKUP(O873,$O$4044:$P$4045,2),\"\"))))","v":""},null,null,null,null,null,null,null,null,null,null,null,null,null,null,null,"",""]
[null,{"$f":"+B866+1","v":108},null,null,null,null,{"$f":"+IF(F874=\"\",\"\",VLOOKUP(F874,$F$4031:$G$4120,2))","v":""},null,{"$f":"IF(H874=\"\",\"\",1-SUM(I875:I881))","v":""},null,null,null,null,null,null,{"$f":"+IF(O874=\"\",\"\",IF(N874=\"Transporte Marítimo\",VLOOKUP(O874,$O$4030:$P$4035,2),IF(N874=\"Transporte Aéreo\",VLOOKUP(O874,$O$4037:$P$4042,2),IF(N874=\"CTT\",VLOOKUP(O874,$O$4044:$P$4045,2),\"\"))))","v":""},null,null,null,null,null,null,null,null,null,null,null,null,null,null,null,{"$f":"+IF(AE874=\"20NL\",1,IF(AE874=\"40NL\",2,IF(AE874=\"20RF\",3,IF(AE874=\"40RF\",4,\"\"))))","v":""},{"$f":"+IF(AF874=\"\",\"\",VLOOKUP(AF874,$AF$4031:$AG$4034,2))","v":""},null,null,null,null,null,null,null,null,null,null,null,null,null,null," "]
[null,null,null,null,null,null,"",null,{"$f":"IF(H875=\"\",\"\",ROUND(H875/SUM(H874:H881),4))","v":""},null,null,null,null,null,null,{"$f":"+IF(O875=\"\",\"\",IF(N874=\"Transporte Marítimo\",VLOOKUP(O875,$O$4030:$P$4035,2),IF(N874=\"Transporte Aéreo\",VLOOKUP(O875,$O$4037:$P$4042,2),IF(N874=\"Transporte Aéreo\",VLOOKUP(O875,$O$4044:$P$4045,2),\"\"))))","v":""},null,null,null,null,null,null,null,null,null,null,null,null,null,null,null,{"$f":"+IF(AE875=\"20NL\",1,IF(AE875=\"40NL\",2,IF(AE875=\"20RF\",3,IF(AE875=\"40RF\",4,\"\"))))","v":""},""]
[null,null,null,null,null,null,"",null,{"$f":"IF(H876=\"\",\"\",ROUND(H876/SUM(H874:H881),4))","v":""},null,null,null,null,null,null,{"$f":"+IF(O876=\"\",\"\",IF(N874=\"Transporte Marítimo\",VLOOKUP(O876,$O$4030:$P$4035,2),IF(N874=\"Transporte Aéreo\",VLOOKUP(O876,$O$4037:$P$4042,2),IF(N874=\"Transporte Aéreo\",VLOOKUP(O876,$O$4044:$P$4045,2),\"\"))))","v":""},null,null,null,null,null,null,null,null,null,null,null,null,null,null,null,"",""]
[null,null,null,null,null,null,"",null,{"$f":"IF(H877=\"\",\"\",ROUND(H877/SUM(H874:H881),4))","v":""},null,null,null,null,null,null,{"$f":"+IF(O877=\"\",\"\",IF(N874=\"Transporte Marítimo\",VLOOKUP(O877,$O$4030:$P$4035,2),IF(N874=\"Transporte Aéreo\",VLOOKUP(O877,$O$4037:$P$4042,2),IF(N874=\"Transporte Aéreo\",VLOOKUP(O877,$O$4044:$P$4045,2),\"\"))))","v":""},null,null,null,null,null,null,null,null,null,null,null,null,null,null,null,"",""]
[null,null,null,null,null,null,"",null,{"$f":"IF(H878=\"\",\"\",ROUND(H878/SUM(H874:H881),4))","v":""},null,null,null,null,null,null,{"$f":"+IF(O878=\"\",\"\",IF(N874=\"Transporte Marítimo\",VLOOKUP(O878,$O$4030:$P$4035,2),IF(N874=\"Transporte Aéreo\",VLOOKUP(O878,$O$4037:$P$4042,2),IF(N874=\"Transporte Aéreo\",VLOOKUP(O878,$O$4044:$P$4045,2),\"\"))))","v":""},null,null,null,null,null,null,null,null,null,null,null,null,null,null,null,"",""]
[null,null,null,null,null,null,"",null,{"$f":"IF(H879=\"\",\"\",ROUND(H879/SUM(H874:H881),4))","v":""},null,null,null,null,null,null,{"$f":"+IF(O879=\"\",\"\",IF(N874=\"Transporte Marítimo\",VLOOKUP(O879,$O$4030:$P$4035,2),IF(N874=\"Transporte Aéreo\",VLOOKUP(O879,$O$4037:$P$4042,2),IF(N874=\"Transporte Aéreo\",VLOOKUP(O879,$O$4044:$P$4045,2),\"\"))))","v":""},null,null,null,null,null,null,null,null,null,null,null,null,null,null,null,"",""]
[null,null,null,null,null,null,"",null,{"$f":"IF(H880=\"\",\"\",ROUND(H880/SUM(H874:H881),4))","v":""},null,null,null,null,null,null,{"$f":"+IF(O880=\"\",\"\",IF(N874=\"Transporte Marítimo\",VLOOKUP(O880,$O$4030:$P$4035,2),IF(N874=\"Transporte Aéreo\",VLOOKUP(O880,$O$4037:$P$4042,2),IF(N874=\"Transporte Aéreo\",VLOOKUP(O880,$O$4044:$P$4045,2),\"\"))))","v":""},null,null,null,null,null,null,null,null,null,null,null,null,null,null,null,"",""]
[null,null,null,null,null,null,"",null,{"$f":"IF(H881=\"\",\"\",ROUND(H881/SUM(H874:H881),4))","v":""},null,null,null,null,null,null,{"$f":"+IF(O881=\"\",\"\",IF(N874=\"Transporte Marítimo\",VLOOKUP(O881,$O$4030:$P$4035,2),IF(N874=\"Transporte Aéreo\",VLOOKUP(O881,$O$4037:$P$4042,2),IF(N874=\"Transporte Aéreo\",VLOOKUP(O881,$O$4044:$P$4045,2),\"\"))))","v":""},null,null,null,null,null,null,null,null,null,null,null,null,null,null,null,"",""]
[null,{"$f":"+B874+1","v":109},null,null,null,null,{"$f":"+IF(F882=\"\",\"\",VLOOKUP(F882,$F$4031:$G$4120,2))","v":""},null,{"$f":"IF(H882=\"\",\"\",1-SUM(I883:I889))","v":""},null,null,null,null,null,null,{"$f":"+IF(O882=\"\",\"\",IF(N882=\"Transporte Marítimo\",VLOOKUP(O882,$O$4030:$P$4035,2),IF(N882=\"Transporte Aéreo\",VLOOKUP(O882,$O$4037:$P$4042,2),IF(N882=\"CTT\",VLOOKUP(O882,$O$4044:$P$4045,2),\"\"))))","v":""},null,null,null,null,null,null,null,null,null,null,null,null,null,null,null,{"$f":"+IF(AE882=\"20NL\",1,IF(AE882=\"40NL\",2,IF(AE882=\"20RF\",3,IF(AE882=\"40RF\",4,\"\"))))","v":""},{"$f":"+IF(AF882=\"\",\"\",VLOOKUP(AF882,$AF$4031:$AG$4034,2))","v":""},null,null,null,null,null,null,null,null,null,null,null,null,null,null," "]
[null,null,null,null,null,null,{"$f":"+IF(F883=\"\",\"\",VLOOKUP(F883,$F$4031:$G$4120,2))","v":""},null,{"$f":"IF(H883=\"\",\"\",ROUND(H883/SUM(H882:H889),4))","v":""},null,null,null,null,null,null,{"$f":"+IF(O883=\"\",\"\",IF(N882=\"Transporte Marítimo\",VLOOKUP(O883,$O$4030:$P$4035,2),IF(N882=\"Transporte Aéreo\",VLOOKUP(O883,$O$4037:$P$4042,2),IF(N882=\"Transporte Aéreo\",VLOOKUP(O883,$O$4044:$P$4045,2),\"\"))))","v":""},null,null,null,null,null,null,null,null,null,null,null,null,null,null,null,{"$f":"+IF(AE883=\"20NL\",1,IF(AE883=\"40NL\",2,IF(AE883=\"20RF\",3,IF(AE883=\"40RF\",4,\"\"))))","v":""},{"$f":"+IF(AF883=\"\",\"\",VLOOKUP(AF883,$AF$4031:$AG$4034,2))","v":""}]
[null,null,null,null,null,null,"",null,{"$f":"IF(H884=\"\",\"\",ROUND(H884/SUM(H882:H889),4))","v":""},null,null,null,null,null,null,{"$f":"+IF(O884=\"\",\"\",IF(N882=\"Transporte Marítimo\",VLOOKUP(O884,$O$4030:$P$4035,2),IF(N882=\"Transporte Aéreo\",VLOOKUP(O884,$O$4037:$P$4042,2),IF(N882=\"Transporte Aéreo\",VLOOKUP(O884,$O$4044:$P$4045,2),\"\"))))","v":""},null,null,null,null,null,null,null,null,null,null,null,null,null,null,null,"",""]
[null,null,null,null,null,null,"",null,{"$f":"IF(H885=\"\",\"\",ROUND(H885/SUM(H882:H889),4))","v":""},null,null,null,null,null,null,{"$f":"+IF(O885=\"\",\"\",IF(N882=\"Transporte Marítimo\",VLOOKUP(O885,$O$4030:$P$4035,2),IF(N882=\"Transporte Aéreo\",VLOOKUP(O885,$O$4037:$P$4042,2),IF(N882=\"Transporte Aéreo\",VLOOKUP(O885,$O$4044:$P$4045,2),\"\"))))","v":""},null,null,null,null,null,null,null,null,null,null,null,null,null,null,null,"",""]
[null,null,null,null,null,null,"",null,{"$f":"IF(H886=\"\",\"\",ROUND(H886/SUM(H882:H889),4))","v":""},null,null,null,null,null,null,{"$f":"+IF(O886=\"\",\"\",IF(N882=\"Transporte Marítimo\",VLOOKUP(O886,$O$4030:$P$4035,2),IF(N882=\"Transporte Aéreo\",VLOOKUP(O886,$O$4037:$P$4042,2),IF(N882=\"Transporte Aéreo\",VLOOKUP(O886,$O$4044:$P$4045,2),\"\"))))","v":""},null,null,null,null,null,null,null,null,null,null,null,null,null,null,null,"",""]
[null,null,null,null,null,null,"",null,{"$f":"IF(H887=\"\",\"\",ROUND(H887/SUM(H882:H889),4))","v":""},null,null,null,null,null,null,{"$f":"+IF(O887=\"\",\"\",IF(N882=\"Transporte Marítimo\",VLOOKUP(O887,$O$4030:$P$4035,2),IF(N882=\"Transporte Aéreo\",VLOOKUP(O887,$O$4037:$P$4042,2),IF(N882=\"Transporte Aéreo\",VLOOKUP(O887,$O$4044:$P$4045,2),\"\"))))","v":""},null,null,null,null,null,null,null,null,null,null,null,null,null,null,null,"",""]
[null,null,null,null,null,null,"",null,{"$f":"IF(H888=\"\",\"\",ROUND(H888/SUM(H882:H889),4))","v":""},null,null,null,null,null,null,{"$f":"+IF(O888=\"\",\"\",IF(N882=\"Transporte Marítimo\",VLOOKUP(O888,$O$4030:$P$4035,2),IF(N882=\"Transporte Aéreo\",VLOOKUP(O888,$O$4037:$P$4042,2),IF(N882=\"Transporte Aéreo\",VLOOKUP(O888,$O$4044:$P$4045,2),\"\"))))","v":""},null,null,null,null,null,null,null,null,null,null,null,null,null,null,null,"",""]
[null,null,null,null,null,null,"",null,{"$f":"IF(H889=\"\",\"\",ROUND(H889/SUM(H882:H889),4))","v":""},null,null,null,null,null,null,{"$f":"+IF(O889=\"\",\"\",IF(N882=\"Transporte Marítimo\",VLOOKUP(O889,$O$4030:$P$4035,2),IF(N882=\"Transporte Aéreo\",VLOOKUP(O889,$O$4037:$P$4042,2),IF(N882=\"Transporte Aéreo\",VLOOKUP(O889,$O$4044:$P$4045,2),\"\"))))","v":""},null,null,null,null,null,null,null,null,null,null,null,null,null,null,null,"",""]
[null,{"$f":"+B882+1","v":110},null,null,null,null,{"$f":"+IF(F890=\"\",\"\",VLOOKUP(F890,$F$4031:$G$4120,2))","v":""},null,{"$f":"IF(H890=\"\",\"\",1-SUM(I891:I897))","v":""},null,null,null,null,null,null,{"$f":"+IF(O890=\"\",\"\",IF(N890=\"Transporte Marítimo\",VLOOKUP(O890,$O$4030:$P$4035,2),IF(N890=\"Transporte Aéreo\",VLOOKUP(O890,$O$4037:$P$4042,2),IF(N890=\"CTT\",VLOOKUP(O890,$O$4044:$P$4045,2),\"\"))))","v":""},null,null,null,null,null,null,null,null,null,null,null,null,null,null,null,{"$f":"+IF(AE890=\"20NL\",1,IF(AE890=\"40NL\",2,IF(AE890=\"20RF\",3,IF(AE890=\"40RF\",4,\"\"))))","v":""},{"$f":"+IF(AF890=\"\",\"\",VLOOKUP(AF890,$AF$4031:$AG$4034,2))","v":""},null,null,null,null,null,null,null,null,null,null,null,null,null,null," "]
[null,null,null,null,null,null,"",null,{"$f":"IF(H891=\"\",\"\",ROUND(H891/SUM(H890:H897),4))","v":""},null,null,null,null,null,null,{"$f":"+IF(O891=\"\",\"\",IF(N890=\"Transporte Marítimo\",VLOOKUP(O891,$O$4030:$P$4035,2),IF(N890=\"Transporte Aéreo\",VLOOKUP(O891,$O$4037:$P$4042,2),IF(N890=\"Transporte Aéreo\",VLOOKUP(O891,$O$4044:$P$4045,2),\"\"))))","v":""},null,null,null,null,null,null,null,null,null,null,null,null,null,null,null,{"$f":"+IF(AE891=\"20NL\",1,IF(AE891=\"40NL\",2,IF(AE891=\"20RF\",3,IF(AE891=\"40RF\",4,\"\"))))","v":""},{"$f":"+IF(AF891=\"\",\"\",VLOOKUP(AF891,$AF$4031:$AG$4034,2))","v":""}]
[null,null,null,null,null,null,"",null,{"$f":"IF(H892=\"\",\"\",ROUND(H892/SUM(H890:H897),4))","v":""},null,null,null,null,null,null,{"$f":"+IF(O892=\"\",\"\",IF(N890=\"Transporte Marítimo\",VLOOKUP(O892,$O$4030:$P$4035,2),IF(N890=\"Transporte Aéreo\",VLOOKUP(O892,$O$4037:$P$4042,2),IF(N890=\"Transporte Aéreo\",VLOOKUP(O892,$O$4044:$P$4045,2),\"\"))))","v":""},null,null,null,null,null,null,null,null,null,null,null,null,null,null,null,"",""]
[null,null,null,null,null,null,"",null,{"$f":"IF(H893=\"\",\"\",ROUND(H893/SUM(H890:H897),4))","v":""},null,null,null,null,null,null,{"$f":"+IF(O893=\"\",\"\",IF(N890=\"Transporte Marítimo\",VLOOKUP(O893,$O$4030:$P$4035,2),IF(N890=\"Transporte Aéreo\",VLOOKUP(O893,$O$4037:$P$4042,2),IF(N890=\"Transporte Aéreo\",VLOOKUP(O893,$O$4044:$P$4045,2),\"\"))))","v":""},null,null,null,null,null,null,null,null,null,null,null,null,null,null,null,"",""]
[null,null,null,null,null,null,"",null,{"$f":"IF(H894=\"\",\"\",ROUND(H894/SUM(H890:H897),4))","v":""},null,null,null,null,null,null,{"$f":"+IF(O894=\"\",\"\",IF(N890=\"Transporte Marítimo\",VLOOKUP(O894,$O$4030:$P$4035,2),IF(N890=\"Transporte Aéreo\",VLOOKUP(O894,$O$4037:$P$4042,2),IF(N890=\"Transporte Aéreo\",VLOOKUP(O894,$O$4044:$P$4045,2),\"\"))))","v":""},null,null,null,null,null,null,null,null,null,null,null,null,null,null,null,"",""]
[null,null,null,null,null,null,"",null,{"$f":"IF(H895=\"\",\"\",ROUND(H895/SUM(H890:H897),4))","v":""},null,null,null,null,null,null,{"$f":"+IF(O895=\"\",\"\",IF(N890=\"Transporte Marítimo\",VLOOKUP(O895,$O$4030:$P$4035,2),IF(N890=\"Transporte Aéreo\",VLOOKUP(O895,$O$4037:$P$4042,2),IF(N890=\"Transporte Aéreo\",VLOOKUP(O895,$O$4044:$P$4045,2),\"\"))))","v":""},null,null,null,null,null,null,null,null,null,null,null,null,null,null,null,"",""]
[null,null,null,null,null,null,"",null,{"$f":"IF(H896=\"\",\"\",ROUND(H896/SUM(H890:H897),4))","v":""},null,null,null,null,null,null,{"$f":"+IF(O896=\"\",\"\",IF(N890=\"Transporte Marítimo\",VLOOKUP(O896,$O$4030:$P$4035,2),IF(N890=\"Transporte Aéreo\",VLOOKUP(O896,$O$4037:$P$4042,2),IF(N890=\"Transporte Aéreo\",VLOOKUP(O896,$O$4044:$P$4045,2),\"\"))))","v":""},null,null,null,null,null,null,null,null,null,null,null,null,null,null,null,"",""]
[null,null,null,null,null,null,{"$f":"+IF(F897=\"\",\"\",VLOOKUP(F897,$F$4031:$G$4120,2))","v":""},null,{"$f":"IF(H897=\"\",\"\",ROUND(H897/SUM(H890:H897),4))","v":""},null,null,null,null,null,null,{"$f":"+IF(O897=\"\",\"\",IF(N890=\"Transporte Marítimo\",VLOOKUP(O897,$O$4030:$P$4035,2),IF(N890=\"Transporte Aéreo\",VLOOKUP(O897,$O$4037:$P$4042,2),IF(N890=\"Transporte Aéreo\",VLOOKUP(O897,$O$4044:$P$4045,2),\"\"))))","v":""},null,null,null,null,null,null,null,null,null,null,null,null,null,null,null,"",""]
[null,{"$f":"+B890+1","v":111},null,null,null,null,{"$f":"+IF(F898=\"\",\"\",VLOOKUP(F898,$F$4031:$G$4120,2))","v":""},null,{"$f":"IF(H898=\"\",\"\",1-SUM(I899:I905))","v":""},null,null,null,null,null,null,{"$f":"+IF(O898=\"\",\"\",IF(N898=\"Transporte Marítimo\",VLOOKUP(O898,$O$4030:$P$4035,2),IF(N898=\"Transporte Aéreo\",VLOOKUP(O898,$O$4037:$P$4042,2),IF(N898=\"CTT\",VLOOKUP(O898,$O$4044:$P$4045,2),\"\"))))","v":""},null,null,null,null,null,null,null,null,null,null,null,null,null,null,null,{"$f":"+IF(AE898=\"20NL\",1,IF(AE898=\"40NL\",2,IF(AE898=\"20RF\",3,IF(AE898=\"40RF\",4,\"\"))))","v":""},{"$f":"+IF(AF898=\"\",\"\",VLOOKUP(AF898,$AF$4031:$AG$4034,2))","v":""},null,null,null,null,null,null,null,null,null,null,null,null,null,null," "]
[null,null,null,null,null,null,{"$f":"+IF(F899=\"\",\"\",VLOOKUP(F899,$F$4031:$G$4120,2))","v":""},null,{"$f":"IF(H899=\"\",\"\",ROUND(H899/SUM(H898:H905),4))","v":""},null,null,null,null,null,null,{"$f":"+IF(O899=\"\",\"\",IF(N898=\"Transporte Marítimo\",VLOOKUP(O899,$O$4030:$P$4035,2),IF(N898=\"Transporte Aéreo\",VLOOKUP(O899,$O$4037:$P$4042,2),IF(N898=\"Transporte Aéreo\",VLOOKUP(O899,$O$4044:$P$4045,2),\"\"))))","v":""},null,null,null,null,null,null,null,null,null,null,null,null,null,null,null,{"$f":"+IF(AE899=\"20NL\",1,IF(AE899=\"40NL\",2,IF(AE899=\"20RF\",3,IF(AE899=\"40RF\",4,\"\"))))","v":""},{"$f":"+IF(AF899=\"\",\"\",VLOOKUP(AF899,$AF$4031:$AG$4034,2))","v":""}]
[null,null,null,null,null,null,"",null,{"$f":"IF(H900=\"\",\"\",ROUND(H900/SUM(H898:H905),4))","v":""},null,null,null,null,null,null,{"$f":"+IF(O900=\"\",\"\",IF(N898=\"Transporte Marítimo\",VLOOKUP(O900,$O$4030:$P$4035,2),IF(N898=\"Transporte Aéreo\",VLOOKUP(O900,$O$4037:$P$4042,2),IF(N898=\"Transporte Aéreo\",VLOOKUP(O900,$O$4044:$P$4045,2),\"\"))))","v":""},null,null,null,null,null,null,null,null,null,null,null,null,null,null,null,"",""]
[null,null,null,null,null,null,"",null,{"$f":"IF(H901=\"\",\"\",ROUND(H901/SUM(H898:H905),4))","v":""},null,null,null,null,null,null,{"$f":"+IF(O901=\"\",\"\",IF(N898=\"Transporte Marítimo\",VLOOKUP(O901,$O$4030:$P$4035,2),IF(N898=\"Transporte Aéreo\",VLOOKUP(O901,$O$4037:$P$4042,2),IF(N898=\"Transporte Aéreo\",VLOOKUP(O901,$O$4044:$P$4045,2),\"\"))))","v":""},null,null,null,null,null,null,null,null,null,null,null,null,null,null,null,"",""]
[null,null,null,null,null,null,"",null,{"$f":"IF(H902=\"\",\"\",ROUND(H902/SUM(H898:H905),4))","v":""},null,null,null,null,null,null,{"$f":"+IF(O902=\"\",\"\",IF(N898=\"Transporte Marítimo\",VLOOKUP(O902,$O$4030:$P$4035,2),IF(N898=\"Transporte Aéreo\",VLOOKUP(O902,$O$4037:$P$4042,2),IF(N898=\"Transporte Aéreo\",VLOOKUP(O902,$O$4044:$P$4045,2),\"\"))))","v":""},null,null,null,null,null,null,null,null,null,null,null,null,null,null,null,"",""]
[null,null,null,null,null,null,"",null,{"$f":"IF(H903=\"\",\"\",ROUND(H903/SUM(H898:H905),4))","v":""},null,null,null,null,null,null,{"$f":"+IF(O903=\"\",\"\",IF(N898=\"Transporte Marítimo\",VLOOKUP(O903,$O$4030:$P$4035,2),IF(N898=\"Transporte Aéreo\",VLOOKUP(O903,$O$4037:$P$4042,2),IF(N898=\"Transporte Aéreo\",VLOOKUP(O903,$O$4044:$P$4045,2),\"\"))))","v":""},null,null,null,null,null,null,null,null,null,null,null,null,null,null,null,"",""]
[null,null,null,null,null,null,"",null,{"$f":"IF(H904=\"\",\"\",ROUND(H904/SUM(H898:H905),4))","v":""},null,null,null,null,null,null,{"$f":"+IF(O904=\"\",\"\",IF(N898=\"Transporte Marítimo\",VLOOKUP(O904,$O$4030:$P$4035,2),IF(N898=\"Transporte Aéreo\",VLOOKUP(O904,$O$4037:$P$4042,2),IF(N898=\"Transporte Aéreo\",VLOOKUP(O904,$O$4044:$P$4045,2),\"\"))))","v":""},null,null,null,null,null,null,null,null,null,null,null,null,null,null,null,"",""]
[null,null,null,null,null,null,"",null,{"$f":"IF(H905=\"\",\"\",ROUND(H905/SUM(H898:H905),4))","v":""},null,null,null,null,null,null,{"$f":"+IF(O905=\"\",\"\",IF(N898=\"Transporte Marítimo\",VLOOKUP(O905,$O$4030:$P$4035,2),IF(N898=\"Transporte Aéreo\",VLOOKUP(O905,$O$4037:$P$4042,2),IF(N898=\"Transporte Aéreo\",VLOOKUP(O905,$O$4044:$P$4045,2),\"\"))))","v":""},null,null,null,null,null,null,null,null,null,null,null,null,null,null,null,"",""]
[null,{"$f":"+B898+1","v":112},null,null,null,null,{"$f":"+IF(F906=\"\",\"\",VLOOKUP(F906,$F$4031:$G$4120,2))","v":""},null,{"$f":"IF(H906=\"\",\"\",1-SUM(I907:I913))","v":""},null,null,null,null,null,null,{"$f":"+IF(O906=\"\",\"\",IF(N906=\"Transporte Marítimo\",VLOOKUP(O906,$O$4030:$P$4035,2),IF(N906=\"Transporte Aéreo\",VLOOKUP(O906,$O$4037:$P$4042,2),IF(N906=\"CTT\",VLOOKUP(O906,$O$4044:$P$4045,2),\"\"))))","v":""},null,null,null,null,null,null,null,null,null,null,null,null,null,null,null,{"$f":"+IF(AE906=\"20NL\",1,IF(AE906=\"40NL\",2,IF(AE906=\"20RF\",3,IF(AE906=\"40RF\",4,\"\"))))","v":""},{"$f":"+IF(AF906=\"\",\"\",VLOOKUP(AF906,$AF$4031:$AG$4034,2))","v":""},null,null,null,null,null,null,null,null,null,null,null,null,null,null," "]
[null,null,null,null,null,null,"",null,{"$f":"IF(H907=\"\",\"\",ROUND(H907/SUM(H906:H913),4))","v":""},null,null,null,null,null,null,{"$f":"+IF(O907=\"\",\"\",IF(N906=\"Transporte Marítimo\",VLOOKUP(O907,$O$4030:$P$4035,2),IF(N906=\"Transporte Aéreo\",VLOOKUP(O907,$O$4037:$P$4042,2),IF(N906=\"Transporte Aéreo\",VLOOKUP(O907,$O$4044:$P$4045,2),\"\"))))","v":""},null,null,null,null,null,null,null,null,null,null,null,null,null,null,null,{"$f":"+IF(AE907=\"20NL\",1,IF(AE907=\"40NL\",2,IF(AE907=\"20RF\",3,IF(AE907=\"40RF\",4,\"\"))))","v":""},""]
[null,null,null,null,null,null,"",null,{"$f":"IF(H908=\"\",\"\",ROUND(H908/SUM(H906:H913),4))","v":""},null,null,null,null,null,null,{"$f":"+IF(O908=\"\",\"\",IF(N906=\"Transporte Marítimo\",VLOOKUP(O908,$O$4030:$P$4035,2),IF(N906=\"Transporte Aéreo\",VLOOKUP(O908,$O$4037:$P$4042,2),IF(N906=\"Transporte Aéreo\",VLOOKUP(O908,$O$4044:$P$4045,2),\"\"))))","v":""},null,null,null,null,null,null,null,null,null,null,null,null,null,null,null,"",""]
[null,null,null,null,null,null,"",null,{"$f":"IF(H909=\"\",\"\",ROUND(H909/SUM(H906:H913),4))","v":""},null,null,null,null,null,null,{"$f":"+IF(O909=\"\",\"\",IF(N906=\"Transporte Marítimo\",VLOOKUP(O909,$O$4030:$P$4035,2),IF(N906=\"Transporte Aéreo\",VLOOKUP(O909,$O$4037:$P$4042,2),IF(N906=\"Transporte Aéreo\",VLOOKUP(O909,$O$4044:$P$4045,2),\"\"))))","v":""},null,null,null,null,null,null,null,null,null,null,null,null,null,null,null,"",""]
[null,null,null,null,null,null,"",null,{"$f":"IF(H910=\"\",\"\",ROUND(H910/SUM(H906:H913),4))","v":""},null,null,null,null,null,null,{"$f":"+IF(O910=\"\",\"\",IF(N906=\"Transporte Marítimo\",VLOOKUP(O910,$O$4030:$P$4035,2),IF(N906=\"Transporte Aéreo\",VLOOKUP(O910,$O$4037:$P$4042,2),IF(N906=\"Transporte Aéreo\",VLOOKUP(O910,$O$4044:$P$4045,2),\"\"))))","v":""},null,null,null,null,null,null,null,null,null,null,null,null,null,null,null,"",""]
[null,null,null,null,null,null,"",null,{"$f":"IF(H911=\"\",\"\",ROUND(H911/SUM(H906:H913),4))","v":""},null,null,null,null,null,null,{"$f":"+IF(O911=\"\",\"\",IF(N906=\"Transporte Marítimo\",VLOOKUP(O911,$O$4030:$P$4035,2),IF(N906=\"Transporte Aéreo\",VLOOKUP(O911,$O$4037:$P$4042,2),IF(N906=\"Transporte Aéreo\",VLOOKUP(O911,$O$4044:$P$4045,2),\"\"))))","v":""},null,null,null,null,null,null,null,null,null,null,null,null,null,null,null,"",""]
[null,null,null,null,null,null,"",null,{"$f":"IF(H912=\"\",\"\",ROUND(H912/SUM(H906:H913),4))","v":""},null,null,null,null,null,null,{"$f":"+IF(O912=\"\",\"\",IF(N906=\"Transporte Marítimo\",VLOOKUP(O912,$O$4030:$P$4035,2),IF(N906=\"Transporte Aéreo\",VLOOKUP(O912,$O$4037:$P$4042,2),IF(N906=\"Transporte Aéreo\",VLOOKUP(O912,$O$4044:$P$4045,2),\"\"))))","v":""},null,null,null,null,null,null,null,null,null,null,null,null,null,null,null,"",""]
[null,null,null,null,null,null,"",null,{"$f":"IF(H913=\"\",\"\",ROUND(H913/SUM(H906:H913),4))","v":""},null,null,null,null,null,null,{"$f":"+IF(O913=\"\",\"\",IF(N906=\"Transporte Marítimo\",VLOOKUP(O913,$O$4030:$P$4035,2),IF(N906=\"Transporte Aéreo\",VLOOKUP(O913,$O$4037:$P$4042,2),IF(N906=\"Transporte Aéreo\",VLOOKUP(O913,$O$4044:$P$4045,2),\"\"))))","v":""},null,null,null,null,null,null,null,null,null,null,null,null,null,null,null,"",""]
[null,{"$f":"+B906+1","v":113},null,null,null,null,{"$f":"+IF(F914=\"\",\"\",VLOOKUP(F914,$F$4031:$G$4120,2))","v":""},null,{"$f":"IF(H914=\"\",\"\",1-SUM(I915:I921))","v":""},null,null,null,null,null,null,{"$f":"+IF(O914=\"\",\"\",IF(N914=\"Transporte Marítimo\",VLOOKUP(O914,$O$4030:$P$4035,2),IF(N914=\"Transporte Aéreo\",VLOOKUP(O914,$O$4037:$P$4042,2),IF(N914=\"CTT\",VLOOKUP(O914,$O$4044:$P$4045,2),\"\"))))","v":""},null,null,null,null,null,null,null,null,null,null,null,null,null,null,null,{"$f":"+IF(AE914=\"20NL\",1,IF(AE914=\"40NL\",2,IF(AE914=\"20RF\",3,IF(AE914=\"40RF\",4,\"\"))))","v":""},{"$f":"+IF(AF914=\"\",\"\",VLOOKUP(AF914,$AF$4031:$AG$4034,2))","v":""},null,null,null,null,null,null,null,null,null,null,null,null,null,null," "]
[null,null,null,null,null,null,"",null,{"$f":"IF(H915=\"\",\"\",ROUND(H915/SUM(H914:H921),4))","v":""},null,null,null,null,null,null,{"$f":"+IF(O915=\"\",\"\",IF(N914=\"Transporte Marítimo\",VLOOKUP(O915,$O$4030:$P$4035,2),IF(N914=\"Transporte Aéreo\",VLOOKUP(O915,$O$4037:$P$4042,2),IF(N914=\"Transporte Aéreo\",VLOOKUP(O915,$O$4044:$P$4045,2),\"\"))))","v":""},null,null,null,null,null,null,null,null,null,null,null,null,null,null,null,{"$f":"+IF(AE915=\"20NL\",1,IF(AE915=\"40NL\",2,IF(AE915=\"20RF\",3,IF(AE915=\"40RF\",4,\"\"))))","v":""},""]
[null,null,null,null,null,null,"",null,{"$f":"IF(H916=\"\",\"\",ROUND(H916/SUM(H914:H921),4))","v":""},null,null,null,null,null,null,{"$f":"+IF(O916=\"\",\"\",IF(N914=\"Transporte Marítimo\",VLOOKUP(O916,$O$4030:$P$4035,2),IF(N914=\"Transporte Aéreo\",VLOOKUP(O916,$O$4037:$P$4042,2),IF(N914=\"Transporte Aéreo\",VLOOKUP(O916,$O$4044:$P$4045,2),\"\"))))","v":""},null,null,null,null,null,null,null,null,null,null,null,null,null,null,null,"",""]
[null,null,null,null,null,null,"",null,{"$f":"IF(H917=\"\",\"\",ROUND(H917/SUM(H914:H921),4))","v":""},null,null,null,null,null,null,{"$f":"+IF(O917=\"\",\"\",IF(N914=\"Transporte Marítimo\",VLOOKUP(O917,$O$4030:$P$4035,2),IF(N914=\"Transporte Aéreo\",VLOOKUP(O917,$O$4037:$P$4042,2),IF(N914=\"Transporte Aéreo\",VLOOKUP(O917,$O$4044:$P$4045,2),\"\"))))","v":""},null,null,null,null,null,null,null,null,null,null,null,null,null,null,null,"",""]
[null,null,null,null,null,null,"",null,{"$f":"IF(H918=\"\",\"\",ROUND(H918/SUM(H914:H921),4))","v":""},null,null,null,null,null,null,{"$f":"+IF(O918=\"\",\"\",IF(N914=\"Transporte Marítimo\",VLOOKUP(O918,$O$4030:$P$4035,2),IF(N914=\"Transporte Aéreo\",VLOOKUP(O918,$O$4037:$P$4042,2),IF(N914=\"Transporte Aéreo\",VLOOKUP(O918,$O$4044:$P$4045,2),\"\"))))","v":""},null,null,null,null,null,null,null,null,null,null,null,null,null,null,null,"",""]
[null,null,null,null,null,null,"",null,{"$f":"IF(H919=\"\",\"\",ROUND(H919/SUM(H914:H921),4))","v":""},null,null,null,null,null,null,{"$f":"+IF(O919=\"\",\"\",IF(N914=\"Transporte Marítimo\",VLOOKUP(O919,$O$4030:$P$4035,2),IF(N914=\"Transporte Aéreo\",VLOOKUP(O919,$O$4037:$P$4042,2),IF(N914=\"Transporte Aéreo\",VLOOKUP(O919,$O$4044:$P$4045,2),\"\"))))","v":""},null,null,null,null,null,null,null,null,null,null,null,null,null,null,null,"",""]
[null,null,null,null,null,null,"",null,{"$f":"IF(H920=\"\",\"\",ROUND(H920/SUM(H914:H921),4))","v":""},null,null,null,null,null,null,{"$f":"+IF(O920=\"\",\"\",IF(N914=\"Transporte Marítimo\",VLOOKUP(O920,$O$4030:$P$4035,2),IF(N914=\"Transporte Aéreo\",VLOOKUP(O920,$O$4037:$P$4042,2),IF(N914=\"Transporte Aéreo\",VLOOKUP(O920,$O$4044:$P$4045,2),\"\"))))","v":""},null,null,null,null,null,null,null,null,null,null,null,null,null,null,null,"",""]
[null,null,null,null,null,null,"",null,{"$f":"IF(H921=\"\",\"\",ROUND(H921/SUM(H914:H921),4))","v":""},null,null,null,null,null,null,{"$f":"+IF(O921=\"\",\"\",IF(N914=\"Transporte Marítimo\",VLOOKUP(O921,$O$4030:$P$4035,2),IF(N914=\"Transporte Aéreo\",VLOOKUP(O921,$O$4037:$P$4042,2),IF(N914=\"Transporte Aéreo\",VLOOKUP(O921,$O$4044:$P$4045,2),\"\"))))","v":""},null,null,null,null,null,null,null,null,null,null,null,null,null,null,null,"",""]
[null,{"$f":"+B914+1","v":114},null,null,null,null,{"$f":"+IF(F922=\"\",\"\",VLOOKUP(F922,$F$4031:$G$4120,2))","v":""},null,{"$f":"IF(H922=\"\",\"\",1-SUM(I923:I929))","v":""},null,null,null,null,null,null,{"$f":"+IF(O922=\"\",\"\",IF(N922=\"Transporte Marítimo\",VLOOKUP(O922,$O$4030:$P$4035,2),IF(N922=\"Transporte Aéreo\",VLOOKUP(O922,$O$4037:$P$4042,2),IF(N922=\"CTT\",VLOOKUP(O922,$O$4044:$P$4045,2),\"\"))))","v":""},null,null,null,null,null,null,null,null,null,null,null,null,null,null,null,{"$f":"+IF(AE922=\"20NL\",1,IF(AE922=\"40NL\",2,IF(AE922=\"20RF\",3,IF(AE922=\"40RF\",4,\"\"))))","v":""},{"$f":"+IF(AF922=\"\",\"\",VLOOKUP(AF922,$AF$4031:$AG$4034,2))","v":""},null,null,null,null,null,null,null,null,null,null,null,null,null,null," "]
[null,null,null,null,null,null,"",null,{"$f":"IF(H923=\"\",\"\",ROUND(H923/SUM(H922:H929),4))","v":""},null,null,null,null,null,null,{"$f":"+IF(O923=\"\",\"\",IF(N922=\"Transporte Marítimo\",VLOOKUP(O923,$O$4030:$P$4035,2),IF(N922=\"Transporte Aéreo\",VLOOKUP(O923,$O$4037:$P$4042,2),IF(N922=\"Transporte Aéreo\",VLOOKUP(O923,$O$4044:$P$4045,2),\"\"))))","v":""},null,null,null,null,null,null,null,null,null,null,null,null,null,null,null,{"$f":"+IF(AE923=\"20NL\",1,IF(AE923=\"40NL\",2,IF(AE923=\"20RF\",3,IF(AE923=\"40RF\",4,\"\"))))","v":""},""]
[null,null,null,null,null,null,"",null,{"$f":"IF(H924=\"\",\"\",ROUND(H924/SUM(H922:H929),4))","v":""},null,null,null,null,null,null,{"$f":"+IF(O924=\"\",\"\",IF(N922=\"Transporte Marítimo\",VLOOKUP(O924,$O$4030:$P$4035,2),IF(N922=\"Transporte Aéreo\",VLOOKUP(O924,$O$4037:$P$4042,2),IF(N922=\"Transporte Aéreo\",VLOOKUP(O924,$O$4044:$P$4045,2),\"\"))))","v":""},null,null,null,null,null,null,null,null,null,null,null,null,null,null,null,"",""]
[null,null,null,null,null,null,"",null,{"$f":"IF(H925=\"\",\"\",ROUND(H925/SUM(H922:H929),4))","v":""},null,null,null,null,null,null,{"$f":"+IF(O925=\"\",\"\",IF(N922=\"Transporte Marítimo\",VLOOKUP(O925,$O$4030:$P$4035,2),IF(N922=\"Transporte Aéreo\",VLOOKUP(O925,$O$4037:$P$4042,2),IF(N922=\"Transporte Aéreo\",VLOOKUP(O925,$O$4044:$P$4045,2),\"\"))))","v":""},null,null,null,null,null,null,null,null,null,null,null,null,null,null,null,"",""]
[null,null,null,null,null,null,"",null,{"$f":"IF(H926=\"\",\"\",ROUND(H926/SUM(H922:H929),4))","v":""},null,null,null,null,null,null,{"$f":"+IF(O926=\"\",\"\",IF(N922=\"Transporte Marítimo\",VLOOKUP(O926,$O$4030:$P$4035,2),IF(N922=\"Transporte Aéreo\",VLOOKUP(O926,$O$4037:$P$4042,2),IF(N922=\"Transporte Aéreo\",VLOOKUP(O926,$O$4044:$P$4045,2),\"\"))))","v":""},null,null,null,null,null,null,null,null,null,null,null,null,null,null,null,"",""]
[null,null,null,null,null,null,"",null,{"$f":"IF(H927=\"\",\"\",ROUND(H927/SUM(H922:H929),4))","v":""},null,null,null,null,null,null,{"$f":"+IF(O927=\"\",\"\",IF(N922=\"Transporte Marítimo\",VLOOKUP(O927,$O$4030:$P$4035,2),IF(N922=\"Transporte Aéreo\",VLOOKUP(O927,$O$4037:$P$4042,2),IF(N922=\"Transporte Aéreo\",VLOOKUP(O927,$O$4044:$P$4045,2),\"\"))))","v":""},null,null,null,null,null,null,null,null,null,null,null,null,null,null,null,"",""]
[null,null,null,null,null,null,"",null,{"$f":"IF(H928=\"\",\"\",ROUND(H928/SUM(H922:H929),4))","v":""},null,null,null,null,null,null,{"$f":"+IF(O928=\"\",\"\",IF(N922=\"Transporte Marítimo\",VLOOKUP(O928,$O$4030:$P$4035,2),IF(N922=\"Transporte Aéreo\",VLOOKUP(O928,$O$4037:$P$4042,2),IF(N922=\"Transporte Aéreo\",VLOOKUP(O928,$O$4044:$P$4045,2),\"\"))))","v":""},null,null,null,null,null,null,null,null,null,null,null,null,null,null,null,"",""]
[null,null,null,null,null,null,"",null,{"$f":"IF(H929=\"\",\"\",ROUND(H929/SUM(H922:H929),4))","v":""},null,null,null,null,null,null,{"$f":"+IF(O929=\"\",\"\",IF(N922=\"Transporte Marítimo\",VLOOKUP(O929,$O$4030:$P$4035,2),IF(N922=\"Transporte Aéreo\",VLOOKUP(O929,$O$4037:$P$4042,2),IF(N922=\"Transporte Aéreo\",VLOOKUP(O929,$O$4044:$P$4045,2),\"\"))))","v":""},null,null,null,null,null,null,null,null,null,null,null,null,null,null,null,"",""]
[null,{"$f":"+B922+1","v":115},null,null,null,null,{"$f":"+IF(F930=\"\",\"\",VLOOKUP(F930,$F$4031:$G$4120,2))","v":""},null,{"$f":"IF(H930=\"\",\"\",1-SUM(I931:I937))","v":""},null,null,null,null,null,null,{"$f":"+IF(O930=\"\",\"\",IF(N930=\"Transporte Marítimo\",VLOOKUP(O930,$O$4030:$P$4035,2),IF(N930=\"Transporte Aéreo\",VLOOKUP(O930,$O$4037:$P$4042,2),IF(N930=\"CTT\",VLOOKUP(O930,$O$4044:$P$4045,2),\"\"))))","v":""},null,null,null,null,null,null,null,null,null,null,null,null,null,null,null,{"$f":"+IF(AE930=\"20NL\",1,IF(AE930=\"40NL\",2,IF(AE930=\"20RF\",3,IF(AE930=\"40RF\",4,\"\"))))","v":""},{"$f":"+IF(AF930=\"\",\"\",VLOOKUP(AF930,$AF$4031:$AG$4034,2))","v":""},null,null,null,null,null,null,null,null,null,null,null,null,null,null," "]
[null,null,null,null,null,null,"",null,{"$f":"IF(H931=\"\",\"\",ROUND(H931/SUM(H930:H937),4))","v":""},null,null,null,null,null,null,{"$f":"+IF(O931=\"\",\"\",IF(N930=\"Transporte Marítimo\",VLOOKUP(O931,$O$4030:$P$4035,2),IF(N930=\"Transporte Aéreo\",VLOOKUP(O931,$O$4037:$P$4042,2),IF(N930=\"Transporte Aéreo\",VLOOKUP(O931,$O$4044:$P$4045,2),\"\"))))","v":""},null,null,null,null,null,null,null,null,null,null,null,null,null,null,null,{"$f":"+IF(AE931=\"20NL\",1,IF(AE931=\"40NL\",2,IF(AE931=\"20RF\",3,IF(AE931=\"40RF\",4,\"\"))))","v":""},""]
[null,null,null,null,null,null,"",null,{"$f":"IF(H932=\"\",\"\",ROUND(H932/SUM(H930:H937),4))","v":""},null,null,null,null,null,null,{"$f":"+IF(O932=\"\",\"\",IF(N930=\"Transporte Marítimo\",VLOOKUP(O932,$O$4030:$P$4035,2),IF(N930=\"Transporte Aéreo\",VLOOKUP(O932,$O$4037:$P$4042,2),IF(N930=\"Transporte Aéreo\",VLOOKUP(O932,$O$4044:$P$4045,2),\"\"))))","v":""},null,null,null,null,null,null,null,null,null,null,null,null,null,null,null,"",""]
[null,null,null,null,null,null,"",null,{"$f":"IF(H933=\"\",\"\",ROUND(H933/SUM(H930:H937),4))","v":""},null,null,null,null,null,null,{"$f":"+IF(O933=\"\",\"\",IF(N930=\"Transporte Marítimo\",VLOOKUP(O933,$O$4030:$P$4035,2),IF(N930=\"Transporte Aéreo\",VLOOKUP(O933,$O$4037:$P$4042,2),IF(N930=\"Transporte Aéreo\",VLOOKUP(O933,$O$4044:$P$4045,2),\"\"))))","v":""},null,null,null,null,null,null,null,null,null,null,null,null,null,null,null,"",""]
[null,null,null,null,null,null,"",null,{"$f":"IF(H934=\"\",\"\",ROUND(H934/SUM(H930:H937),4))","v":""},null,null,null,null,null,null,{"$f":"+IF(O934=\"\",\"\",IF(N930=\"Transporte Marítimo\",VLOOKUP(O934,$O$4030:$P$4035,2),IF(N930=\"Transporte Aéreo\",VLOOKUP(O934,$O$4037:$P$4042,2),IF(N930=\"Transporte Aéreo\",VLOOKUP(O934,$O$4044:$P$4045,2),\"\"))))","v":""},null,null,null,null,null,null,null,null,null,null,null,null,null,null,null,"",""]
[null,null,null,null,null,null,"",null,{"$f":"IF(H935=\"\",\"\",ROUND(H935/SUM(H930:H937),4))","v":""},null,null,null,null,null,null,{"$f":"+IF(O935=\"\",\"\",IF(N930=\"Transporte Marítimo\",VLOOKUP(O935,$O$4030:$P$4035,2),IF(N930=\"Transporte Aéreo\",VLOOKUP(O935,$O$4037:$P$4042,2),IF(N930=\"Transporte Aéreo\",VLOOKUP(O935,$O$4044:$P$4045,2),\"\"))))","v":""},null,null,null,null,null,null,null,null,null,null,null,null,null,null,null,"",""]
[null,null,null,null,null,null,"",null,{"$f":"IF(H936=\"\",\"\",ROUND(H936/SUM(H930:H937),4))","v":""},null,null,null,null,null,null,{"$f":"+IF(O936=\"\",\"\",IF(N930=\"Transporte Marítimo\",VLOOKUP(O936,$O$4030:$P$4035,2),IF(N930=\"Transporte Aéreo\",VLOOKUP(O936,$O$4037:$P$4042,2),IF(N930=\"Transporte Aéreo\",VLOOKUP(O936,$O$4044:$P$4045,2),\"\"))))","v":""},null,null,null,null,null,null,null,null,null,null,null,null,null,null,null,"",""]
[null,null,null,null,null,null,"",null,{"$f":"IF(H937=\"\",\"\",ROUND(H937/SUM(H930:H937),4))","v":""},null,null,null,null,null,null,{"$f":"+IF(O937=\"\",\"\",IF(N930=\"Transporte Marítimo\",VLOOKUP(O937,$O$4030:$P$4035,2),IF(N930=\"Transporte Aéreo\",VLOOKUP(O937,$O$4037:$P$4042,2),IF(N930=\"Transporte Aéreo\",VLOOKUP(O937,$O$4044:$P$4045,2),\"\"))))","v":""},null,null,null,null,null,null,null,null,null,null,null,null,null,null,null,"",""]
[null,{"$f":"+B930+1","v":116},null,null,null,null,{"$f":"+IF(F938=\"\",\"\",VLOOKUP(F938,$F$4031:$G$4120,2))","v":""},null,{"$f":"IF(H938=\"\",\"\",1-SUM(I939:I945))","v":""},null,null,null,null,null,null,{"$f":"+IF(O938=\"\",\"\",IF(N938=\"Transporte Marítimo\",VLOOKUP(O938,$O$4030:$P$4035,2),IF(N938=\"Transporte Aéreo\",VLOOKUP(O938,$O$4037:$P$4042,2),IF(N938=\"CTT\",VLOOKUP(O938,$O$4044:$P$4045,2),\"\"))))","v":""},null,null,null,null,null,null,null,null,null,null,null,null,null,null,null,{"$f":"+IF(AE938=\"20NL\",1,IF(AE938=\"40NL\",2,IF(AE938=\"20RF\",3,IF(AE938=\"40RF\",4,\"\"))))","v":""},{"$f":"+IF(AF938=\"\",\"\",VLOOKUP(AF938,$AF$4031:$AG$4034,2))","v":""},null,null,null,null,null,null,null,null,null,null,null,null,null,null," "]
[null,null,null,null,null,null,"",null,{"$f":"IF(H939=\"\",\"\",ROUND(H939/SUM(H938:H945),4))","v":""},null,null,null,null,null,null,{"$f":"+IF(O939=\"\",\"\",IF(N938=\"Transporte Marítimo\",VLOOKUP(O939,$O$4030:$P$4035,2),IF(N938=\"Transporte Aéreo\",VLOOKUP(O939,$O$4037:$P$4042,2),IF(N938=\"Transporte Aéreo\",VLOOKUP(O939,$O$4044:$P$4045,2),\"\"))))","v":""},null,null,null,null,null,null,null,null,null,null,null,null,null,null,null,{"$f":"+IF(AE939=\"20NL\",1,IF(AE939=\"40NL\",2,IF(AE939=\"20RF\",3,IF(AE939=\"40RF\",4,\"\"))))","v":""},""]
[null,null,null,null,null,null,"",null,{"$f":"IF(H940=\"\",\"\",ROUND(H940/SUM(H938:H945),4))","v":""},null,null,null,null,null,null,{"$f":"+IF(O940=\"\",\"\",IF(N938=\"Transporte Marítimo\",VLOOKUP(O940,$O$4030:$P$4035,2),IF(N938=\"Transporte Aéreo\",VLOOKUP(O940,$O$4037:$P$4042,2),IF(N938=\"Transporte Aéreo\",VLOOKUP(O940,$O$4044:$P$4045,2),\"\"))))","v":""},null,null,null,null,null,null,null,null,null,null,null,null,null,null,null,"",""]
[null,null,null,null,null,null,"",null,{"$f":"IF(H941=\"\",\"\",ROUND(H941/SUM(H938:H945),4))","v":""},null,null,null,null,null,null,{"$f":"+IF(O941=\"\",\"\",IF(N938=\"Transporte Marítimo\",VLOOKUP(O941,$O$4030:$P$4035,2),IF(N938=\"Transporte Aéreo\",VLOOKUP(O941,$O$4037:$P$4042,2),IF(N938=\"Transporte Aéreo\",VLOOKUP(O941,$O$4044:$P$4045,2),\"\"))))","v":""},null,null,null,null,null,null,null,null,null,null,null,null,null,null,null,"",""]
[null,null,null,null,null,null,"",null,{"$f":"IF(H942=\"\",\"\",ROUND(H942/SUM(H938:H945),4))","v":""},null,null,null,null,null,null,{"$f":"+IF(O942=\"\",\"\",IF(N938=\"Transporte Marítimo\",VLOOKUP(O942,$O$4030:$P$4035,2),IF(N938=\"Transporte Aéreo\",VLOOKUP(O942,$O$4037:$P$4042,2),IF(N938=\"Transporte Aéreo\",VLOOKUP(O942,$O$4044:$P$4045,2),\"\"))))","v":""},null,null,null,null,null,null,null,null,null,null,null,null,null,null,null,"",""]
[null,null,null,null,null,null,"",null,{"$f":"IF(H943=\"\",\"\",ROUND(H943/SUM(H938:H945),4))","v":""},null,null,null,null,null,null,{"$f":"+IF(O943=\"\",\"\",IF(N938=\"Transporte Marítimo\",VLOOKUP(O943,$O$4030:$P$4035,2),IF(N938=\"Transporte Aéreo\",VLOOKUP(O943,$O$4037:$P$4042,2),IF(N938=\"Transporte Aéreo\",VLOOKUP(O943,$O$4044:$P$4045,2),\"\"))))","v":""},null,null,null,null,null,null,null,null,null,null,null,null,null,null,null,"",""]
[null,null,null,null,null,null,"",null,{"$f":"IF(H944=\"\",\"\",ROUND(H944/SUM(H938:H945),4))","v":""},null,null,null,null,null,null,{"$f":"+IF(O944=\"\",\"\",IF(N938=\"Transporte Marítimo\",VLOOKUP(O944,$O$4030:$P$4035,2),IF(N938=\"Transporte Aéreo\",VLOOKUP(O944,$O$4037:$P$4042,2),IF(N938=\"Transporte Aéreo\",VLOOKUP(O944,$O$4044:$P$4045,2),\"\"))))","v":""},null,null,null,null,null,null,null,null,null,null,null,null,null,null,null,"",""]
[null,null,null,null,null,null,"",null,{"$f":"IF(H945=\"\",\"\",ROUND(H945/SUM(H938:H945),4))","v":""},null,null,null,null,null,null,{"$f":"+IF(O945=\"\",\"\",IF(N938=\"Transporte Marítimo\",VLOOKUP(O945,$O$4030:$P$4035,2),IF(N938=\"Transporte Aéreo\",VLOOKUP(O945,$O$4037:$P$4042,2),IF(N938=\"Transporte Aéreo\",VLOOKUP(O945,$O$4044:$P$4045,2),\"\"))))","v":""},null,null,null,null,null,null,null,null,null,null,null,null,null,null,null,"",""]
[null,{"$f":"+B938+1","v":117},null,null,null,null,{"$f":"+IF(F946=\"\",\"\",VLOOKUP(F946,$F$4031:$G$4120,2))","v":""},null,{"$f":"IF(H946=\"\",\"\",1-SUM(I947:I953))","v":""},null,null,null,null,null,null,{"$f":"+IF(O946=\"\",\"\",IF(N946=\"Transporte Marítimo\",VLOOKUP(O946,$O$4030:$P$4035,2),IF(N946=\"Transporte Aéreo\",VLOOKUP(O946,$O$4037:$P$4042,2),IF(N946=\"CTT\",VLOOKUP(O946,$O$4044:$P$4045,2),\"\"))))","v":""},null,null,null,null,null,null,null,null,null,null,null,null,null,null,null,{"$f":"+IF(AE946=\"20NL\",1,IF(AE946=\"40NL\",2,IF(AE946=\"20RF\",3,IF(AE946=\"40RF\",4,\"\"))))","v":""},{"$f":"+IF(AF946=\"\",\"\",VLOOKUP(AF946,$AF$4031:$AG$4034,2))","v":""},null,null,null,null,null,null,null,null,null,null,null,null,null,null," "]
[null,null,null,null,null,null,"",null,{"$f":"IF(H947=\"\",\"\",ROUND(H947/SUM(H946:H953),4))","v":""},null,null,null,null,null,null,{"$f":"+IF(O947=\"\",\"\",IF(N946=\"Transporte Marítimo\",VLOOKUP(O947,$O$4030:$P$4035,2),IF(N946=\"Transporte Aéreo\",VLOOKUP(O947,$O$4037:$P$4042,2),IF(N946=\"Transporte Aéreo\",VLOOKUP(O947,$O$4044:$P$4045,2),\"\"))))","v":""},null,null,null,null,null,null,null,null,null,null,null,null,null,null,null,{"$f":"+IF(AE947=\"20NL\",1,IF(AE947=\"40NL\",2,IF(AE947=\"20RF\",3,IF(AE947=\"40RF\",4,\"\"))))","v":""},""]
[null,null,null,null,null,null,"",null,{"$f":"IF(H948=\"\",\"\",ROUND(H948/SUM(H946:H953),4))","v":""},null,null,null,null,null,null,{"$f":"+IF(O948=\"\",\"\",IF(N946=\"Transporte Marítimo\",VLOOKUP(O948,$O$4030:$P$4035,2),IF(N946=\"Transporte Aéreo\",VLOOKUP(O948,$O$4037:$P$4042,2),IF(N946=\"Transporte Aéreo\",VLOOKUP(O948,$O$4044:$P$4045,2),\"\"))))","v":""},null,null,null,null,null,null,null,null,null,null,null,null,null,null,null,"",""]
[null,null,null,null,null,null,"",null,{"$f":"IF(H949=\"\",\"\",ROUND(H949/SUM(H946:H953),4))","v":""},null,null,null,null,null,null,{"$f":"+IF(O949=\"\",\"\",IF(N946=\"Transporte Marítimo\",VLOOKUP(O949,$O$4030:$P$4035,2),IF(N946=\"Transporte Aéreo\",VLOOKUP(O949,$O$4037:$P$4042,2),IF(N946=\"Transporte Aéreo\",VLOOKUP(O949,$O$4044:$P$4045,2),\"\"))))","v":""},null,null,null,null,null,null,null,null,null,null,null,null,null,null,null,"",""]
[null,null,null,null,null,null,"",null,{"$f":"IF(H950=\"\",\"\",ROUND(H950/SUM(H946:H953),4))","v":""},null,null,null,null,null,null,{"$f":"+IF(O950=\"\",\"\",IF(N946=\"Transporte Marítimo\",VLOOKUP(O950,$O$4030:$P$4035,2),IF(N946=\"Transporte Aéreo\",VLOOKUP(O950,$O$4037:$P$4042,2),IF(N946=\"Transporte Aéreo\",VLOOKUP(O950,$O$4044:$P$4045,2),\"\"))))","v":""},null,null,null,null,null,null,null,null,null,null,null,null,null,null,null,"",""]
[null,null,null,null,null,null,"",null,{"$f":"IF(H951=\"\",\"\",ROUND(H951/SUM(H946:H953),4))","v":""},null,null,null,null,null,null,{"$f":"+IF(O951=\"\",\"\",IF(N946=\"Transporte Marítimo\",VLOOKUP(O951,$O$4030:$P$4035,2),IF(N946=\"Transporte Aéreo\",VLOOKUP(O951,$O$4037:$P$4042,2),IF(N946=\"Transporte Aéreo\",VLOOKUP(O951,$O$4044:$P$4045,2),\"\"))))","v":""},null,null,null,null,null,null,null,null,null,null,null,null,null,null,null,"",""]
[null,null,null,null,null,null,"",null,{"$f":"IF(H952=\"\",\"\",ROUND(H952/SUM(H946:H953),4))","v":""},null,null,null,null,null,null,{"$f":"+IF(O952=\"\",\"\",IF(N946=\"Transporte Marítimo\",VLOOKUP(O952,$O$4030:$P$4035,2),IF(N946=\"Transporte Aéreo\",VLOOKUP(O952,$O$4037:$P$4042,2),IF(N946=\"Transporte Aéreo\",VLOOKUP(O952,$O$4044:$P$4045,2),\"\"))))","v":""},null,null,null,null,null,null,null,null,null,null,null,null,null,null,null,"",""]
[null,null,null,null,null,null,"",null,{"$f":"IF(H953=\"\",\"\",ROUND(H953/SUM(H946:H953),4))","v":""},null,null,null,null,null,null,{"$f":"+IF(O953=\"\",\"\",IF(N946=\"Transporte Marítimo\",VLOOKUP(O953,$O$4030:$P$4035,2),IF(N946=\"Transporte Aéreo\",VLOOKUP(O953,$O$4037:$P$4042,2),IF(N946=\"Transporte Aéreo\",VLOOKUP(O953,$O$4044:$P$4045,2),\"\"))))","v":""},null,null,null,null,null,null,null,null,null,null,null,null,null,null,null,"",""]
[null,{"$f":"+B946+1","v":118},null,null,null,null,{"$f":"+IF(F954=\"\",\"\",VLOOKUP(F954,$F$4031:$G$4120,2))","v":""},null,{"$f":"IF(H954=\"\",\"\",1-SUM(I955:I961))","v":""},null,null,null,null,null,null,{"$f":"+IF(O954=\"\",\"\",IF(N954=\"Transporte Marítimo\",VLOOKUP(O954,$O$4030:$P$4035,2),IF(N954=\"Transporte Aéreo\",VLOOKUP(O954,$O$4037:$P$4042,2),IF(N954=\"CTT\",VLOOKUP(O954,$O$4044:$P$4045,2),\"\"))))","v":""},null,null,null,null,null,null,null,null,null,null,null,null,null,null,null,{"$f":"+IF(AE954=\"20NL\",1,IF(AE954=\"40NL\",2,IF(AE954=\"20RF\",3,IF(AE954=\"40RF\",4,\"\"))))","v":""},{"$f":"+IF(AF954=\"\",\"\",VLOOKUP(AF954,$AF$4031:$AG$4034,2))","v":""},null,null,null,null,null,null,null,null,null,null,null,null,null,null," "]
[null,null,null,null,null,null,"",null,{"$f":"IF(H955=\"\",\"\",ROUND(H955/SUM(H954:H961),4))","v":""},null,null,null,null,null,null,{"$f":"+IF(O955=\"\",\"\",IF(N954=\"Transporte Marítimo\",VLOOKUP(O955,$O$4030:$P$4035,2),IF(N954=\"Transporte Aéreo\",VLOOKUP(O955,$O$4037:$P$4042,2),IF(N954=\"Transporte Aéreo\",VLOOKUP(O955,$O$4044:$P$4045,2),\"\"))))","v":""},null,null,null,null,null,null,null,null,null,null,null,null,null,null,null,{"$f":"+IF(AE955=\"20NL\",1,IF(AE955=\"40NL\",2,IF(AE955=\"20RF\",3,IF(AE955=\"40RF\",4,\"\"))))","v":""},""]
[null,null,null,null,null,null,"",null,{"$f":"IF(H956=\"\",\"\",ROUND(H956/SUM(H954:H961),4))","v":""},null,null,null,null,null,null,{"$f":"+IF(O956=\"\",\"\",IF(N954=\"Transporte Marítimo\",VLOOKUP(O956,$O$4030:$P$4035,2),IF(N954=\"Transporte Aéreo\",VLOOKUP(O956,$O$4037:$P$4042,2),IF(N954=\"Transporte Aéreo\",VLOOKUP(O956,$O$4044:$P$4045,2),\"\"))))","v":""},null,null,null,null,null,null,null,null,null,null,null,null,null,null,null,"",""]
[null,null,null,null,null,null,"",null,{"$f":"IF(H957=\"\",\"\",ROUND(H957/SUM(H954:H961),4))","v":""},null,null,null,null,null,null,{"$f":"+IF(O957=\"\",\"\",IF(N954=\"Transporte Marítimo\",VLOOKUP(O957,$O$4030:$P$4035,2),IF(N954=\"Transporte Aéreo\",VLOOKUP(O957,$O$4037:$P$4042,2),IF(N954=\"Transporte Aéreo\",VLOOKUP(O957,$O$4044:$P$4045,2),\"\"))))","v":""},null,null,null,null,null,null,null,null,null,null,null,null,null,null,null,"",""]
[null,null,null,null,null,null,"",null,{"$f":"IF(H958=\"\",\"\",ROUND(H958/SUM(H954:H961),4))","v":""},null,null,null,null,null,null,{"$f":"+IF(O958=\"\",\"\",IF(N954=\"Transporte Marítimo\",VLOOKUP(O958,$O$4030:$P$4035,2),IF(N954=\"Transporte Aéreo\",VLOOKUP(O958,$O$4037:$P$4042,2),IF(N954=\"Transporte Aéreo\",VLOOKUP(O958,$O$4044:$P$4045,2),\"\"))))","v":""},null,null,null,null,null,null,null,null,null,null,null,null,null,null,null,"",""]
[null,null,null,null,null,null,"",null,{"$f":"IF(H959=\"\",\"\",ROUND(H959/SUM(H954:H961),4))","v":""},null,null,null,null,null,null,{"$f":"+IF(O959=\"\",\"\",IF(N954=\"Transporte Marítimo\",VLOOKUP(O959,$O$4030:$P$4035,2),IF(N954=\"Transporte Aéreo\",VLOOKUP(O959,$O$4037:$P$4042,2),IF(N954=\"Transporte Aéreo\",VLOOKUP(O959,$O$4044:$P$4045,2),\"\"))))","v":""},null,null,null,null,null,null,null,null,null,null,null,null,null,null,null,"",""]
[null,null,null,null,null,null,"",null,{"$f":"IF(H960=\"\",\"\",ROUND(H960/SUM(H954:H961),4))","v":""},null,null,null,null,null,null,{"$f":"+IF(O960=\"\",\"\",IF(N954=\"Transporte Marítimo\",VLOOKUP(O960,$O$4030:$P$4035,2),IF(N954=\"Transporte Aéreo\",VLOOKUP(O960,$O$4037:$P$4042,2),IF(N954=\"Transporte Aéreo\",VLOOKUP(O960,$O$4044:$P$4045,2),\"\"))))","v":""},null,null,null,null,null,null,null,null,null,null,null,null,null,null,null,"",""]
[null,null,null,null,null,null,"",null,{"$f":"IF(H961=\"\",\"\",ROUND(H961/SUM(H954:H961),4))","v":""},null,null,null,null,null,null,{"$f":"+IF(O961=\"\",\"\",IF(N954=\"Transporte Marítimo\",VLOOKUP(O961,$O$4030:$P$4035,2),IF(N954=\"Transporte Aéreo\",VLOOKUP(O961,$O$4037:$P$4042,2),IF(N954=\"Transporte Aéreo\",VLOOKUP(O961,$O$4044:$P$4045,2),\"\"))))","v":""},null,null,null,null,null,null,null,null,null,null,null,null,null,null,null,"",""]
[null,{"$f":"+B954+1","v":119},null,null,null,null,{"$f":"+IF(F962=\"\",\"\",VLOOKUP(F962,$F$4031:$G$4120,2))","v":""},null,{"$f":"IF(H962=\"\",\"\",1-SUM(I963:I969))","v":""},null,null,null,null,null,null,{"$f":"+IF(O962=\"\",\"\",IF(N962=\"Transporte Marítimo\",VLOOKUP(O962,$O$4030:$P$4035,2),IF(N962=\"Transporte Aéreo\",VLOOKUP(O962,$O$4037:$P$4042,2),IF(N962=\"CTT\",VLOOKUP(O962,$O$4044:$P$4045,2),\"\"))))","v":""},null,null,null,null,null,null,null,null,null,null,null,null,null,null,null,{"$f":"+IF(AE962=\"20NL\",1,IF(AE962=\"40NL\",2,IF(AE962=\"20RF\",3,IF(AE962=\"40RF\",4,\"\"))))","v":""},{"$f":"+IF(AF962=\"\",\"\",VLOOKUP(AF962,$AF$4031:$AG$4034,2))","v":""},null,null,null,null,null,null,null,null,null,null,null,null,null,null," "]
[null,null,null,null,null,null,{"$f":"+IF(F963=\"\",\"\",VLOOKUP(F963,$F$4031:$G$4120,2))","v":""},null,{"$f":"IF(H963=\"\",\"\",ROUND(H963/SUM(H962:H969),4))","v":""},null,null,null,null,null,null,{"$f":"+IF(O963=\"\",\"\",IF(N962=\"Transporte Marítimo\",VLOOKUP(O963,$O$4030:$P$4035,2),IF(N962=\"Transporte Aéreo\",VLOOKUP(O963,$O$4037:$P$4042,2),IF(N962=\"Transporte Aéreo\",VLOOKUP(O963,$O$4044:$P$4045,2),\"\"))))","v":""},null,null,null,null,null,null,null,null,null,null,null,null,null,null,null,{"$f":"+IF(AE963=\"20NL\",1,IF(AE963=\"40NL\",2,IF(AE963=\"20RF\",3,IF(AE963=\"40RF\",4,\"\"))))","v":""},{"$f":"+IF(AF963=\"\",\"\",VLOOKUP(AF963,$AF$4031:$AG$4034,2))","v":""}]
[null,null,null,null,null,null,"",null,{"$f":"IF(H964=\"\",\"\",ROUND(H964/SUM(H962:H969),4))","v":""},null,null,null,null,null,null,{"$f":"+IF(O964=\"\",\"\",IF(N962=\"Transporte Marítimo\",VLOOKUP(O964,$O$4030:$P$4035,2),IF(N962=\"Transporte Aéreo\",VLOOKUP(O964,$O$4037:$P$4042,2),IF(N962=\"Transporte Aéreo\",VLOOKUP(O964,$O$4044:$P$4045,2),\"\"))))","v":""},null,null,null,null,null,null,null,null,null,null,null,null,null,null,null,"",""]
[null,null,null,null,null,null,"",null,{"$f":"IF(H965=\"\",\"\",ROUND(H965/SUM(H962:H969),4))","v":""},null,null,null,null,null,null,{"$f":"+IF(O965=\"\",\"\",IF(N962=\"Transporte Marítimo\",VLOOKUP(O965,$O$4030:$P$4035,2),IF(N962=\"Transporte Aéreo\",VLOOKUP(O965,$O$4037:$P$4042,2),IF(N962=\"Transporte Aéreo\",VLOOKUP(O965,$O$4044:$P$4045,2),\"\"))))","v":""},null,null,null,null,null,null,null,null,null,null,null,null,null,null,null,"",""]
[null,null,null,null,null,null,"",null,{"$f":"IF(H966=\"\",\"\",ROUND(H966/SUM(H962:H969),4))","v":""},null,null,null,null,null,null,{"$f":"+IF(O966=\"\",\"\",IF(N962=\"Transporte Marítimo\",VLOOKUP(O966,$O$4030:$P$4035,2),IF(N962=\"Transporte Aéreo\",VLOOKUP(O966,$O$4037:$P$4042,2),IF(N962=\"Transporte Aéreo\",VLOOKUP(O966,$O$4044:$P$4045,2),\"\"))))","v":""},null,null,null,null,null,null,null,null,null,null,null,null,null,null,null,"",""]
[null,null,null,null,null,null,"",null,{"$f":"IF(H967=\"\",\"\",ROUND(H967/SUM(H962:H969),4))","v":""},null,null,null,null,null,null,{"$f":"+IF(O967=\"\",\"\",IF(N962=\"Transporte Marítimo\",VLOOKUP(O967,$O$4030:$P$4035,2),IF(N962=\"Transporte Aéreo\",VLOOKUP(O967,$O$4037:$P$4042,2),IF(N962=\"Transporte Aéreo\",VLOOKUP(O967,$O$4044:$P$4045,2),\"\"))))","v":""},null,null,null,null,null,null,null,null,null,null,null,null,null,null,null,"",""]
[null,null,null,null,null,null,"",null,{"$f":"IF(H968=\"\",\"\",ROUND(H968/SUM(H962:H969),4))","v":""},null,null,null,null,null,null,{"$f":"+IF(O968=\"\",\"\",IF(N962=\"Transporte Marítimo\",VLOOKUP(O968,$O$4030:$P$4035,2),IF(N962=\"Transporte Aéreo\",VLOOKUP(O968,$O$4037:$P$4042,2),IF(N962=\"Transporte Aéreo\",VLOOKUP(O968,$O$4044:$P$4045,2),\"\"))))","v":""},null,null,null,null,null,null,null,null,null,null,null,null,null,null,null,"",""]
[null,null,null,null,null,null,"",null,{"$f":"IF(H969=\"\",\"\",ROUND(H969/SUM(H962:H969),4))","v":""},null,null,null,null,null,null,{"$f":"+IF(O969=\"\",\"\",IF(N962=\"Transporte Marítimo\",VLOOKUP(O969,$O$4030:$P$4035,2),IF(N962=\"Transporte Aéreo\",VLOOKUP(O969,$O$4037:$P$4042,2),IF(N962=\"Transporte Aéreo\",VLOOKUP(O969,$O$4044:$P$4045,2),\"\"))))","v":""},null,null,null,null,null,null,null,null,null,null,null,null,null,null,null,"",""]
[null,{"$f":"+B962+1","v":120},null,null,null,null,{"$f":"+IF(F970=\"\",\"\",VLOOKUP(F970,$F$4031:$G$4120,2))","v":""},null,{"$f":"IF(H970=\"\",\"\",1-SUM(I971:I977))","v":""},null,null,null,null,null,null,{"$f":"+IF(O970=\"\",\"\",IF(N970=\"Transporte Marítimo\",VLOOKUP(O970,$O$4030:$P$4035,2),IF(N970=\"Transporte Aéreo\",VLOOKUP(O970,$O$4037:$P$4042,2),IF(N970=\"CTT\",VLOOKUP(O970,$O$4044:$P$4045,2),\"\"))))","v":""},null,null,null,null,null,null,null,null,null,null,null,null,null,null,null,{"$f":"+IF(AE970=\"20NL\",1,IF(AE970=\"40NL\",2,IF(AE970=\"20RF\",3,IF(AE970=\"40RF\",4,\"\"))))","v":""},{"$f":"+IF(AF970=\"\",\"\",VLOOKUP(AF970,$AF$4031:$AG$4034,2))","v":""},null,null,null,null,null,null,null,null,null,null,null,null,null,null," "]
[null,null,null,null,null,null,"",null,{"$f":"IF(H971=\"\",\"\",ROUND(H971/SUM(H970:H977),4))","v":""},null,null,null,null,null,null,{"$f":"+IF(O971=\"\",\"\",IF(N970=\"Transporte Marítimo\",VLOOKUP(O971,$O$4030:$P$4035,2),IF(N970=\"Transporte Aéreo\",VLOOKUP(O971,$O$4037:$P$4042,2),IF(N970=\"Transporte Aéreo\",VLOOKUP(O971,$O$4044:$P$4045,2),\"\"))))","v":""},null,null,null,null,null,null,null,null,null,null,null,null,null,null,null,{"$f":"+IF(AE971=\"20NL\",1,IF(AE971=\"40NL\",2,IF(AE971=\"20RF\",3,IF(AE971=\"40RF\",4,\"\"))))","v":""},{"$f":"+IF(AF971=\"\",\"\",VLOOKUP(AF971,$AF$4031:$AG$4034,2))","v":""}]
[null,null,null,null,null,null,"",null,{"$f":"IF(H972=\"\",\"\",ROUND(H972/SUM(H970:H977),4))","v":""},null,null,null,null,null,null,{"$f":"+IF(O972=\"\",\"\",IF(N970=\"Transporte Marítimo\",VLOOKUP(O972,$O$4030:$P$4035,2),IF(N970=\"Transporte Aéreo\",VLOOKUP(O972,$O$4037:$P$4042,2),IF(N970=\"Transporte Aéreo\",VLOOKUP(O972,$O$4044:$P$4045,2),\"\"))))","v":""},null,null,null,null,null,null,null,null,null,null,null,null,null,null,null,"",""]
[null,null,null,null,null,null,"",null,{"$f":"IF(H973=\"\",\"\",ROUND(H973/SUM(H970:H977),4))","v":""},null,null,null,null,null,null,{"$f":"+IF(O973=\"\",\"\",IF(N970=\"Transporte Marítimo\",VLOOKUP(O973,$O$4030:$P$4035,2),IF(N970=\"Transporte Aéreo\",VLOOKUP(O973,$O$4037:$P$4042,2),IF(N970=\"Transporte Aéreo\",VLOOKUP(O973,$O$4044:$P$4045,2),\"\"))))","v":""},null,null,null,null,null,null,null,null,null,null,null,null,null,null,null,"",""]
[null,null,null,null,null,null,"",null,{"$f":"IF(H974=\"\",\"\",ROUND(H974/SUM(H970:H977),4))","v":""},null,null,null,null,null,null,{"$f":"+IF(O974=\"\",\"\",IF(N970=\"Transporte Marítimo\",VLOOKUP(O974,$O$4030:$P$4035,2),IF(N970=\"Transporte Aéreo\",VLOOKUP(O974,$O$4037:$P$4042,2),IF(N970=\"Transporte Aéreo\",VLOOKUP(O974,$O$4044:$P$4045,2),\"\"))))","v":""},null,null,null,null,null,null,null,null,null,null,null,null,null,null,null,"",""]
[null,null,null,null,null,null,"",null,{"$f":"IF(H975=\"\",\"\",ROUND(H975/SUM(H970:H977),4))","v":""},null,null,null,null,null,null,{"$f":"+IF(O975=\"\",\"\",IF(N970=\"Transporte Marítimo\",VLOOKUP(O975,$O$4030:$P$4035,2),IF(N970=\"Transporte Aéreo\",VLOOKUP(O975,$O$4037:$P$4042,2),IF(N970=\"Transporte Aéreo\",VLOOKUP(O975,$O$4044:$P$4045,2),\"\"))))","v":""},null,null,null,null,null,null,null,null,null,null,null,null,null,null,null,"",""]
[null,null,null,null,null,null,"",null,{"$f":"IF(H976=\"\",\"\",ROUND(H976/SUM(H970:H977),4))","v":""},null,null,null,null,null,null,{"$f":"+IF(O976=\"\",\"\",IF(N970=\"Transporte Marítimo\",VLOOKUP(O976,$O$4030:$P$4035,2),IF(N970=\"Transporte Aéreo\",VLOOKUP(O976,$O$4037:$P$4042,2),IF(N970=\"Transporte Aéreo\",VLOOKUP(O976,$O$4044:$P$4045,2),\"\"))))","v":""},null,null,null,null,null,null,null,null,null,null,null,null,null,null,null,"",""]
[null,null,null,null,null,null,{"$f":"+IF(F977=\"\",\"\",VLOOKUP(F977,$F$4031:$G$4120,2))","v":""},null,{"$f":"IF(H977=\"\",\"\",ROUND(H977/SUM(H970:H977),4))","v":""},null,null,null,null,null,null,{"$f":"+IF(O977=\"\",\"\",IF(N970=\"Transporte Marítimo\",VLOOKUP(O977,$O$4030:$P$4035,2),IF(N970=\"Transporte Aéreo\",VLOOKUP(O977,$O$4037:$P$4042,2),IF(N970=\"Transporte Aéreo\",VLOOKUP(O977,$O$4044:$P$4045,2),\"\"))))","v":""},null,null,null,null,null,null,null,null,null,null,null,null,null,null,null,"",""]
[null,{"$f":"+B970+1","v":121},null,null,null,null,{"$f":"+IF(F978=\"\",\"\",VLOOKUP(F978,$F$4031:$G$4120,2))","v":""},null,{"$f":"IF(H978=\"\",\"\",1-SUM(I979:I985))","v":""},null,null,null,null,null,null,{"$f":"+IF(O978=\"\",\"\",IF(N978=\"Transporte Marítimo\",VLOOKUP(O978,$O$4030:$P$4035,2),IF(N978=\"Transporte Aéreo\",VLOOKUP(O978,$O$4037:$P$4042,2),IF(N978=\"CTT\",VLOOKUP(O978,$O$4044:$P$4045,2),\"\"))))","v":""},null,null,null,null,null,null,null,null,null,null,null,null,null,null,null,{"$f":"+IF(AE978=\"20NL\",1,IF(AE978=\"40NL\",2,IF(AE978=\"20RF\",3,IF(AE978=\"40RF\",4,\"\"))))","v":""},{"$f":"+IF(AF978=\"\",\"\",VLOOKUP(AF978,$AF$4031:$AG$4034,2))","v":""},null,null,null,null,null,null,null,null,null,null,null,null,null,null," "]
[null,null,null,null,null,null,{"$f":"+IF(F979=\"\",\"\",VLOOKUP(F979,$F$4031:$G$4120,2))","v":""},null,{"$f":"IF(H979=\"\",\"\",ROUND(H979/SUM(H978:H985),4))","v":""},null,null,null,null,null,null,{"$f":"+IF(O979=\"\",\"\",IF(N978=\"Transporte Marítimo\",VLOOKUP(O979,$O$4030:$P$4035,2),IF(N978=\"Transporte Aéreo\",VLOOKUP(O979,$O$4037:$P$4042,2),IF(N978=\"Transporte Aéreo\",VLOOKUP(O979,$O$4044:$P$4045,2),\"\"))))","v":""},null,null,null,null,null,null,null,null,null,null,null,null,null,null,null,{"$f":"+IF(AE979=\"20NL\",1,IF(AE979=\"40NL\",2,IF(AE979=\"20RF\",3,IF(AE979=\"40RF\",4,\"\"))))","v":""},{"$f":"+IF(AF979=\"\",\"\",VLOOKUP(AF979,$AF$4031:$AG$4034,2))","v":""}]
[null,null,null,null,null,null,"",null,{"$f":"IF(H980=\"\",\"\",ROUND(H980/SUM(H978:H985),4))","v":""},null,null,null,null,null,null,{"$f":"+IF(O980=\"\",\"\",IF(N978=\"Transporte Marítimo\",VLOOKUP(O980,$O$4030:$P$4035,2),IF(N978=\"Transporte Aéreo\",VLOOKUP(O980,$O$4037:$P$4042,2),IF(N978=\"Transporte Aéreo\",VLOOKUP(O980,$O$4044:$P$4045,2),\"\"))))","v":""},null,null,null,null,null,null,null,null,null,null,null,null,null,null,null,"",""]
[null,null,null,null,null,null,"",null,{"$f":"IF(H981=\"\",\"\",ROUND(H981/SUM(H978:H985),4))","v":""},null,null,null,null,null,null,{"$f":"+IF(O981=\"\",\"\",IF(N978=\"Transporte Marítimo\",VLOOKUP(O981,$O$4030:$P$4035,2),IF(N978=\"Transporte Aéreo\",VLOOKUP(O981,$O$4037:$P$4042,2),IF(N978=\"Transporte Aéreo\",VLOOKUP(O981,$O$4044:$P$4045,2),\"\"))))","v":""},null,null,null,null,null,null,null,null,null,null,null,null,null,null,null,"",""]
[null,null,null,null,null,null,"",null,{"$f":"IF(H982=\"\",\"\",ROUND(H982/SUM(H978:H985),4))","v":""},null,null,null,null,null,null,{"$f":"+IF(O982=\"\",\"\",IF(N978=\"Transporte Marítimo\",VLOOKUP(O982,$O$4030:$P$4035,2),IF(N978=\"Transporte Aéreo\",VLOOKUP(O982,$O$4037:$P$4042,2),IF(N978=\"Transporte Aéreo\",VLOOKUP(O982,$O$4044:$P$4045,2),\"\"))))","v":""},null,null,null,null,null,null,null,null,null,null,null,null,null,null,null,"",""]
[null,null,null,null,null,null,"",null,{"$f":"IF(H983=\"\",\"\",ROUND(H983/SUM(H978:H985),4))","v":""},null,null,null,null,null,null,{"$f":"+IF(O983=\"\",\"\",IF(N978=\"Transporte Marítimo\",VLOOKUP(O983,$O$4030:$P$4035,2),IF(N978=\"Transporte Aéreo\",VLOOKUP(O983,$O$4037:$P$4042,2),IF(N978=\"Transporte Aéreo\",VLOOKUP(O983,$O$4044:$P$4045,2),\"\"))))","v":""},null,null,null,null,null,null,null,null,null,null,null,null,null,null,null,"",""]
[null,null,null,null,null,null,"",null,{"$f":"IF(H984=\"\",\"\",ROUND(H984/SUM(H978:H985),4))","v":""},null,null,null,null,null,null,{"$f":"+IF(O984=\"\",\"\",IF(N978=\"Transporte Marítimo\",VLOOKUP(O984,$O$4030:$P$4035,2),IF(N978=\"Transporte Aéreo\",VLOOKUP(O984,$O$4037:$P$4042,2),IF(N978=\"Transporte Aéreo\",VLOOKUP(O984,$O$4044:$P$4045,2),\"\"))))","v":""},null,null,null,null,null,null,null,null,null,null,null,null,null,null,null,"",""]
[null,null,null,null,null,null,"",null,{"$f":"IF(H985=\"\",\"\",ROUND(H985/SUM(H978:H985),4))","v":""},null,null,null,null,null,null,{"$f":"+IF(O985=\"\",\"\",IF(N978=\"Transporte Marítimo\",VLOOKUP(O985,$O$4030:$P$4035,2),IF(N978=\"Transporte Aéreo\",VLOOKUP(O985,$O$4037:$P$4042,2),IF(N978=\"Transporte Aéreo\",VLOOKUP(O985,$O$4044:$P$4045,2),\"\"))))","v":""},null,null,null,null,null,null,null,null,null,null,null,null,null,null,null,"",""]
[null,{"$f":"+B978+1","v":122},null,null,null,null,{"$f":"+IF(F986=\"\",\"\",VLOOKUP(F986,$F$4031:$G$4120,2))","v":""},null,{"$f":"IF(H986=\"\",\"\",1-SUM(I987:I993))","v":""},null,null,null,null,null,null,{"$f":"+IF(O986=\"\",\"\",IF(N986=\"Transporte Marítimo\",VLOOKUP(O986,$O$4030:$P$4035,2),IF(N986=\"Transporte Aéreo\",VLOOKUP(O986,$O$4037:$P$4042,2),IF(N986=\"CTT\",VLOOKUP(O986,$O$4044:$P$4045,2),\"\"))))","v":""},null,null,null,null,null,null,null,null,null,null,null,null,null,null,null,{"$f":"+IF(AE986=\"20NL\",1,IF(AE986=\"40NL\",2,IF(AE986=\"20RF\",3,IF(AE986=\"40RF\",4,\"\"))))","v":""},{"$f":"+IF(AF986=\"\",\"\",VLOOKUP(AF986,$AF$4031:$AG$4034,2))","v":""},null,null,null,null,null,null,null,null,null,null,null,null,null,null," "]
[null,null,null,null,null,null,"",null,{"$f":"IF(H987=\"\",\"\",ROUND(H987/SUM(H986:H993),4))","v":""},null,null,null,null,null,null,{"$f":"+IF(O987=\"\",\"\",IF(N986=\"Transporte Marítimo\",VLOOKUP(O987,$O$4030:$P$4035,2),IF(N986=\"Transporte Aéreo\",VLOOKUP(O987,$O$4037:$P$4042,2),IF(N986=\"Transporte Aéreo\",VLOOKUP(O987,$O$4044:$P$4045,2),\"\"))))","v":""},null,null,null,null,null,null,null,null,null,null,null,null,null,null,null,{"$f":"+IF(AE987=\"20NL\",1,IF(AE987=\"40NL\",2,IF(AE987=\"20RF\",3,IF(AE987=\"40RF\",4,\"\"))))","v":""},""]
[null,null,null,null,null,null,"",null,{"$f":"IF(H988=\"\",\"\",ROUND(H988/SUM(H986:H993),4))","v":""},null,null,null,null,null,null,{"$f":"+IF(O988=\"\",\"\",IF(N986=\"Transporte Marítimo\",VLOOKUP(O988,$O$4030:$P$4035,2),IF(N986=\"Transporte Aéreo\",VLOOKUP(O988,$O$4037:$P$4042,2),IF(N986=\"Transporte Aéreo\",VLOOKUP(O988,$O$4044:$P$4045,2),\"\"))))","v":""},null,null,null,null,null,null,null,null,null,null,null,null,null,null,null,"",""]
[null,null,null,null,null,null,"",null,{"$f":"IF(H989=\"\",\"\",ROUND(H989/SUM(H986:H993),4))","v":""},null,null,null,null,null,null,{"$f":"+IF(O989=\"\",\"\",IF(N986=\"Transporte Marítimo\",VLOOKUP(O989,$O$4030:$P$4035,2),IF(N986=\"Transporte Aéreo\",VLOOKUP(O989,$O$4037:$P$4042,2),IF(N986=\"Transporte Aéreo\",VLOOKUP(O989,$O$4044:$P$4045,2),\"\"))))","v":""},null,null,null,null,null,null,null,null,null,null,null,null,null,null,null,"",""]
[null,null,null,null,null,null,"",null,{"$f":"IF(H990=\"\",\"\",ROUND(H990/SUM(H986:H993),4))","v":""},null,null,null,null,null,null,{"$f":"+IF(O990=\"\",\"\",IF(N986=\"Transporte Marítimo\",VLOOKUP(O990,$O$4030:$P$4035,2),IF(N986=\"Transporte Aéreo\",VLOOKUP(O990,$O$4037:$P$4042,2),IF(N986=\"Transporte Aéreo\",VLOOKUP(O990,$O$4044:$P$4045,2),\"\"))))","v":""},null,null,null,null,null,null,null,null,null,null,null,null,null,null,null,"",""]
[null,null,null,null,null,null,"",null,{"$f":"IF(H991=\"\",\"\",ROUND(H991/SUM(H986:H993),4))","v":""},null,null,null,null,null,null,{"$f":"+IF(O991=\"\",\"\",IF(N986=\"Transporte Marítimo\",VLOOKUP(O991,$O$4030:$P$4035,2),IF(N986=\"Transporte Aéreo\",VLOOKUP(O991,$O$4037:$P$4042,2),IF(N986=\"Transporte Aéreo\",VLOOKUP(O991,$O$4044:$P$4045,2),\"\"))))","v":""},null,null,null,null,null,null,null,null,null,null,null,null,null,null,null,"",""]
[null,null,null,null,null,null,"",null,{"$f":"IF(H992=\"\",\"\",ROUND(H992/SUM(H986:H993),4))","v":""},null,null,null,null,null,null,{"$f":"+IF(O992=\"\",\"\",IF(N986=\"Transporte Marítimo\",VLOOKUP(O992,$O$4030:$P$4035,2),IF(N986=\"Transporte Aéreo\",VLOOKUP(O992,$O$4037:$P$4042,2),IF(N986=\"Transporte Aéreo\",VLOOKUP(O992,$O$4044:$P$4045,2),\"\"))))","v":""},null,null,null,null,null,null,null,null,null,null,null,null,null,null,null,"",""]
[null,null,null,null,null,null,"",null,{"$f":"IF(H993=\"\",\"\",ROUND(H993/SUM(H986:H993),4))","v":""},null,null,null,null,null,null,{"$f":"+IF(O993=\"\",\"\",IF(N986=\"Transporte Marítimo\",VLOOKUP(O993,$O$4030:$P$4035,2),IF(N986=\"Transporte Aéreo\",VLOOKUP(O993,$O$4037:$P$4042,2),IF(N986=\"Transporte Aéreo\",VLOOKUP(O993,$O$4044:$P$4045,2),\"\"))))","v":""},null,null,null,null,null,null,null,null,null,null,null,null,null,null,null,"",""]
[null,{"$f":"+B986+1","v":123},null,null,null,null,{"$f":"+IF(F994=\"\",\"\",VLOOKUP(F994,$F$4031:$G$4120,2))","v":""},null,{"$f":"IF(H994=\"\",\"\",1-SUM(I995:I1001))","v":""},null,null,null,null,null,null,{"$f":"+IF(O994=\"\",\"\",IF(N994=\"Transporte Marítimo\",VLOOKUP(O994,$O$4030:$P$4035,2),IF(N994=\"Transporte Aéreo\",VLOOKUP(O994,$O$4037:$P$4042,2),IF(N994=\"CTT\",VLOOKUP(O994,$O$4044:$P$4045,2),\"\"))))","v":""},null,null,null,null,null,null,null,null,null,null,null,null,null,null,null,{"$f":"+IF(AE994=\"20NL\",1,IF(AE994=\"40NL\",2,IF(AE994=\"20RF\",3,IF(AE994=\"40RF\",4,\"\"))))","v":""},{"$f":"+IF(AF994=\"\",\"\",VLOOKUP(AF994,$AF$4031:$AG$4034,2))","v":""},null,null,null,null,null,null,null,null,null,null,null,null,null,null," "]
[null,null,null,null,null,null,"",null,{"$f":"IF(H995=\"\",\"\",ROUND(H995/SUM(H994:H1001),4))","v":""},null,null,null,null,null,null,{"$f":"+IF(O995=\"\",\"\",IF(N994=\"Transporte Marítimo\",VLOOKUP(O995,$O$4030:$P$4035,2),IF(N994=\"Transporte Aéreo\",VLOOKUP(O995,$O$4037:$P$4042,2),IF(N994=\"Transporte Aéreo\",VLOOKUP(O995,$O$4044:$P$4045,2),\"\"))))","v":""},null,null,null,null,null,null,null,null,null,null,null,null,null,null,null,{"$f":"+IF(AE995=\"20NL\",1,IF(AE995=\"40NL\",2,IF(AE995=\"20RF\",3,IF(AE995=\"40RF\",4,\"\"))))","v":""},""]
[null,null,null,null,null,null,"",null,{"$f":"IF(H996=\"\",\"\",ROUND(H996/SUM(H994:H1001),4))","v":""},null,null,null,null,null,null,{"$f":"+IF(O996=\"\",\"\",IF(N994=\"Transporte Marítimo\",VLOOKUP(O996,$O$4030:$P$4035,2),IF(N994=\"Transporte Aéreo\",VLOOKUP(O996,$O$4037:$P$4042,2),IF(N994=\"Transporte Aéreo\",VLOOKUP(O996,$O$4044:$P$4045,2),\"\"))))","v":""},null,null,null,null,null,null,null,null,null,null,null,null,null,null,null,"",""]
[null,null,null,null,null,null,"",null,{"$f":"IF(H997=\"\",\"\",ROUND(H997/SUM(H994:H1001),4))","v":""},null,null,null,null,null,null,{"$f":"+IF(O997=\"\",\"\",IF(N994=\"Transporte Marítimo\",VLOOKUP(O997,$O$4030:$P$4035,2),IF(N994=\"Transporte Aéreo\",VLOOKUP(O997,$O$4037:$P$4042,2),IF(N994=\"Transporte Aéreo\",VLOOKUP(O997,$O$4044:$P$4045,2),\"\"))))","v":""},null,null,null,null,null,null,null,null,null,null,null,null,null,null,null,"",""]
[null,null,null,null,null,null,"",null,{"$f":"IF(H998=\"\",\"\",ROUND(H998/SUM(H994:H1001),4))","v":""},null,null,null,null,null,null,{"$f":"+IF(O998=\"\",\"\",IF(N994=\"Transporte Marítimo\",VLOOKUP(O998,$O$4030:$P$4035,2),IF(N994=\"Transporte Aéreo\",VLOOKUP(O998,$O$4037:$P$4042,2),IF(N994=\"Transporte Aéreo\",VLOOKUP(O998,$O$4044:$P$4045,2),\"\"))))","v":""},null,null,null,null,null,null,null,null,null,null,null,null,null,null,null,"",""]
[null,null,null,null,null,null,"",null,{"$f":"IF(H999=\"\",\"\",ROUND(H999/SUM(H994:H1001),4))","v":""},null,null,null,null,null,null,{"$f":"+IF(O999=\"\",\"\",IF(N994=\"Transporte Marítimo\",VLOOKUP(O999,$O$4030:$P$4035,2),IF(N994=\"Transporte Aéreo\",VLOOKUP(O999,$O$4037:$P$4042,2),IF(N994=\"Transporte Aéreo\",VLOOKUP(O999,$O$4044:$P$4045,2),\"\"))))","v":""},null,null,null,null,null,null,null,null,null,null,null,null,null,null,null,"",""]
[null,null,null,null,null,null,"",null,{"$f":"IF(H1000=\"\",\"\",ROUND(H1000/SUM(H994:H1001),4))","v":""},null,null,null,null,null,null,{"$f":"+IF(O1000=\"\",\"\",IF(N994=\"Transporte Marítimo\",VLOOKUP(O1000,$O$4030:$P$4035,2),IF(N994=\"Transporte Aéreo\",VLOOKUP(O1000,$O$4037:$P$4042,2),IF(N994=\"Transporte Aéreo\",VLOOKUP(O1000,$O$4044:$P$4045,2),\"\"))))","v":""},null,null,null,null,null,null,null,null,null,null,null,null,null,null,null,"",""]
[null,{"$f":"+B994+1","v":124},null,null,null,null,{"$f":"+IF(F1002=\"\",\"\",VLOOKUP(F1002,$F$4031:$G$4120,2))","v":""},null,{"$f":"IF(H1002=\"\",\"\",1-SUM(I1003:I1009))","v":""},null,null,null,null,null,null,{"$f":"+IF(O1002=\"\",\"\",IF(N1002=\"Transporte Marítimo\",VLOOKUP(O1002,$O$4030:$P$4035,2),IF(N1002=\"Transporte Aéreo\",VLOOKUP(O1002,$O$4037:$P$4042,2),IF(N1002=\"CTT\",VLOOKUP(O1002,$O$4044:$P$4045,2),\"\"))))","v":""},null,null,null,null,null,null,null,null,null,null,null,null,null,null,null,{"$f":"+IF(AE1002=\"20NL\",1,IF(AE1002=\"40NL\",2,IF(AE1002=\"20RF\",3,IF(AE1002=\"40RF\",4,\"\"))))","v":""},{"$f":"+IF(AF1002=\"\",\"\",VLOOKUP(AF1002,$AF$4031:$AG$4034,2))","v":""},null,null,null,null,null,null,null,null,null,null,null,null,null,null," "]
[null,null,null,null,null,null,"",null,{"$f":"IF(H1004=\"\",\"\",ROUND(H1004/SUM(H1002:H1009),4))","v":""},null,null,null,null,null,null,{"$f":"+IF(O1004=\"\",\"\",IF(N1002=\"Transporte Marítimo\",VLOOKUP(O1004,$O$4030:$P$4035,2),IF(N1002=\"Transporte Aéreo\",VLOOKUP(O1004,$O$4037:$P$4042,2),IF(N1002=\"Transporte Aéreo\",VLOOKUP(O1004,$O$4044:$P$4045,2),\"\"))))","v":""},null,null,null,null,null,null,null,null,null,null,null,null,null,null,null,"",""]
[null,null,null,null,null,null,"",null,{"$f":"IF(H1007=\"\",\"\",ROUND(H1007/SUM(H1002:H1009),4))","v":""},null,null,null,null,null,null,{"$f":"+IF(O1007=\"\",\"\",IF(N1002=\"Transporte Marítimo\",VLOOKUP(O1007,$O$4030:$P$4035,2),IF(N1002=\"Transporte Aéreo\",VLOOKUP(O1007,$O$4037:$P$4042,2),IF(N1002=\"Transporte Aéreo\",VLOOKUP(O1007,$O$4044:$P$4045,2),\"\"))))","v":""},null,null,null,null,null,null,null,null,null,null,null,null,null,null,null,"",""]
[null,null,null,null,null,null,"",null,{"$f":"IF(H1011=\"\",\"\",ROUND(H1011/SUM(H1010:H1017),4))","v":""},null,null,null,null,null,null,{"$f":"+IF(O1011=\"\",\"\",IF(N1010=\"Transporte Marítimo\",VLOOKUP(O1011,$O$4030:$P$4035,2),IF(N1010=\"Transporte Aéreo\",VLOOKUP(O1011,$O$4037:$P$4042,2),IF(N1010=\"Transporte Aéreo\",VLOOKUP(O1011,$O$4044:$P$4045,2),\"\"))))","v":""},null,null,null,null,null,null,null,null,null,null,null,null,null,null,null,{"$f":"+IF(AE1011=\"20NL\",1,IF(AE1011=\"40NL\",2,IF(AE1011=\"20RF\",3,IF(AE1011=\"40RF\",4,\"\"))))","v":""},""]
[null,null,null,null,null,null,"",null,{"$f":"IF(H1014=\"\",\"\",ROUND(H1014/SUM(H1010:H1017),4))","v":""},null,null,null,null,null,null,{"$f":"+IF(O1014=\"\",\"\",IF(N1010=\"Transporte Marítimo\",VLOOKUP(O1014,$O$4030:$P$4035,2),IF(N1010=\"Transporte Aéreo\",VLOOKUP(O1014,$O$4037:$P$4042,2),IF(N1010=\"Transporte Aéreo\",VLOOKUP(O1014,$O$4044:$P$4045,2),\"\"))))","v":""},null,null,null,null,null,null,null,null,null,null,null,null,null,null,null,"",""]
[null,null,null,null,null,null,"",null,{"$f":"IF(H1017=\"\",\"\",ROUND(H1017/SUM(H1010:H1017),4))","v":""},null,null,null,null,null,null,{"$f":"+IF(O1017=\"\",\"\",IF(N1010=\"Transporte Marítimo\",VLOOKUP(O1017,$O$4030:$P$4035,2),IF(N1010=\"Transporte Aéreo\",VLOOKUP(O1017,$O$4037:$P$4042,2),IF(N1010=\"Transporte Aéreo\",VLOOKUP(O1017,$O$4044:$P$4045,2),\"\"))))","v":""},null,null,null,null,null,null,null,null,null,null,null,null,null,null,null,"",""]
[null,{"$f":"+B1010+1","v":126},null,null,null,null,{"$f":"+IF(F1018=\"\",\"\",VLOOKUP(F1018,$F$4031:$G$4120,2))","v":""},null,{"$f":"IF(H1018=\"\",\"\",1-SUM(I1019:I1025))","v":""},null,null,null,null,null,null,{"$f":"+IF(O1018=\"\",\"\",IF(N1018=\"Transporte Marítimo\",VLOOKUP(O1018,$O$4030:$P$4035,2),IF(N1018=\"Transporte Aéreo\",VLOOKUP(O1018,$O$4037:$P$4042,2),IF(N1018=\"CTT\",VLOOKUP(O1018,$O$4044:$P$4045,2),\"\"))))","v":""},null,null,null,null,null,null,null,null,null,null,null,null,null,null,null,{"$f":"+IF(AE1018=\"20NL\",1,IF(AE1018=\"40NL\",2,IF(AE1018=\"20RF\",3,IF(AE1018=\"40RF\",4,\"\"))))","v":""},{"$f":"+IF(AF1018=\"\",\"\",VLOOKUP(AF1018,$AF$4031:$AG$4034,2))","v":""},null,null,null,null,null,null,null,null,null,null,null,null,null,null," "]
[null,null,null,null,null,null,"",null,{"$f":"IF(H1021=\"\",\"\",ROUND(H1021/SUM(H1018:H1025),4))","v":""},null,null,null,null,null,null,{"$f":"+IF(O1021=\"\",\"\",IF(N1018=\"Transporte Marítimo\",VLOOKUP(O1021,$O$4030:$P$4035,2),IF(N1018=\"Transporte Aéreo\",VLOOKUP(O1021,$O$4037:$P$4042,2),IF(N1018=\"Transporte Aéreo\",VLOOKUP(O1021,$O$4044:$P$4045,2),\"\"))))","v":""},null,null,null,null,null,null,null,null,null,null,null,null,null,null,null,"",""]
[null,null,null,null,null,null,"",null,{"$f":"IF(H1024=\"\",\"\",ROUND(H1024/SUM(H1018:H1025),4))","v":""},null,null,null,null,null,null,{"$f":"+IF(O1024=\"\",\"\",IF(N1018=\"Transporte Marítimo\",VLOOKUP(O1024,$O$4030:$P$4035,2),IF(N1018=\"Transporte Aéreo\",VLOOKUP(O1024,$O$4037:$P$4042,2),IF(N1018=\"Transporte Aéreo\",VLOOKUP(O1024,$O$4044:$P$4045,2),\"\"))))","v":""},null,null,null,null,null,null,null,null,null,null,null,null,null,null,null,"",""]
[null,null,null,null,null,null,"",null,{"$f":"IF(H1027=\"\",\"\",ROUND(H1027/SUM(H1026:H1033),4))","v":""},null,null,null,null,null,null,{"$f":"+IF(O1027=\"\",\"\",IF(N1026=\"Transporte Marítimo\",VLOOKUP(O1027,$O$4030:$P$4035,2),IF(N1026=\"Transporte Aéreo\",VLOOKUP(O1027,$O$4037:$P$4042,2),IF(N1026=\"Transporte Aéreo\",VLOOKUP(O1027,$O$4044:$P$4045,2),\"\"))))","v":""},null,null,null,null,null,null,null,null,null,null,null,null,null,null,null,{"$f":"+IF(AE1027=\"20NL\",1,IF(AE1027=\"40NL\",2,IF(AE1027=\"20RF\",3,IF(AE1027=\"40RF\",4,\"\"))))","v":""},""]
[null,null,null,null,null,null,"",null,{"$f":"IF(H1030=\"\",\"\",ROUND(H1030/SUM(H1026:H1033),4))","v":""},null,null,null,null,null,null,{"$f":"+IF(O1030=\"\",\"\",IF(N1026=\"Transporte Marítimo\",VLOOKUP(O1030,$O$4030:$P$4035,2),IF(N1026=\"Transporte Aéreo\",VLOOKUP(O1030,$O$4037:$P$4042,2),IF(N1026=\"Transporte Aéreo\",VLOOKUP(O1030,$O$4044:$P$4045,2),\"\"))))","v":""},null,null,null,null,null,null,null,null,null,null,null,null,null,null,null,"",""]
[null,{"$f":"+B1026+1","v":128},null,null,null,null,{"$f":"+IF(F1034=\"\",\"\",VLOOKUP(F1034,$F$4031:$G$4120,2))","v":""},null,{"$f":"IF(H1034=\"\",\"\",1-SUM(I1035:I1041))","v":""},null,null,null,null,null,null,{"$f":"+IF(O1034=\"\",\"\",IF(N1034=\"Transporte Marítimo\",VLOOKUP(O1034,$O$4030:$P$4035,2),IF(N1034=\"Transporte Aéreo\",VLOOKUP(O1034,$O$4037:$P$4042,2),IF(N1034=\"CTT\",VLOOKUP(O1034,$O$4044:$P$4045,2),\"\"))))","v":""},null,null,null,null,null,null,null,null,null,null,null,null,null,null,null,{"$f":"+IF(AE1034=\"20NL\",1,IF(AE1034=\"40NL\",2,IF(AE1034=\"20RF\",3,IF(AE1034=\"40RF\",4,\"\"))))","v":""},{"$f":"+IF(AF1034=\"\",\"\",VLOOKUP(AF1034,$AF$4031:$AG$4034,2))","v":""},null,null,null,null,null,null,null,null,null,null,null,null,null,null," "]
[null,null,null,null,null,null,"",null,{"$f":"IF(H1037=\"\",\"\",ROUND(H1037/SUM(H1034:H1041),4))","v":""},null,null,null,null,null,null,{"$f":"+IF(O1037=\"\",\"\",IF(N1034=\"Transporte Marítimo\",VLOOKUP(O1037,$O$4030:$P$4035,2),IF(N1034=\"Transporte Aéreo\",VLOOKUP(O1037,$O$4037:$P$4042,2),IF(N1034=\"Transporte Aéreo\",VLOOKUP(O1037,$O$4044:$P$4045,2),\"\"))))","v":""},null,null,null,null,null,null,null,null,null,null,null,null,null,null,null,"",""]
[null,null,null,null,null,null,"",null,{"$f":"IF(H1040=\"\",\"\",ROUND(H1040/SUM(H1034:H1041),4))","v":""},null,null,null,null,null,null,{"$f":"+IF(O1040=\"\",\"\",IF(N1034=\"Transporte Marítimo\",VLOOKUP(O1040,$O$4030:$P$4035,2),IF(N1034=\"Transporte Aéreo\",VLOOKUP(O1040,$O$4037:$P$4042,2),IF(N1034=\"Transporte Aéreo\",VLOOKUP(O1040,$O$4044:$P$4045,2),\"\"))))","v":""},null,null,null,null,null,null,null,null,null,null,null,null,null,null,null,"",""]
[null,null,null,null,null,null,"",null,{"$f":"IF(H1041=\"\",\"\",ROUND(H1041/SUM(H1034:H1041),4))","v":""},null,null,null,null,null,null,{"$f":"+IF(O1041=\"\",\"\",IF(N1034=\"Transporte Marítimo\",VLOOKUP(O1041,$O$4030:$P$4035,2),IF(N1034=\"Transporte Aéreo\",VLOOKUP(O1041,$O$4037:$P$4042,2),IF(N1034=\"Transporte Aéreo\",VLOOKUP(O1041,$O$4044:$P$4045,2),\"\"))))","v":""},null,null,null,null,null,null,null,null,null,null,null,null,null,null,null,"",""]
[null,null,null,null,null,null,"",null,{"$f":"IF(H1044=\"\",\"\",ROUND(H1044/SUM(H1042:H1049),4))","v":""},null,null,null,null,null,null,{"$f":"+IF(O1044=\"\",\"\",IF(N1042=\"Transporte Marítimo\",VLOOKUP(O1044,$O$4030:$P$4035,2),IF(N1042=\"Transporte Aéreo\",VLOOKUP(O1044,$O$4037:$P$4042,2),IF(N1042=\"Transporte Aéreo\",VLOOKUP(O1044,$O$4044:$P$4045,2),\"\"))))","v":""},null,null,null,null,null,null,null,null,null,null,null,null,null,null,null,"",""]
[null,null,null,null,null,null,"",null,{"$f":"IF(H1047=\"\",\"\",ROUND(H1047/SUM(H1042:H1049),4))","v":""},null,null,null,null,null,null,{"$f":"+IF(O1047=\"\",\"\",IF(N1042=\"Transporte Marítimo\",VLOOKUP(O1047,$O$4030:$P$4035,2),IF(N1042=\"Transporte Aéreo\",VLOOKUP(O1047,$O$4037:$P$4042,2),IF(N1042=\"Transporte Aéreo\",VLOOKUP(O1047,$O$4044:$P$4045,2),\"\"))))","v":""},null,null,null,null,null,null,null,null,null,null,null,null,null,null,null,"",""]
[null,{"$f":"+B1042+1","v":130},null,null,null,null,{"$f":"+IF(F1050=\"\",\"\",VLOOKUP(F1050,$F$4031:$G$4120,2))","v":""},null,{"$f":"IF(H1050=\"\",\"\",1-SUM(I1051:I1057))","v":""},null,null,null,null,null,null,{"$f":"+IF(O1050=\"\",\"\",IF(N1050=\"Transporte Marítimo\",VLOOKUP(O1050,$O$4030:$P$4035,2),IF(N1050=\"Transporte Aéreo\",VLOOKUP(O1050,$O$4037:$P$4042,2),IF(N1050=\"CTT\",VLOOKUP(O1050,$O$4044:$P$4045,2),\"\"))))","v":""},null,null,null,null,null,null,null,null,null,null,null,null,null,null,null,{"$f":"+IF(AE1050=\"20NL\",1,IF(AE1050=\"40NL\",2,IF(AE1050=\"20RF\",3,IF(AE1050=\"40RF\",4,\"\"))))","v":""},{"$f":"+IF(AF1050=\"\",\"\",VLOOKUP(AF1050,$AF$4031:$AG$4034,2))","v":""},null,null,null,null,null,null,null,null,null,null,null,null,null,null," "]
[null,null,null,null,null,null,"",null,{"$f":"IF(H1053=\"\",\"\",ROUND(H1053/SUM(H1050:H1057),4))","v":""},null,null,null,null,null,null,{"$f":"+IF(O1053=\"\",\"\",IF(N1050=\"Transporte Marítimo\",VLOOKUP(O1053,$O$4030:$P$4035,2),IF(N1050=\"Transporte Aéreo\",VLOOKUP(O1053,$O$4037:$P$4042,2),IF(N1050=\"Transporte Aéreo\",VLOOKUP(O1053,$O$4044:$P$4045,2),\"\"))))","v":""},null,null,null,null,null,null,null,null,null,null,null,null,null,null,null,"",""]
[null,null,null,null,null,null,{"$f":"+IF(F1057=\"\",\"\",VLOOKUP(F1057,$F$4031:$G$4120,2))","v":""},null,{"$f":"IF(H1057=\"\",\"\",ROUND(H1057/SUM(H1050:H1057),4))","v":""},null,null,null,null,null,null,{"$f":"+IF(O1057=\"\",\"\",IF(N1050=\"Transporte Marítimo\",VLOOKUP(O1057,$O$4030:$P$4035,2),IF(N1050=\"Transporte Aéreo\",VLOOKUP(O1057,$O$4037:$P$4042,2),IF(N1050=\"Transporte Aéreo\",VLOOKUP(O1057,$O$4044:$P$4045,2),\"\"))))","v":""},null,null,null,null,null,null,null,null,null,null,null,null,null,null,null,"",""]
[null,null,null,null,null,null,"",null,{"$f":"IF(H1060=\"\",\"\",ROUND(H1060/SUM(H1058:H1065),4))","v":""},null,null,null,null,null,null,{"$f":"+IF(O1060=\"\",\"\",IF(N1058=\"Transporte Marítimo\",VLOOKUP(O1060,$O$4030:$P$4035,2),IF(N1058=\"Transporte Aéreo\",VLOOKUP(O1060,$O$4037:$P$4042,2),IF(N1058=\"Transporte Aéreo\",VLOOKUP(O1060,$O$4044:$P$4045,2),\"\"))))","v":""},null,null,null,null,null,null,null,null,null,null,null,null,null,null,null,"",""]
[null,null,null,null,null,null,"",null,{"$f":"IF(H1061=\"\",\"\",ROUND(H1061/SUM(H1058:H1065),4))","v":""},null,null,null,null,null,null,{"$f":"+IF(O1061=\"\",\"\",IF(N1058=\"Transporte Marítimo\",VLOOKUP(O1061,$O$4030:$P$4035,2),IF(N1058=\"Transporte Aéreo\",VLOOKUP(O1061,$O$4037:$P$4042,2),IF(N1058=\"Transporte Aéreo\",VLOOKUP(O1061,$O$4044:$P$4045,2),\"\"))))","v":""},null,null,null,null,null,null,null,null,null,null,null,null,null,null,null,"",""]
[null,null,null,null,null,null,"",null,{"$f":"IF(H1064=\"\",\"\",ROUND(H1064/SUM(H1058:H1065),4))","v":""},null,null,null,null,null,null,{"$f":"+IF(O1064=\"\",\"\",IF(N1058=\"Transporte Marítimo\",VLOOKUP(O1064,$O$4030:$P$4035,2),IF(N1058=\"Transporte Aéreo\",VLOOKUP(O1064,$O$4037:$P$4042,2),IF(N1058=\"Transporte Aéreo\",VLOOKUP(O1064,$O$4044:$P$4045,2),\"\"))))","v":""},null,null,null,null,null,null,null,null,null,null,null,null,null,null,null,"",""]
[null,null,null,null,null,null,"",null,{"$f":"IF(H1067=\"\",\"\",ROUND(H1067/SUM(H1066:H1073),4))","v":""},null,null,null,null,null,null,{"$f":"+IF(O1067=\"\",\"\",IF(N1066=\"Transporte Marítimo\",VLOOKUP(O1067,$O$4030:$P$4035,2),IF(N1066=\"Transporte Aéreo\",VLOOKUP(O1067,$O$4037:$P$4042,2),IF(N1066=\"Transporte Aéreo\",VLOOKUP(O1067,$O$4044:$P$4045,2),\"\"))))","v":""},null,null,null,null,null,null,null,null,null,null,null,null,null,null,null,{"$f":"+IF(AE1067=\"20NL\",1,IF(AE1067=\"40NL\",2,IF(AE1067=\"20RF\",3,IF(AE1067=\"40RF\",4,\"\"))))","v":""},""]
[null,null,null,null,null,null,"",null,{"$f":"IF(H1070=\"\",\"\",ROUND(H1070/SUM(H1066:H1073),4))","v":""},null,null,null,null,null,null,{"$f":"+IF(O1070=\"\",\"\",IF(N1066=\"Transporte Marítimo\",VLOOKUP(O1070,$O$4030:$P$4035,2),IF(N1066=\"Transporte Aéreo\",VLOOKUP(O1070,$O$4037:$P$4042,2),IF(N1066=\"Transporte Aéreo\",VLOOKUP(O1070,$O$4044:$P$4045,2),\"\"))))","v":""},null,null,null,null,null,null,null,null,null,null,null,null,null,null,null,"",""]
[null,null,null,null,null,null,"",null,{"$f":"IF(H1073=\"\",\"\",ROUND(H1073/SUM(H1066:H1073),4))","v":""},null,null,null,null,null,null,{"$f":"+IF(O1073=\"\",\"\",IF(N1066=\"Transporte Marítimo\",VLOOKUP(O1073,$O$4030:$P$4035,2),IF(N1066=\"Transporte Aéreo\",VLOOKUP(O1073,$O$4037:$P$4042,2),IF(N1066=\"Transporte Aéreo\",VLOOKUP(O1073,$O$4044:$P$4045,2),\"\"))))","v":""},null,null,null,null,null,null,null,null,null,null,null,null,null,null,null,"",""]
[null,null,null,null,null,null,"",null,{"$f":"IF(H1076=\"\",\"\",ROUND(H1076/SUM(H1074:H1081),4))","v":""},null,null,null,null,null,null,{"$f":"+IF(O1076=\"\",\"\",IF(N1074=\"Transporte Marítimo\",VLOOKUP(O1076,$O$4030:$P$4035,2),IF(N1074=\"Transporte Aéreo\",VLOOKUP(O1076,$O$4037:$P$4042,2),IF(N1074=\"Transporte Aéreo\",VLOOKUP(O1076,$O$4044:$P$4045,2),\"\"))))","v":""},null,null,null,null,null,null,null,null,null,null,null,null,null,null,null,"",""]
[null,null,null,null,null,null,"",null,{"$f":"IF(H1080=\"\",\"\",ROUND(H1080/SUM(H1074:H1081),4))","v":""},null,null,null,null,null,null,{"$f":"+IF(O1080=\"\",\"\",IF(N1074=\"Transporte Marítimo\",VLOOKUP(O1080,$O$4030:$P$4035,2),IF(N1074=\"Transporte Aéreo\",VLOOKUP(O1080,$O$4037:$P$4042,2),IF(N1074=\"Transporte Aéreo\",VLOOKUP(O1080,$O$4044:$P$4045,2),\"\"))))","v":""},null,null,null,null,null,null,null,null,null,null,null,null,null,null,null,"",""]
[null,null,null,null,null,null,"",null,{"$f":"IF(H1083=\"\",\"\",ROUND(H1083/SUM(H1082:H1089),4))","v":""},null,null,null,null,null,null,{"$f":"+IF(O1083=\"\",\"\",IF(N1082=\"Transporte Marítimo\",VLOOKUP(O1083,$O$4030:$P$4035,2),IF(N1082=\"Transporte Aéreo\",VLOOKUP(O1083,$O$4037:$P$4042,2),IF(N1082=\"Transporte Aéreo\",VLOOKUP(O1083,$O$4044:$P$4045,2),\"\"))))","v":""},null,null,null,null,null,null,null,null,null,null,null,null,null,null,null,{"$f":"+IF(AE1083=\"20NL\",1,IF(AE1083=\"40NL\",2,IF(AE1083=\"20RF\",3,IF(AE1083=\"40RF\",4,\"\"))))","v":""},""]
[null,null,null,null,null,null,"",null,{"$f":"IF(H1084=\"\",\"\",ROUND(H1084/SUM(H1082:H1089),4))","v":""},null,null,null,null,null,null,{"$f":"+IF(O1084=\"\",\"\",IF(N1082=\"Transporte Marítimo\",VLOOKUP(O1084,$O$4030:$P$4035,2),IF(N1082=\"Transporte Aéreo\",VLOOKUP(O1084,$O$4037:$P$4042,2),IF(N1082=\"Transporte Aéreo\",VLOOKUP(O1084,$O$4044:$P$4045,2),\"\"))))","v":""},null,null,null,null,null,null,null,null,null,null,null,null,null,null,null,"",""]
[null,null,null,null,null,null,"",null,{"$f":"IF(H1088=\"\",\"\",ROUND(H1088/SUM(H1082:H1089),4))","v":""},null,null,null,null,null,null,{"$f":"+IF(O1088=\"\",\"\",IF(N1082=\"Transporte Marítimo\",VLOOKUP(O1088,$O$4030:$P$4035,2),IF(N1082=\"Transporte Aéreo\",VLOOKUP(O1088,$O$4037:$P$4042,2),IF(N1082=\"Transporte Aéreo\",VLOOKUP(O1088,$O$4044:$P$4045,2),\"\"))))","v":""},null,null,null,null,null,null,null,null,null,null,null,null,null,null,null,"",""]
[null,null,null,null,null,null,"",null,{"$f":"IF(H1089=\"\",\"\",ROUND(H1089/SUM(H1082:H1089),4))","v":""},null,null,null,null,null,null,{"$f":"+IF(O1089=\"\",\"\",IF(N1082=\"Transporte Marítimo\",VLOOKUP(O1089,$O$4030:$P$4035,2),IF(N1082=\"Transporte Aéreo\",VLOOKUP(O1089,$O$4037:$P$4042,2),IF(N1082=\"Transporte Aéreo\",VLOOKUP(O1089,$O$4044:$P$4045,2),\"\"))))","v":""},null,null,null,null,null,null,null,null,null,null,null,null,null,null,null,"",""]
[null,null,null,null,null,null,"",null,{"$f":"IF(H1093=\"\",\"\",ROUND(H1093/SUM(H1090:H1097),4))","v":""},null,null,null,null,null,null,{"$f":"+IF(O1093=\"\",\"\",IF(N1090=\"Transporte Marítimo\",VLOOKUP(O1093,$O$4030:$P$4035,2),IF(N1090=\"Transporte Aéreo\",VLOOKUP(O1093,$O$4037:$P$4042,2),IF(N1090=\"Transporte Aéreo\",VLOOKUP(O1093,$O$4044:$P$4045,2),\"\"))))","v":""},null,null,null,null,null,null,null,null,null,null,null,null,null,null,null,"",""]
[null,null,null,null,null,null,"",null,{"$f":"IF(H1096=\"\",\"\",ROUND(H1096/SUM(H1090:H1097),4))","v":""},null,null,null,null,null,null,{"$f":"+IF(O1096=\"\",\"\",IF(N1090=\"Transporte Marítimo\",VLOOKUP(O1096,$O$4030:$P$4035,2),IF(N1090=\"Transporte Aéreo\",VLOOKUP(O1096,$O$4037:$P$4042,2),IF(N1090=\"Transporte Aéreo\",VLOOKUP(O1096,$O$4044:$P$4045,2),\"\"))))","v":""},null,null,null,null,null,null,null,null,null,null,null,null,null,null,null,"",""]
[null,null,null,null,null,null,"",null,{"$f":"IF(H1099=\"\",\"\",ROUND(H1099/SUM(H1098:H1105),4))","v":""},null,null,null,null,null,null,{"$f":"+IF(O1099=\"\",\"\",IF(N1098=\"Transporte Marítimo\",VLOOKUP(O1099,$O$4030:$P$4035,2),IF(N1098=\"Transporte Aéreo\",VLOOKUP(O1099,$O$4037:$P$4042,2),IF(N1098=\"Transporte Aéreo\",VLOOKUP(O1099,$O$4044:$P$4045,2),\"\"))))","v":""},null,null,null,null,null,null,null,null,null,null,null,null,null,null,null,{"$f":"+IF(AE1099=\"20NL\",1,IF(AE1099=\"40NL\",2,IF(AE1099=\"20RF\",3,IF(AE1099=\"40RF\",4,\"\"))))","v":""},""]
[null,null,null,null,null,null,"",null,{"$f":"IF(H1103=\"\",\"\",ROUND(H1103/SUM(H1098:H1105),4))","v":""},null,null,null,null,null,null,{"$f":"+IF(O1103=\"\",\"\",IF(N1098=\"Transporte Marítimo\",VLOOKUP(O1103,$O$4030:$P$4035,2),IF(N1098=\"Transporte Aéreo\",VLOOKUP(O1103,$O$4037:$P$4042,2),IF(N1098=\"Transporte Aéreo\",VLOOKUP(O1103,$O$4044:$P$4045,2),\"\"))))","v":""},null,null,null,null,null,null,null,null,null,null,null,null,null,null,null,"",""]
[null,{"$f":"+B1098+1","v":137},null,null,null,null,{"$f":"+IF(F1106=\"\",\"\",VLOOKUP(F1106,$F$4031:$G$4120,2))","v":""},null,{"$f":"IF(H1106=\"\",\"\",1-SUM(I1107:I1113))","v":""},null,null,null,null,null,null,{"$f":"+IF(O1106=\"\",\"\",IF(N1106=\"Transporte Marítimo\",VLOOKUP(O1106,$O$4030:$P$4035,2),IF(N1106=\"Transporte Aéreo\",VLOOKUP(O1106,$O$4037:$P$4042,2),IF(N1106=\"CTT\",VLOOKUP(O1106,$O$4044:$P$4045,2),\"\"))))","v":""},null,null,null,null,null,null,null,null,null,null,null,null,null,null,null,{"$f":"+IF(AE1106=\"20NL\",1,IF(AE1106=\"40NL\",2,IF(AE1106=\"20RF\",3,IF(AE1106=\"40RF\",4,\"\"))))","v":""},{"$f":"+IF(AF1106=\"\",\"\",VLOOKUP(AF1106,$AF$4031:$AG$4034,2))","v":""},null,null,null,null,null,null,null,null,null,null,null,null,null,null," "]
[null,null,null,null,null,null,"",null,{"$f":"IF(H1107=\"\",\"\",ROUND(H1107/SUM(H1106:H1113),4))","v":""},null,null,null,null,null,null,{"$f":"+IF(O1107=\"\",\"\",IF(N1106=\"Transporte Marítimo\",VLOOKUP(O1107,$O$4030:$P$4035,2),IF(N1106=\"Transporte Aéreo\",VLOOKUP(O1107,$O$4037:$P$4042,2),IF(N1106=\"Transporte Aéreo\",VLOOKUP(O1107,$O$4044:$P$4045,2),\"\"))))","v":""},null,null,null,null,null,null,null,null,null,null,null,null,null,null,null,{"$f":"+IF(AE1107=\"20NL\",1,IF(AE1107=\"40NL\",2,IF(AE1107=\"20RF\",3,IF(AE1107=\"40RF\",4,\"\"))))","v":""},""]
[null,null,null,null,null,null,"",null,{"$f":"IF(H1111=\"\",\"\",ROUND(H1111/SUM(H1106:H1113),4))","v":""},null,null,null,null,null,null,{"$f":"+IF(O1111=\"\",\"\",IF(N1106=\"Transporte Marítimo\",VLOOKUP(O1111,$O$4030:$P$4035,2),IF(N1106=\"Transporte Aéreo\",VLOOKUP(O1111,$O$4037:$P$4042,2),IF(N1106=\"Transporte Aéreo\",VLOOKUP(O1111,$O$4044:$P$4045,2),\"\"))))","v":""},null,null,null,null,null,null,null,null,null,null,null,null,null,null,null,"",""]
[null,null,null,null,null,null,"",null,{"$f":"IF(H1112=\"\",\"\",ROUND(H1112/SUM(H1106:H1113),4))","v":""},null,null,null,null,null,null,{"$f":"+IF(O1112=\"\",\"\",IF(N1106=\"Transporte Marítimo\",VLOOKUP(O1112,$O$4030:$P$4035,2),IF(N1106=\"Transporte Aéreo\",VLOOKUP(O1112,$O$4037:$P$4042,2),IF(N1106=\"Transporte Aéreo\",VLOOKUP(O1112,$O$4044:$P$4045,2),\"\"))))","v":""},null,null,null,null,null,null,null,null,null,null,null,null,null,null,null,"",""]
[null,null,null,null,null,null,"",null,{"$f":"IF(H1116=\"\",\"\",ROUND(H1116/SUM(H1114:H1121),4))","v":""},null,null,null,null,null,null,{"$f":"+IF(O1116=\"\",\"\",IF(N1114=\"Transporte Marítimo\",VLOOKUP(O1116,$O$4030:$P$4035,2),IF(N1114=\"Transporte Aéreo\",VLOOKUP(O1116,$O$4037:$P$4042,2),IF(N1114=\"Transporte Aéreo\",VLOOKUP(O1116,$O$4044:$P$4045,2),\"\"))))","v":""},null,null,null,null,null,null,null,null,null,null,null,null,null,null,null,"",""]
[null,null,null,null,null,null,"",null,{"$f":"IF(H1119=\"\",\"\",ROUND(H1119/SUM(H1114:H1121),4))","v":""},null,null,null,null,null,null,{"$f":"+IF(O1119=\"\",\"\",IF(N1114=\"Transporte Marítimo\",VLOOKUP(O1119,$O$4030:$P$4035,2),IF(N1114=\"Transporte Aéreo\",VLOOKUP(O1119,$O$4037:$P$4042,2),IF(N1114=\"Transporte Aéreo\",VLOOKUP(O1119,$O$4044:$P$4045,2),\"\"))))","v":""},null,null,null,null,null,null,null,null,null,null,null,null,null,null,null,"",""]
[null,null,null,null,null,null,{"$f":"+IF(F1123=\"\",\"\",VLOOKUP(F1123,$F$4031:$G$4120,2))","v":""},null,{"$f":"IF(H1123=\"\",\"\",ROUND(H1123/SUM(H1122:H1129),4))","v":""},null,null,null,null,null,null,{"$f":"+IF(O1123=\"\",\"\",IF(N1122=\"Transporte Marítimo\",VLOOKUP(O1123,$O$4030:$P$4035,2),IF(N1122=\"Transporte Aéreo\",VLOOKUP(O1123,$O$4037:$P$4042,2),IF(N1122=\"Transporte Aéreo\",VLOOKUP(O1123,$O$4044:$P$4045,2),\"\"))))","v":""},null,null,null,null,null,null,null,null,null,null,null,null,null,null,null,{"$f":"+IF(AE1123=\"20NL\",1,IF(AE1123=\"40NL\",2,IF(AE1123=\"20RF\",3,IF(AE1123=\"40RF\",4,\"\"))))","v":""},{"$f":"+IF(AF1123=\"\",\"\",VLOOKUP(AF1123,$AF$4031:$AG$4034,2))","v":""}]
[null,null,null,null,null,null,"",null,{"$f":"IF(H1126=\"\",\"\",ROUND(H1126/SUM(H1122:H1129),4))","v":""},null,null,null,null,null,null,{"$f":"+IF(O1126=\"\",\"\",IF(N1122=\"Transporte Marítimo\",VLOOKUP(O1126,$O$4030:$P$4035,2),IF(N1122=\"Transporte Aéreo\",VLOOKUP(O1126,$O$4037:$P$4042,2),IF(N1122=\"Transporte Aéreo\",VLOOKUP(O1126,$O$4044:$P$4045,2),\"\"))))","v":""},null,null,null,null,null,null,null,null,null,null,null,null,null,null,null,"",""]
[null,null,null,null,null,null,"",null,{"$f":"IF(H1129=\"\",\"\",ROUND(H1129/SUM(H1122:H1129),4))","v":""},null,null,null,null,null,null,{"$f":"+IF(O1129=\"\",\"\",IF(N1122=\"Transporte Marítimo\",VLOOKUP(O1129,$O$4030:$P$4035,2),IF(N1122=\"Transporte Aéreo\",VLOOKUP(O1129,$O$4037:$P$4042,2),IF(N1122=\"Transporte Aéreo\",VLOOKUP(O1129,$O$4044:$P$4045,2),\"\"))))","v":""},null,null,null,null,null,null,null,null,null,null,null,null,null,null,null,"",""]
[null,{"$f":"+B1122+1","v":140},null,null,null,null,{"$f":"+IF(F1130=\"\",\"\",VLOOKUP(F1130,$F$4031:$G$4120,2))","v":""},null,{"$f":"IF(H1130=\"\",\"\",1-SUM(I1131:I1137))","v":""},null,null,null,null,null,null,{"$f":"+IF(O1130=\"\",\"\",IF(N1130=\"Transporte Marítimo\",VLOOKUP(O1130,$O$4030:$P$4035,2),IF(N1130=\"Transporte Aéreo\",VLOOKUP(O1130,$O$4037:$P$4042,2),IF(N1130=\"CTT\",VLOOKUP(O1130,$O$4044:$P$4045,2),\"\"))))","v":""},null,null,null,null,null,null,null,null,null,null,null,null,null,null,null,{"$f":"+IF(AE1130=\"20NL\",1,IF(AE1130=\"40NL\",2,IF(AE1130=\"20RF\",3,IF(AE1130=\"40RF\",4,\"\"))))","v":""},{"$f":"+IF(AF1130=\"\",\"\",VLOOKUP(AF1130,$AF$4031:$AG$4034,2))","v":""},null,null,null,null,null,null,null,null,null,null,null,null,null,null," "]
[null,null,null,null,null,null,"",null,{"$f":"IF(H1134=\"\",\"\",ROUND(H1134/SUM(H1130:H1137),4))","v":""},null,null,null,null,null,null,{"$f":"+IF(O1134=\"\",\"\",IF(N1130=\"Transporte Marítimo\",VLOOKUP(O1134,$O$4030:$P$4035,2),IF(N1130=\"Transporte Aéreo\",VLOOKUP(O1134,$O$4037:$P$4042,2),IF(N1130=\"Transporte Aéreo\",VLOOKUP(O1134,$O$4044:$P$4045,2),\"\"))))","v":""},null,null,null,null,null,null,null,null,null,null,null,null,null,null,null,"",""]
[null,null,null,null,null,null,"",null,{"$f":"IF(H1135=\"\",\"\",ROUND(H1135/SUM(H1130:H1137),4))","v":""},null,null,null,null,null,null,{"$f":"+IF(O1135=\"\",\"\",IF(N1130=\"Transporte Marítimo\",VLOOKUP(O1135,$O$4030:$P$4035,2),IF(N1130=\"Transporte Aéreo\",VLOOKUP(O1135,$O$4037:$P$4042,2),IF(N1130=\"Transporte Aéreo\",VLOOKUP(O1135,$O$4044:$P$4045,2),\"\"))))","v":""},null,null,null,null,null,null,null,null,null,null,null,null,null,null,null,"",""]
[null,null,null,null,null,null,{"$f":"+IF(F1139=\"\",\"\",VLOOKUP(F1139,$F$4031:$G$4120,2))","v":""},null,{"$f":"IF(H1139=\"\",\"\",ROUND(H1139/SUM(H1138:H1145),4))","v":""},null,null,null,null,null,null,{"$f":"+IF(O1139=\"\",\"\",IF(N1138=\"Transporte Marítimo\",VLOOKUP(O1139,$O$4030:$P$4035,2),IF(N1138=\"Transporte Aéreo\",VLOOKUP(O1139,$O$4037:$P$4042,2),IF(N1138=\"Transporte Aéreo\",VLOOKUP(O1139,$O$4044:$P$4045,2),\"\"))))","v":""},null,null,null,null,null,null,null,null,null,null,null,null,null,null,null,{"$f":"+IF(AE1139=\"20NL\",1,IF(AE1139=\"40NL\",2,IF(AE1139=\"20RF\",3,IF(AE1139=\"40RF\",4,\"\"))))","v":""},{"$f":"+IF(AF1139=\"\",\"\",VLOOKUP(AF1139,$AF$4031:$AG$4034,2))","v":""}]
[null,null,null,null,null,null,"",null,{"$f":"IF(H1142=\"\",\"\",ROUND(H1142/SUM(H1138:H1145),4))","v":""},null,null,null,null,null,null,{"$f":"+IF(O1142=\"\",\"\",IF(N1138=\"Transporte Marítimo\",VLOOKUP(O1142,$O$4030:$P$4035,2),IF(N1138=\"Transporte Aéreo\",VLOOKUP(O1142,$O$4037:$P$4042,2),IF(N1138=\"Transporte Aéreo\",VLOOKUP(O1142,$O$4044:$P$4045,2),\"\"))))","v":""},null,null,null,null,null,null,null,null,null,null,null,null,null,null,null,"",""]
[null,{"$f":"+B1138+1","v":142},null,null,null,null,{"$f":"+IF(F1146=\"\",\"\",VLOOKUP(F1146,$F$4031:$G$4120,2))","v":""},null,{"$f":"IF(H1146=\"\",\"\",1-SUM(I1147:I1153))","v":""},null,null,null,null,null,null,{"$f":"+IF(O1146=\"\",\"\",IF(N1146=\"Transporte Marítimo\",VLOOKUP(O1146,$O$4030:$P$4035,2),IF(N1146=\"Transporte Aéreo\",VLOOKUP(O1146,$O$4037:$P$4042,2),IF(N1146=\"CTT\",VLOOKUP(O1146,$O$4044:$P$4045,2),\"\"))))","v":""},null,null,null,null,null,null,null,null,null,null,null,null,null,null,null,{"$f":"+IF(AE1146=\"20NL\",1,IF(AE1146=\"40NL\",2,IF(AE1146=\"20RF\",3,IF(AE1146=\"40RF\",4,\"\"))))","v":""},{"$f":"+IF(AF1146=\"\",\"\",VLOOKUP(AF1146,$AF$4031:$AG$4034,2))","v":""},null,null,null,null,null,null,null,null,null,null,null,null,null,null," "]
[null,null,null,null,null,null,"",null,{"$f":"IF(H1149=\"\",\"\",ROUND(H1149/SUM(H1146:H1153),4))","v":""},null,null,null,null,null,null,{"$f":"+IF(O1149=\"\",\"\",IF(N1146=\"Transporte Marítimo\",VLOOKUP(O1149,$O$4030:$P$4035,2),IF(N1146=\"Transporte Aéreo\",VLOOKUP(O1149,$O$4037:$P$4042,2),IF(N1146=\"Transporte Aéreo\",VLOOKUP(O1149,$O$4044:$P$4045,2),\"\"))))","v":""},null,null,null,null,null,null,null,null,null,null,null,null,null,null,null,"",""]
[null,null,null,null,null,null,"",null,{"$f":"IF(H1152=\"\",\"\",ROUND(H1152/SUM(H1146:H1153),4))","v":""},null,null,null,null,null,null,{"$f":"+IF(O1152=\"\",\"\",IF(N1146=\"Transporte Marítimo\",VLOOKUP(O1152,$O$4030:$P$4035,2),IF(N1146=\"Transporte Aéreo\",VLOOKUP(O1152,$O$4037:$P$4042,2),IF(N1146=\"Transporte Aéreo\",VLOOKUP(O1152,$O$4044:$P$4045,2),\"\"))))","v":""},null,null,null,null,null,null,null,null,null,null,null,null,null,null,null,"",""]
[null,null,null,null,null,null,"",null,{"$f":"IF(H1153=\"\",\"\",ROUND(H1153/SUM(H1146:H1153),4))","v":""},null,null,null,null,null,null,{"$f":"+IF(O1153=\"\",\"\",IF(N1146=\"Transporte Marítimo\",VLOOKUP(O1153,$O$4030:$P$4035,2),IF(N1146=\"Transporte Aéreo\",VLOOKUP(O1153,$O$4037:$P$4042,2),IF(N1146=\"Transporte Aéreo\",VLOOKUP(O1153,$O$4044:$P$4045,2),\"\"))))","v":""},null,null,null,null,null,null,null,null,null,null,null,null,null,null,null,"",""]
[null,null,null,null,null,null,"",null,{"$f":"IF(H1155=\"\",\"\",ROUND(H1155/SUM(H1154:H1161),4))","v":""},null,null,null,null,null,null,{"$f":"+IF(O1155=\"\",\"\",IF(N1154=\"Transporte Marítimo\",VLOOKUP(O1155,$O$4030:$P$4035,2),IF(N1154=\"Transporte Aéreo\",VLOOKUP(O1155,$O$4037:$P$4042,2),IF(N1154=\"Transporte Aéreo\",VLOOKUP(O1155,$O$4044:$P$4045,2),\"\"))))","v":""},null,null,null,null,null,null,null,null,null,null,null,null,null,null,null,{"$f":"+IF(AE1155=\"20NL\",1,IF(AE1155=\"40NL\",2,IF(AE1155=\"20RF\",3,IF(AE1155=\"40RF\",4,\"\"))))","v":""},""]
[null,null,null,null,null,null,"",null,{"$f":"IF(H1159=\"\",\"\",ROUND(H1159/SUM(H1154:H1161),4))","v":""},null,null,null,null,null,null,{"$f":"+IF(O1159=\"\",\"\",IF(N1154=\"Transporte Marítimo\",VLOOKUP(O1159,$O$4030:$P$4035,2),IF(N1154=\"Transporte Aéreo\",VLOOKUP(O1159,$O$4037:$P$4042,2),IF(N1154=\"Transporte Aéreo\",VLOOKUP(O1159,$O$4044:$P$4045,2),\"\"))))","v":""},null,null,null,null,null,null,null,null,null,null,null,null,null,null,null,"",""]
[null,{"$f":"+B1154+1","v":144},null,null,null,null,{"$f":"+IF(F1162=\"\",\"\",VLOOKUP(F1162,$F$4031:$G$4120,2))","v":""},null,{"$f":"IF(H1162=\"\",\"\",1-SUM(I1163:I1169))","v":""},null,null,null,null,null,null,{"$f":"+IF(O1162=\"\",\"\",IF(N1162=\"Transporte Marítimo\",VLOOKUP(O1162,$O$4030:$P$4035,2),IF(N1162=\"Transporte Aéreo\",VLOOKUP(O1162,$O$4037:$P$4042,2),IF(N1162=\"CTT\",VLOOKUP(O1162,$O$4044:$P$4045,2),\"\"))))","v":""},null,null,null,null,null,null,null,null,null,null,null,null,null,null,null,{"$f":"+IF(AE1162=\"20NL\",1,IF(AE1162=\"40NL\",2,IF(AE1162=\"20RF\",3,IF(AE1162=\"40RF\",4,\"\"))))","v":""},{"$f":"+IF(AF1162=\"\",\"\",VLOOKUP(AF1162,$AF$4031:$AG$4034,2))","v":""},null,null,null,null,null,null,null,null,null,null,null,null,null,null," "]
[null,null,null,null,null,null,"",null,{"$f":"IF(H1165=\"\",\"\",ROUND(H1165/SUM(H1162:H1169),4))","v":""},null,null,null,null,null,null,{"$f":"+IF(O1165=\"\",\"\",IF(N1162=\"Transporte Marítimo\",VLOOKUP(O1165,$O$4030:$P$4035,2),IF(N1162=\"Transporte Aéreo\",VLOOKUP(O1165,$O$4037:$P$4042,2),IF(N1162=\"Transporte Aéreo\",VLOOKUP(O1165,$O$4044:$P$4045,2),\"\"))))","v":""},null,null,null,null,null,null,null,null,null,null,null,null,null,null,null,"",""]
[null,null,null,null,null,null,"",null,{"$f":"IF(H1169=\"\",\"\",ROUND(H1169/SUM(H1162:H1169),4))","v":""},null,null,null,null,null,null,{"$f":"+IF(O1169=\"\",\"\",IF(N1162=\"Transporte Marítimo\",VLOOKUP(O1169,$O$4030:$P$4035,2),IF(N1162=\"Transporte Aéreo\",VLOOKUP(O1169,$O$4037:$P$4042,2),IF(N1162=\"Transporte Aéreo\",VLOOKUP(O1169,$O$4044:$P$4045,2),\"\"))))","v":""},null,null,null,null,null,null,null,null,null,null,null,null,null,null,null,"",""]
[null,null,null,null,null,null,"",null,{"$f":"IF(H1172=\"\",\"\",ROUND(H1172/SUM(H1170:H1177),4))","v":""},null,null,null,null,null,null,{"$f":"+IF(O1172=\"\",\"\",IF(N1170=\"Transporte Marítimo\",VLOOKUP(O1172,$O$4030:$P$4035,2),IF(N1170=\"Transporte Aéreo\",VLOOKUP(O1172,$O$4037:$P$4042,2),IF(N1170=\"Transporte Aéreo\",VLOOKUP(O1172,$O$4044:$P$4045,2),\"\"))))","v":""},null,null,null,null,null,null,null,null,null,null,null,null,null,null,null,"",""]
[null,null,null,null,null,null,"",null,{"$f":"IF(H1175=\"\",\"\",ROUND(H1175/SUM(H1170:H1177),4))","v":""},null,null,null,null,null,null,{"$f":"+IF(O1175=\"\",\"\",IF(N1170=\"Transporte Marítimo\",VLOOKUP(O1175,$O$4030:$P$4035,2),IF(N1170=\"Transporte Aéreo\",VLOOKUP(O1175,$O$4037:$P$4042,2),IF(N1170=\"Transporte Aéreo\",VLOOKUP(O1175,$O$4044:$P$4045,2),\"\"))))","v":""},null,null,null,null,null,null,null,null,null,null,null,null,null,null,null,"",""]
[null,null,null,null,null,null,"",null,{"$f":"IF(H1176=\"\",\"\",ROUND(H1176/SUM(H1170:H1177),4))","v":""},null,null,null,null,null,null,{"$f":"+IF(O1176=\"\",\"\",IF(N1170=\"Transporte Marítimo\",VLOOKUP(O1176,$O$4030:$P$4035,2),IF(N1170=\"Transporte Aéreo\",VLOOKUP(O1176,$O$4037:$P$4042,2),IF(N1170=\"Transporte Aéreo\",VLOOKUP(O1176,$O$4044:$P$4045,2),\"\"))))","v":""},null,null,null,null,null,null,null,null,null,null,null,null,null,null,null,"",""]
[null,{"$f":"+B1170+1","v":146},null,null,null,null,{"$f":"+IF(F1178=\"\",\"\",VLOOKUP(F1178,$F$4031:$G$4120,2))","v":""},null,{"$f":"IF(H1178=\"\",\"\",1-SUM(I1179:I1185))","v":""},null,null,null,null,null,null,{"$f":"+IF(O1178=\"\",\"\",IF(N1178=\"Transporte Marítimo\",VLOOKUP(O1178,$O$4030:$P$4035,2),IF(N1178=\"Transporte Aéreo\",VLOOKUP(O1178,$O$4037:$P$4042,2),IF(N1178=\"CTT\",VLOOKUP(O1178,$O$4044:$P$4045,2),\"\"))))","v":""},null,null,null,null,null,null,null,null,null,null,null,null,null,null,null,{"$f":"+IF(AE1178=\"20NL\",1,IF(AE1178=\"40NL\",2,IF(AE1178=\"20RF\",3,IF(AE1178=\"40RF\",4,\"\"))))","v":""},{"$f":"+IF(AF1178=\"\",\"\",VLOOKUP(AF1178,$AF$4031:$AG$4034,2))","v":""},null,null,null,null,null,null,null,null,null,null,null,null,null,null," "]
[null,null,null,null,null,null,"",null,{"$f":"IF(H1182=\"\",\"\",ROUND(H1182/SUM(H1178:H1185),4))","v":""},null,null,null,null,null,null,{"$f":"+IF(O1182=\"\",\"\",IF(N1178=\"Transporte Marítimo\",VLOOKUP(O1182,$O$4030:$P$4035,2),IF(N1178=\"Transporte Aéreo\",VLOOKUP(O1182,$O$4037:$P$4042,2),IF(N1178=\"Transporte Aéreo\",VLOOKUP(O1182,$O$4044:$P$4045,2),\"\"))))","v":""},null,null,null,null,null,null,null,null,null,null,null,null,null,null,null,"",""]
[null,null,null,null,null,null,"",null,{"$f":"IF(H1185=\"\",\"\",ROUND(H1185/SUM(H1178:H1185),4))","v":""},null,null,null,null,null,null,{"$f":"+IF(O1185=\"\",\"\",IF(N1178=\"Transporte Marítimo\",VLOOKUP(O1185,$O$4030:$P$4035,2),IF(N1178=\"Transporte Aéreo\",VLOOKUP(O1185,$O$4037:$P$4042,2),IF(N1178=\"Transporte Aéreo\",VLOOKUP(O1185,$O$4044:$P$4045,2),\"\"))))","v":""},null,null,null,null,null,null,null,null,null,null,null,null,null,null,null,"",""]
[null,null,null,null,null,null,"",null,{"$f":"IF(H1188=\"\",\"\",ROUND(H1188/SUM(H1186:H1193),4))","v":""},null,null,null,null,null,null,{"$f":"+IF(O1188=\"\",\"\",IF(N1186=\"Transporte Marítimo\",VLOOKUP(O1188,$O$4030:$P$4035,2),IF(N1186=\"Transporte Aéreo\",VLOOKUP(O1188,$O$4037:$P$4042,2),IF(N1186=\"Transporte Aéreo\",VLOOKUP(O1188,$O$4044:$P$4045,2),\"\"))))","v":""},null,null,null,null,null,null,null,null,null,null,null,null,null,null,null,"",""]
[null,null,null,null,null,null,"",null,{"$f":"IF(H1192=\"\",\"\",ROUND(H1192/SUM(H1186:H1193),4))","v":""},null,null,null,null,null,null,{"$f":"+IF(O1192=\"\",\"\",IF(N1186=\"Transporte Marítimo\",VLOOKUP(O1192,$O$4030:$P$4035,2),IF(N1186=\"Transporte Aéreo\",VLOOKUP(O1192,$O$4037:$P$4042,2),IF(N1186=\"Transporte Aéreo\",VLOOKUP(O1192,$O$4044:$P$4045,2),\"\"))))","v":""},null,null,null,null,null,null,null,null,null,null,null,null,null,null,null,"",""]
[null,null,null,null,null,null,"",null,{"$f":"IF(H1195=\"\",\"\",ROUND(H1195/SUM(H1194:H1201),4))","v":""},null,null,null,null,null,null,{"$f":"+IF(O1195=\"\",\"\",IF(N1194=\"Transporte Marítimo\",VLOOKUP(O1195,$O$4030:$P$4035,2),IF(N1194=\"Transporte Aéreo\",VLOOKUP(O1195,$O$4037:$P$4042,2),IF(N1194=\"Transporte Aéreo\",VLOOKUP(O1195,$O$4044:$P$4045,2),\"\"))))","v":""},null,null,null,null,null,null,null,null,null,null,null,null,null,null,null,{"$f":"+IF(AE1195=\"20NL\",1,IF(AE1195=\"40NL\",2,IF(AE1195=\"20RF\",3,IF(AE1195=\"40RF\",4,\"\"))))","v":""},""]
[null,null,null,null,null,null,"",null,{"$f":"IF(H1198=\"\",\"\",ROUND(H1198/SUM(H1194:H1201),4))","v":""},null,null,null,null,null,null,{"$f":"+IF(O1198=\"\",\"\",IF(N1194=\"Transporte Marítimo\",VLOOKUP(O1198,$O$4030:$P$4035,2),IF(N1194=\"Transporte Aéreo\",VLOOKUP(O1198,$O$4037:$P$4042,2),IF(N1194=\"Transporte Aéreo\",VLOOKUP(O1198,$O$4044:$P$4045,2),\"\"))))","v":""},null,null,null,null,null,null,null,null,null,null,null,null,null,null,null,"",""]
[null,null,null,null,null,null,"",null,{"$f":"IF(H1199=\"\",\"\",ROUND(H1199/SUM(H1194:H1201),4))","v":""},null,null,null,null,null,null,{"$f":"+IF(O1199=\"\",\"\",IF(N1194=\"Transporte Marítimo\",VLOOKUP(O1199,$O$4030:$P$4035,2),IF(N1194=\"Transporte Aéreo\",VLOOKUP(O1199,$O$4037:$P$4042,2),IF(N1194=\"Transporte Aéreo\",VLOOKUP(O1199,$O$4044:$P$4045,2),\"\"))))","v":""},null,null,null,null,null,null,null,null,null,null,null,null,null,null,null,"",""]
[null,null,null,null,null,null,"",null,{"$f":"IF(H1201=\"\",\"\",ROUND(H1201/SUM(H1194:H1201),4))","v":""},null,null,null,null,null,null,{"$f":"+IF(O1201=\"\",\"\",IF(N1194=\"Transporte Marítimo\",VLOOKUP(O1201,$O$4030:$P$4035,2),IF(N1194=\"Transporte Aéreo\",VLOOKUP(O1201,$O$4037:$P$4042,2),IF(N1194=\"Transporte Aéreo\",VLOOKUP(O1201,$O$4044:$P$4045,2),\"\"))))","v":""},null,null,null,null,null,null,null,null,null,null,null,null,null,null,null,"",""]
[null,null,null,null,null,null,"",null,{"$f":"IF(H1205=\"\",\"\",ROUND(H1205/SUM(H1202:H1209),4))","v":""},null,null,null,null,null,null,{"$f":"+IF(O1205=\"\",\"\",IF(N1202=\"Transporte Marítimo\",VLOOKUP(O1205,$O$4030:$P$4035,2),IF(N1202=\"Transporte Aéreo\",VLOOKUP(O1205,$O$4037:$P$4042,2),IF(N1202=\"Transporte Aéreo\",VLOOKUP(O1205,$O$4044:$P$4045,2),\"\"))))","v":""},null,null,null,null,null,null,null,null,null,null,null,null,null,null,null,"",""]
[null,null,null,null,null,null,"",null,{"$f":"IF(H1208=\"\",\"\",ROUND(H1208/SUM(H1202:H1209),4))","v":""},null,null,null,null,null,null,{"$f":"+IF(O1208=\"\",\"\",IF(N1202=\"Transporte Marítimo\",VLOOKUP(O1208,$O$4030:$P$4035,2),IF(N1202=\"Transporte Aéreo\",VLOOKUP(O1208,$O$4037:$P$4042,2),IF(N1202=\"Transporte Aéreo\",VLOOKUP(O1208,$O$4044:$P$4045,2),\"\"))))","v":""},null,null,null,null,null,null,null,null,null,null,null,null,null,null,null,"",""]
[null,null,null,null,null,null,"",null,{"$f":"IF(H1211=\"\",\"\",ROUND(H1211/SUM(H1210:H1217),4))","v":""},null,null,null,null,null,null,{"$f":"+IF(O1211=\"\",\"\",IF(N1210=\"Transporte Marítimo\",VLOOKUP(O1211,$O$4030:$P$4035,2),IF(N1210=\"Transporte Aéreo\",VLOOKUP(O1211,$O$4037:$P$4042,2),IF(N1210=\"Transporte Aéreo\",VLOOKUP(O1211,$O$4044:$P$4045,2),\"\"))))","v":""},null,null,null,null,null,null,null,null,null,null,null,null,null,null,null,{"$f":"+IF(AE1211=\"20NL\",1,IF(AE1211=\"40NL\",2,IF(AE1211=\"20RF\",3,IF(AE1211=\"40RF\",4,\"\"))))","v":""},{"$f":"+IF(AF1211=\"\",\"\",VLOOKUP(AF1211,$AF$4031:$AG$4034,2))","v":""}]
[null,null,null,null,null,null,"",null,{"$f":"IF(H1215=\"\",\"\",ROUND(H1215/SUM(H1210:H1217),4))","v":""},null,null,null,null,null,null,{"$f":"+IF(O1215=\"\",\"\",IF(N1210=\"Transporte Marítimo\",VLOOKUP(O1215,$O$4030:$P$4035,2),IF(N1210=\"Transporte Aéreo\",VLOOKUP(O1215,$O$4037:$P$4042,2),IF(N1210=\"Transporte Aéreo\",VLOOKUP(O1215,$O$4044:$P$4045,2),\"\"))))","v":""},null,null,null,null,null,null,null,null,null,null,null,null,null,null,null,"",""]
[null,{"$f":"+B1210+1","v":151},null,null,null,null,{"$f":"+IF(F1218=\"\",\"\",VLOOKUP(F1218,$F$4031:$G$4120,2))","v":""},null,{"$f":"IF(H1218=\"\",\"\",1-SUM(I1219:I1225))","v":""},null,null,null,null,null,null,{"$f":"+IF(O1218=\"\",\"\",IF(N1218=\"Transporte Marítimo\",VLOOKUP(O1218,$O$4030:$P$4035,2),IF(N1218=\"Transporte Aéreo\",VLOOKUP(O1218,$O$4037:$P$4042,2),IF(N1218=\"CTT\",VLOOKUP(O1218,$O$4044:$P$4045,2),\"\"))))","v":""},null,null,null,null,null,null,null,null,null,null,null,null,null,null,null,{"$f":"+IF(AE1218=\"20NL\",1,IF(AE1218=\"40NL\",2,IF(AE1218=\"20RF\",3,IF(AE1218=\"40RF\",4,\"\"))))","v":""},{"$f":"+IF(AF1218=\"\",\"\",VLOOKUP(AF1218,$AF$4031:$AG$4034,2))","v":""},null,null,null,null,null,null,null,null,null,null,null,null,null,null," "]
[null,null,null,null,null,null,"",null,{"$f":"IF(H1220=\"\",\"\",ROUND(H1220/SUM(H1218:H1225),4))","v":""},null,null,null,null,null,null,{"$f":"+IF(O1220=\"\",\"\",IF(N1218=\"Transporte Marítimo\",VLOOKUP(O1220,$O$4030:$P$4035,2),IF(N1218=\"Transporte Aéreo\",VLOOKUP(O1220,$O$4037:$P$4042,2),IF(N1218=\"Transporte Aéreo\",VLOOKUP(O1220,$O$4044:$P$4045,2),\"\"))))","v":""},null,null,null,null,null,null,null,null,null,null,null,null,null,null,null,"",""]
[null,null,null,null,null,null,"",null,{"$f":"IF(H1221=\"\",\"\",ROUND(H1221/SUM(H1218:H1225),4))","v":""},null,null,null,null,null,null,{"$f":"+IF(O1221=\"\",\"\",IF(N1218=\"Transporte Marítimo\",VLOOKUP(O1221,$O$4030:$P$4035,2),IF(N1218=\"Transporte Aéreo\",VLOOKUP(O1221,$O$4037:$P$4042,2),IF(N1218=\"Transporte Aéreo\",VLOOKUP(O1221,$O$4044:$P$4045,2),\"\"))))","v":""},null,null,null,null,null,null,null,null,null,null,null,null,null,null,null,"",""]
[null,null,null,null,null,null,"",null,{"$f":"IF(H1224=\"\",\"\",ROUND(H1224/SUM(H1218:H1225),4))","v":""},null,null,null,null,null,null,{"$f":"+IF(O1224=\"\",\"\",IF(N1218=\"Transporte Marítimo\",VLOOKUP(O1224,$O$4030:$P$4035,2),IF(N1218=\"Transporte Aéreo\",VLOOKUP(O1224,$O$4037:$P$4042,2),IF(N1218=\"Transporte Aéreo\",VLOOKUP(O1224,$O$4044:$P$4045,2),\"\"))))","v":""},null,null,null,null,null,null,null,null,null,null,null,null,null,null,null,"",""]
[null,null,null,null,null,null,"",null,{"$f":"IF(H1228=\"\",\"\",ROUND(H1228/SUM(H1226:H1233),4))","v":""},null,null,null,null,null,null,{"$f":"+IF(O1228=\"\",\"\",IF(N1226=\"Transporte Marítimo\",VLOOKUP(O1228,$O$4030:$P$4035,2),IF(N1226=\"Transporte Aéreo\",VLOOKUP(O1228,$O$4037:$P$4042,2),IF(N1226=\"Transporte Aéreo\",VLOOKUP(O1228,$O$4044:$P$4045,2),\"\"))))","v":""},null,null,null,null,null,null,null,null,null,null,null,null,null,null,null,"",""]
[null,null,null,null,null,null,"",null,{"$f":"IF(H1231=\"\",\"\",ROUND(H1231/SUM(H1226:H1233),4))","v":""},null,null,null,null,null,null,{"$f":"+IF(O1231=\"\",\"\",IF(N1226=\"Transporte Marítimo\",VLOOKUP(O1231,$O$4030:$P$4035,2),IF(N1226=\"Transporte Aéreo\",VLOOKUP(O1231,$O$4037:$P$4042,2),IF(N1226=\"Transporte Aéreo\",VLOOKUP(O1231,$O$4044:$P$4045,2),\"\"))))","v":""},null,null,null,null,null,null,null,null,null,null,null,null,null,null,null,"",""]
[null,{"$f":"+B1226+1","v":153},null,null,null,null,{"$f":"+IF(F1234=\"\",\"\",VLOOKUP(F1234,$F$4031:$G$4120,2))","v":""},null,{"$f":"IF(H1234=\"\",\"\",1-SUM(I1235:I1241))","v":""},null,null,null,null,null,null,{"$f":"+IF(O1234=\"\",\"\",IF(N1234=\"Transporte Marítimo\",VLOOKUP(O1234,$O$4030:$P$4035,2),IF(N1234=\"Transporte Aéreo\",VLOOKUP(O1234,$O$4037:$P$4042,2),IF(N1234=\"CTT\",VLOOKUP(O1234,$O$4044:$P$4045,2),\"\"))))","v":""},null,null,null,null,null,null,null,null,null,null,null,null,null,null,null,{"$f":"+IF(AE1234=\"20NL\",1,IF(AE1234=\"40NL\",2,IF(AE1234=\"20RF\",3,IF(AE1234=\"40RF\",4,\"\"))))","v":""},{"$f":"+IF(AF1234=\"\",\"\",VLOOKUP(AF1234,$AF$4031:$AG$4034,2))","v":""},null,null,null,null,null,null,null,null,null,null,null,null,null,null," "]
[null,null,null,null,null,null,"",null,{"$f":"IF(H1238=\"\",\"\",ROUND(H1238/SUM(H1234:H1241),4))","v":""},null,null,null,null,null,null,{"$f":"+IF(O1238=\"\",\"\",IF(N1234=\"Transporte Marítimo\",VLOOKUP(O1238,$O$4030:$P$4035,2),IF(N1234=\"Transporte Aéreo\",VLOOKUP(O1238,$O$4037:$P$4042,2),IF(N1234=\"Transporte Aéreo\",VLOOKUP(O1238,$O$4044:$P$4045,2),\"\"))))","v":""},null,null,null,null,null,null,null,null,null,null,null,null,null,null,null,"",""]
[null,null,null,null,null,null,"",null,{"$f":"IF(H1241=\"\",\"\",ROUND(H1241/SUM(H1234:H1241),4))","v":""},null,null,null,null,null,null,{"$f":"+IF(O1241=\"\",\"\",IF(N1234=\"Transporte Marítimo\",VLOOKUP(O1241,$O$4030:$P$4035,2),IF(N1234=\"Transporte Aéreo\",VLOOKUP(O1241,$O$4037:$P$4042,2),IF(N1234=\"Transporte Aéreo\",VLOOKUP(O1241,$O$4044:$P$4045,2),\"\"))))","v":""},null,null,null,null,null,null,null,null,null,null,null,null,null,null,null,"",""]
[null,null,null,null,null,null,"",null,{"$f":"IF(H1243=\"\",\"\",ROUND(H1243/SUM(H1242:H1249),4))","v":""},null,null,null,null,null,null,{"$f":"+IF(O1243=\"\",\"\",IF(N1242=\"Transporte Marítimo\",VLOOKUP(O1243,$O$4030:$P$4035,2),IF(N1242=\"Transporte Aéreo\",VLOOKUP(O1243,$O$4037:$P$4042,2),IF(N1242=\"Transporte Aéreo\",VLOOKUP(O1243,$O$4044:$P$4045,2),\"\"))))","v":""},null,null,null,null,null,null,null,null,null,null,null,null,null,null,null,{"$f":"+IF(AE1243=\"20NL\",1,IF(AE1243=\"40NL\",2,IF(AE1243=\"20RF\",3,IF(AE1243=\"40RF\",4,\"\"))))","v":""},""]
[null,null,null,null,null,null,"",null,{"$f":"IF(H1244=\"\",\"\",ROUND(H1244/SUM(H1242:H1249),4))","v":""},null,null,null,null,null,null,{"$f":"+IF(O1244=\"\",\"\",IF(N1242=\"Transporte Marítimo\",VLOOKUP(O1244,$O$4030:$P$4035,2),IF(N1242=\"Transporte Aéreo\",VLOOKUP(O1244,$O$4037:$P$4042,2),IF(N1242=\"Transporte Aéreo\",VLOOKUP(O1244,$O$4044:$P$4045,2),\"\"))))","v":""},null,null,null,null,null,null,null,null,null,null,null,null,null,null,null,"",""]
[null,null,null,null,null,null,"",null,{"$f":"IF(H1247=\"\",\"\",ROUND(H1247/SUM(H1242:H1249),4))","v":""},null,null,null,null,null,null,{"$f":"+IF(O1247=\"\",\"\",IF(N1242=\"Transporte Marítimo\",VLOOKUP(O1247,$O$4030:$P$4035,2),IF(N1242=\"Transporte Aéreo\",VLOOKUP(O1247,$O$4037:$P$4042,2),IF(N1242=\"Transporte Aéreo\",VLOOKUP(O1247,$O$4044:$P$4045,2),\"\"))))","v":""},null,null,null,null,null,null,null,null,null,null,null,null,null,null,null,"",""]
[null,null,null,null,null,null,"",null,{"$f":"IF(H1251=\"\",\"\",ROUND(H1251/SUM(H1250:H1257),4))","v":""},null,null,null,null,null,null,{"$f":"+IF(O1251=\"\",\"\",IF(N1250=\"Transporte Marítimo\",VLOOKUP(O1251,$O$4030:$P$4035,2),IF(N1250=\"Transporte Aéreo\",VLOOKUP(O1251,$O$4037:$P$4042,2),IF(N1250=\"Transporte Aéreo\",VLOOKUP(O1251,$O$4044:$P$4045,2),\"\"))))","v":""},null,null,null,null,null,null,null,null,null,null,null,null,null,null,null,{"$f":"+IF(AE1251=\"20NL\",1,IF(AE1251=\"40NL\",2,IF(AE1251=\"20RF\",3,IF(AE1251=\"40RF\",4,\"\"))))","v":""},""]
[null,null,null,null,null,null,"",null,{"$f":"IF(H1254=\"\",\"\",ROUND(H1254/SUM(H1250:H1257),4))","v":""},null,null,null,null,null,null,{"$f":"+IF(O1254=\"\",\"\",IF(N1250=\"Transporte Marítimo\",VLOOKUP(O1254,$O$4030:$P$4035,2),IF(N1250=\"Transporte Aéreo\",VLOOKUP(O1254,$O$4037:$P$4042,2),IF(N1250=\"Transporte Aéreo\",VLOOKUP(O1254,$O$4044:$P$4045,2),\"\"))))","v":""},null,null,null,null,null,null,null,null,null,null,null,null,null,null,null,"",""]
[null,null,null,null,null,null,"",null,{"$f":"IF(H1257=\"\",\"\",ROUND(H1257/SUM(H1250:H1257),4))","v":""},null,null,null,null,null,null,{"$f":"+IF(O1257=\"\",\"\",IF(N1250=\"Transporte Marítimo\",VLOOKUP(O1257,$O$4030:$P$4035,2),IF(N1250=\"Transporte Aéreo\",VLOOKUP(O1257,$O$4037:$P$4042,2),IF(N1250=\"Transporte Aéreo\",VLOOKUP(O1257,$O$4044:$P$4045,2),\"\"))))","v":""},null,null,null,null,null,null,null,null,null,null,null,null,null,null,null,"",""]
[null,null,null,null,null,null,"",null,{"$f":"IF(H1261=\"\",\"\",ROUND(H1261/SUM(H1258:H1265),4))","v":""},null,null,null,null,null,null,{"$f":"+IF(O1261=\"\",\"\",IF(N1258=\"Transporte Marítimo\",VLOOKUP(O1261,$O$4030:$P$4035,2),IF(N1258=\"Transporte Aéreo\",VLOOKUP(O1261,$O$4037:$P$4042,2),IF(N1258=\"Transporte Aéreo\",VLOOKUP(O1261,$O$4044:$P$4045,2),\"\"))))","v":""},null,null,null,null,null,null,null,null,null,null,null,null,null,null,null,"",""]
[null,null,null,null,null,null,"",null,{"$f":"IF(H1264=\"\",\"\",ROUND(H1264/SUM(H1258:H1265),4))","v":""},null,null,null,null,null,null,{"$f":"+IF(O1264=\"\",\"\",IF(N1258=\"Transporte Marítimo\",VLOOKUP(O1264,$O$4030:$P$4035,2),IF(N1258=\"Transporte Aéreo\",VLOOKUP(O1264,$O$4037:$P$4042,2),IF(N1258=\"Transporte Aéreo\",VLOOKUP(O1264,$O$4044:$P$4045,2),\"\"))))","v":""},null,null,null,null,null,null,null,null,null,null,null,null,null,null,null,"",""]
[null,{"$f":"+B1258+1","v":157},null,null,null,null,{"$f":"+IF(F1266=\"\",\"\",VLOOKUP(F1266,$F$4031:$G$4120,2))","v":""},null,{"$f":"IF(H1266=\"\",\"\",1-SUM(I1267:I1273))","v":""},null,null,null,null,null,null,{"$f":"+IF(O1266=\"\",\"\",IF(N1266=\"Transporte Marítimo\",VLOOKUP(O1266,$O$4030:$P$4035,2),IF(N1266=\"Transporte Aéreo\",VLOOKUP(O1266,$O$4037:$P$4042,2),IF(N1266=\"CTT\",VLOOKUP(O1266,$O$4044:$P$4045,2),\"\"))))","v":""},null,null,null,null,null,null,null,null,null,null,null,null,null,null,null,{"$f":"+IF(AE1266=\"20NL\",1,IF(AE1266=\"40NL\",2,IF(AE1266=\"20RF\",3,IF(AE1266=\"40RF\",4,\"\"))))","v":""},{"$f":"+IF(AF1266=\"\",\"\",VLOOKUP(AF1266,$AF$4031:$AG$4034,2))","v":""},null,null,null,null,null,null,null,null,null,null,null,null,null,null," "]
[null,null,null,null,null,null,"",null,{"$f":"IF(H1267=\"\",\"\",ROUND(H1267/SUM(H1266:H1273),4))","v":""},null,null,null,null,null,null,{"$f":"+IF(O1267=\"\",\"\",IF(N1266=\"Transporte Marítimo\",VLOOKUP(O1267,$O$4030:$P$4035,2),IF(N1266=\"Transporte Aéreo\",VLOOKUP(O1267,$O$4037:$P$4042,2),IF(N1266=\"Transporte Aéreo\",VLOOKUP(O1267,$O$4044:$P$4045,2),\"\"))))","v":""},null,null,null,null,null,null,null,null,null,null,null,null,null,null,null,{"$f":"+IF(AE1267=\"20NL\",1,IF(AE1267=\"40NL\",2,IF(AE1267=\"20RF\",3,IF(AE1267=\"40RF\",4,\"\"))))","v":""},""]
[null,null,null,null,null,null,"",null,{"$f":"IF(H1270=\"\",\"\",ROUND(H1270/SUM(H1266:H1273),4))","v":""},null,null,null,null,null,null,{"$f":"+IF(O1270=\"\",\"\",IF(N1266=\"Transporte Marítimo\",VLOOKUP(O1270,$O$4030:$P$4035,2),IF(N1266=\"Transporte Aéreo\",VLOOKUP(O1270,$O$4037:$P$4042,2),IF(N1266=\"Transporte Aéreo\",VLOOKUP(O1270,$O$4044:$P$4045,2),\"\"))))","v":""},null,null,null,null,null,null,null,null,null,null,null,null,null,null,null,"",""]
[null,{"$f":"+B1266+1","v":158},null,null,null,null,{"$f":"+IF(F1274=\"\",\"\",VLOOKUP(F1274,$F$4031:$G$4120,2))","v":""},null,{"$f":"IF(H1274=\"\",\"\",1-SUM(I1275:I1281))","v":""},null,null,null,null,null,null,{"$f":"+IF(O1274=\"\",\"\",IF(N1274=\"Transporte Marítimo\",VLOOKUP(O1274,$O$4030:$P$4035,2),IF(N1274=\"Transporte Aéreo\",VLOOKUP(O1274,$O$4037:$P$4042,2),IF(N1274=\"CTT\",VLOOKUP(O1274,$O$4044:$P$4045,2),\"\"))))","v":""},null,null,null,null,null,null,null,null,null,null,null,null,null,null,null,{"$f":"+IF(AE1274=\"20NL\",1,IF(AE1274=\"40NL\",2,IF(AE1274=\"20RF\",3,IF(AE1274=\"40RF\",4,\"\"))))","v":""},{"$f":"+IF(AF1274=\"\",\"\",VLOOKUP(AF1274,$AF$4031:$AG$4034,2))","v":""},null,null,null,null,null,null,null,null,null,null,null,null,null,null," "]
[null,null,null,null,null,null,"",null,{"$f":"IF(H1277=\"\",\"\",ROUND(H1277/SUM(H1274:H1281),4))","v":""},null,null,null,null,null,null,{"$f":"+IF(O1277=\"\",\"\",IF(N1274=\"Transporte Marítimo\",VLOOKUP(O1277,$O$4030:$P$4035,2),IF(N1274=\"Transporte Aéreo\",VLOOKUP(O1277,$O$4037:$P$4042,2),IF(N1274=\"Transporte Aéreo\",VLOOKUP(O1277,$O$4044:$P$4045,2),\"\"))))","v":""},null,null,null,null,null,null,null,null,null,null,null,null,null,null,null,"",""]
[null,null,null,null,null,null,"",null,{"$f":"IF(H1281=\"\",\"\",ROUND(H1281/SUM(H1274:H1281),4))","v":""},null,null,null,null,null,null,{"$f":"+IF(O1281=\"\",\"\",IF(N1274=\"Transporte Marítimo\",VLOOKUP(O1281,$O$4030:$P$4035,2),IF(N1274=\"Transporte Aéreo\",VLOOKUP(O1281,$O$4037:$P$4042,2),IF(N1274=\"Transporte Aéreo\",VLOOKUP(O1281,$O$4044:$P$4045,2),\"\"))))","v":""},null,null,null,null,null,null,null,null,null,null,null,null,null,null,null,"",""]
[null,null,null,null,null,null,"",null,{"$f":"IF(H1284=\"\",\"\",ROUND(H1284/SUM(H1282:H1289),4))","v":""},null,null,null,null,null,null,{"$f":"+IF(O1284=\"\",\"\",IF(N1282=\"Transporte Marítimo\",VLOOKUP(O1284,$O$4030:$P$4035,2),IF(N1282=\"Transporte Aéreo\",VLOOKUP(O1284,$O$4037:$P$4042,2),IF(N1282=\"Transporte Aéreo\",VLOOKUP(O1284,$O$4044:$P$4045,2),\"\"))))","v":""},null,null,null,null,null,null,null,null,null,null,null,null,null,null,null,"",""]
[null,null,null,null,null,null,"",null,{"$f":"IF(H1287=\"\",\"\",ROUND(H1287/SUM(H1282:H1289),4))","v":""},null,null,null,null,null,null,{"$f":"+IF(O1287=\"\",\"\",IF(N1282=\"Transporte Marítimo\",VLOOKUP(O1287,$O$4030:$P$4035,2),IF(N1282=\"Transporte Aéreo\",VLOOKUP(O1287,$O$4037:$P$4042,2),IF(N1282=\"Transporte Aéreo\",VLOOKUP(O1287,$O$4044:$P$4045,2),\"\"))))","v":""},null,null,null,null,null,null,null,null,null,null,null,null,null,null,null,"",""]
[null,null,null,null,null,null,"",null,{"$f":"IF(H1289=\"\",\"\",ROUND(H1289/SUM(H1282:H1289),4))","v":""},null,null,null,null,null,null,{"$f":"+IF(O1289=\"\",\"\",IF(N1282=\"Transporte Marítimo\",VLOOKUP(O1289,$O$4030:$P$4035,2),IF(N1282=\"Transporte Aéreo\",VLOOKUP(O1289,$O$4037:$P$4042,2),IF(N1282=\"Transporte Aéreo\",VLOOKUP(O1289,$O$4044:$P$4045,2),\"\"))))","v":""},null,null,null,null,null,null,null,null,null,null,null,null,null,null,null,"",""]
[null,{"$f":"+B1282+1","v":160},null,null,null,null,{"$f":"+IF(F1290=\"\",\"\",VLOOKUP(F1290,$F$4031:$G$4120,2))","v":""},null,{"$f":"IF(H1290=\"\",\"\",1-SUM(I1291:I1297))","v":""},null,null,null,null,null,null,{"$f":"+IF(O1290=\"\",\"\",IF(N1290=\"Transporte Marítimo\",VLOOKUP(O1290,$O$4030:$P$4035,2),IF(N1290=\"Transporte Aéreo\",VLOOKUP(O1290,$O$4037:$P$4042,2),IF(N1290=\"CTT\",VLOOKUP(O1290,$O$4044:$P$4045,2),\"\"))))","v":""},null,null,null,null,null,null,null,null,null,null,null,null,null,null,null,{"$f":"+IF(AE1290=\"20NL\",1,IF(AE1290=\"40NL\",2,IF(AE1290=\"20RF\",3,IF(AE1290=\"40RF\",4,\"\"))))","v":""},{"$f":"+IF(AF1290=\"\",\"\",VLOOKUP(AF1290,$AF$4031:$AG$4034,2))","v":""},null,null,null,null,null,null,null,null,null,null,null,null,null,null," "]
[null,null,null,null,null,null,"",null,{"$f":"IF(H1293=\"\",\"\",ROUND(H1293/SUM(H1290:H1297),4))","v":""},null,null,null,null,null,null,{"$f":"+IF(O1293=\"\",\"\",IF(N1290=\"Transporte Marítimo\",VLOOKUP(O1293,$O$4030:$P$4035,2),IF(N1290=\"Transporte Aéreo\",VLOOKUP(O1293,$O$4037:$P$4042,2),IF(N1290=\"Transporte Aéreo\",VLOOKUP(O1293,$O$4044:$P$4045,2),\"\"))))","v":""},null,null,null,null,null,null,null,null,null,null,null,null,null,null,null,"",""]
[null,null,null,null,null,null,{"$f":"+IF(F1297=\"\",\"\",VLOOKUP(F1297,$F$4031:$G$4120,2))","v":""},null,{"$f":"IF(H1297=\"\",\"\",ROUND(H1297/SUM(H1290:H1297),4))","v":""},null,null,null,null,null,null,{"$f":"+IF(O1297=\"\",\"\",IF(N1290=\"Transporte Marítimo\",VLOOKUP(O1297,$O$4030:$P$4035,2),IF(N1290=\"Transporte Aéreo\",VLOOKUP(O1297,$O$4037:$P$4042,2),IF(N1290=\"Transporte Aéreo\",VLOOKUP(O1297,$O$4044:$P$4045,2),\"\"))))","v":""},null,null,null,null,null,null,null,null,null,null,null,null,null,null,null,"",""]
[null,null,null,null,null,null,"",null,{"$f":"IF(H1300=\"\",\"\",ROUND(H1300/SUM(H1298:H1305),4))","v":""},null,null,null,null,null,null,{"$f":"+IF(O1300=\"\",\"\",IF(N1298=\"Transporte Marítimo\",VLOOKUP(O1300,$O$4030:$P$4035,2),IF(N1298=\"Transporte Aéreo\",VLOOKUP(O1300,$O$4037:$P$4042,2),IF(N1298=\"Transporte Aéreo\",VLOOKUP(O1300,$O$4044:$P$4045,2),\"\"))))","v":""},null,null,null,null,null,null,null,null,null,null,null,null,null,null,null,"",""]
[null,null,null,null,null,null,"",null,{"$f":"IF(H1304=\"\",\"\",ROUND(H1304/SUM(H1298:H1305),4))","v":""},null,null,null,null,null,null,{"$f":"+IF(O1304=\"\",\"\",IF(N1298=\"Transporte Marítimo\",VLOOKUP(O1304,$O$4030:$P$4035,2),IF(N1298=\"Transporte Aéreo\",VLOOKUP(O1304,$O$4037:$P$4042,2),IF(N1298=\"Transporte Aéreo\",VLOOKUP(O1304,$O$4044:$P$4045,2),\"\"))))","v":""},null,null,null,null,null,null,null,null,null,null,null,null,null,null,null,"",""]
[null,null,null,null,null,null,"",null,{"$f":"IF(H1307=\"\",\"\",ROUND(H1307/SUM(H1306:H1313),4))","v":""},null,null,null,null,null,null,{"$f":"+IF(O1307=\"\",\"\",IF(N1306=\"Transporte Marítimo\",VLOOKUP(O1307,$O$4030:$P$4035,2),IF(N1306=\"Transporte Aéreo\",VLOOKUP(O1307,$O$4037:$P$4042,2),IF(N1306=\"Transporte Aéreo\",VLOOKUP(O1307,$O$4044:$P$4045,2),\"\"))))","v":""},null,null,null,null,null,null,null,null,null,null,null,null,null,null,null,{"$f":"+IF(AE1307=\"20NL\",1,IF(AE1307=\"40NL\",2,IF(AE1307=\"20RF\",3,IF(AE1307=\"40RF\",4,\"\"))))","v":""},""]
[null,null,null,null,null,null,"",null,{"$f":"IF(H1308=\"\",\"\",ROUND(H1308/SUM(H1306:H1313),4))","v":""},null,null,null,null,null,null,{"$f":"+IF(O1308=\"\",\"\",IF(N1306=\"Transporte Marítimo\",VLOOKUP(O1308,$O$4030:$P$4035,2),IF(N1306=\"Transporte Aéreo\",VLOOKUP(O1308,$O$4037:$P$4042,2),IF(N1306=\"Transporte Aéreo\",VLOOKUP(O1308,$O$4044:$P$4045,2),\"\"))))","v":""},null,null,null,null,null,null,null,null,null,null,null,null,null,null,null,"",""]
[null,null,null,null,null,null,"",null,{"$f":"IF(H1310=\"\",\"\",ROUND(H1310/SUM(H1306:H1313),4))","v":""},null,null,null,null,null,null,{"$f":"+IF(O1310=\"\",\"\",IF(N1306=\"Transporte Marítimo\",VLOOKUP(O1310,$O$4030:$P$4035,2),IF(N1306=\"Transporte Aéreo\",VLOOKUP(O1310,$O$4037:$P$4042,2),IF(N1306=\"Transporte Aéreo\",VLOOKUP(O1310,$O$4044:$P$4045,2),\"\"))))","v":""},null,null,null,null,null,null,null,null,null,null,null,null,null,null,null,"",""]
[null,null,null,null,null,null,"",null,{"$f":"IF(H1313=\"\",\"\",ROUND(H1313/SUM(H1306:H1313),4))","v":""},null,null,null,null,null,null,{"$f":"+IF(O1313=\"\",\"\",IF(N1306=\"Transporte Marítimo\",VLOOKUP(O1313,$O$4030:$P$4035,2),IF(N1306=\"Transporte Aéreo\",VLOOKUP(O1313,$O$4037:$P$4042,2),IF(N1306=\"Transporte Aéreo\",VLOOKUP(O1313,$O$4044:$P$4045,2),\"\"))))","v":""},null,null,null,null,null,null,null,null,null,null,null,null,null,null,null,"",""]
[null,null,null,null,null,null,"",null,{"$f":"IF(H1317=\"\",\"\",ROUND(H1317/SUM(H1314:H1321),4))","v":""},null,null,null,null,null,null,{"$f":"+IF(O1317=\"\",\"\",IF(N1314=\"Transporte Marítimo\",VLOOKUP(O1317,$O$4030:$P$4035,2),IF(N1314=\"Transporte Aéreo\",VLOOKUP(O1317,$O$4037:$P$4042,2),IF(N1314=\"Transporte Aéreo\",VLOOKUP(O1317,$O$4044:$P$4045,2),\"\"))))","v":""},null,null,null,null,null,null,null,null,null,null,null,null,null,null,null,"",""]
[null,null,null,null,null,null,"",null,{"$f":"IF(H1320=\"\",\"\",ROUND(H1320/SUM(H1314:H1321),4))","v":""},null,null,null,null,null,null,{"$f":"+IF(O1320=\"\",\"\",IF(N1314=\"Transporte Marítimo\",VLOOKUP(O1320,$O$4030:$P$4035,2),IF(N1314=\"Transporte Aéreo\",VLOOKUP(O1320,$O$4037:$P$4042,2),IF(N1314=\"Transporte Aéreo\",VLOOKUP(O1320,$O$4044:$P$4045,2),\"\"))))","v":""},null,null,null,null,null,null,null,null,null,null,null,null,null,null,null,"",""]
[null,null,null,null,null,null,"",null,{"$f":"IF(H1323=\"\",\"\",ROUND(H1323/SUM(H1322:H1329),4))","v":""},null,null,null,null,null,null,{"$f":"+IF(O1323=\"\",\"\",IF(N1322=\"Transporte Marítimo\",VLOOKUP(O1323,$O$4030:$P$4035,2),IF(N1322=\"Transporte Aéreo\",VLOOKUP(O1323,$O$4037:$P$4042,2),IF(N1322=\"Transporte Aéreo\",VLOOKUP(O1323,$O$4044:$P$4045,2),\"\"))))","v":""},null,null,null,null,null,null,null,null,null,null,null,null,null,null,null,{"$f":"+IF(AE1323=\"20NL\",1,IF(AE1323=\"40NL\",2,IF(AE1323=\"20RF\",3,IF(AE1323=\"40RF\",4,\"\"))))","v":""},""]
[null,null,null,null,null,null,"",null,{"$f":"IF(H1327=\"\",\"\",ROUND(H1327/SUM(H1322:H1329),4))","v":""},null,null,null,null,null,null,{"$f":"+IF(O1327=\"\",\"\",IF(N1322=\"Transporte Marítimo\",VLOOKUP(O1327,$O$4030:$P$4035,2),IF(N1322=\"Transporte Aéreo\",VLOOKUP(O1327,$O$4037:$P$4042,2),IF(N1322=\"Transporte Aéreo\",VLOOKUP(O1327,$O$4044:$P$4045,2),\"\"))))","v":""},null,null,null,null,null,null,null,null,null,null,null,null,null,null,null,"",""]
[null,{"$f":"+B1322+1","v":165},null,null,null,null,{"$f":"+IF(F1330=\"\",\"\",VLOOKUP(F1330,$F$4031:$G$4120,2))","v":""},null,{"$f":"IF(H1330=\"\",\"\",1-SUM(I1331:I1337))","v":""},null,null,null,null,null,null,{"$f":"+IF(O1330=\"\",\"\",IF(N1330=\"Transporte Marítimo\",VLOOKUP(O1330,$O$4030:$P$4035,2),IF(N1330=\"Transporte Aéreo\",VLOOKUP(O1330,$O$4037:$P$4042,2),IF(N1330=\"CTT\",VLOOKUP(O1330,$O$4044:$P$4045,2),\"\"))))","v":""},null,null,null,null,null,null,null,null,null,null,null,null,null,null,null,{"$f":"+IF(AE1330=\"20NL\",1,IF(AE1330=\"40NL\",2,IF(AE1330=\"20RF\",3,IF(AE1330=\"40RF\",4,\"\"))))","v":""},{"$f":"+IF(AF1330=\"\",\"\",VLOOKUP(AF1330,$AF$4031:$AG$4034,2))","v":""},null,null,null,null,null,null,null,null,null,null,null,null,null,null," "]
[null,null,null,null,null,null,"",null,{"$f":"IF(H1331=\"\",\"\",ROUND(H1331/SUM(H1330:H1337),4))","v":""},null,null,null,null,null,null,{"$f":"+IF(O1331=\"\",\"\",IF(N1330=\"Transporte Marítimo\",VLOOKUP(O1331,$O$4030:$P$4035,2),IF(N1330=\"Transporte Aéreo\",VLOOKUP(O1331,$O$4037:$P$4042,2),IF(N1330=\"Transporte Aéreo\",VLOOKUP(O1331,$O$4044:$P$4045,2),\"\"))))","v":""},null,null,null,null,null,null,null,null,null,null,null,null,null,null,null,{"$f":"+IF(AE1331=\"20NL\",1,IF(AE1331=\"40NL\",2,IF(AE1331=\"20RF\",3,IF(AE1331=\"40RF\",4,\"\"))))","v":""},""]
[null,null,null,null,null,null,"",null,{"$f":"IF(H1333=\"\",\"\",ROUND(H1333/SUM(H1330:H1337),4))","v":""},null,null,null,null,null,null,{"$f":"+IF(O1333=\"\",\"\",IF(N1330=\"Transporte Marítimo\",VLOOKUP(O1333,$O$4030:$P$4035,2),IF(N1330=\"Transporte Aéreo\",VLOOKUP(O1333,$O$4037:$P$4042,2),IF(N1330=\"Transporte Aéreo\",VLOOKUP(O1333,$O$4044:$P$4045,2),\"\"))))","v":""},null,null,null,null,null,null,null,null,null,null,null,null,null,null,null,"",""]
[null,null,null,null,null,null,"",null,{"$f":"IF(H1336=\"\",\"\",ROUND(H1336/SUM(H1330:H1337),4))","v":""},null,null,null,null,null,null,{"$f":"+IF(O1336=\"\",\"\",IF(N1330=\"Transporte Marítimo\",VLOOKUP(O1336,$O$4030:$P$4035,2),IF(N1330=\"Transporte Aéreo\",VLOOKUP(O1336,$O$4037:$P$4042,2),IF(N1330=\"Transporte Aéreo\",VLOOKUP(O1336,$O$4044:$P$4045,2),\"\"))))","v":""},null,null,null,null,null,null,null,null,null,null,null,null,null,null,null,"",""]
[null,null,null,null,null,null,"",null,{"$f":"IF(H1340=\"\",\"\",ROUND(H1340/SUM(H1338:H1345),4))","v":""},null,null,null,null,null,null,{"$f":"+IF(O1340=\"\",\"\",IF(N1338=\"Transporte Marítimo\",VLOOKUP(O1340,$O$4030:$P$4035,2),IF(N1338=\"Transporte Aéreo\",VLOOKUP(O1340,$O$4037:$P$4042,2),IF(N1338=\"Transporte Aéreo\",VLOOKUP(O1340,$O$4044:$P$4045,2),\"\"))))","v":""},null,null,null,null,null,null,null,null,null,null,null,null,null,null,null,"",""]
[null,null,null,null,null,null,"",null,{"$f":"IF(H1343=\"\",\"\",ROUND(H1343/SUM(H1338:H1345),4))","v":""},null,null,null,null,null,null,{"$f":"+IF(O1343=\"\",\"\",IF(N1338=\"Transporte Marítimo\",VLOOKUP(O1343,$O$4030:$P$4035,2),IF(N1338=\"Transporte Aéreo\",VLOOKUP(O1343,$O$4037:$P$4042,2),IF(N1338=\"Transporte Aéreo\",VLOOKUP(O1343,$O$4044:$P$4045,2),\"\"))))","v":""},null,null,null,null,null,null,null,null,null,null,null,null,null,null,null,"",""]
[null,{"$f":"+B1338+1","v":167},null,null,null,null,{"$f":"+IF(F1346=\"\",\"\",VLOOKUP(F1346,$F$4031:$G$4120,2))","v":""},null,{"$f":"IF(H1346=\"\",\"\",1-SUM(I1347:I1353))","v":""},null,null,null,null,null,null,{"$f":"+IF(O1346=\"\",\"\",IF(N1346=\"Transporte Marítimo\",VLOOKUP(O1346,$O$4030:$P$4035,2),IF(N1346=\"Transporte Aéreo\",VLOOKUP(O1346,$O$4037:$P$4042,2),IF(N1346=\"CTT\",VLOOKUP(O1346,$O$4044:$P$4045,2),\"\"))))","v":""},null,null,null,null,null,null,null,null,null,null,null,null,null,null,null,{"$f":"+IF(AE1346=\"20NL\",1,IF(AE1346=\"40NL\",2,IF(AE1346=\"20RF\",3,IF(AE1346=\"40RF\",4,\"\"))))","v":""},{"$f":"+IF(AF1346=\"\",\"\",VLOOKUP(AF1346,$AF$4031:$AG$4034,2))","v":""},null,null,null,null,null,null,null,null,null,null,null,null,null,null," "]
[null,null,null,null,null,null,"",null,{"$f":"IF(H1350=\"\",\"\",ROUND(H1350/SUM(H1346:H1353),4))","v":""},null,null,null,null,null,null,{"$f":"+IF(O1350=\"\",\"\",IF(N1346=\"Transporte Marítimo\",VLOOKUP(O1350,$O$4030:$P$4035,2),IF(N1346=\"Transporte Aéreo\",VLOOKUP(O1350,$O$4037:$P$4042,2),IF(N1346=\"Transporte Aéreo\",VLOOKUP(O1350,$O$4044:$P$4045,2),\"\"))))","v":""},null,null,null,null,null,null,null,null,null,null,null,null,null,null,null,"",""]
[null,null,null,null,null,null,"",null,{"$f":"IF(H1353=\"\",\"\",ROUND(H1353/SUM(H1346:H1353),4))","v":""},null,null,null,null,null,null,{"$f":"+IF(O1353=\"\",\"\",IF(N1346=\"Transporte Marítimo\",VLOOKUP(O1353,$O$4030:$P$4035,2),IF(N1346=\"Transporte Aéreo\",VLOOKUP(O1353,$O$4037:$P$4042,2),IF(N1346=\"Transporte Aéreo\",VLOOKUP(O1353,$O$4044:$P$4045,2),\"\"))))","v":""},null,null,null,null,null,null,null,null,null,null,null,null,null,null,null,"",""]
[null,{"$f":"+B1346+1","v":168},null,null,null,null,{"$f":"+IF(F1354=\"\",\"\",VLOOKUP(F1354,$F$4031:$G$4120,2))","v":""},null,{"$f":"IF(H1354=\"\",\"\",1-SUM(I1355:I1361))","v":""},null,null,null,null,null,null,{"$f":"+IF(O1354=\"\",\"\",IF(N1354=\"Transporte Marítimo\",VLOOKUP(O1354,$O$4030:$P$4035,2),IF(N1354=\"Transporte Aéreo\",VLOOKUP(O1354,$O$4037:$P$4042,2),IF(N1354=\"CTT\",VLOOKUP(O1354,$O$4044:$P$4045,2),\"\"))))","v":""},null,null,null,null,null,null,null,null,null,null,null,null,null,null,null,{"$f":"+IF(AE1354=\"20NL\",1,IF(AE1354=\"40NL\",2,IF(AE1354=\"20RF\",3,IF(AE1354=\"40RF\",4,\"\"))))","v":""},{"$f":"+IF(AF1354=\"\",\"\",VLOOKUP(AF1354,$AF$4031:$AG$4034,2))","v":""},null,null,null,null,null,null,null,null,null,null,null,null,null,null," "]
[null,null,null,null,null,null,"",null,{"$f":"IF(H1356=\"\",\"\",ROUND(H1356/SUM(H1354:H1361),4))","v":""},null,null,null,null,null,null,{"$f":"+IF(O1356=\"\",\"\",IF(N1354=\"Transporte Marítimo\",VLOOKUP(O1356,$O$4030:$P$4035,2),IF(N1354=\"Transporte Aéreo\",VLOOKUP(O1356,$O$4037:$P$4042,2),IF(N1354=\"Transporte Aéreo\",VLOOKUP(O1356,$O$4044:$P$4045,2),\"\"))))","v":""},null,null,null,null,null,null,null,null,null,null,null,null,null,null,null,"",""]
[null,null,null,null,null,null,"",null,{"$f":"IF(H1359=\"\",\"\",ROUND(H1359/SUM(H1354:H1361),4))","v":""},null,null,null,null,null,null,{"$f":"+IF(O1359=\"\",\"\",IF(N1354=\"Transporte Marítimo\",VLOOKUP(O1359,$O$4030:$P$4035,2),IF(N1354=\"Transporte Aéreo\",VLOOKUP(O1359,$O$4037:$P$4042,2),IF(N1354=\"Transporte Aéreo\",VLOOKUP(O1359,$O$4044:$P$4045,2),\"\"))))","v":""},null,null,null,null,null,null,null,null,null,null,null,null,null,null,null,"",""]
[null,null,null,null,null,null,{"$f":"+IF(F1363=\"\",\"\",VLOOKUP(F1363,$F$4031:$G$4120,2))","v":""},null,{"$f":"IF(H1363=\"\",\"\",ROUND(H1363/SUM(H1362:H1369),4))","v":""},null,null,null,null,null,null,{"$f":"+IF(O1363=\"\",\"\",IF(N1362=\"Transporte Marítimo\",VLOOKUP(O1363,$O$4030:$P$4035,2),IF(N1362=\"Transporte Aéreo\",VLOOKUP(O1363,$O$4037:$P$4042,2),IF(N1362=\"Transporte Aéreo\",VLOOKUP(O1363,$O$4044:$P$4045,2),\"\"))))","v":""},null,null,null,null,null,null,null,null,null,null,null,null,null,null,null,{"$f":"+IF(AE1363=\"20NL\",1,IF(AE1363=\"40NL\",2,IF(AE1363=\"20RF\",3,IF(AE1363=\"40RF\",4,\"\"))))","v":""},{"$f":"+IF(AF1363=\"\",\"\",VLOOKUP(AF1363,$AF$4031:$AG$4034,2))","v":""}]
[null,null,null,null,null,null,"",null,{"$f":"IF(H1366=\"\",\"\",ROUND(H1366/SUM(H1362:H1369),4))","v":""},null,null,null,null,null,null,{"$f":"+IF(O1366=\"\",\"\",IF(N1362=\"Transporte Marítimo\",VLOOKUP(O1366,$O$4030:$P$4035,2),IF(N1362=\"Transporte Aéreo\",VLOOKUP(O1366,$O$4037:$P$4042,2),IF(N1362=\"Transporte Aéreo\",VLOOKUP(O1366,$O$4044:$P$4045,2),\"\"))))","v":""},null,null,null,null,null,null,null,null,null,null,null,null,null,null,null,"",""]
[null,null,null,null,null,null,"",null,{"$f":"IF(H1369=\"\",\"\",ROUND(H1369/SUM(H1362:H1369),4))","v":""},null,null,null,null,null,null,{"$f":"+IF(O1369=\"\",\"\",IF(N1362=\"Transporte Marítimo\",VLOOKUP(O1369,$O$4030:$P$4035,2),IF(N1362=\"Transporte Aéreo\",VLOOKUP(O1369,$O$4037:$P$4042,2),IF(N1362=\"Transporte Aéreo\",VLOOKUP(O1369,$O$4044:$P$4045,2),\"\"))))","v":""},null,null,null,null,null,null,null,null,null,null,null,null,null,null,null,"",""]
[null,null,null,null,null,null,"",null,{"$f":"IF(H1373=\"\",\"\",ROUND(H1373/SUM(H1370:H1377),4))","v":""},null,null,null,null,null,null,{"$f":"+IF(O1373=\"\",\"\",IF(N1370=\"Transporte Marítimo\",VLOOKUP(O1373,$O$4030:$P$4035,2),IF(N1370=\"Transporte Aéreo\",VLOOKUP(O1373,$O$4037:$P$4042,2),IF(N1370=\"Transporte Aéreo\",VLOOKUP(O1373,$O$4044:$P$4045,2),\"\"))))","v":""},null,null,null,null,null,null,null,null,null,null,null,null,null,null,null,"",""]
[null,null,null,null,null,null,"",null,{"$f":"IF(H1375=\"\",\"\",ROUND(H1375/SUM(H1370:H1377),4))","v":""},null,null,null,null,null,null,{"$f":"+IF(O1375=\"\",\"\",IF(N1370=\"Transporte Marítimo\",VLOOKUP(O1375,$O$4030:$P$4035,2),IF(N1370=\"Transporte Aéreo\",VLOOKUP(O1375,$O$4037:$P$4042,2),IF(N1370=\"Transporte Aéreo\",VLOOKUP(O1375,$O$4044:$P$4045,2),\"\"))))","v":""},null,null,null,null,null,null,null,null,null,null,null,null,null,null,null,"",""]
[null,null,null,null,null,null,"",null,{"$f":"IF(H1376=\"\",\"\",ROUND(H1376/SUM(H1370:H1377),4))","v":""},null,null,null,null,null,null,{"$f":"+IF(O1376=\"\",\"\",IF(N1370=\"Transporte Marítimo\",VLOOKUP(O1376,$O$4030:$P$4035,2),IF(N1370=\"Transporte Aéreo\",VLOOKUP(O1376,$O$4037:$P$4042,2),IF(N1370=\"Transporte Aéreo\",VLOOKUP(O1376,$O$4044:$P$4045,2),\"\"))))","v":""},null,null,null,null,null,null,null,null,null,null,null,null,null,null,null,"",""]
[null,null,null,null,null,null,{"$f":"+IF(F1379=\"\",\"\",VLOOKUP(F1379,$F$4031:$G$4120,2))","v":""},null,{"$f":"IF(H1379=\"\",\"\",ROUND(H1379/SUM(H1378:H1385),4))","v":""},null,null,null,null,null,null,{"$f":"+IF(O1379=\"\",\"\",IF(N1378=\"Transporte Marítimo\",VLOOKUP(O1379,$O$4030:$P$4035,2),IF(N1378=\"Transporte Aéreo\",VLOOKUP(O1379,$O$4037:$P$4042,2),IF(N1378=\"Transporte Aéreo\",VLOOKUP(O1379,$O$4044:$P$4045,2),\"\"))))","v":""},null,null,null,null,null,null,null,null,null,null,null,null,null,null,null,{"$f":"+IF(AE1379=\"20NL\",1,IF(AE1379=\"40NL\",2,IF(AE1379=\"20RF\",3,IF(AE1379=\"40RF\",4,\"\"))))","v":""},{"$f":"+IF(AF1379=\"\",\"\",VLOOKUP(AF1379,$AF$4031:$AG$4034,2))","v":""}]
[null,null,null,null,null,null,"",null,{"$f":"IF(H1382=\"\",\"\",ROUND(H1382/SUM(H1378:H1385),4))","v":""},null,null,null,null,null,null,{"$f":"+IF(O1382=\"\",\"\",IF(N1378=\"Transporte Marítimo\",VLOOKUP(O1382,$O$4030:$P$4035,2),IF(N1378=\"Transporte Aéreo\",VLOOKUP(O1382,$O$4037:$P$4042,2),IF(N1378=\"Transporte Aéreo\",VLOOKUP(O1382,$O$4044:$P$4045,2),\"\"))))","v":""},null,null,null,null,null,null,null,null,null,null,null,null,null,null,null,"",""]
[null,{"$f":"+B1378+1","v":172},null,null,null,null,{"$f":"+IF(F1386=\"\",\"\",VLOOKUP(F1386,$F$4031:$G$4120,2))","v":""},null,{"$f":"IF(H1386=\"\",\"\",1-SUM(I1387:I1393))","v":""},null,null,null,null,null,null,{"$f":"+IF(O1386=\"\",\"\",IF(N1386=\"Transporte Marítimo\",VLOOKUP(O1386,$O$4030:$P$4035,2),IF(N1386=\"Transporte Aéreo\",VLOOKUP(O1386,$O$4037:$P$4042,2),IF(N1386=\"CTT\",VLOOKUP(O1386,$O$4044:$P$4045,2),\"\"))))","v":""},null,null,null,null,null,null,null,null,null,null,null,null,null,null,null,{"$f":"+IF(AE1386=\"20NL\",1,IF(AE1386=\"40NL\",2,IF(AE1386=\"20RF\",3,IF(AE1386=\"40RF\",4,\"\"))))","v":""},{"$f":"+IF(AF1386=\"\",\"\",VLOOKUP(AF1386,$AF$4031:$AG$4034,2))","v":""},null,null,null,null,null,null,null,null,null,null,null,null,null,null," "]
[null,null,null,null,null,null,"",null,{"$f":"IF(H1389=\"\",\"\",ROUND(H1389/SUM(H1386:H1393),4))","v":""},null,null,null,null,null,null,{"$f":"+IF(O1389=\"\",\"\",IF(N1386=\"Transporte Marítimo\",VLOOKUP(O1389,$O$4030:$P$4035,2),IF(N1386=\"Transporte Aéreo\",VLOOKUP(O1389,$O$4037:$P$4042,2),IF(N1386=\"Transporte Aéreo\",VLOOKUP(O1389,$O$4044:$P$4045,2),\"\"))))","v":""},null,null,null,null,null,null,null,null,null,null,null,null,null,null,null,"",""]
[null,null,null,null,null,null,"",null,{"$f":"IF(H1392=\"\",\"\",ROUND(H1392/SUM(H1386:H1393),4))","v":""},null,null,null,null,null,null,{"$f":"+IF(O1392=\"\",\"\",IF(N1386=\"Transporte Marítimo\",VLOOKUP(O1392,$O$4030:$P$4035,2),IF(N1386=\"Transporte Aéreo\",VLOOKUP(O1392,$O$4037:$P$4042,2),IF(N1386=\"Transporte Aéreo\",VLOOKUP(O1392,$O$4044:$P$4045,2),\"\"))))","v":""},null,null,null,null,null,null,null,null,null,null,null,null,null,null,null,"",""]
[null,null,null,null,null,null,"",null,{"$f":"IF(H1396=\"\",\"\",ROUND(H1396/SUM(H1394:H1401),4))","v":""},null,null,null,null,null,null,{"$f":"+IF(O1396=\"\",\"\",IF(N1394=\"Transporte Marítimo\",VLOOKUP(O1396,$O$4030:$P$4035,2),IF(N1394=\"Transporte Aéreo\",VLOOKUP(O1396,$O$4037:$P$4042,2),IF(N1394=\"Transporte Aéreo\",VLOOKUP(O1396,$O$4044:$P$4045,2),\"\"))))","v":""},null,null,null,null,null,null,null,null,null,null,null,null,null,null,null,"",""]
[null,null,null,null,null,null,"",null,{"$f":"IF(H1398=\"\",\"\",ROUND(H1398/SUM(H1394:H1401),4))","v":""},null,null,null,null,null,null,{"$f":"+IF(O1398=\"\",\"\",IF(N1394=\"Transporte Marítimo\",VLOOKUP(O1398,$O$4030:$P$4035,2),IF(N1394=\"Transporte Aéreo\",VLOOKUP(O1398,$O$4037:$P$4042,2),IF(N1394=\"Transporte Aéreo\",VLOOKUP(O1398,$O$4044:$P$4045,2),\"\"))))","v":""},null,null,null,null,null,null,null,null,null,null,null,null,null,null,null,"",""]
[null,null,null,null,null,null,"",null,{"$f":"IF(H1399=\"\",\"\",ROUND(H1399/SUM(H1394:H1401),4))","v":""},null,null,null,null,null,null,{"$f":"+IF(O1399=\"\",\"\",IF(N1394=\"Transporte Marítimo\",VLOOKUP(O1399,$O$4030:$P$4035,2),IF(N1394=\"Transporte Aéreo\",VLOOKUP(O1399,$O$4037:$P$4042,2),IF(N1394=\"Transporte Aéreo\",VLOOKUP(O1399,$O$4044:$P$4045,2),\"\"))))","v":""},null,null,null,null,null,null,null,null,null,null,null,null,null,null,null,"",""]
[null,{"$f":"+B1394+1","v":174},null,null,null,null,{"$f":"+IF(F1402=\"\",\"\",VLOOKUP(F1402,$F$4031:$G$4120,2))","v":""},null,{"$f":"IF(H1402=\"\",\"\",1-SUM(I1403:I1409))","v":""},null,null,null,null,null,null,{"$f":"+IF(O1402=\"\",\"\",IF(N1402=\"Transporte Marítimo\",VLOOKUP(O1402,$O$4030:$P$4035,2),IF(N1402=\"Transporte Aéreo\",VLOOKUP(O1402,$O$4037:$P$4042,2),IF(N1402=\"CTT\",VLOOKUP(O1402,$O$4044:$P$4045,2),\"\"))))","v":""},null,null,null,null,null,null,null,null,null,null,null,null,null,null,null,{"$f":"+IF(AE1402=\"20NL\",1,IF(AE1402=\"40NL\",2,IF(AE1402=\"20RF\",3,IF(AE1402=\"40RF\",4,\"\"))))","v":""},{"$f":"+IF(AF1402=\"\",\"\",VLOOKUP(AF1402,$AF$4031:$AG$4034,2))","v":""},null,null,null,null,null,null,null,null,null,null,null,null,null,null," "]
[null,null,null,null,null,null,"",null,{"$f":"IF(H1405=\"\",\"\",ROUND(H1405/SUM(H1402:H1409),4))","v":""},null,null,null,null,null,null,{"$f":"+IF(O1405=\"\",\"\",IF(N1402=\"Transporte Marítimo\",VLOOKUP(O1405,$O$4030:$P$4035,2),IF(N1402=\"Transporte Aéreo\",VLOOKUP(O1405,$O$4037:$P$4042,2),IF(N1402=\"Transporte Aéreo\",VLOOKUP(O1405,$O$4044:$P$4045,2),\"\"))))","v":""},null,null,null,null,null,null,null,null,null,null,null,null,null,null,null,"",""]
[null,null,null,null,null,null,"",null,{"$f":"IF(H1409=\"\",\"\",ROUND(H1409/SUM(H1402:H1409),4))","v":""},null,null,null,null,null,null,{"$f":"+IF(O1409=\"\",\"\",IF(N1402=\"Transporte Marítimo\",VLOOKUP(O1409,$O$4030:$P$4035,2),IF(N1402=\"Transporte Aéreo\",VLOOKUP(O1409,$O$4037:$P$4042,2),IF(N1402=\"Transporte Aéreo\",VLOOKUP(O1409,$O$4044:$P$4045,2),\"\"))))","v":""},null,null,null,null,null,null,null,null,null,null,null,null,null,null,null,"",""]
[null,null,null,null,null,null,"",null,{"$f":"IF(H1412=\"\",\"\",ROUND(H1412/SUM(H1410:H1417),4))","v":""},null,null,null,null,null,null,{"$f":"+IF(O1412=\"\",\"\",IF(N1410=\"Transporte Marítimo\",VLOOKUP(O1412,$O$4030:$P$4035,2),IF(N1410=\"Transporte Aéreo\",VLOOKUP(O1412,$O$4037:$P$4042,2),IF(N1410=\"Transporte Aéreo\",VLOOKUP(O1412,$O$4044:$P$4045,2),\"\"))))","v":""},null,null,null,null,null,null,null,null,null,null,null,null,null,null,null,"",""]
[null,null,null,null,null,null,"",null,{"$f":"IF(H1416=\"\",\"\",ROUND(H1416/SUM(H1410:H1417),4))","v":""},null,null,null,null,null,null,{"$f":"+IF(O1416=\"\",\"\",IF(N1410=\"Transporte Marítimo\",VLOOKUP(O1416,$O$4030:$P$4035,2),IF(N1410=\"Transporte Aéreo\",VLOOKUP(O1416,$O$4037:$P$4042,2),IF(N1410=\"Transporte Aéreo\",VLOOKUP(O1416,$O$4044:$P$4045,2),\"\"))))","v":""},null,null,null,null,null,null,null,null,null,null,null,null,null,null,null,"",""]
[null,null,null,null,null,null,"",null,{"$f":"IF(H1419=\"\",\"\",ROUND(H1419/SUM(H1418:H1425),4))","v":""},null,null,null,null,null,null,{"$f":"+IF(O1419=\"\",\"\",IF(N1418=\"Transporte Marítimo\",VLOOKUP(O1419,$O$4030:$P$4035,2),IF(N1418=\"Transporte Aéreo\",VLOOKUP(O1419,$O$4037:$P$4042,2),IF(N1418=\"Transporte Aéreo\",VLOOKUP(O1419,$O$4044:$P$4045,2),\"\"))))","v":""},null,null,null,null,null,null,null,null,null,null,null,null,null,null,null,{"$f":"+IF(AE1419=\"20NL\",1,IF(AE1419=\"40NL\",2,IF(AE1419=\"20RF\",3,IF(AE1419=\"40RF\",4,\"\"))))","v":""},""]
[null,null,null,null,null,null,"",null,{"$f":"IF(H1421=\"\",\"\",ROUND(H1421/SUM(H1418:H1425),4))","v":""},null,null,null,null,null,null,{"$f":"+IF(O1421=\"\",\"\",IF(N1418=\"Transporte Marítimo\",VLOOKUP(O1421,$O$4030:$P$4035,2),IF(N1418=\"Transporte Aéreo\",VLOOKUP(O1421,$O$4037:$P$4042,2),IF(N1418=\"Transporte Aéreo\",VLOOKUP(O1421,$O$4044:$P$4045,2),\"\"))))","v":""},null,null,null,null,null,null,null,null,null,null,null,null,null,null,null,"",""]
[null,null,null,null,null,null,"",null,{"$f":"IF(H1422=\"\",\"\",ROUND(H1422/SUM(H1418:H1425),4))","v":""},null,null,null,null,null,null,{"$f":"+IF(O1422=\"\",\"\",IF(N1418=\"Transporte Marítimo\",VLOOKUP(O1422,$O$4030:$P$4035,2),IF(N1418=\"Transporte Aéreo\",VLOOKUP(O1422,$O$4037:$P$4042,2),IF(N1418=\"Transporte Aéreo\",VLOOKUP(O1422,$O$4044:$P$4045,2),\"\"))))","v":""},null,null,null,null,null,null,null,null,null,null,null,null,null,null,null,"",""]
[null,null,null,null,null,null,"",null,{"$f":"IF(H1425=\"\",\"\",ROUND(H1425/SUM(H1418:H1425),4))","v":""},null,null,null,null,null,null,{"$f":"+IF(O1425=\"\",\"\",IF(N1418=\"Transporte Marítimo\",VLOOKUP(O1425,$O$4030:$P$4035,2),IF(N1418=\"Transporte Aéreo\",VLOOKUP(O1425,$O$4037:$P$4042,2),IF(N1418=\"Transporte Aéreo\",VLOOKUP(O1425,$O$4044:$P$4045,2),\"\"))))","v":""},null,null,null,null,null,null,null,null,null,null,null,null,null,null,null,"",""]
[null,null,null,null,null,null,"",null,{"$f":"IF(H1428=\"\",\"\",ROUND(H1428/SUM(H1426:H1433),4))","v":""},null,null,null,null,null,null,{"$f":"+IF(O1428=\"\",\"\",IF(N1426=\"Transporte Marítimo\",VLOOKUP(O1428,$O$4030:$P$4035,2),IF(N1426=\"Transporte Aéreo\",VLOOKUP(O1428,$O$4037:$P$4042,2),IF(N1426=\"Transporte Aéreo\",VLOOKUP(O1428,$O$4044:$P$4045,2),\"\"))))","v":""},null,null,null,null,null,null,null,null,null,null,null,null,null,null,null,"",""]
[null,null,null,null,null,null,"",null,{"$f":"IF(H1432=\"\",\"\",ROUND(H1432/SUM(H1426:H1433),4))","v":""},null,null,null,null,null,null,{"$f":"+IF(O1432=\"\",\"\",IF(N1426=\"Transporte Marítimo\",VLOOKUP(O1432,$O$4030:$P$4035,2),IF(N1426=\"Transporte Aéreo\",VLOOKUP(O1432,$O$4037:$P$4042,2),IF(N1426=\"Transporte Aéreo\",VLOOKUP(O1432,$O$4044:$P$4045,2),\"\"))))","v":""},null,null,null,null,null,null,null,null,null,null,null,null,null,null,null,"",""]
[null,null,null,null,null,null,"",null,{"$f":"IF(H1435=\"\",\"\",ROUND(H1435/SUM(H1434:H1441),4))","v":""},null,null,null,null,null,null,{"$f":"+IF(O1435=\"\",\"\",IF(N1434=\"Transporte Marítimo\",VLOOKUP(O1435,$O$4030:$P$4035,2),IF(N1434=\"Transporte Aéreo\",VLOOKUP(O1435,$O$4037:$P$4042,2),IF(N1434=\"Transporte Aéreo\",VLOOKUP(O1435,$O$4044:$P$4045,2),\"\"))))","v":""},null,null,null,null,null,null,null,null,null,null,null,null,null,null,null,{"$f":"+IF(AE1435=\"20NL\",1,IF(AE1435=\"40NL\",2,IF(AE1435=\"20RF\",3,IF(AE1435=\"40RF\",4,\"\"))))","v":""},""]
[null,null,null,null,null,null,"",null,{"$f":"IF(H1439=\"\",\"\",ROUND(H1439/SUM(H1434:H1441),4))","v":""},null,null,null,null,null,null,{"$f":"+IF(O1439=\"\",\"\",IF(N1434=\"Transporte Marítimo\",VLOOKUP(O1439,$O$4030:$P$4035,2),IF(N1434=\"Transporte Aéreo\",VLOOKUP(O1439,$O$4037:$P$4042,2),IF(N1434=\"Transporte Aéreo\",VLOOKUP(O1439,$O$4044:$P$4045,2),\"\"))))","v":""},null,null,null,null,null,null,null,null,null,null,null,null,null,null,null,"",""]
[null,null,null,null,null,null,"",null,{"$f":"IF(H1440=\"\",\"\",ROUND(H1440/SUM(H1434:H1441),4))","v":""},null,null,null,null,null,null,{"$f":"+IF(O1440=\"\",\"\",IF(N1434=\"Transporte Marítimo\",VLOOKUP(O1440,$O$4030:$P$4035,2),IF(N1434=\"Transporte Aéreo\",VLOOKUP(O1440,$O$4037:$P$4042,2),IF(N1434=\"Transporte Aéreo\",VLOOKUP(O1440,$O$4044:$P$4045,2),\"\"))))","v":""},null,null,null,null,null,null,null,null,null,null,null,null,null,null,null,"",""]
[null,null,null,null,null,null,"",null,{"$f":"IF(H1444=\"\",\"\",ROUND(H1444/SUM(H1442:H1449),4))","v":""},null,null,null,null,null,null,{"$f":"+IF(O1444=\"\",\"\",IF(N1442=\"Transporte Marítimo\",VLOOKUP(O1444,$O$4030:$P$4035,2),IF(N1442=\"Transporte Aéreo\",VLOOKUP(O1444,$O$4037:$P$4042,2),IF(N1442=\"Transporte Aéreo\",VLOOKUP(O1444,$O$4044:$P$4045,2),\"\"))))","v":""},null,null,null,null,null,null,null,null,null,null,null,null,null,null,null,"",""]
[null,null,null,null,null,null,"",null,{"$f":"IF(H1445=\"\",\"\",ROUND(H1445/SUM(H1442:H1449),4))","v":""},null,null,null,null,null,null,{"$f":"+IF(O1445=\"\",\"\",IF(N1442=\"Transporte Marítimo\",VLOOKUP(O1445,$O$4030:$P$4035,2),IF(N1442=\"Transporte Aéreo\",VLOOKUP(O1445,$O$4037:$P$4042,2),IF(N1442=\"Transporte Aéreo\",VLOOKUP(O1445,$O$4044:$P$4045,2),\"\"))))","v":""},null,null,null,null,null,null,null,null,null,null,null,null,null,null,null,"",""]
[null,null,null,null,null,null,"",null,{"$f":"IF(H1448=\"\",\"\",ROUND(H1448/SUM(H1442:H1449),4))","v":""},null,null,null,null,null,null,{"$f":"+IF(O1448=\"\",\"\",IF(N1442=\"Transporte Marítimo\",VLOOKUP(O1448,$O$4030:$P$4035,2),IF(N1442=\"Transporte Aéreo\",VLOOKUP(O1448,$O$4037:$P$4042,2),IF(N1442=\"Transporte Aéreo\",VLOOKUP(O1448,$O$4044:$P$4045,2),\"\"))))","v":""},null,null,null,null,null,null,null,null,null,null,null,null,null,null,null,"",""]
[null,null,null,null,null,null,"",null,{"$f":"IF(H1451=\"\",\"\",ROUND(H1451/SUM(H1450:H1457),4))","v":""},null,null,null,null,null,null,{"$f":"+IF(O1451=\"\",\"\",IF(N1450=\"Transporte Marítimo\",VLOOKUP(O1451,$O$4030:$P$4035,2),IF(N1450=\"Transporte Aéreo\",VLOOKUP(O1451,$O$4037:$P$4042,2),IF(N1450=\"Transporte Aéreo\",VLOOKUP(O1451,$O$4044:$P$4045,2),\"\"))))","v":""},null,null,null,null,null,null,null,null,null,null,null,null,null,null,null,{"$f":"+IF(AE1451=\"20NL\",1,IF(AE1451=\"40NL\",2,IF(AE1451=\"20RF\",3,IF(AE1451=\"40RF\",4,\"\"))))","v":""},{"$f":"+IF(AF1451=\"\",\"\",VLOOKUP(AF1451,$AF$4031:$AG$4034,2))","v":""}]
[null,null,null,null,null,null,"",null,{"$f":"IF(H1455=\"\",\"\",ROUND(H1455/SUM(H1450:H1457),4))","v":""},null,null,null,null,null,null,{"$f":"+IF(O1455=\"\",\"\",IF(N1450=\"Transporte Marítimo\",VLOOKUP(O1455,$O$4030:$P$4035,2),IF(N1450=\"Transporte Aéreo\",VLOOKUP(O1455,$O$4037:$P$4042,2),IF(N1450=\"Transporte Aéreo\",VLOOKUP(O1455,$O$4044:$P$4045,2),\"\"))))","v":""},null,null,null,null,null,null,null,null,null,null,null,null,null,null,null,"",""]
[null,{"$f":"+B1450+1","v":181},null,null,null,null,{"$f":"+IF(F1458=\"\",\"\",VLOOKUP(F1458,$F$4031:$G$4120,2))","v":""},null,{"$f":"IF(H1458=\"\",\"\",1-SUM(I1459:I1465))","v":""},null,null,null,null,null,null,{"$f":"+IF(O1458=\"\",\"\",IF(N1458=\"Transporte Marítimo\",VLOOKUP(O1458,$O$4030:$P$4035,2),IF(N1458=\"Transporte Aéreo\",VLOOKUP(O1458,$O$4037:$P$4042,2),IF(N1458=\"CTT\",VLOOKUP(O1458,$O$4044:$P$4045,2),\"\"))))","v":""},null,null,null,null,null,null,null,null,null,null,null,null,null,null,null,{"$f":"+IF(AE1458=\"20NL\",1,IF(AE1458=\"40NL\",2,IF(AE1458=\"20RF\",3,IF(AE1458=\"40RF\",4,\"\"))))","v":""},{"$f":"+IF(AF1458=\"\",\"\",VLOOKUP(AF1458,$AF$4031:$AG$4034,2))","v":""},null,null,null,null,null,null,null,null,null,null,null,null,null,null," "]
[null,null,null,null,null,null,"",null,{"$f":"IF(H1462=\"\",\"\",ROUND(H1462/SUM(H1458:H1465),4))","v":""},null,null,null,null,null,null,{"$f":"+IF(O1462=\"\",\"\",IF(N1458=\"Transporte Marítimo\",VLOOKUP(O1462,$O$4030:$P$4035,2),IF(N1458=\"Transporte Aéreo\",VLOOKUP(O1462,$O$4037:$P$4042,2),IF(N1458=\"Transporte Aéreo\",VLOOKUP(O1462,$O$4044:$P$4045,2),\"\"))))","v":""},null,null,null,null,null,null,null,null,null,null,null,null,null,null,null,"",""]
[null,null,null,null,null,null,"",null,{"$f":"IF(H1463=\"\",\"\",ROUND(H1463/SUM(H1458:H1465),4))","v":""},null,null,null,null,null,null,{"$f":"+IF(O1463=\"\",\"\",IF(N1458=\"Transporte Marítimo\",VLOOKUP(O1463,$O$4030:$P$4035,2),IF(N1458=\"Transporte Aéreo\",VLOOKUP(O1463,$O$4037:$P$4042,2),IF(N1458=\"Transporte Aéreo\",VLOOKUP(O1463,$O$4044:$P$4045,2),\"\"))))","v":""},null,null,null,null,null,null,null,null,null,null,null,null,null,null,null,"",""]
[null,null,null,null,null,null,"",null,{"$f":"IF(H1467=\"\",\"\",ROUND(H1467/SUM(H1466:H1473),4))","v":""},null,null,null,null,null,null,{"$f":"+IF(O1467=\"\",\"\",IF(N1466=\"Transporte Marítimo\",VLOOKUP(O1467,$O$4030:$P$4035,2),IF(N1466=\"Transporte Aéreo\",VLOOKUP(O1467,$O$4037:$P$4042,2),IF(N1466=\"Transporte Aéreo\",VLOOKUP(O1467,$O$4044:$P$4045,2),\"\"))))","v":""},null,null,null,null,null,null,null,null,null,null,null,null,null,null,null,{"$f":"+IF(AE1467=\"20NL\",1,IF(AE1467=\"40NL\",2,IF(AE1467=\"20RF\",3,IF(AE1467=\"40RF\",4,\"\"))))","v":""},""]
[null,null,null,null,null,null,"",null,{"$f":"IF(H1468=\"\",\"\",ROUND(H1468/SUM(H1466:H1473),4))","v":""},null,null,null,null,null,null,{"$f":"+IF(O1468=\"\",\"\",IF(N1466=\"Transporte Marítimo\",VLOOKUP(O1468,$O$4030:$P$4035,2),IF(N1466=\"Transporte Aéreo\",VLOOKUP(O1468,$O$4037:$P$4042,2),IF(N1466=\"Transporte Aéreo\",VLOOKUP(O1468,$O$4044:$P$4045,2),\"\"))))","v":""},null,null,null,null,null,null,null,null,null,null,null,null,null,null,null,"",""]
[null,null,null,null,null,null,"",null,{"$f":"IF(H1471=\"\",\"\",ROUND(H1471/SUM(H1466:H1473),4))","v":""},null,null,null,null,null,null,{"$f":"+IF(O1471=\"\",\"\",IF(N1466=\"Transporte Marítimo\",VLOOKUP(O1471,$O$4030:$P$4035,2),IF(N1466=\"Transporte Aéreo\",VLOOKUP(O1471,$O$4037:$P$4042,2),IF(N1466=\"Transporte Aéreo\",VLOOKUP(O1471,$O$4044:$P$4045,2),\"\"))))","v":""},null,null,null,null,null,null,null,null,null,null,null,null,null,null,null,"",""]
[null,null,null,null,null,null,"",null,{"$f":"IF(H1475=\"\",\"\",ROUND(H1475/SUM(H1474:H1481),4))","v":""},null,null,null,null,null,null,{"$f":"+IF(O1475=\"\",\"\",IF(N1474=\"Transporte Marítimo\",VLOOKUP(O1475,$O$4030:$P$4035,2),IF(N1474=\"Transporte Aéreo\",VLOOKUP(O1475,$O$4037:$P$4042,2),IF(N1474=\"Transporte Aéreo\",VLOOKUP(O1475,$O$4044:$P$4045,2),\"\"))))","v":""},null,null,null,null,null,null,null,null,null,null,null,null,null,null,null,{"$f":"+IF(AE1475=\"20NL\",1,IF(AE1475=\"40NL\",2,IF(AE1475=\"20RF\",3,IF(AE1475=\"40RF\",4,\"\"))))","v":""},""]
[null,null,null,null,null,null,"",null,{"$f":"IF(H1478=\"\",\"\",ROUND(H1478/SUM(H1474:H1481),4))","v":""},null,null,null,null,null,null,{"$f":"+IF(O1478=\"\",\"\",IF(N1474=\"Transporte Marítimo\",VLOOKUP(O1478,$O$4030:$P$4035,2),IF(N1474=\"Transporte Aéreo\",VLOOKUP(O1478,$O$4037:$P$4042,2),IF(N1474=\"Transporte Aéreo\",VLOOKUP(O1478,$O$4044:$P$4045,2),\"\"))))","v":""},null,null,null,null,null,null,null,null,null,null,null,null,null,null,null,"",""]
[null,null,null,null,null,null,"",null,{"$f":"IF(H1481=\"\",\"\",ROUND(H1481/SUM(H1474:H1481),4))","v":""},null,null,null,null,null,null,{"$f":"+IF(O1481=\"\",\"\",IF(N1474=\"Transporte Marítimo\",VLOOKUP(O1481,$O$4030:$P$4035,2),IF(N1474=\"Transporte Aéreo\",VLOOKUP(O1481,$O$4037:$P$4042,2),IF(N1474=\"Transporte Aéreo\",VLOOKUP(O1481,$O$4044:$P$4045,2),\"\"))))","v":""},null,null,null,null,null,null,null,null,null,null,null,null,null,null,null,"",""]
[null,null,null,null,null,null,"",null,{"$f":"IF(H1485=\"\",\"\",ROUND(H1485/SUM(H1482:H1489),4))","v":""},null,null,null,null,null,null,{"$f":"+IF(O1485=\"\",\"\",IF(N1482=\"Transporte Marítimo\",VLOOKUP(O1485,$O$4030:$P$4035,2),IF(N1482=\"Transporte Aéreo\",VLOOKUP(O1485,$O$4037:$P$4042,2),IF(N1482=\"Transporte Aéreo\",VLOOKUP(O1485,$O$4044:$P$4045,2),\"\"))))","v":""},null,null,null,null,null,null,null,null,null,null,null,null,null,null,null,"",""]
[null,null,null,null,null,null,"",null,{"$f":"IF(H1486=\"\",\"\",ROUND(H1486/SUM(H1482:H1489),4))","v":""},null,null,null,null,null,null,{"$f":"+IF(O1486=\"\",\"\",IF(N1482=\"Transporte Marítimo\",VLOOKUP(O1486,$O$4030:$P$4035,2),IF(N1482=\"Transporte Aéreo\",VLOOKUP(O1486,$O$4037:$P$4042,2),IF(N1482=\"Transporte Aéreo\",VLOOKUP(O1486,$O$4044:$P$4045,2),\"\"))))","v":""},null,null,null,null,null,null,null,null,null,null,null,null,null,null,null,"",""]
[null,{"$f":"+B1482+1","v":185},null,null,null,null,{"$f":"+IF(F1490=\"\",\"\",VLOOKUP(F1490,$F$4031:$G$4120,2))","v":""},null,{"$f":"IF(H1490=\"\",\"\",1-SUM(I1491:I1497))","v":""},null,null,null,null,null,null,{"$f":"+IF(O1490=\"\",\"\",IF(N1490=\"Transporte Marítimo\",VLOOKUP(O1490,$O$4030:$P$4035,2),IF(N1490=\"Transporte Aéreo\",VLOOKUP(O1490,$O$4037:$P$4042,2),IF(N1490=\"CTT\",VLOOKUP(O1490,$O$4044:$P$4045,2),\"\"))))","v":""},null,null,null,null,null,null,null,null,null,null,null,null,null,null,null,{"$f":"+IF(AE1490=\"20NL\",1,IF(AE1490=\"40NL\",2,IF(AE1490=\"20RF\",3,IF(AE1490=\"40RF\",4,\"\"))))","v":""},{"$f":"+IF(AF1490=\"\",\"\",VLOOKUP(AF1490,$AF$4031:$AG$4034,2))","v":""},null,null,null,null,null,null,null,null,null,null,null,null,null,null," "]
[null,null,null,null,null,null,"",null,{"$f":"IF(H1491=\"\",\"\",ROUND(H1491/SUM(H1490:H1497),4))","v":""},null,null,null,null,null,null,{"$f":"+IF(O1491=\"\",\"\",IF(N1490=\"Transporte Marítimo\",VLOOKUP(O1491,$O$4030:$P$4035,2),IF(N1490=\"Transporte Aéreo\",VLOOKUP(O1491,$O$4037:$P$4042,2),IF(N1490=\"Transporte Aéreo\",VLOOKUP(O1491,$O$4044:$P$4045,2),\"\"))))","v":""},null,null,null,null,null,null,null,null,null,null,null,null,null,null,null,{"$f":"+IF(AE1491=\"20NL\",1,IF(AE1491=\"40NL\",2,IF(AE1491=\"20RF\",3,IF(AE1491=\"40RF\",4,\"\"))))","v":""},""]
[null,null,null,null,null,null,"",null,{"$f":"IF(H1494=\"\",\"\",ROUND(H1494/SUM(H1490:H1497),4))","v":""},null,null,null,null,null,null,{"$f":"+IF(O1494=\"\",\"\",IF(N1490=\"Transporte Marítimo\",VLOOKUP(O1494,$O$4030:$P$4035,2),IF(N1490=\"Transporte Aéreo\",VLOOKUP(O1494,$O$4037:$P$4042,2),IF(N1490=\"Transporte Aéreo\",VLOOKUP(O1494,$O$4044:$P$4045,2),\"\"))))","v":""},null,null,null,null,null,null,null,null,null,null,null,null,null,null,null,"",""]
[null,{"$f":"+B1490+1","v":186},null,null,null,null,{"$f":"+IF(F1498=\"\",\"\",VLOOKUP(F1498,$F$4031:$G$4120,2))","v":""},null,{"$f":"IF(H1498=\"\",\"\",1-SUM(I1499:I1505))","v":""},null,null,null,null,null,null,{"$f":"+IF(O1498=\"\",\"\",IF(N1498=\"Transporte Marítimo\",VLOOKUP(O1498,$O$4030:$P$4035,2),IF(N1498=\"Transporte Aéreo\",VLOOKUP(O1498,$O$4037:$P$4042,2),IF(N1498=\"CTT\",VLOOKUP(O1498,$O$4044:$P$4045,2),\"\"))))","v":""},null,null,null,null,null,null,null,null,null,null,null,null,null,null,null,{"$f":"+IF(AE1498=\"20NL\",1,IF(AE1498=\"40NL\",2,IF(AE1498=\"20RF\",3,IF(AE1498=\"40RF\",4,\"\"))))","v":""},{"$f":"+IF(AF1498=\"\",\"\",VLOOKUP(AF1498,$AF$4031:$AG$4034,2))","v":""},null,null,null,null,null,null,null,null,null,null,null,null,null,null," "]
[null,null,null,null,null,null,"",null,{"$f":"IF(H1501=\"\",\"\",ROUND(H1501/SUM(H1498:H1505),4))","v":""},null,null,null,null,null,null,{"$f":"+IF(O1501=\"\",\"\",IF(N1498=\"Transporte Marítimo\",VLOOKUP(O1501,$O$4030:$P$4035,2),IF(N1498=\"Transporte Aéreo\",VLOOKUP(O1501,$O$4037:$P$4042,2),IF(N1498=\"Transporte Aéreo\",VLOOKUP(O1501,$O$4044:$P$4045,2),\"\"))))","v":""},null,null,null,null,null,null,null,null,null,null,null,null,null,null,null,"",""]
[null,null,null,null,null,null,"",null,{"$f":"IF(H1504=\"\",\"\",ROUND(H1504/SUM(H1498:H1505),4))","v":""},null,null,null,null,null,null,{"$f":"+IF(O1504=\"\",\"\",IF(N1498=\"Transporte Marítimo\",VLOOKUP(O1504,$O$4030:$P$4035,2),IF(N1498=\"Transporte Aéreo\",VLOOKUP(O1504,$O$4037:$P$4042,2),IF(N1498=\"Transporte Aéreo\",VLOOKUP(O1504,$O$4044:$P$4045,2),\"\"))))","v":""},null,null,null,null,null,null,null,null,null,null,null,null,null,null,null,"",""]
[null,null,null,null,null,null,"",null,{"$f":"IF(H1507=\"\",\"\",ROUND(H1507/SUM(H1506:H1513),4))","v":""},null,null,null,null,null,null,{"$f":"+IF(O1507=\"\",\"\",IF(N1506=\"Transporte Marítimo\",VLOOKUP(O1507,$O$4030:$P$4035,2),IF(N1506=\"Transporte Aéreo\",VLOOKUP(O1507,$O$4037:$P$4042,2),IF(N1506=\"Transporte Aéreo\",VLOOKUP(O1507,$O$4044:$P$4045,2),\"\"))))","v":""},null,null,null,null,null,null,null,null,null,null,null,null,null,null,null,{"$f":"+IF(AE1507=\"20NL\",1,IF(AE1507=\"40NL\",2,IF(AE1507=\"20RF\",3,IF(AE1507=\"40RF\",4,\"\"))))","v":""},""]
[null,null,null,null,null,null,"",null,{"$f":"IF(H1510=\"\",\"\",ROUND(H1510/SUM(H1506:H1513),4))","v":""},null,null,null,null,null,null,{"$f":"+IF(O1510=\"\",\"\",IF(N1506=\"Transporte Marítimo\",VLOOKUP(O1510,$O$4030:$P$4035,2),IF(N1506=\"Transporte Aéreo\",VLOOKUP(O1510,$O$4037:$P$4042,2),IF(N1506=\"Transporte Aéreo\",VLOOKUP(O1510,$O$4044:$P$4045,2),\"\"))))","v":""},null,null,null,null,null,null,null,null,null,null,null,null,null,null,null,"",""]
[null,null,null,null,null,null,"",null,{"$f":"IF(H1513=\"\",\"\",ROUND(H1513/SUM(H1506:H1513),4))","v":""},null,null,null,null,null,null,{"$f":"+IF(O1513=\"\",\"\",IF(N1506=\"Transporte Marítimo\",VLOOKUP(O1513,$O$4030:$P$4035,2),IF(N1506=\"Transporte Aéreo\",VLOOKUP(O1513,$O$4037:$P$4042,2),IF(N1506=\"Transporte Aéreo\",VLOOKUP(O1513,$O$4044:$P$4045,2),\"\"))))","v":""},null,null,null,null,null,null,null,null,null,null,null,null,null,null,null,"",""]
[null,{"$f":"+B1506+1","v":188},null,null,null,null,{"$f":"+IF(F1514=\"\",\"\",VLOOKUP(F1514,$F$4031:$G$4120,2))","v":""},null,{"$f":"IF(H1514=\"\",\"\",1-SUM(I1515:I1521))","v":""},null,null,null,null,null,null,{"$f":"+IF(O1514=\"\",\"\",IF(N1514=\"Transporte Marítimo\",VLOOKUP(O1514,$O$4030:$P$4035,2),IF(N1514=\"Transporte Aéreo\",VLOOKUP(O1514,$O$4037:$P$4042,2),IF(N1514=\"CTT\",VLOOKUP(O1514,$O$4044:$P$4045,2),\"\"))))","v":""},null,null,null,null,null,null,null,null,null,null,null,null,null,null,null,{"$f":"+IF(AE1514=\"20NL\",1,IF(AE1514=\"40NL\",2,IF(AE1514=\"20RF\",3,IF(AE1514=\"40RF\",4,\"\"))))","v":""},{"$f":"+IF(AF1514=\"\",\"\",VLOOKUP(AF1514,$AF$4031:$AG$4034,2))","v":""},null,null,null,null,null,null,null,null,null,null,null,null,null,null," "]
[null,null,null,null,null,null,"",null,{"$f":"IF(H1517=\"\",\"\",ROUND(H1517/SUM(H1514:H1521),4))","v":""},null,null,null,null,null,null,{"$f":"+IF(O1517=\"\",\"\",IF(N1514=\"Transporte Marítimo\",VLOOKUP(O1517,$O$4030:$P$4035,2),IF(N1514=\"Transporte Aéreo\",VLOOKUP(O1517,$O$4037:$P$4042,2),IF(N1514=\"Transporte Aéreo\",VLOOKUP(O1517,$O$4044:$P$4045,2),\"\"))))","v":""},null,null,null,null,null,null,null,null,null,null,null,null,null,null,null,"",""]
[null,null,null,null,null,null,"",null,{"$f":"IF(H1521=\"\",\"\",ROUND(H1521/SUM(H1514:H1521),4))","v":""},null,null,null,null,null,null,{"$f":"+IF(O1521=\"\",\"\",IF(N1514=\"Transporte Marítimo\",VLOOKUP(O1521,$O$4030:$P$4035,2),IF(N1514=\"Transporte Aéreo\",VLOOKUP(O1521,$O$4037:$P$4042,2),IF(N1514=\"Transporte Aéreo\",VLOOKUP(O1521,$O$4044:$P$4045,2),\"\"))))","v":""},null,null,null,null,null,null,null,null,null,null,null,null,null,null,null,"",""]
[null,null,null,null,null,null,"",null,{"$f":"IF(H1524=\"\",\"\",ROUND(H1524/SUM(H1522:H1529),4))","v":""},null,null,null,null,null,null,{"$f":"+IF(O1524=\"\",\"\",IF(N1522=\"Transporte Marítimo\",VLOOKUP(O1524,$O$4030:$P$4035,2),IF(N1522=\"Transporte Aéreo\",VLOOKUP(O1524,$O$4037:$P$4042,2),IF(N1522=\"Transporte Aéreo\",VLOOKUP(O1524,$O$4044:$P$4045,2),\"\"))))","v":""},null,null,null,null,null,null,null,null,null,null,null,null,null,null,null,"",""]
[null,null,null,null,null,null,"",null,{"$f":"IF(H1527=\"\",\"\",ROUND(H1527/SUM(H1522:H1529),4))","v":""},null,null,null,null,null,null,{"$f":"+IF(O1527=\"\",\"\",IF(N1522=\"Transporte Marítimo\",VLOOKUP(O1527,$O$4030:$P$4035,2),IF(N1522=\"Transporte Aéreo\",VLOOKUP(O1527,$O$4037:$P$4042,2),IF(N1522=\"Transporte Aéreo\",VLOOKUP(O1527,$O$4044:$P$4045,2),\"\"))))","v":""},null,null,null,null,null,null,null,null,null,null,null,null,null,null,null,"",""]
[null,{"$f":"+B1522+1","v":190},null,null,null,null,{"$f":"+IF(F1530=\"\",\"\",VLOOKUP(F1530,$F$4031:$G$4120,2))","v":""},null,{"$f":"IF(H1530=\"\",\"\",1-SUM(I1531:I1537))","v":""},null,null,null,null,null,null,{"$f":"+IF(O1530=\"\",\"\",IF(N1530=\"Transporte Marítimo\",VLOOKUP(O1530,$O$4030:$P$4035,2),IF(N1530=\"Transporte Aéreo\",VLOOKUP(O1530,$O$4037:$P$4042,2),IF(N1530=\"CTT\",VLOOKUP(O1530,$O$4044:$P$4045,2),\"\"))))","v":""},null,null,null,null,null,null,null,null,null,null,null,null,null,null,null,{"$f":"+IF(AE1530=\"20NL\",1,IF(AE1530=\"40NL\",2,IF(AE1530=\"20RF\",3,IF(AE1530=\"40RF\",4,\"\"))))","v":""},{"$f":"+IF(AF1530=\"\",\"\",VLOOKUP(AF1530,$AF$4031:$AG$4034,2))","v":""},null,null,null,null,null,null,null,null,null,null,null,null,null,null," "]
[null,null,null,null,null,null,"",null,{"$f":"IF(H1533=\"\",\"\",ROUND(H1533/SUM(H1530:H1537),4))","v":""},null,null,null,null,null,null,{"$f":"+IF(O1533=\"\",\"\",IF(N1530=\"Transporte Marítimo\",VLOOKUP(O1533,$O$4030:$P$4035,2),IF(N1530=\"Transporte Aéreo\",VLOOKUP(O1533,$O$4037:$P$4042,2),IF(N1530=\"Transporte Aéreo\",VLOOKUP(O1533,$O$4044:$P$4045,2),\"\"))))","v":""},null,null,null,null,null,null,null,null,null,null,null,null,null,null,null,"",""]
[null,null,null,null,null,null,"",null,{"$f":"IF(H1534=\"\",\"\",ROUND(H1534/SUM(H1530:H1537),4))","v":""},null,null,null,null,null,null,{"$f":"+IF(O1534=\"\",\"\",IF(N1530=\"Transporte Marítimo\",VLOOKUP(O1534,$O$4030:$P$4035,2),IF(N1530=\"Transporte Aéreo\",VLOOKUP(O1534,$O$4037:$P$4042,2),IF(N1530=\"Transporte Aéreo\",VLOOKUP(O1534,$O$4044:$P$4045,2),\"\"))))","v":""},null,null,null,null,null,null,null,null,null,null,null,null,null,null,null,"",""]
[null,null,null,null,null,null,{"$f":"+IF(F1537=\"\",\"\",VLOOKUP(F1537,$F$4031:$G$4120,2))","v":""},null,{"$f":"IF(H1537=\"\",\"\",ROUND(H1537/SUM(H1530:H1537),4))","v":""},null,null,null,null,null,null,{"$f":"+IF(O1537=\"\",\"\",IF(N1530=\"Transporte Marítimo\",VLOOKUP(O1537,$O$4030:$P$4035,2),IF(N1530=\"Transporte Aéreo\",VLOOKUP(O1537,$O$4037:$P$4042,2),IF(N1530=\"Transporte Aéreo\",VLOOKUP(O1537,$O$4044:$P$4045,2),\"\"))))","v":""},null,null,null,null,null,null,null,null,null,null,null,null,null,null,null,"",""]
[null,null,null,null,null,null,"",null,{"$f":"IF(H1540=\"\",\"\",ROUND(H1540/SUM(H1538:H1545),4))","v":""},null,null,null,null,null,null,{"$f":"+IF(O1540=\"\",\"\",IF(N1538=\"Transporte Marítimo\",VLOOKUP(O1540,$O$4030:$P$4035,2),IF(N1538=\"Transporte Aéreo\",VLOOKUP(O1540,$O$4037:$P$4042,2),IF(N1538=\"Transporte Aéreo\",VLOOKUP(O1540,$O$4044:$P$4045,2),\"\"))))","v":""},null,null,null,null,null,null,null,null,null,null,null,null,null,null,null,"",""]
[null,null,null,null,null,null,"",null,{"$f":"IF(H1544=\"\",\"\",ROUND(H1544/SUM(H1538:H1545),4))","v":""},null,null,null,null,null,null,{"$f":"+IF(O1544=\"\",\"\",IF(N1538=\"Transporte Marítimo\",VLOOKUP(O1544,$O$4030:$P$4035,2),IF(N1538=\"Transporte Aéreo\",VLOOKUP(O1544,$O$4037:$P$4042,2),IF(N1538=\"Transporte Aéreo\",VLOOKUP(O1544,$O$4044:$P$4045,2),\"\"))))","v":""},null,null,null,null,null,null,null,null,null,null,null,null,null,null,null,"",""]
[null,null,null,null,null,null,"",null,{"$f":"IF(H1547=\"\",\"\",ROUND(H1547/SUM(H1546:H1553),4))","v":""},null,null,null,null,null,null,{"$f":"+IF(O1547=\"\",\"\",IF(N1546=\"Transporte Marítimo\",VLOOKUP(O1547,$O$4030:$P$4035,2),IF(N1546=\"Transporte Aéreo\",VLOOKUP(O1547,$O$4037:$P$4042,2),IF(N1546=\"Transporte Aéreo\",VLOOKUP(O1547,$O$4044:$P$4045,2),\"\"))))","v":""},null,null,null,null,null,null,null,null,null,null,null,null,null,null,null,{"$f":"+IF(AE1547=\"20NL\",1,IF(AE1547=\"40NL\",2,IF(AE1547=\"20RF\",3,IF(AE1547=\"40RF\",4,\"\"))))","v":""},""]
[null,null,null,null,null,null,"",null,{"$f":"IF(H1550=\"\",\"\",ROUND(H1550/SUM(H1546:H1553),4))","v":""},null,null,null,null,null,null,{"$f":"+IF(O1550=\"\",\"\",IF(N1546=\"Transporte Marítimo\",VLOOKUP(O1550,$O$4030:$P$4035,2),IF(N1546=\"Transporte Aéreo\",VLOOKUP(O1550,$O$4037:$P$4042,2),IF(N1546=\"Transporte Aéreo\",VLOOKUP(O1550,$O$4044:$P$4045,2),\"\"))))","v":""},null,null,null,null,null,null,null,null,null,null,null,null,null,null,null,"",""]
[null,null,null,null,null,null,"",null,{"$f":"IF(H1553=\"\",\"\",ROUND(H1553/SUM(H1546:H1553),4))","v":""},null,null,null,null,null,null,{"$f":"+IF(O1553=\"\",\"\",IF(N1546=\"Transporte Marítimo\",VLOOKUP(O1553,$O$4030:$P$4035,2),IF(N1546=\"Transporte Aéreo\",VLOOKUP(O1553,$O$4037:$P$4042,2),IF(N1546=\"Transporte Aéreo\",VLOOKUP(O1553,$O$4044:$P$4045,2),\"\"))))","v":""},null,null,null,null,null,null,null,null,null,null,null,null,null,null,null,"",""]
[null,null,null,null,null,null,"",null,{"$f":"IF(H1556=\"\",\"\",ROUND(H1556/SUM(H1554:H1561),4))","v":""},null,null,null,null,null,null,{"$f":"+IF(O1556=\"\",\"\",IF(N1554=\"Transporte Marítimo\",VLOOKUP(O1556,$O$4030:$P$4035,2),IF(N1554=\"Transporte Aéreo\",VLOOKUP(O1556,$O$4037:$P$4042,2),IF(N1554=\"Transporte Aéreo\",VLOOKUP(O1556,$O$4044:$P$4045,2),\"\"))))","v":""},null,null,null,null,null,null,null,null,null,null,null,null,null,null,null,"",""]
[null,null,null,null,null,null,"",null,{"$f":"IF(H1557=\"\",\"\",ROUND(H1557/SUM(H1554:H1561),4))","v":""},null,null,null,null,null,null,{"$f":"+IF(O1557=\"\",\"\",IF(N1554=\"Transporte Marítimo\",VLOOKUP(O1557,$O$4030:$P$4035,2),IF(N1554=\"Transporte Aéreo\",VLOOKUP(O1557,$O$4037:$P$4042,2),IF(N1554=\"Transporte Aéreo\",VLOOKUP(O1557,$O$4044:$P$4045,2),\"\"))))","v":""},null,null,null,null,null,null,null,null,null,null,null,null,null,null,null,"",""]
[null,null,null,null,null,null,"",null,{"$f":"IF(H1560=\"\",\"\",ROUND(H1560/SUM(H1554:H1561),4))","v":""},null,null,null,null,null,null,{"$f":"+IF(O1560=\"\",\"\",IF(N1554=\"Transporte Marítimo\",VLOOKUP(O1560,$O$4030:$P$4035,2),IF(N1554=\"Transporte Aéreo\",VLOOKUP(O1560,$O$4037:$P$4042,2),IF(N1554=\"Transporte Aéreo\",VLOOKUP(O1560,$O$4044:$P$4045,2),\"\"))))","v":""},null,null,null,null,null,null,null,null,null,null,null,null,null,null,null,"",""]
[null,null,null,null,null,null,"",null,{"$f":"IF(H1563=\"\",\"\",ROUND(H1563/SUM(H1562:H1569),4))","v":""},null,null,null,null,null,null,{"$f":"+IF(O1563=\"\",\"\",IF(N1562=\"Transporte Marítimo\",VLOOKUP(O1563,$O$4030:$P$4035,2),IF(N1562=\"Transporte Aéreo\",VLOOKUP(O1563,$O$4037:$P$4042,2),IF(N1562=\"Transporte Aéreo\",VLOOKUP(O1563,$O$4044:$P$4045,2),\"\"))))","v":""},null,null,null,null,null,null,null,null,null,null,null,null,null,null,null,{"$f":"+IF(AE1563=\"20NL\",1,IF(AE1563=\"40NL\",2,IF(AE1563=\"20RF\",3,IF(AE1563=\"40RF\",4,\"\"))))","v":""},""]
[null,null,null,null,null,null,"",null,{"$f":"IF(H1567=\"\",\"\",ROUND(H1567/SUM(H1562:H1569),4))","v":""},null,null,null,null,null,null,{"$f":"+IF(O1567=\"\",\"\",IF(N1562=\"Transporte Marítimo\",VLOOKUP(O1567,$O$4030:$P$4035,2),IF(N1562=\"Transporte Aéreo\",VLOOKUP(O1567,$O$4037:$P$4042,2),IF(N1562=\"Transporte Aéreo\",VLOOKUP(O1567,$O$4044:$P$4045,2),\"\"))))","v":""},null,null,null,null,null,null,null,null,null,null,null,null,null,null,null,"",""]
[null,{"$f":"+B1562+1","v":195},null,null,null,null,{"$f":"+IF(F1570=\"\",\"\",VLOOKUP(F1570,$F$4031:$G$4120,2))","v":""},null,{"$f":"IF(H1570=\"\",\"\",1-SUM(I1571:I1577))","v":""},null,null,null,null,null,null,{"$f":"+IF(O1570=\"\",\"\",IF(N1570=\"Transporte Marítimo\",VLOOKUP(O1570,$O$4030:$P$4035,2),IF(N1570=\"Transporte Aéreo\",VLOOKUP(O1570,$O$4037:$P$4042,2),IF(N1570=\"CTT\",VLOOKUP(O1570,$O$4044:$P$4045,2),\"\"))))","v":""},null,null,null,null,null,null,null,null,null,null,null,null,null,null,null,{"$f":"+IF(AE1570=\"20NL\",1,IF(AE1570=\"40NL\",2,IF(AE1570=\"20RF\",3,IF(AE1570=\"40RF\",4,\"\"))))","v":""},{"$f":"+IF(AF1570=\"\",\"\",VLOOKUP(AF1570,$AF$4031:$AG$4034,2))","v":""},null,null,null,null,null,null,null,null,null,null,null,null,null,null," "]
[null,null,null,null,null,null,"",null,{"$f":"IF(H1574=\"\",\"\",ROUND(H1574/SUM(H1570:H1577),4))","v":""},null,null,null,null,null,null,{"$f":"+IF(O1574=\"\",\"\",IF(N1570=\"Transporte Marítimo\",VLOOKUP(O1574,$O$4030:$P$4035,2),IF(N1570=\"Transporte Aéreo\",VLOOKUP(O1574,$O$4037:$P$4042,2),IF(N1570=\"Transporte Aéreo\",VLOOKUP(O1574,$O$4044:$P$4045,2),\"\"))))","v":""},null,null,null,null,null,null,null,null,null,null,null,null,null,null,null,"",""]
[null,null,null,null,null,null,"",null,{"$f":"IF(H1576=\"\",\"\",ROUND(H1576/SUM(H1570:H1577),4))","v":""},null,null,null,null,null,null,{"$f":"+IF(O1576=\"\",\"\",IF(N1570=\"Transporte Marítimo\",VLOOKUP(O1576,$O$4030:$P$4035,2),IF(N1570=\"Transporte Aéreo\",VLOOKUP(O1576,$O$4037:$P$4042,2),IF(N1570=\"Transporte Aéreo\",VLOOKUP(O1576,$O$4044:$P$4045,2),\"\"))))","v":""},null,null,null,null,null,null,null,null,null,null,null,null,null,null,null,"",""]
[null,null,null,null,null,null,"",null,{"$f":"IF(H1579=\"\",\"\",ROUND(H1579/SUM(H1578:H1585),4))","v":""},null,null,null,null,null,null,{"$f":"+IF(O1579=\"\",\"\",IF(N1578=\"Transporte Marítimo\",VLOOKUP(O1579,$O$4030:$P$4035,2),IF(N1578=\"Transporte Aéreo\",VLOOKUP(O1579,$O$4037:$P$4042,2),IF(N1578=\"Transporte Aéreo\",VLOOKUP(O1579,$O$4044:$P$4045,2),\"\"))))","v":""},null,null,null,null,null,null,null,null,null,null,null,null,null,null,null,{"$f":"+IF(AE1579=\"20NL\",1,IF(AE1579=\"40NL\",2,IF(AE1579=\"20RF\",3,IF(AE1579=\"40RF\",4,\"\"))))","v":""},""]
[null,null,null,null,null,null,"",null,{"$f":"IF(H1580=\"\",\"\",ROUND(H1580/SUM(H1578:H1585),4))","v":""},null,null,null,null,null,null,{"$f":"+IF(O1580=\"\",\"\",IF(N1578=\"Transporte Marítimo\",VLOOKUP(O1580,$O$4030:$P$4035,2),IF(N1578=\"Transporte Aéreo\",VLOOKUP(O1580,$O$4037:$P$4042,2),IF(N1578=\"Transporte Aéreo\",VLOOKUP(O1580,$O$4044:$P$4045,2),\"\"))))","v":""},null,null,null,null,null,null,null,null,null,null,null,null,null,null,null,"",""]
[null,null,null,null,null,null,"",null,{"$f":"IF(H1583=\"\",\"\",ROUND(H1583/SUM(H1578:H1585),4))","v":""},null,null,null,null,null,null,{"$f":"+IF(O1583=\"\",\"\",IF(N1578=\"Transporte Marítimo\",VLOOKUP(O1583,$O$4030:$P$4035,2),IF(N1578=\"Transporte Aéreo\",VLOOKUP(O1583,$O$4037:$P$4042,2),IF(N1578=\"Transporte Aéreo\",VLOOKUP(O1583,$O$4044:$P$4045,2),\"\"))))","v":""},null,null,null,null,null,null,null,null,null,null,null,null,null,null,null,"",""]
[null,{"$f":"+B1578+1","v":197},null,null,null,null,{"$f":"+IF(F1586=\"\",\"\",VLOOKUP(F1586,$F$4031:$G$4120,2))","v":""},null,{"$f":"IF(H1586=\"\",\"\",1-SUM(I1587:I1593))","v":""},null,null,null,null,null,null,{"$f":"+IF(O1586=\"\",\"\",IF(N1586=\"Transporte Marítimo\",VLOOKUP(O1586,$O$4030:$P$4035,2),IF(N1586=\"Transporte Aéreo\",VLOOKUP(O1586,$O$4037:$P$4042,2),IF(N1586=\"CTT\",VLOOKUP(O1586,$O$4044:$P$4045,2),\"\"))))","v":""},null,null,null,null,null,null,null,null,null,null,null,null,null,null,null,{"$f":"+IF(AE1586=\"20NL\",1,IF(AE1586=\"40NL\",2,IF(AE1586=\"20RF\",3,IF(AE1586=\"40RF\",4,\"\"))))","v":""},{"$f":"+IF(AF1586=\"\",\"\",VLOOKUP(AF1586,$AF$4031:$AG$4034,2))","v":""},null,null,null,null,null,null,null,null,null,null,null,null,null,null," "]
[null,null,null,null,null,null,"",null,{"$f":"IF(H1590=\"\",\"\",ROUND(H1590/SUM(H1586:H1593),4))","v":""},null,null,null,null,null,null,{"$f":"+IF(O1590=\"\",\"\",IF(N1586=\"Transporte Marítimo\",VLOOKUP(O1590,$O$4030:$P$4035,2),IF(N1586=\"Transporte Aéreo\",VLOOKUP(O1590,$O$4037:$P$4042,2),IF(N1586=\"Transporte Aéreo\",VLOOKUP(O1590,$O$4044:$P$4045,2),\"\"))))","v":""},null,null,null,null,null,null,null,null,null,null,null,null,null,null,null,"",""]
[null,null,null,null,null,null,"",null,{"$f":"IF(H1593=\"\",\"\",ROUND(H1593/SUM(H1586:H1593),4))","v":""},null,null,null,null,null,null,{"$f":"+IF(O1593=\"\",\"\",IF(N1586=\"Transporte Marítimo\",VLOOKUP(O1593,$O$4030:$P$4035,2),IF(N1586=\"Transporte Aéreo\",VLOOKUP(O1593,$O$4037:$P$4042,2),IF(N1586=\"Transporte Aéreo\",VLOOKUP(O1593,$O$4044:$P$4045,2),\"\"))))","v":""},null,null,null,null,null,null,null,null,null,null,null,null,null,null,null,"",""]
[null,null,null,null,null,null,"",null,{"$f":"IF(H1595=\"\",\"\",ROUND(H1595/SUM(H1594:H1601),4))","v":""},null,null,null,null,null,null,{"$f":"+IF(O1595=\"\",\"\",IF(N1594=\"Transporte Marítimo\",VLOOKUP(O1595,$O$4030:$P$4035,2),IF(N1594=\"Transporte Aéreo\",VLOOKUP(O1595,$O$4037:$P$4042,2),IF(N1594=\"Transporte Aéreo\",VLOOKUP(O1595,$O$4044:$P$4045,2),\"\"))))","v":""},null,null,null,null,null,null,null,null,null,null,null,null,null,null,null,{"$f":"+IF(AE1595=\"20NL\",1,IF(AE1595=\"40NL\",2,IF(AE1595=\"20RF\",3,IF(AE1595=\"40RF\",4,\"\"))))","v":""},""]
[null,null,null,null,null,null,"",null,{"$f":"IF(H1599=\"\",\"\",ROUND(H1599/SUM(H1594:H1601),4))","v":""},null,null,null,null,null,null,{"$f":"+IF(O1599=\"\",\"\",IF(N1594=\"Transporte Marítimo\",VLOOKUP(O1599,$O$4030:$P$4035,2),IF(N1594=\"Transporte Aéreo\",VLOOKUP(O1599,$O$4037:$P$4042,2),IF(N1594=\"Transporte Aéreo\",VLOOKUP(O1599,$O$4044:$P$4045,2),\"\"))))","v":""},null,null,null,null,null,null,null,null,null,null,null,null,null,null,null,"",""]
[null,{"$f":"+B1594+1","v":199},null,null,null,null,{"$f":"+IF(F1602=\"\",\"\",VLOOKUP(F1602,$F$4031:$G$4120,2))","v":""},null,{"$f":"IF(H1602=\"\",\"\",1-SUM(I1603:I1609))","v":""},null,null,null,null,null,null,{"$f":"+IF(O1602=\"\",\"\",IF(N1602=\"Transporte Marítimo\",VLOOKUP(O1602,$O$4030:$P$4035,2),IF(N1602=\"Transporte Aéreo\",VLOOKUP(O1602,$O$4037:$P$4042,2),IF(N1602=\"CTT\",VLOOKUP(O1602,$O$4044:$P$4045,2),\"\"))))","v":""},null,null,null,null,null,null,null,null,null,null,null,null,null,null,null,{"$f":"+IF(AE1602=\"20NL\",1,IF(AE1602=\"40NL\",2,IF(AE1602=\"20RF\",3,IF(AE1602=\"40RF\",4,\"\"))))","v":""},{"$f":"+IF(AF1602=\"\",\"\",VLOOKUP(AF1602,$AF$4031:$AG$4034,2))","v":""},null,null,null,null,null,null,null,null,null,null,null,null,null,null," "]
[null,null,null,null,null,null,{"$f":"+IF(F1603=\"\",\"\",VLOOKUP(F1603,$F$4031:$G$4120,2))","v":""},null,{"$f":"IF(H1603=\"\",\"\",ROUND(H1603/SUM(H1602:H1609),4))","v":""},null,null,null,null,null,null,{"$f":"+IF(O1603=\"\",\"\",IF(N1602=\"Transporte Marítimo\",VLOOKUP(O1603,$O$4030:$P$4035,2),IF(N1602=\"Transporte Aéreo\",VLOOKUP(O1603,$O$4037:$P$4042,2),IF(N1602=\"Transporte Aéreo\",VLOOKUP(O1603,$O$4044:$P$4045,2),\"\"))))","v":""},null,null,null,null,null,null,null,null,null,null,null,null,null,null,null,{"$f":"+IF(AE1603=\"20NL\",1,IF(AE1603=\"40NL\",2,IF(AE1603=\"20RF\",3,IF(AE1603=\"40RF\",4,\"\"))))","v":""},{"$f":"+IF(AF1603=\"\",\"\",VLOOKUP(AF1603,$AF$4031:$AG$4034,2))","v":""}]
[null,null,null,null,null,null,"",null,{"$f":"IF(H1606=\"\",\"\",ROUND(H1606/SUM(H1602:H1609),4))","v":""},null,null,null,null,null,null,{"$f":"+IF(O1606=\"\",\"\",IF(N1602=\"Transporte Marítimo\",VLOOKUP(O1606,$O$4030:$P$4035,2),IF(N1602=\"Transporte Aéreo\",VLOOKUP(O1606,$O$4037:$P$4042,2),IF(N1602=\"Transporte Aéreo\",VLOOKUP(O1606,$O$4044:$P$4045,2),\"\"))))","v":""},null,null,null,null,null,null,null,null,null,null,null,null,null,null,null,"",""]
[null,null,null,null,null,null,"",null,{"$f":"IF(H1609=\"\",\"\",ROUND(H1609/SUM(H1602:H1609),4))","v":""},null,null,null,null,null,null,{"$f":"+IF(O1609=\"\",\"\",IF(N1602=\"Transporte Marítimo\",VLOOKUP(O1609,$O$4030:$P$4035,2),IF(N1602=\"Transporte Aéreo\",VLOOKUP(O1609,$O$4037:$P$4042,2),IF(N1602=\"Transporte Aéreo\",VLOOKUP(O1609,$O$4044:$P$4045,2),\"\"))))","v":""},null,null,null,null,null,null,null,null,null,null,null,null,null,null,null,"",""]
[null,null,null,null,null,null,"",null,{"$f":"IF(H1613=\"\",\"\",ROUND(H1613/SUM(H1610:H1617),4))","v":""},null,null,null,null,null,null,{"$f":"+IF(O1613=\"\",\"\",IF(N1610=\"Transporte Marítimo\",VLOOKUP(O1613,$O$4030:$P$4035,2),IF(N1610=\"Transporte Aéreo\",VLOOKUP(O1613,$O$4037:$P$4042,2),IF(N1610=\"Transporte Aéreo\",VLOOKUP(O1613,$O$4044:$P$4045,2),\"\"))))","v":""},null,null,null,null,null,null,null,null,null,null,null,null,null,null,null,"",""]
[null,null,null,null,null,null,"",null,{"$f":"IF(H1616=\"\",\"\",ROUND(H1616/SUM(H1610:H1617),4))","v":""},null,null,null,null,null,null,{"$f":"+IF(O1616=\"\",\"\",IF(N1610=\"Transporte Marítimo\",VLOOKUP(O1616,$O$4030:$P$4035,2),IF(N1610=\"Transporte Aéreo\",VLOOKUP(O1616,$O$4037:$P$4042,2),IF(N1610=\"Transporte Aéreo\",VLOOKUP(O1616,$O$4044:$P$4045,2),\"\"))))","v":""},null,null,null,null,null,null,null,null,null,null,null,null,null,null,null,"",""]
[null,{"$f":"+B1610+1","v":201},null,null,null,null,{"$f":"+IF(F1618=\"\",\"\",VLOOKUP(F1618,$F$4031:$G$4120,2))","v":""},null,{"$f":"IF(H1618=\"\",\"\",1-SUM(I1619:I1625))","v":""},null,null,null,null,null,null,{"$f":"+IF(O1618=\"\",\"\",IF(N1618=\"Transporte Marítimo\",VLOOKUP(O1618,$O$4030:$P$4035,2),IF(N1618=\"Transporte Aéreo\",VLOOKUP(O1618,$O$4037:$P$4042,2),IF(N1618=\"CTT\",VLOOKUP(O1618,$O$4044:$P$4045,2),\"\"))))","v":""},null,null,null,null,null,null,null,null,null,null,null,null,null,null,null,{"$f":"+IF(AE1618=\"20NL\",1,IF(AE1618=\"40NL\",2,IF(AE1618=\"20RF\",3,IF(AE1618=\"40RF\",4,\"\"))))","v":""},{"$f":"+IF(AF1618=\"\",\"\",VLOOKUP(AF1618,$AF$4031:$AG$4034,2))","v":""},null,null,null,null,null,null,null,null,null,null,null,null,null,null," "]
[null,null,null,null,null,null,"",null,{"$f":"IF(H1622=\"\",\"\",ROUND(H1622/SUM(H1618:H1625),4))","v":""},null,null,null,null,null,null,{"$f":"+IF(O1622=\"\",\"\",IF(N1618=\"Transporte Marítimo\",VLOOKUP(O1622,$O$4030:$P$4035,2),IF(N1618=\"Transporte Aéreo\",VLOOKUP(O1622,$O$4037:$P$4042,2),IF(N1618=\"Transporte Aéreo\",VLOOKUP(O1622,$O$4044:$P$4045,2),\"\"))))","v":""},null,null,null,null,null,null,null,null,null,null,null,null,null,null,null,"",""]
[null,null,null,null,null,null,"",null,{"$f":"IF(H1625=\"\",\"\",ROUND(H1625/SUM(H1618:H1625),4))","v":""},null,null,null,null,null,null,{"$f":"+IF(O1625=\"\",\"\",IF(N1618=\"Transporte Marítimo\",VLOOKUP(O1625,$O$4030:$P$4035,2),IF(N1618=\"Transporte Aéreo\",VLOOKUP(O1625,$O$4037:$P$4042,2),IF(N1618=\"Transporte Aéreo\",VLOOKUP(O1625,$O$4044:$P$4045,2),\"\"))))","v":""},null,null,null,null,null,null,null,null,null,null,null,null,null,null,null,"",""]
[null,{"$f":"+B1618+1","v":202},null,null,null,null,{"$f":"+IF(F1626=\"\",\"\",VLOOKUP(F1626,$F$4031:$G$4120,2))","v":""},null,{"$f":"IF(H1626=\"\",\"\",1-SUM(I1627:I1633))","v":""},null,null,null,null,null,null,{"$f":"+IF(O1626=\"\",\"\",IF(N1626=\"Transporte Marítimo\",VLOOKUP(O1626,$O$4030:$P$4035,2),IF(N1626=\"Transporte Aéreo\",VLOOKUP(O1626,$O$4037:$P$4042,2),IF(N1626=\"CTT\",VLOOKUP(O1626,$O$4044:$P$4045,2),\"\"))))","v":""},null,null,null,null,null,null,null,null,null,null,null,null,null,null,null,{"$f":"+IF(AE1626=\"20NL\",1,IF(AE1626=\"40NL\",2,IF(AE1626=\"20RF\",3,IF(AE1626=\"40RF\",4,\"\"))))","v":""},{"$f":"+IF(AF1626=\"\",\"\",VLOOKUP(AF1626,$AF$4031:$AG$4034,2))","v":""},null,null,null,null,null,null,null,null,null,null,null,null,null,null," "]
[null,null,null,null,null,null,"",null,{"$f":"IF(H1629=\"\",\"\",ROUND(H1629/SUM(H1626:H1633),4))","v":""},null,null,null,null,null,null,{"$f":"+IF(O1629=\"\",\"\",IF(N1626=\"Transporte Marítimo\",VLOOKUP(O1629,$O$4030:$P$4035,2),IF(N1626=\"Transporte Aéreo\",VLOOKUP(O1629,$O$4037:$P$4042,2),IF(N1626=\"Transporte Aéreo\",VLOOKUP(O1629,$O$4044:$P$4045,2),\"\"))))","v":""},null,null,null,null,null,null,null,null,null,null,null,null,null,null,null,"",""]
[null,null,null,null,null,null,"",null,{"$f":"IF(H1633=\"\",\"\",ROUND(H1633/SUM(H1626:H1633),4))","v":""},null,null,null,null,null,null,{"$f":"+IF(O1633=\"\",\"\",IF(N1626=\"Transporte Marítimo\",VLOOKUP(O1633,$O$4030:$P$4035,2),IF(N1626=\"Transporte Aéreo\",VLOOKUP(O1633,$O$4037:$P$4042,2),IF(N1626=\"Transporte Aéreo\",VLOOKUP(O1633,$O$4044:$P$4045,2),\"\"))))","v":""},null,null,null,null,null,null,null,null,null,null,null,null,null,null,null,"",""]
[null,null,null,null,null,null,"",null,{"$f":"IF(H1636=\"\",\"\",ROUND(H1636/SUM(H1634:H1641),4))","v":""},null,null,null,null,null,null,{"$f":"+IF(O1636=\"\",\"\",IF(N1634=\"Transporte Marítimo\",VLOOKUP(O1636,$O$4030:$P$4035,2),IF(N1634=\"Transporte Aéreo\",VLOOKUP(O1636,$O$4037:$P$4042,2),IF(N1634=\"Transporte Aéreo\",VLOOKUP(O1636,$O$4044:$P$4045,2),\"\"))))","v":""},null,null,null,null,null,null,null,null,null,null,null,null,null,null,null,"",""]
[null,null,null,null,null,null,"",null,{"$f":"IF(H1639=\"\",\"\",ROUND(H1639/SUM(H1634:H1641),4))","v":""},null,null,null,null,null,null,{"$f":"+IF(O1639=\"\",\"\",IF(N1634=\"Transporte Marítimo\",VLOOKUP(O1639,$O$4030:$P$4035,2),IF(N1634=\"Transporte Aéreo\",VLOOKUP(O1639,$O$4037:$P$4042,2),IF(N1634=\"Transporte Aéreo\",VLOOKUP(O1639,$O$4044:$P$4045,2),\"\"))))","v":""},null,null,null,null,null,null,null,null,null,null,null,null,null,null,null,"",""]
[null,null,null,null,null,null,"",null,{"$f":"IF(H1641=\"\",\"\",ROUND(H1641/SUM(H1634:H1641),4))","v":""},null,null,null,null,null,null,{"$f":"+IF(O1641=\"\",\"\",IF(N1634=\"Transporte Marítimo\",VLOOKUP(O1641,$O$4030:$P$4035,2),IF(N1634=\"Transporte Aéreo\",VLOOKUP(O1641,$O$4037:$P$4042,2),IF(N1634=\"Transporte Aéreo\",VLOOKUP(O1641,$O$4044:$P$4045,2),\"\"))))","v":""},null,null,null,null,null,null,null,null,null,null,null,null,null,null,null,"",""]
[null,null,null,null,null,null,"",null,{"$f":"IF(H1645=\"\",\"\",ROUND(H1645/SUM(H1642:H1649),4))","v":""},null,null,null,null,null,null,{"$f":"+IF(O1645=\"\",\"\",IF(N1642=\"Transporte Marítimo\",VLOOKUP(O1645,$O$4030:$P$4035,2),IF(N1642=\"Transporte Aéreo\",VLOOKUP(O1645,$O$4037:$P$4042,2),IF(N1642=\"Transporte Aéreo\",VLOOKUP(O1645,$O$4044:$P$4045,2),\"\"))))","v":""},null,null,null,null,null,null,null,null,null,null,null,null,null,null,null,"",""]
[null,null,null,null,null,null,"",null,{"$f":"IF(H1648=\"\",\"\",ROUND(H1648/SUM(H1642:H1649),4))","v":""},null,null,null,null,null,null,{"$f":"+IF(O1648=\"\",\"\",IF(N1642=\"Transporte Marítimo\",VLOOKUP(O1648,$O$4030:$P$4035,2),IF(N1642=\"Transporte Aéreo\",VLOOKUP(O1648,$O$4037:$P$4042,2),IF(N1642=\"Transporte Aéreo\",VLOOKUP(O1648,$O$4044:$P$4045,2),\"\"))))","v":""},null,null,null,null,null,null,null,null,null,null,null,null,null,null,null,"",""]
[null,null,null,null,null,null,"",null,{"$f":"IF(H1649=\"\",\"\",ROUND(H1649/SUM(H1642:H1649),4))","v":""},null,null,null,null,null,null,{"$f":"+IF(O1649=\"\",\"\",IF(N1642=\"Transporte Marítimo\",VLOOKUP(O1649,$O$4030:$P$4035,2),IF(N1642=\"Transporte Aéreo\",VLOOKUP(O1649,$O$4037:$P$4042,2),IF(N1642=\"Transporte Aéreo\",VLOOKUP(O1649,$O$4044:$P$4045,2),\"\"))))","v":""},null,null,null,null,null,null,null,null,null,null,null,null,null,null,null,"",""]
[null,null,null,null,null,null,"",null,{"$f":"IF(H1652=\"\",\"\",ROUND(H1652/SUM(H1650:H1657),4))","v":""},null,null,null,null,null,null,{"$f":"+IF(O1652=\"\",\"\",IF(N1650=\"Transporte Marítimo\",VLOOKUP(O1652,$O$4030:$P$4035,2),IF(N1650=\"Transporte Aéreo\",VLOOKUP(O1652,$O$4037:$P$4042,2),IF(N1650=\"Transporte Aéreo\",VLOOKUP(O1652,$O$4044:$P$4045,2),\"\"))))","v":""},null,null,null,null,null,null,null,null,null,null,null,null,null,null,null,"",""]
[null,null,null,null,null,null,"",null,{"$f":"IF(H1656=\"\",\"\",ROUND(H1656/SUM(H1650:H1657),4))","v":""},null,null,null,null,null,null,{"$f":"+IF(O1656=\"\",\"\",IF(N1650=\"Transporte Marítimo\",VLOOKUP(O1656,$O$4030:$P$4035,2),IF(N1650=\"Transporte Aéreo\",VLOOKUP(O1656,$O$4037:$P$4042,2),IF(N1650=\"Transporte Aéreo\",VLOOKUP(O1656,$O$4044:$P$4045,2),\"\"))))","v":""},null,null,null,null,null,null,null,null,null,null,null,null,null,null,null,"",""]
[null,null,null,null,null,null,"",null,{"$f":"IF(H1659=\"\",\"\",ROUND(H1659/SUM(H1658:H1665),4))","v":""},null,null,null,null,null,null,{"$f":"+IF(O1659=\"\",\"\",IF(N1658=\"Transporte Marítimo\",VLOOKUP(O1659,$O$4030:$P$4035,2),IF(N1658=\"Transporte Aéreo\",VLOOKUP(O1659,$O$4037:$P$4042,2),IF(N1658=\"Transporte Aéreo\",VLOOKUP(O1659,$O$4044:$P$4045,2),\"\"))))","v":""},null,null,null,null,null,null,null,null,null,null,null,null,null,null,null,{"$f":"+IF(AE1659=\"20NL\",1,IF(AE1659=\"40NL\",2,IF(AE1659=\"20RF\",3,IF(AE1659=\"40RF\",4,\"\"))))","v":""},""]
[null,null,null,null,null,null,"",null,{"$f":"IF(H1662=\"\",\"\",ROUND(H1662/SUM(H1658:H1665),4))","v":""},null,null,null,null,null,null,{"$f":"+IF(O1662=\"\",\"\",IF(N1658=\"Transporte Marítimo\",VLOOKUP(O1662,$O$4030:$P$4035,2),IF(N1658=\"Transporte Aéreo\",VLOOKUP(O1662,$O$4037:$P$4042,2),IF(N1658=\"Transporte Aéreo\",VLOOKUP(O1662,$O$4044:$P$4045,2),\"\"))))","v":""},null,null,null,null,null,null,null,null,null,null,null,null,null,null,null,"",""]
[null,null,null,null,null,null,"",null,{"$f":"IF(H1665=\"\",\"\",ROUND(H1665/SUM(H1658:H1665),4))","v":""},null,null,null,null,null,null,{"$f":"+IF(O1665=\"\",\"\",IF(N1658=\"Transporte Marítimo\",VLOOKUP(O1665,$O$4030:$P$4035,2),IF(N1658=\"Transporte Aéreo\",VLOOKUP(O1665,$O$4037:$P$4042,2),IF(N1658=\"Transporte Aéreo\",VLOOKUP(O1665,$O$4044:$P$4045,2),\"\"))))","v":""},null,null,null,null,null,null,null,null,null,null,null,null,null,null,null,"",""]
[null,null,null,null,null,null,"",null,{"$f":"IF(H1668=\"\",\"\",ROUND(H1668/SUM(H1666:H1673),4))","v":""},null,null,null,null,null,null,{"$f":"+IF(O1668=\"\",\"\",IF(N1666=\"Transporte Marítimo\",VLOOKUP(O1668,$O$4030:$P$4035,2),IF(N1666=\"Transporte Aéreo\",VLOOKUP(O1668,$O$4037:$P$4042,2),IF(N1666=\"Transporte Aéreo\",VLOOKUP(O1668,$O$4044:$P$4045,2),\"\"))))","v":""},null,null,null,null,null,null,null,null,null,null,null,null,null,null,null,"",""]
[null,null,null,null,null,null,"",null,{"$f":"IF(H1671=\"\",\"\",ROUND(H1671/SUM(H1666:H1673),4))","v":""},null,null,null,null,null,null,{"$f":"+IF(O1671=\"\",\"\",IF(N1666=\"Transporte Marítimo\",VLOOKUP(O1671,$O$4030:$P$4035,2),IF(N1666=\"Transporte Aéreo\",VLOOKUP(O1671,$O$4037:$P$4042,2),IF(N1666=\"Transporte Aéreo\",VLOOKUP(O1671,$O$4044:$P$4045,2),\"\"))))","v":""},null,null,null,null,null,null,null,null,null,null,null,null,null,null,null,"",""]
[null,null,null,null,null,null,"",null,{"$f":"IF(H1672=\"\",\"\",ROUND(H1672/SUM(H1666:H1673),4))","v":""},null,null,null,null,null,null,{"$f":"+IF(O1672=\"\",\"\",IF(N1666=\"Transporte Marítimo\",VLOOKUP(O1672,$O$4030:$P$4035,2),IF(N1666=\"Transporte Aéreo\",VLOOKUP(O1672,$O$4037:$P$4042,2),IF(N1666=\"Transporte Aéreo\",VLOOKUP(O1672,$O$4044:$P$4045,2),\"\"))))","v":""},null,null,null,null,null,null,null,null,null,null,null,null,null,null,null,"",""]
[null,null,null,null,null,null,"",null,{"$f":"IF(H1675=\"\",\"\",ROUND(H1675/SUM(H1674:H1681),4))","v":""},null,null,null,null,null,null,{"$f":"+IF(O1675=\"\",\"\",IF(N1674=\"Transporte Marítimo\",VLOOKUP(O1675,$O$4030:$P$4035,2),IF(N1674=\"Transporte Aéreo\",VLOOKUP(O1675,$O$4037:$P$4042,2),IF(N1674=\"Transporte Aéreo\",VLOOKUP(O1675,$O$4044:$P$4045,2),\"\"))))","v":""},null,null,null,null,null,null,null,null,null,null,null,null,null,null,null,{"$f":"+IF(AE1675=\"20NL\",1,IF(AE1675=\"40NL\",2,IF(AE1675=\"20RF\",3,IF(AE1675=\"40RF\",4,\"\"))))","v":""},""]
[null,null,null,null,null,null,"",null,{"$f":"IF(H1679=\"\",\"\",ROUND(H1679/SUM(H1674:H1681),4))","v":""},null,null,null,null,null,null,{"$f":"+IF(O1679=\"\",\"\",IF(N1674=\"Transporte Marítimo\",VLOOKUP(O1679,$O$4030:$P$4035,2),IF(N1674=\"Transporte Aéreo\",VLOOKUP(O1679,$O$4037:$P$4042,2),IF(N1674=\"Transporte Aéreo\",VLOOKUP(O1679,$O$4044:$P$4045,2),\"\"))))","v":""},null,null,null,null,null,null,null,null,null,null,null,null,null,null,null,"",""]
[null,{"$f":"+B1674+1","v":209},null,null,null,null,{"$f":"+IF(F1682=\"\",\"\",VLOOKUP(F1682,$F$4031:$G$4120,2))","v":""},null,{"$f":"IF(H1682=\"\",\"\",1-SUM(I1683:I1689))","v":""},null,null,null,null,null,null,{"$f":"+IF(O1682=\"\",\"\",IF(N1682=\"Transporte Marítimo\",VLOOKUP(O1682,$O$4030:$P$4035,2),IF(N1682=\"Transporte Aéreo\",VLOOKUP(O1682,$O$4037:$P$4042,2),IF(N1682=\"CTT\",VLOOKUP(O1682,$O$4044:$P$4045,2),\"\"))))","v":""},null,null,null,null,null,null,null,null,null,null,null,null,null,null,null,{"$f":"+IF(AE1682=\"20NL\",1,IF(AE1682=\"40NL\",2,IF(AE1682=\"20RF\",3,IF(AE1682=\"40RF\",4,\"\"))))","v":""},{"$f":"+IF(AF1682=\"\",\"\",VLOOKUP(AF1682,$AF$4031:$AG$4034,2))","v":""},null,null,null,null,null,null,null,null,null,null,null,null,null,null," "]
[null,null,null,null,null,null,"",null,{"$f":"IF(H1685=\"\",\"\",ROUND(H1685/SUM(H1682:H1689),4))","v":""},null,null,null,null,null,null,{"$f":"+IF(O1685=\"\",\"\",IF(N1682=\"Transporte Marítimo\",VLOOKUP(O1685,$O$4030:$P$4035,2),IF(N1682=\"Transporte Aéreo\",VLOOKUP(O1685,$O$4037:$P$4042,2),IF(N1682=\"Transporte Aéreo\",VLOOKUP(O1685,$O$4044:$P$4045,2),\"\"))))","v":""},null,null,null,null,null,null,null,null,null,null,null,null,null,null,null,"",""]
[null,null,null,null,null,null,"",null,{"$f":"IF(H1688=\"\",\"\",ROUND(H1688/SUM(H1682:H1689),4))","v":""},null,null,null,null,null,null,{"$f":"+IF(O1688=\"\",\"\",IF(N1682=\"Transporte Marítimo\",VLOOKUP(O1688,$O$4030:$P$4035,2),IF(N1682=\"Transporte Aéreo\",VLOOKUP(O1688,$O$4037:$P$4042,2),IF(N1682=\"Transporte Aéreo\",VLOOKUP(O1688,$O$4044:$P$4045,2),\"\"))))","v":""},null,null,null,null,null,null,null,null,null,null,null,null,null,null,null,"",""]
[null,null,null,null,null,null,"",null,{"$f":"IF(H1691=\"\",\"\",ROUND(H1691/SUM(H1690:H1697),4))","v":""},null,null,null,null,null,null,{"$f":"+IF(O1691=\"\",\"\",IF(N1690=\"Transporte Marítimo\",VLOOKUP(O1691,$O$4030:$P$4035,2),IF(N1690=\"Transporte Aéreo\",VLOOKUP(O1691,$O$4037:$P$4042,2),IF(N1690=\"Transporte Aéreo\",VLOOKUP(O1691,$O$4044:$P$4045,2),\"\"))))","v":""},null,null,null,null,null,null,null,null,null,null,null,null,null,null,null,{"$f":"+IF(AE1691=\"20NL\",1,IF(AE1691=\"40NL\",2,IF(AE1691=\"20RF\",3,IF(AE1691=\"40RF\",4,\"\"))))","v":""},{"$f":"+IF(AF1691=\"\",\"\",VLOOKUP(AF1691,$AF$4031:$AG$4034,2))","v":""}]
[null,null,null,null,null,null,"",null,{"$f":"IF(H1692=\"\",\"\",ROUND(H1692/SUM(H1690:H1697),4))","v":""},null,null,null,null,null,null,{"$f":"+IF(O1692=\"\",\"\",IF(N1690=\"Transporte Marítimo\",VLOOKUP(O1692,$O$4030:$P$4035,2),IF(N1690=\"Transporte Aéreo\",VLOOKUP(O1692,$O$4037:$P$4042,2),IF(N1690=\"Transporte Aéreo\",VLOOKUP(O1692,$O$4044:$P$4045,2),\"\"))))","v":""},null,null,null,null,null,null,null,null,null,null,null,null,null,null,null,"",""]
[null,null,null,null,null,null,"",null,{"$f":"IF(H1695=\"\",\"\",ROUND(H1695/SUM(H1690:H1697),4))","v":""},null,null,null,null,null,null,{"$f":"+IF(O1695=\"\",\"\",IF(N1690=\"Transporte Marítimo\",VLOOKUP(O1695,$O$4030:$P$4035,2),IF(N1690=\"Transporte Aéreo\",VLOOKUP(O1695,$O$4037:$P$4042,2),IF(N1690=\"Transporte Aéreo\",VLOOKUP(O1695,$O$4044:$P$4045,2),\"\"))))","v":""},null,null,null,null,null,null,null,null,null,null,null,null,null,null,null,"",""]
[null,{"$f":"+B1690+1","v":211},null,null,null,null,{"$f":"+IF(F1698=\"\",\"\",VLOOKUP(F1698,$F$4031:$G$4120,2))","v":""},null,{"$f":"IF(H1698=\"\",\"\",1-SUM(I1699:I1705))","v":""},null,null,null,null,null,null,{"$f":"+IF(O1698=\"\",\"\",IF(N1698=\"Transporte Marítimo\",VLOOKUP(O1698,$O$4030:$P$4035,2),IF(N1698=\"Transporte Aéreo\",VLOOKUP(O1698,$O$4037:$P$4042,2),IF(N1698=\"CTT\",VLOOKUP(O1698,$O$4044:$P$4045,2),\"\"))))","v":""},null,null,null,null,null,null,null,null,null,null,null,null,null,null,null,{"$f":"+IF(AE1698=\"20NL\",1,IF(AE1698=\"40NL\",2,IF(AE1698=\"20RF\",3,IF(AE1698=\"40RF\",4,\"\"))))","v":""},{"$f":"+IF(AF1698=\"\",\"\",VLOOKUP(AF1698,$AF$4031:$AG$4034,2))","v":""},null,null,null,null,null,null,null,null,null,null,null,null,null,null," "]
[null,null,null,null,null,null,"",null,{"$f":"IF(H1702=\"\",\"\",ROUND(H1702/SUM(H1698:H1705),4))","v":""},null,null,null,null,null,null,{"$f":"+IF(O1702=\"\",\"\",IF(N1698=\"Transporte Marítimo\",VLOOKUP(O1702,$O$4030:$P$4035,2),IF(N1698=\"Transporte Aéreo\",VLOOKUP(O1702,$O$4037:$P$4042,2),IF(N1698=\"Transporte Aéreo\",VLOOKUP(O1702,$O$4044:$P$4045,2),\"\"))))","v":""},null,null,null,null,null,null,null,null,null,null,null,null,null,null,null,"",""]
[null,null,null,null,null,null,"",null,{"$f":"IF(H1705=\"\",\"\",ROUND(H1705/SUM(H1698:H1705),4))","v":""},null,null,null,null,null,null,{"$f":"+IF(O1705=\"\",\"\",IF(N1698=\"Transporte Marítimo\",VLOOKUP(O1705,$O$4030:$P$4035,2),IF(N1698=\"Transporte Aéreo\",VLOOKUP(O1705,$O$4037:$P$4042,2),IF(N1698=\"Transporte Aéreo\",VLOOKUP(O1705,$O$4044:$P$4045,2),\"\"))))","v":""},null,null,null,null,null,null,null,null,null,null,null,null,null,null,null,"",""]
[null,null,null,null,null,null,"",null,{"$f":"IF(H1708=\"\",\"\",ROUND(H1708/SUM(H1706:H1713),4))","v":""},null,null,null,null,null,null,{"$f":"+IF(O1708=\"\",\"\",IF(N1706=\"Transporte Marítimo\",VLOOKUP(O1708,$O$4030:$P$4035,2),IF(N1706=\"Transporte Aéreo\",VLOOKUP(O1708,$O$4037:$P$4042,2),IF(N1706=\"Transporte Aéreo\",VLOOKUP(O1708,$O$4044:$P$4045,2),\"\"))))","v":""},null,null,null,null,null,null,null,null,null,null,null,null,null,null,null,"",""]
[null,null,null,null,null,null,"",null,{"$f":"IF(H1711=\"\",\"\",ROUND(H1711/SUM(H1706:H1713),4))","v":""},null,null,null,null,null,null,{"$f":"+IF(O1711=\"\",\"\",IF(N1706=\"Transporte Marítimo\",VLOOKUP(O1711,$O$4030:$P$4035,2),IF(N1706=\"Transporte Aéreo\",VLOOKUP(O1711,$O$4037:$P$4042,2),IF(N1706=\"Transporte Aéreo\",VLOOKUP(O1711,$O$4044:$P$4045,2),\"\"))))","v":""},null,null,null,null,null,null,null,null,null,null,null,null,null,null,null,"",""]
[null,{"$f":"+B1706+1","v":213},null,null,null,null,{"$f":"+IF(F1714=\"\",\"\",VLOOKUP(F1714,$F$4031:$G$4120,2))","v":""},null,{"$f":"IF(H1714=\"\",\"\",1-SUM(I1715:I1721))","v":""},null,null,null,null,null,null,{"$f":"+IF(O1714=\"\",\"\",IF(N1714=\"Transporte Marítimo\",VLOOKUP(O1714,$O$4030:$P$4035,2),IF(N1714=\"Transporte Aéreo\",VLOOKUP(O1714,$O$4037:$P$4042,2),IF(N1714=\"CTT\",VLOOKUP(O1714,$O$4044:$P$4045,2),\"\"))))","v":""},null,null,null,null,null,null,null,null,null,null,null,null,null,null,null,{"$f":"+IF(AE1714=\"20NL\",1,IF(AE1714=\"40NL\",2,IF(AE1714=\"20RF\",3,IF(AE1714=\"40RF\",4,\"\"))))","v":""},{"$f":"+IF(AF1714=\"\",\"\",VLOOKUP(AF1714,$AF$4031:$AG$4034,2))","v":""},null,null,null,null,null,null,null,null,null,null,null,null,null,null," "]
[null,null,null,null,null,null,"",null,{"$f":"IF(H1715=\"\",\"\",ROUND(H1715/SUM(H1714:H1721),4))","v":""},null,null,null,null,null,null,{"$f":"+IF(O1715=\"\",\"\",IF(N1714=\"Transporte Marítimo\",VLOOKUP(O1715,$O$4030:$P$4035,2),IF(N1714=\"Transporte Aéreo\",VLOOKUP(O1715,$O$4037:$P$4042,2),IF(N1714=\"Transporte Aéreo\",VLOOKUP(O1715,$O$4044:$P$4045,2),\"\"))))","v":""},null,null,null,null,null,null,null,null,null,null,null,null,null,null,null,{"$f":"+IF(AE1715=\"20NL\",1,IF(AE1715=\"40NL\",2,IF(AE1715=\"20RF\",3,IF(AE1715=\"40RF\",4,\"\"))))","v":""},""]
[null,null,null,null,null,null,"",null,{"$f":"IF(H1718=\"\",\"\",ROUND(H1718/SUM(H1714:H1721),4))","v":""},null,null,null,null,null,null,{"$f":"+IF(O1718=\"\",\"\",IF(N1714=\"Transporte Marítimo\",VLOOKUP(O1718,$O$4030:$P$4035,2),IF(N1714=\"Transporte Aéreo\",VLOOKUP(O1718,$O$4037:$P$4042,2),IF(N1714=\"Transporte Aéreo\",VLOOKUP(O1718,$O$4044:$P$4045,2),\"\"))))","v":""},null,null,null,null,null,null,null,null,null,null,null,null,null,null,null,"",""]
[null,null,null,null,null,null,"",null,{"$f":"IF(H1721=\"\",\"\",ROUND(H1721/SUM(H1714:H1721),4))","v":""},null,null,null,null,null,null,{"$f":"+IF(O1721=\"\",\"\",IF(N1714=\"Transporte Marítimo\",VLOOKUP(O1721,$O$4030:$P$4035,2),IF(N1714=\"Transporte Aéreo\",VLOOKUP(O1721,$O$4037:$P$4042,2),IF(N1714=\"Transporte Aéreo\",VLOOKUP(O1721,$O$4044:$P$4045,2),\"\"))))","v":""},null,null,null,null,null,null,null,null,null,null,null,null,null,null,null,"",""]
[null,null,null,null,null,null,"",null,{"$f":"IF(H1725=\"\",\"\",ROUND(H1725/SUM(H1722:H1729),4))","v":""},null,null,null,null,null,null,{"$f":"+IF(O1725=\"\",\"\",IF(N1722=\"Transporte Marítimo\",VLOOKUP(O1725,$O$4030:$P$4035,2),IF(N1722=\"Transporte Aéreo\",VLOOKUP(O1725,$O$4037:$P$4042,2),IF(N1722=\"Transporte Aéreo\",VLOOKUP(O1725,$O$4044:$P$4045,2),\"\"))))","v":""},null,null,null,null,null,null,null,null,null,null,null,null,null,null,null,"",""]
[null,null,null,null,null,null,"",null,{"$f":"IF(H1727=\"\",\"\",ROUND(H1727/SUM(H1722:H1729),4))","v":""},null,null,null,null,null,null,{"$f":"+IF(O1727=\"\",\"\",IF(N1722=\"Transporte Marítimo\",VLOOKUP(O1727,$O$4030:$P$4035,2),IF(N1722=\"Transporte Aéreo\",VLOOKUP(O1727,$O$4037:$P$4042,2),IF(N1722=\"Transporte Aéreo\",VLOOKUP(O1727,$O$4044:$P$4045,2),\"\"))))","v":""},null,null,null,null,null,null,null,null,null,null,null,null,null,null,null,"",""]
[null,null,null,null,null,null,"",null,{"$f":"IF(H1731=\"\",\"\",ROUND(H1731/SUM(H1730:H1737),4))","v":""},null,null,null,null,null,null,{"$f":"+IF(O1731=\"\",\"\",IF(N1730=\"Transporte Marítimo\",VLOOKUP(O1731,$O$4030:$P$4035,2),IF(N1730=\"Transporte Aéreo\",VLOOKUP(O1731,$O$4037:$P$4042,2),IF(N1730=\"Transporte Aéreo\",VLOOKUP(O1731,$O$4044:$P$4045,2),\"\"))))","v":""},null,null,null,null,null,null,null,null,null,null,null,null,null,null,null,{"$f":"+IF(AE1731=\"20NL\",1,IF(AE1731=\"40NL\",2,IF(AE1731=\"20RF\",3,IF(AE1731=\"40RF\",4,\"\"))))","v":""},""]
[null,null,null,null,null,null,"",null,{"$f":"IF(H1734=\"\",\"\",ROUND(H1734/SUM(H1730:H1737),4))","v":""},null,null,null,null,null,null,{"$f":"+IF(O1734=\"\",\"\",IF(N1730=\"Transporte Marítimo\",VLOOKUP(O1734,$O$4030:$P$4035,2),IF(N1730=\"Transporte Aéreo\",VLOOKUP(O1734,$O$4037:$P$4042,2),IF(N1730=\"Transporte Aéreo\",VLOOKUP(O1734,$O$4044:$P$4045,2),\"\"))))","v":""},null,null,null,null,null,null,null,null,null,null,null,null,null,null,null,"",""]
[null,null,null,null,null,null,"",null,{"$f":"IF(H1737=\"\",\"\",ROUND(H1737/SUM(H1730:H1737),4))","v":""},null,null,null,null,null,null,{"$f":"+IF(O1737=\"\",\"\",IF(N1730=\"Transporte Marítimo\",VLOOKUP(O1737,$O$4030:$P$4035,2),IF(N1730=\"Transporte Aéreo\",VLOOKUP(O1737,$O$4037:$P$4042,2),IF(N1730=\"Transporte Aéreo\",VLOOKUP(O1737,$O$4044:$P$4045,2),\"\"))))","v":""},null,null,null,null,null,null,null,null,null,null,null,null,null,null,null,"",""]
[null,{"$f":"+B1730+1","v":216},null,null,null,null,{"$f":"+IF(F1738=\"\",\"\",VLOOKUP(F1738,$F$4031:$G$4120,2))","v":""},null,{"$f":"IF(H1738=\"\",\"\",1-SUM(I1739:I1745))","v":""},null,null,null,null,null,null,{"$f":"+IF(O1738=\"\",\"\",IF(N1738=\"Transporte Marítimo\",VLOOKUP(O1738,$O$4030:$P$4035,2),IF(N1738=\"Transporte Aéreo\",VLOOKUP(O1738,$O$4037:$P$4042,2),IF(N1738=\"CTT\",VLOOKUP(O1738,$O$4044:$P$4045,2),\"\"))))","v":""},null,null,null,null,null,null,null,null,null,null,null,null,null,null,null,{"$f":"+IF(AE1738=\"20NL\",1,IF(AE1738=\"40NL\",2,IF(AE1738=\"20RF\",3,IF(AE1738=\"40RF\",4,\"\"))))","v":""},{"$f":"+IF(AF1738=\"\",\"\",VLOOKUP(AF1738,$AF$4031:$AG$4034,2))","v":""},null,null,null,null,null,null,null,null,null,null,null,null,null,null," "]
[null,null,null,null,null,null,"",null,{"$f":"IF(H1741=\"\",\"\",ROUND(H1741/SUM(H1738:H1745),4))","v":""},null,null,null,null,null,null,{"$f":"+IF(O1741=\"\",\"\",IF(N1738=\"Transporte Marítimo\",VLOOKUP(O1741,$O$4030:$P$4035,2),IF(N1738=\"Transporte Aéreo\",VLOOKUP(O1741,$O$4037:$P$4042,2),IF(N1738=\"Transporte Aéreo\",VLOOKUP(O1741,$O$4044:$P$4045,2),\"\"))))","v":""},null,null,null,null,null,null,null,null,null,null,null,null,null,null,null,"",""]
[null,null,null,null,null,null,"",null,{"$f":"IF(H1744=\"\",\"\",ROUND(H1744/SUM(H1738:H1745),4))","v":""},null,null,null,null,null,null,{"$f":"+IF(O1744=\"\",\"\",IF(N1738=\"Transporte Marítimo\",VLOOKUP(O1744,$O$4030:$P$4035,2),IF(N1738=\"Transporte Aéreo\",VLOOKUP(O1744,$O$4037:$P$4042,2),IF(N1738=\"Transporte Aéreo\",VLOOKUP(O1744,$O$4044:$P$4045,2),\"\"))))","v":""},null,null,null,null,null,null,null,null,null,null,null,null,null,null,null,"",""]
[null,null,null,null,null,null,"",null,{"$f":"IF(H1748=\"\",\"\",ROUND(H1748/SUM(H1746:H1753),4))","v":""},null,null,null,null,null,null,{"$f":"+IF(O1748=\"\",\"\",IF(N1746=\"Transporte Marítimo\",VLOOKUP(O1748,$O$4030:$P$4035,2),IF(N1746=\"Transporte Aéreo\",VLOOKUP(O1748,$O$4037:$P$4042,2),IF(N1746=\"Transporte Aéreo\",VLOOKUP(O1748,$O$4044:$P$4045,2),\"\"))))","v":""},null,null,null,null,null,null,null,null,null,null,null,null,null,null,null,"",""]
[null,null,null,null,null,null,"",null,{"$f":"IF(H1750=\"\",\"\",ROUND(H1750/SUM(H1746:H1753),4))","v":""},null,null,null,null,null,null,{"$f":"+IF(O1750=\"\",\"\",IF(N1746=\"Transporte Marítimo\",VLOOKUP(O1750,$O$4030:$P$4035,2),IF(N1746=\"Transporte Aéreo\",VLOOKUP(O1750,$O$4037:$P$4042,2),IF(N1746=\"Transporte Aéreo\",VLOOKUP(O1750,$O$4044:$P$4045,2),\"\"))))","v":""},null,null,null,null,null,null,null,null,null,null,null,null,null,null,null,"",""]
[null,{"$f":"+B1746+1","v":218},null,null,null,null,{"$f":"+IF(F1754=\"\",\"\",VLOOKUP(F1754,$F$4031:$G$4120,2))","v":""},null,{"$f":"IF(H1754=\"\",\"\",1-SUM(I1755:I1761))","v":""},null,null,null,null,null,null,{"$f":"+IF(O1754=\"\",\"\",IF(N1754=\"Transporte Marítimo\",VLOOKUP(O1754,$O$4030:$P$4035,2),IF(N1754=\"Transporte Aéreo\",VLOOKUP(O1754,$O$4037:$P$4042,2),IF(N1754=\"CTT\",VLOOKUP(O1754,$O$4044:$P$4045,2),\"\"))))","v":""},null,null,null,null,null,null,null,null,null,null,null,null,null,null,null,{"$f":"+IF(AE1754=\"20NL\",1,IF(AE1754=\"40NL\",2,IF(AE1754=\"20RF\",3,IF(AE1754=\"40RF\",4,\"\"))))","v":""},{"$f":"+IF(AF1754=\"\",\"\",VLOOKUP(AF1754,$AF$4031:$AG$4034,2))","v":""},null,null,null,null,null,null,null,null,null,null,null,null,null,null," "]
[null,null,null,null,null,null,"",null,{"$f":"IF(H1757=\"\",\"\",ROUND(H1757/SUM(H1754:H1761),4))","v":""},null,null,null,null,null,null,{"$f":"+IF(O1757=\"\",\"\",IF(N1754=\"Transporte Marítimo\",VLOOKUP(O1757,$O$4030:$P$4035,2),IF(N1754=\"Transporte Aéreo\",VLOOKUP(O1757,$O$4037:$P$4042,2),IF(N1754=\"Transporte Aéreo\",VLOOKUP(O1757,$O$4044:$P$4045,2),\"\"))))","v":""},null,null,null,null,null,null,null,null,null,null,null,null,null,null,null,"",""]
[null,null,null,null,null,null,"",null,{"$f":"IF(H1760=\"\",\"\",ROUND(H1760/SUM(H1754:H1761),4))","v":""},null,null,null,null,null,null,{"$f":"+IF(O1760=\"\",\"\",IF(N1754=\"Transporte Marítimo\",VLOOKUP(O1760,$O$4030:$P$4035,2),IF(N1754=\"Transporte Aéreo\",VLOOKUP(O1760,$O$4037:$P$4042,2),IF(N1754=\"Transporte Aéreo\",VLOOKUP(O1760,$O$4044:$P$4045,2),\"\"))))","v":""},null,null,null,null,null,null,null,null,null,null,null,null,null,null,null,"",""]
[null,null,null,null,null,null,"",null,{"$f":"IF(H1761=\"\",\"\",ROUND(H1761/SUM(H1754:H1761),4))","v":""},null,null,null,null,null,null,{"$f":"+IF(O1761=\"\",\"\",IF(N1754=\"Transporte Marítimo\",VLOOKUP(O1761,$O$4030:$P$4035,2),IF(N1754=\"Transporte Aéreo\",VLOOKUP(O1761,$O$4037:$P$4042,2),IF(N1754=\"Transporte Aéreo\",VLOOKUP(O1761,$O$4044:$P$4045,2),\"\"))))","v":""},null,null,null,null,null,null,null,null,null,null,null,null,null,null,null,"",""]
[null,null,null,null,null,null,"",null,{"$f":"IF(H1764=\"\",\"\",ROUND(H1764/SUM(H1762:H1769),4))","v":""},null,null,null,null,null,null,{"$f":"+IF(O1764=\"\",\"\",IF(N1762=\"Transporte Marítimo\",VLOOKUP(O1764,$O$4030:$P$4035,2),IF(N1762=\"Transporte Aéreo\",VLOOKUP(O1764,$O$4037:$P$4042,2),IF(N1762=\"Transporte Aéreo\",VLOOKUP(O1764,$O$4044:$P$4045,2),\"\"))))","v":""},null,null,null,null,null,null,null,null,null,null,null,null,null,null,null,"",""]
[null,null,null,null,null,null,"",null,{"$f":"IF(H1767=\"\",\"\",ROUND(H1767/SUM(H1762:H1769),4))","v":""},null,null,null,null,null,null,{"$f":"+IF(O1767=\"\",\"\",IF(N1762=\"Transporte Marítimo\",VLOOKUP(O1767,$O$4030:$P$4035,2),IF(N1762=\"Transporte Aéreo\",VLOOKUP(O1767,$O$4037:$P$4042,2),IF(N1762=\"Transporte Aéreo\",VLOOKUP(O1767,$O$4044:$P$4045,2),\"\"))))","v":""},null,null,null,null,null,null,null,null,null,null,null,null,null,null,null,"",""]
[null,null,null,null,null,null,"",null,{"$f":"IF(H1771=\"\",\"\",ROUND(H1771/SUM(H1770:H1777),4))","v":""},null,null,null,null,null,null,{"$f":"+IF(O1771=\"\",\"\",IF(N1770=\"Transporte Marítimo\",VLOOKUP(O1771,$O$4030:$P$4035,2),IF(N1770=\"Transporte Aéreo\",VLOOKUP(O1771,$O$4037:$P$4042,2),IF(N1770=\"Transporte Aéreo\",VLOOKUP(O1771,$O$4044:$P$4045,2),\"\"))))","v":""},null,null,null,null,null,null,null,null,null,null,null,null,null,null,null,{"$f":"+IF(AE1771=\"20NL\",1,IF(AE1771=\"40NL\",2,IF(AE1771=\"20RF\",3,IF(AE1771=\"40RF\",4,\"\"))))","v":""},{"$f":"+IF(AF1771=\"\",\"\",VLOOKUP(AF1771,$AF$4031:$AG$4034,2))","v":""}]
[null,null,null,null,null,null,"",null,{"$f":"IF(H1773=\"\",\"\",ROUND(H1773/SUM(H1770:H1777),4))","v":""},null,null,null,null,null,null,{"$f":"+IF(O1773=\"\",\"\",IF(N1770=\"Transporte Marítimo\",VLOOKUP(O1773,$O$4030:$P$4035,2),IF(N1770=\"Transporte Aéreo\",VLOOKUP(O1773,$O$4037:$P$4042,2),IF(N1770=\"Transporte Aéreo\",VLOOKUP(O1773,$O$4044:$P$4045,2),\"\"))))","v":""},null,null,null,null,null,null,null,null,null,null,null,null,null,null,null,"",""]
[null,null,null,null,null,null,{"$f":"+IF(F1777=\"\",\"\",VLOOKUP(F1777,$F$4031:$G$4120,2))","v":""},null,{"$f":"IF(H1777=\"\",\"\",ROUND(H1777/SUM(H1770:H1777),4))","v":""},null,null,null,null,null,null,{"$f":"+IF(O1777=\"\",\"\",IF(N1770=\"Transporte Marítimo\",VLOOKUP(O1777,$O$4030:$P$4035,2),IF(N1770=\"Transporte Aéreo\",VLOOKUP(O1777,$O$4037:$P$4042,2),IF(N1770=\"Transporte Aéreo\",VLOOKUP(O1777,$O$4044:$P$4045,2),\"\"))))","v":""},null,null,null,null,null,null,null,null,null,null,null,null,null,null,null,"",""]
[null,null,null,null,null,null,"",null,{"$f":"IF(H1780=\"\",\"\",ROUND(H1780/SUM(H1778:H1785),4))","v":""},null,null,null,null,null,null,{"$f":"+IF(O1780=\"\",\"\",IF(N1778=\"Transporte Marítimo\",VLOOKUP(O1780,$O$4030:$P$4035,2),IF(N1778=\"Transporte Aéreo\",VLOOKUP(O1780,$O$4037:$P$4042,2),IF(N1778=\"Transporte Aéreo\",VLOOKUP(O1780,$O$4044:$P$4045,2),\"\"))))","v":""},null,null,null,null,null,null,null,null,null,null,null,null,null,null,null,"",""]
[null,null,null,null,null,null,"",null,{"$f":"IF(H1783=\"\",\"\",ROUND(H1783/SUM(H1778:H1785),4))","v":""},null,null,null,null,null,null,{"$f":"+IF(O1783=\"\",\"\",IF(N1778=\"Transporte Marítimo\",VLOOKUP(O1783,$O$4030:$P$4035,2),IF(N1778=\"Transporte Aéreo\",VLOOKUP(O1783,$O$4037:$P$4042,2),IF(N1778=\"Transporte Aéreo\",VLOOKUP(O1783,$O$4044:$P$4045,2),\"\"))))","v":""},null,null,null,null,null,null,null,null,null,null,null,null,null,null,null,"",""]
[null,null,null,null,null,null,"",null,{"$f":"IF(H1784=\"\",\"\",ROUND(H1784/SUM(H1778:H1785),4))","v":""},null,null,null,null,null,null,{"$f":"+IF(O1784=\"\",\"\",IF(N1778=\"Transporte Marítimo\",VLOOKUP(O1784,$O$4030:$P$4035,2),IF(N1778=\"Transporte Aéreo\",VLOOKUP(O1784,$O$4037:$P$4042,2),IF(N1778=\"Transporte Aéreo\",VLOOKUP(O1784,$O$4044:$P$4045,2),\"\"))))","v":""},null,null,null,null,null,null,null,null,null,null,null,null,null,null,null,"",""]
[null,null,null,null,null,null,"",null,{"$f":"IF(H1787=\"\",\"\",ROUND(H1787/SUM(H1786:H1793),4))","v":""},null,null,null,null,null,null,{"$f":"+IF(O1787=\"\",\"\",IF(N1786=\"Transporte Marítimo\",VLOOKUP(O1787,$O$4030:$P$4035,2),IF(N1786=\"Transporte Aéreo\",VLOOKUP(O1787,$O$4037:$P$4042,2),IF(N1786=\"Transporte Aéreo\",VLOOKUP(O1787,$O$4044:$P$4045,2),\"\"))))","v":""},null,null,null,null,null,null,null,null,null,null,null,null,null,null,null,{"$f":"+IF(AE1787=\"20NL\",1,IF(AE1787=\"40NL\",2,IF(AE1787=\"20RF\",3,IF(AE1787=\"40RF\",4,\"\"))))","v":""},""]
[null,null,null,null,null,null,"",null,{"$f":"IF(H1791=\"\",\"\",ROUND(H1791/SUM(H1786:H1793),4))","v":""},null,null,null,null,null,null,{"$f":"+IF(O1791=\"\",\"\",IF(N1786=\"Transporte Marítimo\",VLOOKUP(O1791,$O$4030:$P$4035,2),IF(N1786=\"Transporte Aéreo\",VLOOKUP(O1791,$O$4037:$P$4042,2),IF(N1786=\"Transporte Aéreo\",VLOOKUP(O1791,$O$4044:$P$4045,2),\"\"))))","v":""},null,null,null,null,null,null,null,null,null,null,null,null,null,null,null,"",""]
[null,{"$f":"+B1786+1","v":223},null,null,null,null,{"$f":"+IF(F1794=\"\",\"\",VLOOKUP(F1794,$F$4031:$G$4120,2))","v":""},null,{"$f":"IF(H1794=\"\",\"\",1-SUM(I1795:I1801))","v":""},null,null,null,null,null,null,{"$f":"+IF(O1794=\"\",\"\",IF(N1794=\"Transporte Marítimo\",VLOOKUP(O1794,$O$4030:$P$4035,2),IF(N1794=\"Transporte Aéreo\",VLOOKUP(O1794,$O$4037:$P$4042,2),IF(N1794=\"CTT\",VLOOKUP(O1794,$O$4044:$P$4045,2),\"\"))))","v":""},null,null,null,null,null,null,null,null,null,null,null,null,null,null,null,{"$f":"+IF(AE1794=\"20NL\",1,IF(AE1794=\"40NL\",2,IF(AE1794=\"20RF\",3,IF(AE1794=\"40RF\",4,\"\"))))","v":""},{"$f":"+IF(AF1794=\"\",\"\",VLOOKUP(AF1794,$AF$4031:$AG$4034,2))","v":""},null,null,null,null,null,null,null,null,null,null,null,null,null,null," "]
[null,null,null,null,null,null,"",null,{"$f":"IF(H1796=\"\",\"\",ROUND(H1796/SUM(H1794:H1801),4))","v":""},null,null,null,null,null,null,{"$f":"+IF(O1796=\"\",\"\",IF(N1794=\"Transporte Marítimo\",VLOOKUP(O1796,$O$4030:$P$4035,2),IF(N1794=\"Transporte Aéreo\",VLOOKUP(O1796,$O$4037:$P$4042,2),IF(N1794=\"Transporte Aéreo\",VLOOKUP(O1796,$O$4044:$P$4045,2),\"\"))))","v":""},null,null,null,null,null,null,null,null,null,null,null,null,null,null,null,"",""]
[null,null,null,null,null,null,"",null,{"$f":"IF(H1800=\"\",\"\",ROUND(H1800/SUM(H1794:H1801),4))","v":""},null,null,null,null,null,null,{"$f":"+IF(O1800=\"\",\"\",IF(N1794=\"Transporte Marítimo\",VLOOKUP(O1800,$O$4030:$P$4035,2),IF(N1794=\"Transporte Aéreo\",VLOOKUP(O1800,$O$4037:$P$4042,2),IF(N1794=\"Transporte Aéreo\",VLOOKUP(O1800,$O$4044:$P$4045,2),\"\"))))","v":""},null,null,null,null,null,null,null,null,null,null,null,null,null,null,null,"",""]
[null,null,null,null,null,null,"",null,{"$f":"IF(H1803=\"\",\"\",ROUND(H1803/SUM(H1802:H1809),4))","v":""},null,null,null,null,null,null,{"$f":"+IF(O1803=\"\",\"\",IF(N1802=\"Transporte Marítimo\",VLOOKUP(O1803,$O$4030:$P$4035,2),IF(N1802=\"Transporte Aéreo\",VLOOKUP(O1803,$O$4037:$P$4042,2),IF(N1802=\"Transporte Aéreo\",VLOOKUP(O1803,$O$4044:$P$4045,2),\"\"))))","v":""},null,null,null,null,null,null,null,null,null,null,null,null,null,null,null,{"$f":"+IF(AE1803=\"20NL\",1,IF(AE1803=\"40NL\",2,IF(AE1803=\"20RF\",3,IF(AE1803=\"40RF\",4,\"\"))))","v":""},""]
[null,null,null,null,null,null,"",null,{"$f":"IF(H1806=\"\",\"\",ROUND(H1806/SUM(H1802:H1809),4))","v":""},null,null,null,null,null,null,{"$f":"+IF(O1806=\"\",\"\",IF(N1802=\"Transporte Marítimo\",VLOOKUP(O1806,$O$4030:$P$4035,2),IF(N1802=\"Transporte Aéreo\",VLOOKUP(O1806,$O$4037:$P$4042,2),IF(N1802=\"Transporte Aéreo\",VLOOKUP(O1806,$O$4044:$P$4045,2),\"\"))))","v":""},null,null,null,null,null,null,null,null,null,null,null,null,null,null,null,"",""]
[null,null,null,null,null,null,"",null,{"$f":"IF(H1807=\"\",\"\",ROUND(H1807/SUM(H1802:H1809),4))","v":""},null,null,null,null,null,null,{"$f":"+IF(O1807=\"\",\"\",IF(N1802=\"Transporte Marítimo\",VLOOKUP(O1807,$O$4030:$P$4035,2),IF(N1802=\"Transporte Aéreo\",VLOOKUP(O1807,$O$4037:$P$4042,2),IF(N1802=\"Transporte Aéreo\",VLOOKUP(O1807,$O$4044:$P$4045,2),\"\"))))","v":""},null,null,null,null,null,null,null,null,null,null,null,null,null,null,null,"",""]
[null,{"$f":"+B1802+1","v":225},null,null,null,null,{"$f":"+IF(F1810=\"\",\"\",VLOOKUP(F1810,$F$4031:$G$4120,2))","v":""},null,{"$f":"IF(H1810=\"\",\"\",1-SUM(I1811:I1817))","v":""},null,null,null,null,null,null,{"$f":"+IF(O1810=\"\",\"\",IF(N1810=\"Transporte Marítimo\",VLOOKUP(O1810,$O$4030:$P$4035,2),IF(N1810=\"Transporte Aéreo\",VLOOKUP(O1810,$O$4037:$P$4042,2),IF(N1810=\"CTT\",VLOOKUP(O1810,$O$4044:$P$4045,2),\"\"))))","v":""},null,null,null,null,null,null,null,null,null,null,null,null,null,null,null,{"$f":"+IF(AE1810=\"20NL\",1,IF(AE1810=\"40NL\",2,IF(AE1810=\"20RF\",3,IF(AE1810=\"40RF\",4,\"\"))))","v":""},{"$f":"+IF(AF1810=\"\",\"\",VLOOKUP(AF1810,$AF$4031:$AG$4034,2))","v":""},null,null,null,null,null,null,null,null,null,null,null,null,null,null," "]
[null,null,null,null,null,null,"",null,{"$f":"IF(H1814=\"\",\"\",ROUND(H1814/SUM(H1810:H1817),4))","v":""},null,null,null,null,null,null,{"$f":"+IF(O1814=\"\",\"\",IF(N1810=\"Transporte Marítimo\",VLOOKUP(O1814,$O$4030:$P$4035,2),IF(N1810=\"Transporte Aéreo\",VLOOKUP(O1814,$O$4037:$P$4042,2),IF(N1810=\"Transporte Aéreo\",VLOOKUP(O1814,$O$4044:$P$4045,2),\"\"))))","v":""},null,null,null,null,null,null,null,null,null,null,null,null,null,null,null,"",""]
[null,null,null,null,null,null,"",null,{"$f":"IF(H1817=\"\",\"\",ROUND(H1817/SUM(H1810:H1817),4))","v":""},null,null,null,null,null,null,{"$f":"+IF(O1817=\"\",\"\",IF(N1810=\"Transporte Marítimo\",VLOOKUP(O1817,$O$4030:$P$4035,2),IF(N1810=\"Transporte Aéreo\",VLOOKUP(O1817,$O$4037:$P$4042,2),IF(N1810=\"Transporte Aéreo\",VLOOKUP(O1817,$O$4044:$P$4045,2),\"\"))))","v":""},null,null,null,null,null,null,null,null,null,null,null,null,null,null,null,"",""]
[null,null,null,null,null,null,"",null,{"$f":"IF(H1819=\"\",\"\",ROUND(H1819/SUM(H1818:H1825),4))","v":""},null,null,null,null,null,null,{"$f":"+IF(O1819=\"\",\"\",IF(N1818=\"Transporte Marítimo\",VLOOKUP(O1819,$O$4030:$P$4035,2),IF(N1818=\"Transporte Aéreo\",VLOOKUP(O1819,$O$4037:$P$4042,2),IF(N1818=\"Transporte Aéreo\",VLOOKUP(O1819,$O$4044:$P$4045,2),\"\"))))","v":""},null,null,null,null,null,null,null,null,null,null,null,null,null,null,null,{"$f":"+IF(AE1819=\"20NL\",1,IF(AE1819=\"40NL\",2,IF(AE1819=\"20RF\",3,IF(AE1819=\"40RF\",4,\"\"))))","v":""},""]
[null,null,null,null,null,null,"",null,{"$f":"IF(H1823=\"\",\"\",ROUND(H1823/SUM(H1818:H1825),4))","v":""},null,null,null,null,null,null,{"$f":"+IF(O1823=\"\",\"\",IF(N1818=\"Transporte Marítimo\",VLOOKUP(O1823,$O$4030:$P$4035,2),IF(N1818=\"Transporte Aéreo\",VLOOKUP(O1823,$O$4037:$P$4042,2),IF(N1818=\"Transporte Aéreo\",VLOOKUP(O1823,$O$4044:$P$4045,2),\"\"))))","v":""},null,null,null,null,null,null,null,null,null,null,null,null,null,null,null,"",""]
[null,{"$f":"+B1818+1","v":227},null,null,null,null,{"$f":"+IF(F1826=\"\",\"\",VLOOKUP(F1826,$F$4031:$G$4120,2))","v":""},null,{"$f":"IF(H1826=\"\",\"\",1-SUM(I1827:I1833))","v":""},null,null,null,null,null,null,{"$f":"+IF(O1826=\"\",\"\",IF(N1826=\"Transporte Marítimo\",VLOOKUP(O1826,$O$4030:$P$4035,2),IF(N1826=\"Transporte Aéreo\",VLOOKUP(O1826,$O$4037:$P$4042,2),IF(N1826=\"CTT\",VLOOKUP(O1826,$O$4044:$P$4045,2),\"\"))))","v":""},null,null,null,null,null,null,null,null,null,null,null,null,null,null,null,{"$f":"+IF(AE1826=\"20NL\",1,IF(AE1826=\"40NL\",2,IF(AE1826=\"20RF\",3,IF(AE1826=\"40RF\",4,\"\"))))","v":""},{"$f":"+IF(AF1826=\"\",\"\",VLOOKUP(AF1826,$AF$4031:$AG$4034,2))","v":""},null,null,null,null,null,null,null,null,null,null,null,null,null,null," "]
[null,null,null,null,null,null,"",null,{"$f":"IF(H1827=\"\",\"\",ROUND(H1827/SUM(H1826:H1833),4))","v":""},null,null,null,null,null,null,{"$f":"+IF(O1827=\"\",\"\",IF(N1826=\"Transporte Marítimo\",VLOOKUP(O1827,$O$4030:$P$4035,2),IF(N1826=\"Transporte Aéreo\",VLOOKUP(O1827,$O$4037:$P$4042,2),IF(N1826=\"Transporte Aéreo\",VLOOKUP(O1827,$O$4044:$P$4045,2),\"\"))))","v":""},null,null,null,null,null,null,null,null,null,null,null,null,null,null,null,{"$f":"+IF(AE1827=\"20NL\",1,IF(AE1827=\"40NL\",2,IF(AE1827=\"20RF\",3,IF(AE1827=\"40RF\",4,\"\"))))","v":""},""]
[null,null,null,null,null,null,"",null,{"$f":"IF(H1830=\"\",\"\",ROUND(H1830/SUM(H1826:H1833),4))","v":""},null,null,null,null,null,null,{"$f":"+IF(O1830=\"\",\"\",IF(N1826=\"Transporte Marítimo\",VLOOKUP(O1830,$O$4030:$P$4035,2),IF(N1826=\"Transporte Aéreo\",VLOOKUP(O1830,$O$4037:$P$4042,2),IF(N1826=\"Transporte Aéreo\",VLOOKUP(O1830,$O$4044:$P$4045,2),\"\"))))","v":""},null,null,null,null,null,null,null,null,null,null,null,null,null,null,null,"",""]
[null,null,null,null,null,null,"",null,{"$f":"IF(H1833=\"\",\"\",ROUND(H1833/SUM(H1826:H1833),4))","v":""},null,null,null,null,null,null,{"$f":"+IF(O1833=\"\",\"\",IF(N1826=\"Transporte Marítimo\",VLOOKUP(O1833,$O$4030:$P$4035,2),IF(N1826=\"Transporte Aéreo\",VLOOKUP(O1833,$O$4037:$P$4042,2),IF(N1826=\"Transporte Aéreo\",VLOOKUP(O1833,$O$4044:$P$4045,2),\"\"))))","v":""},null,null,null,null,null,null,null,null,null,null,null,null,null,null,null,"",""]
[null,null,null,null,null,null,"",null,{"$f":"IF(H1837=\"\",\"\",ROUND(H1837/SUM(H1834:H1841),4))","v":""},null,null,null,null,null,null,{"$f":"+IF(O1837=\"\",\"\",IF(N1834=\"Transporte Marítimo\",VLOOKUP(O1837,$O$4030:$P$4035,2),IF(N1834=\"Transporte Aéreo\",VLOOKUP(O1837,$O$4037:$P$4042,2),IF(N1834=\"Transporte Aéreo\",VLOOKUP(O1837,$O$4044:$P$4045,2),\"\"))))","v":""},null,null,null,null,null,null,null,null,null,null,null,null,null,null,null,"",""]
[null,null,null,null,null,null,"",null,{"$f":"IF(H1840=\"\",\"\",ROUND(H1840/SUM(H1834:H1841),4))","v":""},null,null,null,null,null,null,{"$f":"+IF(O1840=\"\",\"\",IF(N1834=\"Transporte Marítimo\",VLOOKUP(O1840,$O$4030:$P$4035,2),IF(N1834=\"Transporte Aéreo\",VLOOKUP(O1840,$O$4037:$P$4042,2),IF(N1834=\"Transporte Aéreo\",VLOOKUP(O1840,$O$4044:$P$4045,2),\"\"))))","v":""},null,null,null,null,null,null,null,null,null,null,null,null,null,null,null,"",""]
[null,{"$f":"+B1834+1","v":229},null,null,null,null,{"$f":"+IF(F1842=\"\",\"\",VLOOKUP(F1842,$F$4031:$G$4120,2))","v":""},null,{"$f":"IF(H1842=\"\",\"\",1-SUM(I1843:I1849))","v":""},null,null,null,null,null,null,{"$f":"+IF(O1842=\"\",\"\",IF(N1842=\"Transporte Marítimo\",VLOOKUP(O1842,$O$4030:$P$4035,2),IF(N1842=\"Transporte Aéreo\",VLOOKUP(O1842,$O$4037:$P$4042,2),IF(N1842=\"CTT\",VLOOKUP(O1842,$O$4044:$P$4045,2),\"\"))))","v":""},null,null,null,null,null,null,null,null,null,null,null,null,null,null,null,{"$f":"+IF(AE1842=\"20NL\",1,IF(AE1842=\"40NL\",2,IF(AE1842=\"20RF\",3,IF(AE1842=\"40RF\",4,\"\"))))","v":""},{"$f":"+IF(AF1842=\"\",\"\",VLOOKUP(AF1842,$AF$4031:$AG$4034,2))","v":""},null,null,null,null,null,null,null,null,null,null,null,null,null,null," "]
[null,null,null,null,null,null,"",null,{"$f":"IF(H1846=\"\",\"\",ROUND(H1846/SUM(H1842:H1849),4))","v":""},null,null,null,null,null,null,{"$f":"+IF(O1846=\"\",\"\",IF(N1842=\"Transporte Marítimo\",VLOOKUP(O1846,$O$4030:$P$4035,2),IF(N1842=\"Transporte Aéreo\",VLOOKUP(O1846,$O$4037:$P$4042,2),IF(N1842=\"Transporte Aéreo\",VLOOKUP(O1846,$O$4044:$P$4045,2),\"\"))))","v":""},null,null,null,null,null,null,null,null,null,null,null,null,null,null,null,"",""]
[null,null,null,null,null,null,"",null,{"$f":"IF(H1849=\"\",\"\",ROUND(H1849/SUM(H1842:H1849),4))","v":""},null,null,null,null,null,null,{"$f":"+IF(O1849=\"\",\"\",IF(N1842=\"Transporte Marítimo\",VLOOKUP(O1849,$O$4030:$P$4035,2),IF(N1842=\"Transporte Aéreo\",VLOOKUP(O1849,$O$4037:$P$4042,2),IF(N1842=\"Transporte Aéreo\",VLOOKUP(O1849,$O$4044:$P$4045,2),\"\"))))","v":""},null,null,null,null,null,null,null,null,null,null,null,null,null,null,null,"",""]
[null,{"$f":"+B1842+1","v":230},null,null,null,null,{"$f":"+IF(F1850=\"\",\"\",VLOOKUP(F1850,$F$4031:$G$4120,2))","v":""},null,{"$f":"IF(H1850=\"\",\"\",1-SUM(I1851:I1857))","v":""},null,null,null,null,null,null,{"$f":"+IF(O1850=\"\",\"\",IF(N1850=\"Transporte Marítimo\",VLOOKUP(O1850,$O$4030:$P$4035,2),IF(N1850=\"Transporte Aéreo\",VLOOKUP(O1850,$O$4037:$P$4042,2),IF(N1850=\"CTT\",VLOOKUP(O1850,$O$4044:$P$4045,2),\"\"))))","v":""},null,null,null,null,null,null,null,null,null,null,null,null,null,null,null,{"$f":"+IF(AE1850=\"20NL\",1,IF(AE1850=\"40NL\",2,IF(AE1850=\"20RF\",3,IF(AE1850=\"40RF\",4,\"\"))))","v":""},{"$f":"+IF(AF1850=\"\",\"\",VLOOKUP(AF1850,$AF$4031:$AG$4034,2))","v":""},null,null,null,null,null,null,null,null,null,null,null,null,null,null," "]
[null,null,null,null,null,null,"",null,{"$f":"IF(H1853=\"\",\"\",ROUND(H1853/SUM(H1850:H1857),4))","v":""},null,null,null,null,null,null,{"$f":"+IF(O1853=\"\",\"\",IF(N1850=\"Transporte Marítimo\",VLOOKUP(O1853,$O$4030:$P$4035,2),IF(N1850=\"Transporte Aéreo\",VLOOKUP(O1853,$O$4037:$P$4042,2),IF(N1850=\"Transporte Aéreo\",VLOOKUP(O1853,$O$4044:$P$4045,2),\"\"))))","v":""},null,null,null,null,null,null,null,null,null,null,null,null,null,null,null,"",""]
[null,null,null,null,null,null,"",null,{"$f":"IF(H1856=\"\",\"\",ROUND(H1856/SUM(H1850:H1857),4))","v":""},null,null,null,null,null,null,{"$f":"+IF(O1856=\"\",\"\",IF(N1850=\"Transporte Marítimo\",VLOOKUP(O1856,$O$4030:$P$4035,2),IF(N1850=\"Transporte Aéreo\",VLOOKUP(O1856,$O$4037:$P$4042,2),IF(N1850=\"Transporte Aéreo\",VLOOKUP(O1856,$O$4044:$P$4045,2),\"\"))))","v":""},null,null,null,null,null,null,null,null,null,null,null,null,null,null,null,"",""]
[null,null,null,null,null,null,"",null,{"$f":"IF(H1860=\"\",\"\",ROUND(H1860/SUM(H1858:H1865),4))","v":""},null,null,null,null,null,null,{"$f":"+IF(O1860=\"\",\"\",IF(N1858=\"Transporte Marítimo\",VLOOKUP(O1860,$O$4030:$P$4035,2),IF(N1858=\"Transporte Aéreo\",VLOOKUP(O1860,$O$4037:$P$4042,2),IF(N1858=\"Transporte Aéreo\",VLOOKUP(O1860,$O$4044:$P$4045,2),\"\"))))","v":""},null,null,null,null,null,null,null,null,null,null,null,null,null,null,null,"",""]
[null,null,null,null,null,null,"",null,{"$f":"IF(H1863=\"\",\"\",ROUND(H1863/SUM(H1858:H1865),4))","v":""},null,null,null,null,null,null,{"$f":"+IF(O1863=\"\",\"\",IF(N1858=\"Transporte Marítimo\",VLOOKUP(O1863,$O$4030:$P$4035,2),IF(N1858=\"Transporte Aéreo\",VLOOKUP(O1863,$O$4037:$P$4042,2),IF(N1858=\"Transporte Aéreo\",VLOOKUP(O1863,$O$4044:$P$4045,2),\"\"))))","v":""},null,null,null,null,null,null,null,null,null,null,null,null,null,null,null,"",""]
[null,null,null,null,null,null,"",null,{"$f":"IF(H1865=\"\",\"\",ROUND(H1865/SUM(H1858:H1865),4))","v":""},null,null,null,null,null,null,{"$f":"+IF(O1865=\"\",\"\",IF(N1858=\"Transporte Marítimo\",VLOOKUP(O1865,$O$4030:$P$4035,2),IF(N1858=\"Transporte Aéreo\",VLOOKUP(O1865,$O$4037:$P$4042,2),IF(N1858=\"Transporte Aéreo\",VLOOKUP(O1865,$O$4044:$P$4045,2),\"\"))))","v":""},null,null,null,null,null,null,null,null,null,null,null,null,null,null,null,"",""]
[null,null,null,null,null,null,"",null,{"$f":"IF(H1869=\"\",\"\",ROUND(H1869/SUM(H1866:H1873),4))","v":""},null,null,null,null,null,null,{"$f":"+IF(O1869=\"\",\"\",IF(N1866=\"Transporte Marítimo\",VLOOKUP(O1869,$O$4030:$P$4035,2),IF(N1866=\"Transporte Aéreo\",VLOOKUP(O1869,$O$4037:$P$4042,2),IF(N1866=\"Transporte Aéreo\",VLOOKUP(O1869,$O$4044:$P$4045,2),\"\"))))","v":""},null,null,null,null,null,null,null,null,null,null,null,null,null,null,null,"",""]
[null,null,null,null,null,null,"",null,{"$f":"IF(H1872=\"\",\"\",ROUND(H1872/SUM(H1866:H1873),4))","v":""},null,null,null,null,null,null,{"$f":"+IF(O1872=\"\",\"\",IF(N1866=\"Transporte Marítimo\",VLOOKUP(O1872,$O$4030:$P$4035,2),IF(N1866=\"Transporte Aéreo\",VLOOKUP(O1872,$O$4037:$P$4042,2),IF(N1866=\"Transporte Aéreo\",VLOOKUP(O1872,$O$4044:$P$4045,2),\"\"))))","v":""},null,null,null,null,null,null,null,null,null,null,null,null,null,null,null,"",""]
[null,null,null,null,null,null,"",null,{"$f":"IF(H1873=\"\",\"\",ROUND(H1873/SUM(H1866:H1873),4))","v":""},null,null,null,null,null,null,{"$f":"+IF(O1873=\"\",\"\",IF(N1866=\"Transporte Marítimo\",VLOOKUP(O1873,$O$4030:$P$4035,2),IF(N1866=\"Transporte Aéreo\",VLOOKUP(O1873,$O$4037:$P$4042,2),IF(N1866=\"Transporte Aéreo\",VLOOKUP(O1873,$O$4044:$P$4045,2),\"\"))))","v":""},null,null,null,null,null,null,null,null,null,null,null,null,null,null,null,"",""]
[null,null,null,null,null,null,"",null,{"$f":"IF(H1876=\"\",\"\",ROUND(H1876/SUM(H1874:H1881),4))","v":""},null,null,null,null,null,null,{"$f":"+IF(O1876=\"\",\"\",IF(N1874=\"Transporte Marítimo\",VLOOKUP(O1876,$O$4030:$P$4035,2),IF(N1874=\"Transporte Aéreo\",VLOOKUP(O1876,$O$4037:$P$4042,2),IF(N1874=\"Transporte Aéreo\",VLOOKUP(O1876,$O$4044:$P$4045,2),\"\"))))","v":""},null,null,null,null,null,null,null,null,null,null,null,null,null,null,null,"",""]
[null,null,null,null,null,null,"",null,{"$f":"IF(H1879=\"\",\"\",ROUND(H1879/SUM(H1874:H1881),4))","v":""},null,null,null,null,null,null,{"$f":"+IF(O1879=\"\",\"\",IF(N1874=\"Transporte Marítimo\",VLOOKUP(O1879,$O$4030:$P$4035,2),IF(N1874=\"Transporte Aéreo\",VLOOKUP(O1879,$O$4037:$P$4042,2),IF(N1874=\"Transporte Aéreo\",VLOOKUP(O1879,$O$4044:$P$4045,2),\"\"))))","v":""},null,null,null,null,null,null,null,null,null,null,null,null,null,null,null,"",""]
[null,{"$f":"+B1874+1","v":234},null,null,null,null,{"$f":"+IF(F1882=\"\",\"\",VLOOKUP(F1882,$F$4031:$G$4120,2))","v":""},null,{"$f":"IF(H1882=\"\",\"\",1-SUM(I1883:I1889))","v":""},null,null,null,null,null,null,{"$f":"+IF(O1882=\"\",\"\",IF(N1882=\"Transporte Marítimo\",VLOOKUP(O1882,$O$4030:$P$4035,2),IF(N1882=\"Transporte Aéreo\",VLOOKUP(O1882,$O$4037:$P$4042,2),IF(N1882=\"CTT\",VLOOKUP(O1882,$O$4044:$P$4045,2),\"\"))))","v":""},null,null,null,null,null,null,null,null,null,null,null,null,null,null,null,{"$f":"+IF(AE1882=\"20NL\",1,IF(AE1882=\"40NL\",2,IF(AE1882=\"20RF\",3,IF(AE1882=\"40RF\",4,\"\"))))","v":""},{"$f":"+IF(AF1882=\"\",\"\",VLOOKUP(AF1882,$AF$4031:$AG$4034,2))","v":""},null,null,null,null,null,null,null,null,null,null,null,null,null,null," "]
[null,null,null,null,null,null,"",null,{"$f":"IF(H1885=\"\",\"\",ROUND(H1885/SUM(H1882:H1889),4))","v":""},null,null,null,null,null,null,{"$f":"+IF(O1885=\"\",\"\",IF(N1882=\"Transporte Marítimo\",VLOOKUP(O1885,$O$4030:$P$4035,2),IF(N1882=\"Transporte Aéreo\",VLOOKUP(O1885,$O$4037:$P$4042,2),IF(N1882=\"Transporte Aéreo\",VLOOKUP(O1885,$O$4044:$P$4045,2),\"\"))))","v":""},null,null,null,null,null,null,null,null,null,null,null,null,null,null,null,"",""]
[null,null,null,null,null,null,"",null,{"$f":"IF(H1889=\"\",\"\",ROUND(H1889/SUM(H1882:H1889),4))","v":""},null,null,null,null,null,null,{"$f":"+IF(O1889=\"\",\"\",IF(N1882=\"Transporte Marítimo\",VLOOKUP(O1889,$O$4030:$P$4035,2),IF(N1882=\"Transporte Aéreo\",VLOOKUP(O1889,$O$4037:$P$4042,2),IF(N1882=\"Transporte Aéreo\",VLOOKUP(O1889,$O$4044:$P$4045,2),\"\"))))","v":""},null,null,null,null,null,null,null,null,null,null,null,null,null,null,null,"",""]
[null,null,null,null,null,null,"",null,{"$f":"IF(H1892=\"\",\"\",ROUND(H1892/SUM(H1890:H1897),4))","v":""},null,null,null,null,null,null,{"$f":"+IF(O1892=\"\",\"\",IF(N1890=\"Transporte Marítimo\",VLOOKUP(O1892,$O$4030:$P$4035,2),IF(N1890=\"Transporte Aéreo\",VLOOKUP(O1892,$O$4037:$P$4042,2),IF(N1890=\"Transporte Aéreo\",VLOOKUP(O1892,$O$4044:$P$4045,2),\"\"))))","v":""},null,null,null,null,null,null,null,null,null,null,null,null,null,null,null,"",""]
[null,null,null,null,null,null,"",null,{"$f":"IF(H1895=\"\",\"\",ROUND(H1895/SUM(H1890:H1897),4))","v":""},null,null,null,null,null,null,{"$f":"+IF(O1895=\"\",\"\",IF(N1890=\"Transporte Marítimo\",VLOOKUP(O1895,$O$4030:$P$4035,2),IF(N1890=\"Transporte Aéreo\",VLOOKUP(O1895,$O$4037:$P$4042,2),IF(N1890=\"Transporte Aéreo\",VLOOKUP(O1895,$O$4044:$P$4045,2),\"\"))))","v":""},null,null,null,null,null,null,null,null,null,null,null,null,null,null,null,"",""]
[null,null,null,null,null,null,"",null,{"$f":"IF(H1896=\"\",\"\",ROUND(H1896/SUM(H1890:H1897),4))","v":""},null,null,null,null,null,null,{"$f":"+IF(O1896=\"\",\"\",IF(N1890=\"Transporte Marítimo\",VLOOKUP(O1896,$O$4030:$P$4035,2),IF(N1890=\"Transporte Aéreo\",VLOOKUP(O1896,$O$4037:$P$4042,2),IF(N1890=\"Transporte Aéreo\",VLOOKUP(O1896,$O$4044:$P$4045,2),\"\"))))","v":""},null,null,null,null,null,null,null,null,null,null,null,null,null,null,null,"",""]
[null,null,null,null,null,null,"",null,{"$f":"IF(H1899=\"\",\"\",ROUND(H1899/SUM(H1898:H1905),4))","v":""},null,null,null,null,null,null,{"$f":"+IF(O1899=\"\",\"\",IF(N1898=\"Transporte Marítimo\",VLOOKUP(O1899,$O$4030:$P$4035,2),IF(N1898=\"Transporte Aéreo\",VLOOKUP(O1899,$O$4037:$P$4042,2),IF(N1898=\"Transporte Aéreo\",VLOOKUP(O1899,$O$4044:$P$4045,2),\"\"))))","v":""},null,null,null,null,null,null,null,null,null,null,null,null,null,null,null,{"$f":"+IF(AE1899=\"20NL\",1,IF(AE1899=\"40NL\",2,IF(AE1899=\"20RF\",3,IF(AE1899=\"40RF\",4,\"\"))))","v":""},""]
[null,null,null,null,null,null,"",null,{"$f":"IF(H1902=\"\",\"\",ROUND(H1902/SUM(H1898:H1905),4))","v":""},null,null,null,null,null,null,{"$f":"+IF(O1902=\"\",\"\",IF(N1898=\"Transporte Marítimo\",VLOOKUP(O1902,$O$4030:$P$4035,2),IF(N1898=\"Transporte Aéreo\",VLOOKUP(O1902,$O$4037:$P$4042,2),IF(N1898=\"Transporte Aéreo\",VLOOKUP(O1902,$O$4044:$P$4045,2),\"\"))))","v":""},null,null,null,null,null,null,null,null,null,null,null,null,null,null,null,"",""]
[null,null,null,null,null,null,"",null,{"$f":"IF(H1905=\"\",\"\",ROUND(H1905/SUM(H1898:H1905),4))","v":""},null,null,null,null,null,null,{"$f":"+IF(O1905=\"\",\"\",IF(N1898=\"Transporte Marítimo\",VLOOKUP(O1905,$O$4030:$P$4035,2),IF(N1898=\"Transporte Aéreo\",VLOOKUP(O1905,$O$4037:$P$4042,2),IF(N1898=\"Transporte Aéreo\",VLOOKUP(O1905,$O$4044:$P$4045,2),\"\"))))","v":""},null,null,null,null,null,null,null,null,null,null,null,null,null,null,null,"",""]
[null,null,null,null,null,null,"",null,{"$f":"IF(H1908=\"\",\"\",ROUND(H1908/SUM(H1906:H1913),4))","v":""},null,null,null,null,null,null,{"$f":"+IF(O1908=\"\",\"\",IF(N1906=\"Transporte Marítimo\",VLOOKUP(O1908,$O$4030:$P$4035,2),IF(N1906=\"Transporte Aéreo\",VLOOKUP(O1908,$O$4037:$P$4042,2),IF(N1906=\"Transporte Aéreo\",VLOOKUP(O1908,$O$4044:$P$4045,2),\"\"))))","v":""},null,null,null,null,null,null,null,null,null,null,null,null,null,null,null,"",""]
[null,null,null,null,null,null,"",null,{"$f":"IF(H1912=\"\",\"\",ROUND(H1912/SUM(H1906:H1913),4))","v":""},null,null,null,null,null,null,{"$f":"+IF(O1912=\"\",\"\",IF(N1906=\"Transporte Marítimo\",VLOOKUP(O1912,$O$4030:$P$4035,2),IF(N1906=\"Transporte Aéreo\",VLOOKUP(O1912,$O$4037:$P$4042,2),IF(N1906=\"Transporte Aéreo\",VLOOKUP(O1912,$O$4044:$P$4045,2),\"\"))))","v":""},null,null,null,null,null,null,null,null,null,null,null,null,null,null,null,"",""]
[null,null,null,null,null,null,"",null,{"$f":"IF(H1915=\"\",\"\",ROUND(H1915/SUM(H1914:H1921),4))","v":""},null,null,null,null,null,null,{"$f":"+IF(O1915=\"\",\"\",IF(N1914=\"Transporte Marítimo\",VLOOKUP(O1915,$O$4030:$P$4035,2),IF(N1914=\"Transporte Aéreo\",VLOOKUP(O1915,$O$4037:$P$4042,2),IF(N1914=\"Transporte Aéreo\",VLOOKUP(O1915,$O$4044:$P$4045,2),\"\"))))","v":""},null,null,null,null,null,null,null,null,null,null,null,null,null,null,null,{"$f":"+IF(AE1915=\"20NL\",1,IF(AE1915=\"40NL\",2,IF(AE1915=\"20RF\",3,IF(AE1915=\"40RF\",4,\"\"))))","v":""},""]
[null,null,null,null,null,null,"",null,{"$f":"IF(H1918=\"\",\"\",ROUND(H1918/SUM(H1914:H1921),4))","v":""},null,null,null,null,null,null,{"$f":"+IF(O1918=\"\",\"\",IF(N1914=\"Transporte Marítimo\",VLOOKUP(O1918,$O$4030:$P$4035,2),IF(N1914=\"Transporte Aéreo\",VLOOKUP(O1918,$O$4037:$P$4042,2),IF(N1914=\"Transporte Aéreo\",VLOOKUP(O1918,$O$4044:$P$4045,2),\"\"))))","v":""},null,null,null,null,null,null,null,null,null,null,null,null,null,null,null,"",""]
[null,null,null,null,null,null,"",null,{"$f":"IF(H1919=\"\",\"\",ROUND(H1919/SUM(H1914:H1921),4))","v":""},null,null,null,null,null,null,{"$f":"+IF(O1919=\"\",\"\",IF(N1914=\"Transporte Marítimo\",VLOOKUP(O1919,$O$4030:$P$4035,2),IF(N1914=\"Transporte Aéreo\",VLOOKUP(O1919,$O$4037:$P$4042,2),IF(N1914=\"Transporte Aéreo\",VLOOKUP(O1919,$O$4044:$P$4045,2),\"\"))))","v":""},null,null,null,null,null,null,null,null,null,null,null,null,null,null,null,"",""]
[null,{"$f":"+B1914+1","v":239},null,null,null,null,{"$f":"+IF(F1922=\"\",\"\",VLOOKUP(F1922,$F$4031:$G$4120,2))","v":""},null,{"$f":"IF(H1922=\"\",\"\",1-SUM(I1923:I1929))","v":""},null,null,null,null,null,null,{"$f":"+IF(O1922=\"\",\"\",IF(N1922=\"Transporte Marítimo\",VLOOKUP(O1922,$O$4030:$P$4035,2),IF(N1922=\"Transporte Aéreo\",VLOOKUP(O1922,$O$4037:$P$4042,2),IF(N1922=\"CTT\",VLOOKUP(O1922,$O$4044:$P$4045,2),\"\"))))","v":""},null,null,null,null,null,null,null,null,null,null,null,null,null,null,null,{"$f":"+IF(AE1922=\"20NL\",1,IF(AE1922=\"40NL\",2,IF(AE1922=\"20RF\",3,IF(AE1922=\"40RF\",4,\"\"))))","v":""},{"$f":"+IF(AF1922=\"\",\"\",VLOOKUP(AF1922,$AF$4031:$AG$4034,2))","v":""},null,null,null,null,null,null,null,null,null,null,null,null,null,null," "]
[null,null,null,null,null,null,"",null,{"$f":"IF(H1925=\"\",\"\",ROUND(H1925/SUM(H1922:H1929),4))","v":""},null,null,null,null,null,null,{"$f":"+IF(O1925=\"\",\"\",IF(N1922=\"Transporte Marítimo\",VLOOKUP(O1925,$O$4030:$P$4035,2),IF(N1922=\"Transporte Aéreo\",VLOOKUP(O1925,$O$4037:$P$4042,2),IF(N1922=\"Transporte Aéreo\",VLOOKUP(O1925,$O$4044:$P$4045,2),\"\"))))","v":""},null,null,null,null,null,null,null,null,null,null,null,null,null,null,null,"",""]
[null,null,null,null,null,null,"",null,{"$f":"IF(H1928=\"\",\"\",ROUND(H1928/SUM(H1922:H1929),4))","v":""},null,null,null,null,null,null,{"$f":"+IF(O1928=\"\",\"\",IF(N1922=\"Transporte Marítimo\",VLOOKUP(O1928,$O$4030:$P$4035,2),IF(N1922=\"Transporte Aéreo\",VLOOKUP(O1928,$O$4037:$P$4042,2),IF(N1922=\"Transporte Aéreo\",VLOOKUP(O1928,$O$4044:$P$4045,2),\"\"))))","v":""},null,null,null,null,null,null,null,null,null,null,null,null,null,null,null,"",""]
[null,null,null,null,null,null,"",null,{"$f":"IF(H1931=\"\",\"\",ROUND(H1931/SUM(H1930:H1937),4))","v":""},null,null,null,null,null,null,{"$f":"+IF(O1931=\"\",\"\",IF(N1930=\"Transporte Marítimo\",VLOOKUP(O1931,$O$4030:$P$4035,2),IF(N1930=\"Transporte Aéreo\",VLOOKUP(O1931,$O$4037:$P$4042,2),IF(N1930=\"Transporte Aéreo\",VLOOKUP(O1931,$O$4044:$P$4045,2),\"\"))))","v":""},null,null,null,null,null,null,null,null,null,null,null,null,null,null,null,{"$f":"+IF(AE1931=\"20NL\",1,IF(AE1931=\"40NL\",2,IF(AE1931=\"20RF\",3,IF(AE1931=\"40RF\",4,\"\"))))","v":""},{"$f":"+IF(AF1931=\"\",\"\",VLOOKUP(AF1931,$AF$4031:$AG$4034,2))","v":""}]
[null,null,null,null,null,null,"",null,{"$f":"IF(H1935=\"\",\"\",ROUND(H1935/SUM(H1930:H1937),4))","v":""},null,null,null,null,null,null,{"$f":"+IF(O1935=\"\",\"\",IF(N1930=\"Transporte Marítimo\",VLOOKUP(O1935,$O$4030:$P$4035,2),IF(N1930=\"Transporte Aéreo\",VLOOKUP(O1935,$O$4037:$P$4042,2),IF(N1930=\"Transporte Aéreo\",VLOOKUP(O1935,$O$4044:$P$4045,2),\"\"))))","v":""},null,null,null,null,null,null,null,null,null,null,null,null,null,null,null,"",""]
[null,{"$f":"+B1930+1","v":241},null,null,null,null,{"$f":"+IF(F1938=\"\",\"\",VLOOKUP(F1938,$F$4031:$G$4120,2))","v":""},null,{"$f":"IF(H1938=\"\",\"\",1-SUM(I1939:I1945))","v":""},null,null,null,null,null,null,{"$f":"+IF(O1938=\"\",\"\",IF(N1938=\"Transporte Marítimo\",VLOOKUP(O1938,$O$4030:$P$4035,2),IF(N1938=\"Transporte Aéreo\",VLOOKUP(O1938,$O$4037:$P$4042,2),IF(N1938=\"CTT\",VLOOKUP(O1938,$O$4044:$P$4045,2),\"\"))))","v":""},null,null,null,null,null,null,null,null,null,null,null,null,null,null,null,{"$f":"+IF(AE1938=\"20NL\",1,IF(AE1938=\"40NL\",2,IF(AE1938=\"20RF\",3,IF(AE1938=\"40RF\",4,\"\"))))","v":""},{"$f":"+IF(AF1938=\"\",\"\",VLOOKUP(AF1938,$AF$4031:$AG$4034,2))","v":""},null,null,null,null,null,null,null,null,null,null,null,null,null,null," "]
[null,null,null,null,null,null,"",null,{"$f":"IF(H1941=\"\",\"\",ROUND(H1941/SUM(H1938:H1945),4))","v":""},null,null,null,null,null,null,{"$f":"+IF(O1941=\"\",\"\",IF(N1938=\"Transporte Marítimo\",VLOOKUP(O1941,$O$4030:$P$4035,2),IF(N1938=\"Transporte Aéreo\",VLOOKUP(O1941,$O$4037:$P$4042,2),IF(N1938=\"Transporte Aéreo\",VLOOKUP(O1941,$O$4044:$P$4045,2),\"\"))))","v":""},null,null,null,null,null,null,null,null,null,null,null,null,null,null,null,"",""]
[null,null,null,null,null,null,"",null,{"$f":"IF(H1942=\"\",\"\",ROUND(H1942/SUM(H1938:H1945),4))","v":""},null,null,null,null,null,null,{"$f":"+IF(O1942=\"\",\"\",IF(N1938=\"Transporte Marítimo\",VLOOKUP(O1942,$O$4030:$P$4035,2),IF(N1938=\"Transporte Aéreo\",VLOOKUP(O1942,$O$4037:$P$4042,2),IF(N1938=\"Transporte Aéreo\",VLOOKUP(O1942,$O$4044:$P$4045,2),\"\"))))","v":""},null,null,null,null,null,null,null,null,null,null,null,null,null,null,null,"",""]
[null,null,null,null,null,null,"",null,{"$f":"IF(H1945=\"\",\"\",ROUND(H1945/SUM(H1938:H1945),4))","v":""},null,null,null,null,null,null,{"$f":"+IF(O1945=\"\",\"\",IF(N1938=\"Transporte Marítimo\",VLOOKUP(O1945,$O$4030:$P$4035,2),IF(N1938=\"Transporte Aéreo\",VLOOKUP(O1945,$O$4037:$P$4042,2),IF(N1938=\"Transporte Aéreo\",VLOOKUP(O1945,$O$4044:$P$4045,2),\"\"))))","v":""},null,null,null,null,null,null,null,null,null,null,null,null,null,null,null,"",""]
[null,null,null,null,null,null,"",null,{"$f":"IF(H1949=\"\",\"\",ROUND(H1949/SUM(H1946:H1953),4))","v":""},null,null,null,null,null,null,{"$f":"+IF(O1949=\"\",\"\",IF(N1946=\"Transporte Marítimo\",VLOOKUP(O1949,$O$4030:$P$4035,2),IF(N1946=\"Transporte Aéreo\",VLOOKUP(O1949,$O$4037:$P$4042,2),IF(N1946=\"Transporte Aéreo\",VLOOKUP(O1949,$O$4044:$P$4045,2),\"\"))))","v":""},null,null,null,null,null,null,null,null,null,null,null,null,null,null,null,"",""]
[null,null,null,null,null,null,"",null,{"$f":"IF(H1951=\"\",\"\",ROUND(H1951/SUM(H1946:H1953),4))","v":""},null,null,null,null,null,null,{"$f":"+IF(O1951=\"\",\"\",IF(N1946=\"Transporte Marítimo\",VLOOKUP(O1951,$O$4030:$P$4035,2),IF(N1946=\"Transporte Aéreo\",VLOOKUP(O1951,$O$4037:$P$4042,2),IF(N1946=\"Transporte Aéreo\",VLOOKUP(O1951,$O$4044:$P$4045,2),\"\"))))","v":""},null,null,null,null,null,null,null,null,null,null,null,null,null,null,null,"",""]
[null,{"$f":"+B1946+1","v":243},null,null,null,null,{"$f":"+IF(F1954=\"\",\"\",VLOOKUP(F1954,$F$4031:$G$4120,2))","v":""},null,{"$f":"IF(H1954=\"\",\"\",1-SUM(I1955:I1961))","v":""},null,null,null,null,null,null,{"$f":"+IF(O1954=\"\",\"\",IF(N1954=\"Transporte Marítimo\",VLOOKUP(O1954,$O$4030:$P$4035,2),IF(N1954=\"Transporte Aéreo\",VLOOKUP(O1954,$O$4037:$P$4042,2),IF(N1954=\"CTT\",VLOOKUP(O1954,$O$4044:$P$4045,2),\"\"))))","v":""},null,null,null,null,null,null,null,null,null,null,null,null,null,null,null,{"$f":"+IF(AE1954=\"20NL\",1,IF(AE1954=\"40NL\",2,IF(AE1954=\"20RF\",3,IF(AE1954=\"40RF\",4,\"\"))))","v":""},{"$f":"+IF(AF1954=\"\",\"\",VLOOKUP(AF1954,$AF$4031:$AG$4034,2))","v":""},null,null,null,null,null,null,null,null,null,null,null,null,null,null," "]
[null,null,null,null,null,null,"",null,{"$f":"IF(H1958=\"\",\"\",ROUND(H1958/SUM(H1954:H1961),4))","v":""},null,null,null,null,null,null,{"$f":"+IF(O1958=\"\",\"\",IF(N1954=\"Transporte Marítimo\",VLOOKUP(O1958,$O$4030:$P$4035,2),IF(N1954=\"Transporte Aéreo\",VLOOKUP(O1958,$O$4037:$P$4042,2),IF(N1954=\"Transporte Aéreo\",VLOOKUP(O1958,$O$4044:$P$4045,2),\"\"))))","v":""},null,null,null,null,null,null,null,null,null,null,null,null,null,null,null,"",""]
[null,null,null,null,null,null,"",null,{"$f":"IF(H1961=\"\",\"\",ROUND(H1961/SUM(H1954:H1961),4))","v":""},null,null,null,null,null,null,{"$f":"+IF(O1961=\"\",\"\",IF(N1954=\"Transporte Marítimo\",VLOOKUP(O1961,$O$4030:$P$4035,2),IF(N1954=\"Transporte Aéreo\",VLOOKUP(O1961,$O$4037:$P$4042,2),IF(N1954=\"Transporte Aéreo\",VLOOKUP(O1961,$O$4044:$P$4045,2),\"\"))))","v":""},null,null,null,null,null,null,null,null,null,null,null,null,null,null,null,"",""]
[null,null,null,null,null,null,"",null,{"$f":"IF(H1964=\"\",\"\",ROUND(H1964/SUM(H1962:H1969),4))","v":""},null,null,null,null,null,null,{"$f":"+IF(O1964=\"\",\"\",IF(N1962=\"Transporte Marítimo\",VLOOKUP(O1964,$O$4030:$P$4035,2),IF(N1962=\"Transporte Aéreo\",VLOOKUP(O1964,$O$4037:$P$4042,2),IF(N1962=\"Transporte Aéreo\",VLOOKUP(O1964,$O$4044:$P$4045,2),\"\"))))","v":""},null,null,null,null,null,null,null,null,null,null,null,null,null,null,null,"",""]
[null,null,null,null,null,null,"",null,{"$f":"IF(H1965=\"\",\"\",ROUND(H1965/SUM(H1962:H1969),4))","v":""},null,null,null,null,null,null,{"$f":"+IF(O1965=\"\",\"\",IF(N1962=\"Transporte Marítimo\",VLOOKUP(O1965,$O$4030:$P$4035,2),IF(N1962=\"Transporte Aéreo\",VLOOKUP(O1965,$O$4037:$P$4042,2),IF(N1962=\"Transporte Aéreo\",VLOOKUP(O1965,$O$4044:$P$4045,2),\"\"))))","v":""},null,null,null,null,null,null,null,null,null,null,null,null,null,null,null,"",""]
[null,null,null,null,null,null,"",null,{"$f":"IF(H1968=\"\",\"\",ROUND(H1968/SUM(H1962:H1969),4))","v":""},null,null,null,null,null,null,{"$f":"+IF(O1968=\"\",\"\",IF(N1962=\"Transporte Marítimo\",VLOOKUP(O1968,$O$4030:$P$4035,2),IF(N1962=\"Transporte Aéreo\",VLOOKUP(O1968,$O$4037:$P$4042,2),IF(N1962=\"Transporte Aéreo\",VLOOKUP(O1968,$O$4044:$P$4045,2),\"\"))))","v":""},null,null,null,null,null,null,null,null,null,null,null,null,null,null,null,"",""]
[null,null,null,null,null,null,"",null,{"$f":"IF(H1972=\"\",\"\",ROUND(H1972/SUM(H1970:H1977),4))","v":""},null,null,null,null,null,null,{"$f":"+IF(O1972=\"\",\"\",IF(N1970=\"Transporte Marítimo\",VLOOKUP(O1972,$O$4030:$P$4035,2),IF(N1970=\"Transporte Aéreo\",VLOOKUP(O1972,$O$4037:$P$4042,2),IF(N1970=\"Transporte Aéreo\",VLOOKUP(O1972,$O$4044:$P$4045,2),\"\"))))","v":""},null,null,null,null,null,null,null,null,null,null,null,null,null,null,null,"",""]
[null,null,null,null,null,null,"",null,{"$f":"IF(H1974=\"\",\"\",ROUND(H1974/SUM(H1970:H1977),4))","v":""},null,null,null,null,null,null,{"$f":"+IF(O1974=\"\",\"\",IF(N1970=\"Transporte Marítimo\",VLOOKUP(O1974,$O$4030:$P$4035,2),IF(N1970=\"Transporte Aéreo\",VLOOKUP(O1974,$O$4037:$P$4042,2),IF(N1970=\"Transporte Aéreo\",VLOOKUP(O1974,$O$4044:$P$4045,2),\"\"))))","v":""},null,null,null,null,null,null,null,null,null,null,null,null,null,null,null,"",""]
[null,null,null,null,null,null,"",null,{"$f":"IF(H1977=\"\",\"\",ROUND(H1977/SUM(H1970:H1977),4))","v":""},null,null,null,null,null,null,{"$f":"+IF(O1977=\"\",\"\",IF(N1970=\"Transporte Marítimo\",VLOOKUP(O1977,$O$4030:$P$4035,2),IF(N1970=\"Transporte Aéreo\",VLOOKUP(O1977,$O$4037:$P$4042,2),IF(N1970=\"Transporte Aéreo\",VLOOKUP(O1977,$O$4044:$P$4045,2),\"\"))))","v":""},null,null,null,null,null,null,null,null,null,null,null,null,null,null,null,"",""]
[null,null,null,null,null,null,"",null,{"$f":"IF(H1981=\"\",\"\",ROUND(H1981/SUM(H1978:H1985),4))","v":""},null,null,null,null,null,null,{"$f":"+IF(O1981=\"\",\"\",IF(N1978=\"Transporte Marítimo\",VLOOKUP(O1981,$O$4030:$P$4035,2),IF(N1978=\"Transporte Aéreo\",VLOOKUP(O1981,$O$4037:$P$4042,2),IF(N1978=\"Transporte Aéreo\",VLOOKUP(O1981,$O$4044:$P$4045,2),\"\"))))","v":""},null,null,null,null,null,null,null,null,null,null,null,null,null,null,null,"",""]
[null,null,null,null,null,null,"",null,{"$f":"IF(H1984=\"\",\"\",ROUND(H1984/SUM(H1978:H1985),4))","v":""},null,null,null,null,null,null,{"$f":"+IF(O1984=\"\",\"\",IF(N1978=\"Transporte Marítimo\",VLOOKUP(O1984,$O$4030:$P$4035,2),IF(N1978=\"Transporte Aéreo\",VLOOKUP(O1984,$O$4037:$P$4042,2),IF(N1978=\"Transporte Aéreo\",VLOOKUP(O1984,$O$4044:$P$4045,2),\"\"))))","v":""},null,null,null,null,null,null,null,null,null,null,null,null,null,null,null,"",""]
[null,null,null,null,null,null,"",null,{"$f":"IF(H1985=\"\",\"\",ROUND(H1985/SUM(H1978:H1985),4))","v":""},null,null,null,null,null,null,{"$f":"+IF(O1985=\"\",\"\",IF(N1978=\"Transporte Marítimo\",VLOOKUP(O1985,$O$4030:$P$4035,2),IF(N1978=\"Transporte Aéreo\",VLOOKUP(O1985,$O$4037:$P$4042,2),IF(N1978=\"Transporte Aéreo\",VLOOKUP(O1985,$O$4044:$P$4045,2),\"\"))))","v":""},null,null,null,null,null,null,null,null,null,null,null,null,null,null,null,"",""]
[null,null,null,null,null,null,"",null,{"$f":"IF(H1988=\"\",\"\",ROUND(H1988/SUM(H1986:H1993),4))","v":""},null,null,null,null,null,null,{"$f":"+IF(O1988=\"\",\"\",IF(N1986=\"Transporte Marítimo\",VLOOKUP(O1988,$O$4030:$P$4035,2),IF(N1986=\"Transporte Aéreo\",VLOOKUP(O1988,$O$4037:$P$4042,2),IF(N1986=\"Transporte Aéreo\",VLOOKUP(O1988,$O$4044:$P$4045,2),\"\"))))","v":""},null,null,null,null,null,null,null,null,null,null,null,null,null,null,null,"",""]
[null,null,null,null,null,null,"",null,{"$f":"IF(H1991=\"\",\"\",ROUND(H1991/SUM(H1986:H1993),4))","v":""},null,null,null,null,null,null,{"$f":"+IF(O1991=\"\",\"\",IF(N1986=\"Transporte Marítimo\",VLOOKUP(O1991,$O$4030:$P$4035,2),IF(N1986=\"Transporte Aéreo\",VLOOKUP(O1991,$O$4037:$P$4042,2),IF(N1986=\"Transporte Aéreo\",VLOOKUP(O1991,$O$4044:$P$4045,2),\"\"))))","v":""},null,null,null,null,null,null,null,null,null,null,null,null,null,null,null,"",""]
[null,null,null,null,null,null,"",null,{"$f":"IF(H1995=\"\",\"\",ROUND(H1995/SUM(H1994:H2001),4))","v":""},null,null,null,null,null,null,{"$f":"+IF(O1995=\"\",\"\",IF(N1994=\"Transporte Marítimo\",VLOOKUP(O1995,$O$4030:$P$4035,2),IF(N1994=\"Transporte Aéreo\",VLOOKUP(O1995,$O$4037:$P$4042,2),IF(N1994=\"Transporte Aéreo\",VLOOKUP(O1995,$O$4044:$P$4045,2),\"\"))))","v":""},null,null,null,null,null,null,null,null,null,null,null,null,null,null,null,{"$f":"+IF(AE1995=\"20NL\",1,IF(AE1995=\"40NL\",2,IF(AE1995=\"20RF\",3,IF(AE1995=\"40RF\",4,\"\"))))","v":""},""]
[null,null,null,null,null,null,"",null,{"$f":"IF(H1997=\"\",\"\",ROUND(H1997/SUM(H1994:H2001),4))","v":""},null,null,null,null,null,null,{"$f":"+IF(O1997=\"\",\"\",IF(N1994=\"Transporte Marítimo\",VLOOKUP(O1997,$O$4030:$P$4035,2),IF(N1994=\"Transporte Aéreo\",VLOOKUP(O1997,$O$4037:$P$4042,2),IF(N1994=\"Transporte Aéreo\",VLOOKUP(O1997,$O$4044:$P$4045,2),\"\"))))","v":""},null,null,null,null,null,null,null,null,null,null,null,null,null,null,null,"",""]
[null,null,null,null,null,null,"",null,{"$f":"IF(H2000=\"\",\"\",ROUND(H2000/SUM(H1994:H2001),4))","v":""},null,null,null,null,null,null,{"$f":"+IF(O2000=\"\",\"\",IF(N1994=\"Transporte Marítimo\",VLOOKUP(O2000,$O$4030:$P$4035,2),IF(N1994=\"Transporte Aéreo\",VLOOKUP(O2000,$O$4037:$P$4042,2),IF(N1994=\"Transporte Aéreo\",VLOOKUP(O2000,$O$4044:$P$4045,2),\"\"))))","v":""},null,null,null,null,null,null,null,null,null,null,null,null,null,null,null,"",""]
[null,null,null,null,null,null,"",null,{"$f":"IF(H2004=\"\",\"\",ROUND(H2004/SUM(H2002:H2009),4))","v":""},null,null,null,null,null,null,{"$f":"+IF(O2004=\"\",\"\",IF(N2002=\"Transporte Marítimo\",VLOOKUP(O2004,$O$4030:$P$4035,2),IF(N2002=\"Transporte Aéreo\",VLOOKUP(O2004,$O$4037:$P$4042,2),IF(N2002=\"Transporte Aéreo\",VLOOKUP(O2004,$O$4044:$P$4045,2),\"\"))))","v":""},null,null,null,null,null,null,null,null,null,null,null,null,null,null,null,"",""]
[null,null,null,null,null,null,"",null,{"$f":"IF(H2007=\"\",\"\",ROUND(H2007/SUM(H2002:H2009),4))","v":""},null,null,null,null,null,null,{"$f":"+IF(O2007=\"\",\"\",IF(N2002=\"Transporte Marítimo\",VLOOKUP(O2007,$O$4030:$P$4035,2),IF(N2002=\"Transporte Aéreo\",VLOOKUP(O2007,$O$4037:$P$4042,2),IF(N2002=\"Transporte Aéreo\",VLOOKUP(O2007,$O$4044:$P$4045,2),\"\"))))","v":""},null,null,null,null,null,null,null,null,null,null,null,null,null,null,null,"",""]
[null,null,null,null,null,null,"",null,{"$f":"IF(H2008=\"\",\"\",ROUND(H2008/SUM(H2002:H2009),4))","v":""},null,null,null,null,null,null,{"$f":"+IF(O2008=\"\",\"\",IF(N2002=\"Transporte Marítimo\",VLOOKUP(O2008,$O$4030:$P$4035,2),IF(N2002=\"Transporte Aéreo\",VLOOKUP(O2008,$O$4037:$P$4042,2),IF(N2002=\"Transporte Aéreo\",VLOOKUP(O2008,$O$4044:$P$4045,2),\"\"))))","v":""},null,null,null,null,null,null,null,null,null,null,null,null,null,null,null,"",""]
[null,null,null,null,null,null,"",null,{"$f":"IF(H2011=\"\",\"\",ROUND(H2011/SUM(H2010:H2017),4))","v":""},null,null,null,null,null,null,{"$f":"+IF(O2011=\"\",\"\",IF(N2010=\"Transporte Marítimo\",VLOOKUP(O2011,$O$4030:$P$4035,2),IF(N2010=\"Transporte Aéreo\",VLOOKUP(O2011,$O$4037:$P$4042,2),IF(N2010=\"Transporte Aéreo\",VLOOKUP(O2011,$O$4044:$P$4045,2),\"\"))))","v":""},null,null,null,null,null,null,null,null,null,null,null,null,null,null,null,{"$f":"+IF(AE2011=\"20NL\",1,IF(AE2011=\"40NL\",2,IF(AE2011=\"20RF\",3,IF(AE2011=\"40RF\",4,\"\"))))","v":""},{"$f":"+IF(AF2011=\"\",\"\",VLOOKUP(AF2011,$AF$4031:$AG$4034,2))","v":""}]
[null,null,null,null,null,null,"",null,{"$f":"IF(H2014=\"\",\"\",ROUND(H2014/SUM(H2010:H2017),4))","v":""},null,null,null,null,null,null,{"$f":"+IF(O2014=\"\",\"\",IF(N2010=\"Transporte Marítimo\",VLOOKUP(O2014,$O$4030:$P$4035,2),IF(N2010=\"Transporte Aéreo\",VLOOKUP(O2014,$O$4037:$P$4042,2),IF(N2010=\"Transporte Aéreo\",VLOOKUP(O2014,$O$4044:$P$4045,2),\"\"))))","v":""},null,null,null,null,null,null,null,null,null,null,null,null,null,null,null,"",""]
[null,null,null,null,null,null,{"$f":"+IF(F2017=\"\",\"\",VLOOKUP(F2017,$F$4031:$G$4120,2))","v":""},null,{"$f":"IF(H2017=\"\",\"\",ROUND(H2017/SUM(H2010:H2017),4))","v":""},null,null,null,null,null,null,{"$f":"+IF(O2017=\"\",\"\",IF(N2010=\"Transporte Marítimo\",VLOOKUP(O2017,$O$4030:$P$4035,2),IF(N2010=\"Transporte Aéreo\",VLOOKUP(O2017,$O$4037:$P$4042,2),IF(N2010=\"Transporte Aéreo\",VLOOKUP(O2017,$O$4044:$P$4045,2),\"\"))))","v":""},null,null,null,null,null,null,null,null,null,null,null,null,null,null,null,"",""]
[null,null,null,null,null,null,"",null,{"$f":"IF(H2020=\"\",\"\",ROUND(H2020/SUM(H2018:H2025),4))","v":""},null,null,null,null,null,null,{"$f":"+IF(O2020=\"\",\"\",IF(N2018=\"Transporte Marítimo\",VLOOKUP(O2020,$O$4030:$P$4035,2),IF(N2018=\"Transporte Aéreo\",VLOOKUP(O2020,$O$4037:$P$4042,2),IF(N2018=\"Transporte Aéreo\",VLOOKUP(O2020,$O$4044:$P$4045,2),\"\"))))","v":""},null,null,null,null,null,null,null,null,null,null,null,null,null,null,null,"",""]
[null,null,null,null,null,null,"",null,{"$f":"IF(H2023=\"\",\"\",ROUND(H2023/SUM(H2018:H2025),4))","v":""},null,null,null,null,null,null,{"$f":"+IF(O2023=\"\",\"\",IF(N2018=\"Transporte Marítimo\",VLOOKUP(O2023,$O$4030:$P$4035,2),IF(N2018=\"Transporte Aéreo\",VLOOKUP(O2023,$O$4037:$P$4042,2),IF(N2018=\"Transporte Aéreo\",VLOOKUP(O2023,$O$4044:$P$4045,2),\"\"))))","v":""},null,null,null,null,null,null,null,null,null,null,null,null,null,null,null,"",""]
[null,null,null,null,null,null,"",null,{"$f":"IF(H2027=\"\",\"\",ROUND(H2027/SUM(H2026:H2033),4))","v":""},null,null,null,null,null,null,{"$f":"+IF(O2027=\"\",\"\",IF(N2026=\"Transporte Marítimo\",VLOOKUP(O2027,$O$4030:$P$4035,2),IF(N2026=\"Transporte Aéreo\",VLOOKUP(O2027,$O$4037:$P$4042,2),IF(N2026=\"Transporte Aéreo\",VLOOKUP(O2027,$O$4044:$P$4045,2),\"\"))))","v":""},null,null,null,null,null,null,null,null,null,null,null,null,null,null,null,{"$f":"+IF(AE2027=\"20NL\",1,IF(AE2027=\"40NL\",2,IF(AE2027=\"20RF\",3,IF(AE2027=\"40RF\",4,\"\"))))","v":""},""]
[null,null,null,null,null,null,"",null,{"$f":"IF(H2030=\"\",\"\",ROUND(H2030/SUM(H2026:H2033),4))","v":""},null,null,null,null,null,null,{"$f":"+IF(O2030=\"\",\"\",IF(N2026=\"Transporte Marítimo\",VLOOKUP(O2030,$O$4030:$P$4035,2),IF(N2026=\"Transporte Aéreo\",VLOOKUP(O2030,$O$4037:$P$4042,2),IF(N2026=\"Transporte Aéreo\",VLOOKUP(O2030,$O$4044:$P$4045,2),\"\"))))","v":""},null,null,null,null,null,null,null,null,null,null,null,null,null,null,null,"",""]
[null,null,null,null,null,null,"",null,{"$f":"IF(H2031=\"\",\"\",ROUND(H2031/SUM(H2026:H2033),4))","v":""},null,null,null,null,null,null,{"$f":"+IF(O2031=\"\",\"\",IF(N2026=\"Transporte Marítimo\",VLOOKUP(O2031,$O$4030:$P$4035,2),IF(N2026=\"Transporte Aéreo\",VLOOKUP(O2031,$O$4037:$P$4042,2),IF(N2026=\"Transporte Aéreo\",VLOOKUP(O2031,$O$4044:$P$4045,2),\"\"))))","v":""},null,null,null,null,null,null,null,null,null,null,null,null,null,null,null,"",""]
[null,{"$f":"+B2026+1","v":253},null,null,null,null,{"$f":"+IF(F2034=\"\",\"\",VLOOKUP(F2034,$F$4031:$G$4120,2))","v":""},null,{"$f":"IF(H2034=\"\",\"\",1-SUM(I2035:I2041))","v":""},null,null,null,null,null,null,{"$f":"+IF(O2034=\"\",\"\",IF(N2034=\"Transporte Marítimo\",VLOOKUP(O2034,$O$4030:$P$4035,2),IF(N2034=\"Transporte Aéreo\",VLOOKUP(O2034,$O$4037:$P$4042,2),IF(N2034=\"CTT\",VLOOKUP(O2034,$O$4044:$P$4045,2),\"\"))))","v":""},null,null,null,null,null,null,null,null,null,null,null,null,null,null,null,{"$f":"+IF(AE2034=\"20NL\",1,IF(AE2034=\"40NL\",2,IF(AE2034=\"20RF\",3,IF(AE2034=\"40RF\",4,\"\"))))","v":""},{"$f":"+IF(AF2034=\"\",\"\",VLOOKUP(AF2034,$AF$4031:$AG$4034,2))","v":""},null,null,null,null,null,null,null,null,null,null,null,null,null,null," "]
[null,null,null,null,null,null,"",null,{"$f":"IF(H2037=\"\",\"\",ROUND(H2037/SUM(H2034:H2041),4))","v":""},null,null,null,null,null,null,{"$f":"+IF(O2037=\"\",\"\",IF(N2034=\"Transporte Marítimo\",VLOOKUP(O2037,$O$4030:$P$4035,2),IF(N2034=\"Transporte Aéreo\",VLOOKUP(O2037,$O$4037:$P$4042,2),IF(N2034=\"Transporte Aéreo\",VLOOKUP(O2037,$O$4044:$P$4045,2),\"\"))))","v":""},null,null,null,null,null,null,null,null,null,null,null,null,null,null,null,"",""]
[null,null,null,null,null,null,"",null,{"$f":"IF(H2040=\"\",\"\",ROUND(H2040/SUM(H2034:H2041),4))","v":""},null,null,null,null,null,null,{"$f":"+IF(O2040=\"\",\"\",IF(N2034=\"Transporte Marítimo\",VLOOKUP(O2040,$O$4030:$P$4035,2),IF(N2034=\"Transporte Aéreo\",VLOOKUP(O2040,$O$4037:$P$4042,2),IF(N2034=\"Transporte Aéreo\",VLOOKUP(O2040,$O$4044:$P$4045,2),\"\"))))","v":""},null,null,null,null,null,null,null,null,null,null,null,null,null,null,null,"",""]
[null,null,null,null,null,null,"",null,{"$f":"IF(H2043=\"\",\"\",ROUND(H2043/SUM(H2042:H2049),4))","v":""},null,null,null,null,null,null,{"$f":"+IF(O2043=\"\",\"\",IF(N2042=\"Transporte Marítimo\",VLOOKUP(O2043,$O$4030:$P$4035,2),IF(N2042=\"Transporte Aéreo\",VLOOKUP(O2043,$O$4037:$P$4042,2),IF(N2042=\"Transporte Aéreo\",VLOOKUP(O2043,$O$4044:$P$4045,2),\"\"))))","v":""},null,null,null,null,null,null,null,null,null,null,null,null,null,null,null,{"$f":"+IF(AE2043=\"20NL\",1,IF(AE2043=\"40NL\",2,IF(AE2043=\"20RF\",3,IF(AE2043=\"40RF\",4,\"\"))))","v":""},""]
[null,null,null,null,null,null,"",null,{"$f":"IF(H2047=\"\",\"\",ROUND(H2047/SUM(H2042:H2049),4))","v":""},null,null,null,null,null,null,{"$f":"+IF(O2047=\"\",\"\",IF(N2042=\"Transporte Marítimo\",VLOOKUP(O2047,$O$4030:$P$4035,2),IF(N2042=\"Transporte Aéreo\",VLOOKUP(O2047,$O$4037:$P$4042,2),IF(N2042=\"Transporte Aéreo\",VLOOKUP(O2047,$O$4044:$P$4045,2),\"\"))))","v":""},null,null,null,null,null,null,null,null,null,null,null,null,null,null,null,"",""]
[null,{"$f":"+B2042+1","v":255},null,null,null,null,{"$f":"+IF(F2050=\"\",\"\",VLOOKUP(F2050,$F$4031:$G$4120,2))","v":""},null,{"$f":"IF(H2050=\"\",\"\",1-SUM(I2051:I2057))","v":""},null,null,null,null,null,null,{"$f":"+IF(O2050=\"\",\"\",IF(N2050=\"Transporte Marítimo\",VLOOKUP(O2050,$O$4030:$P$4035,2),IF(N2050=\"Transporte Aéreo\",VLOOKUP(O2050,$O$4037:$P$4042,2),IF(N2050=\"CTT\",VLOOKUP(O2050,$O$4044:$P$4045,2),\"\"))))","v":""},null,null,null,null,null,null,null,null,null,null,null,null,null,null,null,{"$f":"+IF(AE2050=\"20NL\",1,IF(AE2050=\"40NL\",2,IF(AE2050=\"20RF\",3,IF(AE2050=\"40RF\",4,\"\"))))","v":""},{"$f":"+IF(AF2050=\"\",\"\",VLOOKUP(AF2050,$AF$4031:$AG$4034,2))","v":""},null,null,null,null,null,null,null,null,null,null,null,null,null,null," "]
[null,null,null,null,null,null,"",null,{"$f":"IF(H2053=\"\",\"\",ROUND(H2053/SUM(H2050:H2057),4))","v":""},null,null,null,null,null,null,{"$f":"+IF(O2053=\"\",\"\",IF(N2050=\"Transporte Marítimo\",VLOOKUP(O2053,$O$4030:$P$4035,2),IF(N2050=\"Transporte Aéreo\",VLOOKUP(O2053,$O$4037:$P$4042,2),IF(N2050=\"Transporte Aéreo\",VLOOKUP(O2053,$O$4044:$P$4045,2),\"\"))))","v":""},null,null,null,null,null,null,null,null,null,null,null,null,null,null,null,"",""]
[null,null,null,null,null,null,"",null,{"$f":"IF(H2054=\"\",\"\",ROUND(H2054/SUM(H2050:H2057),4))","v":""},null,null,null,null,null,null,{"$f":"+IF(O2054=\"\",\"\",IF(N2050=\"Transporte Marítimo\",VLOOKUP(O2054,$O$4030:$P$4035,2),IF(N2050=\"Transporte Aéreo\",VLOOKUP(O2054,$O$4037:$P$4042,2),IF(N2050=\"Transporte Aéreo\",VLOOKUP(O2054,$O$4044:$P$4045,2),\"\"))))","v":""},null,null,null,null,null,null,null,null,null,null,null,null,null,null,null,"",""]
[null,null,null,null,null,null,"",null,{"$f":"IF(H2057=\"\",\"\",ROUND(H2057/SUM(H2050:H2057),4))","v":""},null,null,null,null,null,null,{"$f":"+IF(O2057=\"\",\"\",IF(N2050=\"Transporte Marítimo\",VLOOKUP(O2057,$O$4030:$P$4035,2),IF(N2050=\"Transporte Aéreo\",VLOOKUP(O2057,$O$4037:$P$4042,2),IF(N2050=\"Transporte Aéreo\",VLOOKUP(O2057,$O$4044:$P$4045,2),\"\"))))","v":""},null,null,null,null,null,null,null,null,null,null,null,null,null,null,null,"",""]
[null,null,null,null,null,null,"",null,{"$f":"IF(H2060=\"\",\"\",ROUND(H2060/SUM(H2058:H2065),4))","v":""},null,null,null,null,null,null,{"$f":"+IF(O2060=\"\",\"\",IF(N2058=\"Transporte Marítimo\",VLOOKUP(O2060,$O$4030:$P$4035,2),IF(N2058=\"Transporte Aéreo\",VLOOKUP(O2060,$O$4037:$P$4042,2),IF(N2058=\"Transporte Aéreo\",VLOOKUP(O2060,$O$4044:$P$4045,2),\"\"))))","v":""},null,null,null,null,null,null,null,null,null,null,null,null,null,null,null,"",""]
[null,null,null,null,null,null,"",null,{"$f":"IF(H2063=\"\",\"\",ROUND(H2063/SUM(H2058:H2065),4))","v":""},null,null,null,null,null,null,{"$f":"+IF(O2063=\"\",\"\",IF(N2058=\"Transporte Marítimo\",VLOOKUP(O2063,$O$4030:$P$4035,2),IF(N2058=\"Transporte Aéreo\",VLOOKUP(O2063,$O$4037:$P$4042,2),IF(N2058=\"Transporte Aéreo\",VLOOKUP(O2063,$O$4044:$P$4045,2),\"\"))))","v":""},null,null,null,null,null,null,null,null,null,null,null,null,null,null,null,"",""]
[null,{"$f":"+B2058+1","v":257},null,null,null,null,{"$f":"+IF(F2066=\"\",\"\",VLOOKUP(F2066,$F$4031:$G$4120,2))","v":""},null,{"$f":"IF(H2066=\"\",\"\",1-SUM(I2067:I2073))","v":""},null,null,null,null,null,null,{"$f":"+IF(O2066=\"\",\"\",IF(N2066=\"Transporte Marítimo\",VLOOKUP(O2066,$O$4030:$P$4035,2),IF(N2066=\"Transporte Aéreo\",VLOOKUP(O2066,$O$4037:$P$4042,2),IF(N2066=\"CTT\",VLOOKUP(O2066,$O$4044:$P$4045,2),\"\"))))","v":""},null,null,null,null,null,null,null,null,null,null,null,null,null,null,null,{"$f":"+IF(AE2066=\"20NL\",1,IF(AE2066=\"40NL\",2,IF(AE2066=\"20RF\",3,IF(AE2066=\"40RF\",4,\"\"))))","v":""},{"$f":"+IF(AF2066=\"\",\"\",VLOOKUP(AF2066,$AF$4031:$AG$4034,2))","v":""},null,null,null,null,null,null,null,null,null,null,null,null,null,null," "]
[null,null,null,null,null,null,"",null,{"$f":"IF(H2070=\"\",\"\",ROUND(H2070/SUM(H2066:H2073),4))","v":""},null,null,null,null,null,null,{"$f":"+IF(O2070=\"\",\"\",IF(N2066=\"Transporte Marítimo\",VLOOKUP(O2070,$O$4030:$P$4035,2),IF(N2066=\"Transporte Aéreo\",VLOOKUP(O2070,$O$4037:$P$4042,2),IF(N2066=\"Transporte Aéreo\",VLOOKUP(O2070,$O$4044:$P$4045,2),\"\"))))","v":""},null,null,null,null,null,null,null,null,null,null,null,null,null,null,null,"",""]
[null,null,null,null,null,null,"",null,{"$f":"IF(H2073=\"\",\"\",ROUND(H2073/SUM(H2066:H2073),4))","v":""},null,null,null,null,null,null,{"$f":"+IF(O2073=\"\",\"\",IF(N2066=\"Transporte Marítimo\",VLOOKUP(O2073,$O$4030:$P$4035,2),IF(N2066=\"Transporte Aéreo\",VLOOKUP(O2073,$O$4037:$P$4042,2),IF(N2066=\"Transporte Aéreo\",VLOOKUP(O2073,$O$4044:$P$4045,2),\"\"))))","v":""},null,null,null,null,null,null,null,null,null,null,null,null,null,null,null,"",""]
[null,null,null,null,null,null,"",null,{"$f":"IF(H2076=\"\",\"\",ROUND(H2076/SUM(H2074:H2081),4))","v":""},null,null,null,null,null,null,{"$f":"+IF(O2076=\"\",\"\",IF(N2074=\"Transporte Marítimo\",VLOOKUP(O2076,$O$4030:$P$4035,2),IF(N2074=\"Transporte Aéreo\",VLOOKUP(O2076,$O$4037:$P$4042,2),IF(N2074=\"Transporte Aéreo\",VLOOKUP(O2076,$O$4044:$P$4045,2),\"\"))))","v":""},null,null,null,null,null,null,null,null,null,null,null,null,null,null,null,"",""]
[null,null,null,null,null,null,"",null,{"$f":"IF(H2077=\"\",\"\",ROUND(H2077/SUM(H2074:H2081),4))","v":""},null,null,null,null,null,null,{"$f":"+IF(O2077=\"\",\"\",IF(N2074=\"Transporte Marítimo\",VLOOKUP(O2077,$O$4030:$P$4035,2),IF(N2074=\"Transporte Aéreo\",VLOOKUP(O2077,$O$4037:$P$4042,2),IF(N2074=\"Transporte Aéreo\",VLOOKUP(O2077,$O$4044:$P$4045,2),\"\"))))","v":""},null,null,null,null,null,null,null,null,null,null,null,null,null,null,null,"",""]
[null,null,null,null,null,null,"",null,{"$f":"IF(H2081=\"\",\"\",ROUND(H2081/SUM(H2074:H2081),4))","v":""},null,null,null,null,null,null,{"$f":"+IF(O2081=\"\",\"\",IF(N2074=\"Transporte Marítimo\",VLOOKUP(O2081,$O$4030:$P$4035,2),IF(N2074=\"Transporte Aéreo\",VLOOKUP(O2081,$O$4037:$P$4042,2),IF(N2074=\"Transporte Aéreo\",VLOOKUP(O2081,$O$4044:$P$4045,2),\"\"))))","v":""},null,null,null,null,null,null,null,null,null,null,null,null,null,null,null,"",""]
[null,null,null,null,null,null,{"$f":"+IF(F2083=\"\",\"\",VLOOKUP(F2083,$F$4031:$G$4120,2))","v":""},null,{"$f":"IF(H2083=\"\",\"\",ROUND(H2083/SUM(H2082:H2089),4))","v":""},null,null,null,null,null,null,{"$f":"+IF(O2083=\"\",\"\",IF(N2082=\"Transporte Marítimo\",VLOOKUP(O2083,$O$4030:$P$4035,2),IF(N2082=\"Transporte Aéreo\",VLOOKUP(O2083,$O$4037:$P$4042,2),IF(N2082=\"Transporte Aéreo\",VLOOKUP(O2083,$O$4044:$P$4045,2),\"\"))))","v":""},null,null,null,null,null,null,null,null,null,null,null,null,null,null,null,{"$f":"+IF(AE2083=\"20NL\",1,IF(AE2083=\"40NL\",2,IF(AE2083=\"20RF\",3,IF(AE2083=\"40RF\",4,\"\"))))","v":""},{"$f":"+IF(AF2083=\"\",\"\",VLOOKUP(AF2083,$AF$4031:$AG$4034,2))","v":""}]
[null,null,null,null,null,null,"",null,{"$f":"IF(H2086=\"\",\"\",ROUND(H2086/SUM(H2082:H2089),4))","v":""},null,null,null,null,null,null,{"$f":"+IF(O2086=\"\",\"\",IF(N2082=\"Transporte Marítimo\",VLOOKUP(O2086,$O$4030:$P$4035,2),IF(N2082=\"Transporte Aéreo\",VLOOKUP(O2086,$O$4037:$P$4042,2),IF(N2082=\"Transporte Aéreo\",VLOOKUP(O2086,$O$4044:$P$4045,2),\"\"))))","v":""},null,null,null,null,null,null,null,null,null,null,null,null,null,null,null,"",""]
[null,null,null,null,null,null,"",null,{"$f":"IF(H2089=\"\",\"\",ROUND(H2089/SUM(H2082:H2089),4))","v":""},null,null,null,null,null,null,{"$f":"+IF(O2089=\"\",\"\",IF(N2082=\"Transporte Marítimo\",VLOOKUP(O2089,$O$4030:$P$4035,2),IF(N2082=\"Transporte Aéreo\",VLOOKUP(O2089,$O$4037:$P$4042,2),IF(N2082=\"Transporte Aéreo\",VLOOKUP(O2089,$O$4044:$P$4045,2),\"\"))))","v":""},null,null,null,null,null,null,null,null,null,null,null,null,null,null,null,"",""]
[null,null,null,null,null,null,"",null,{"$f":"IF(H2093=\"\",\"\",ROUND(H2093/SUM(H2090:H2097),4))","v":""},null,null,null,null,null,null,{"$f":"+IF(O2093=\"\",\"\",IF(N2090=\"Transporte Marítimo\",VLOOKUP(O2093,$O$4030:$P$4035,2),IF(N2090=\"Transporte Aéreo\",VLOOKUP(O2093,$O$4037:$P$4042,2),IF(N2090=\"Transporte Aéreo\",VLOOKUP(O2093,$O$4044:$P$4045,2),\"\"))))","v":""},null,null,null,null,null,null,null,null,null,null,null,null,null,null,null,"",""]
[null,null,null,null,null,null,"",null,{"$f":"IF(H2096=\"\",\"\",ROUND(H2096/SUM(H2090:H2097),4))","v":""},null,null,null,null,null,null,{"$f":"+IF(O2096=\"\",\"\",IF(N2090=\"Transporte Marítimo\",VLOOKUP(O2096,$O$4030:$P$4035,2),IF(N2090=\"Transporte Aéreo\",VLOOKUP(O2096,$O$4037:$P$4042,2),IF(N2090=\"Transporte Aéreo\",VLOOKUP(O2096,$O$4044:$P$4045,2),\"\"))))","v":""},null,null,null,null,null,null,null,null,null,null,null,null,null,null,null,"",""]
[null,null,null,null,null,null,{"$f":"+IF(F2099=\"\",\"\",VLOOKUP(F2099,$F$4031:$G$4120,2))","v":""},null,{"$f":"IF(H2099=\"\",\"\",ROUND(H2099/SUM(H2098:H2105),4))","v":""},null,null,null,null,null,null,{"$f":"+IF(O2099=\"\",\"\",IF(N2098=\"Transporte Marítimo\",VLOOKUP(O2099,$O$4030:$P$4035,2),IF(N2098=\"Transporte Aéreo\",VLOOKUP(O2099,$O$4037:$P$4042,2),IF(N2098=\"Transporte Aéreo\",VLOOKUP(O2099,$O$4044:$P$4045,2),\"\"))))","v":""},null,null,null,null,null,null,null,null,null,null,null,null,null,null,null,{"$f":"+IF(AE2099=\"20NL\",1,IF(AE2099=\"40NL\",2,IF(AE2099=\"20RF\",3,IF(AE2099=\"40RF\",4,\"\"))))","v":""},{"$f":"+IF(AF2099=\"\",\"\",VLOOKUP(AF2099,$AF$4031:$AG$4034,2))","v":""}]
[null,null,null,null,null,null,"",null,{"$f":"IF(H2100=\"\",\"\",ROUND(H2100/SUM(H2098:H2105),4))","v":""},null,null,null,null,null,null,{"$f":"+IF(O2100=\"\",\"\",IF(N2098=\"Transporte Marítimo\",VLOOKUP(O2100,$O$4030:$P$4035,2),IF(N2098=\"Transporte Aéreo\",VLOOKUP(O2100,$O$4037:$P$4042,2),IF(N2098=\"Transporte Aéreo\",VLOOKUP(O2100,$O$4044:$P$4045,2),\"\"))))","v":""},null,null,null,null,null,null,null,null,null,null,null,null,null,null,null,"",""]
[null,null,null,null,null,null,"",null,{"$f":"IF(H2104=\"\",\"\",ROUND(H2104/SUM(H2098:H2105),4))","v":""},null,null,null,null,null,null,{"$f":"+IF(O2104=\"\",\"\",IF(N2098=\"Transporte Marítimo\",VLOOKUP(O2104,$O$4030:$P$4035,2),IF(N2098=\"Transporte Aéreo\",VLOOKUP(O2104,$O$4037:$P$4042,2),IF(N2098=\"Transporte Aéreo\",VLOOKUP(O2104,$O$4044:$P$4045,2),\"\"))))","v":""},null,null,null,null,null,null,null,null,null,null,null,null,null,null,null,"",""]
[null,{"$f":"+B2098+1","v":262},null,null,null,null,{"$f":"+IF(F2106=\"\",\"\",VLOOKUP(F2106,$F$4031:$G$4120,2))","v":""},null,{"$f":"IF(H2106=\"\",\"\",1-SUM(I2107:I2113))","v":""},null,null,null,null,null,null,{"$f":"+IF(O2106=\"\",\"\",IF(N2106=\"Transporte Marítimo\",VLOOKUP(O2106,$O$4030:$P$4035,2),IF(N2106=\"Transporte Aéreo\",VLOOKUP(O2106,$O$4037:$P$4042,2),IF(N2106=\"CTT\",VLOOKUP(O2106,$O$4044:$P$4045,2),\"\"))))","v":""},null,null,null,null,null,null,null,null,null,null,null,null,null,null,null,{"$f":"+IF(AE2106=\"20NL\",1,IF(AE2106=\"40NL\",2,IF(AE2106=\"20RF\",3,IF(AE2106=\"40RF\",4,\"\"))))","v":""},{"$f":"+IF(AF2106=\"\",\"\",VLOOKUP(AF2106,$AF$4031:$AG$4034,2))","v":""},null,null,null,null,null,null,null,null,null,null,null,null,null,null," "]
[null,null,null,null,null,null,"",null,{"$f":"IF(H2109=\"\",\"\",ROUND(H2109/SUM(H2106:H2113),4))","v":""},null,null,null,null,null,null,{"$f":"+IF(O2109=\"\",\"\",IF(N2106=\"Transporte Marítimo\",VLOOKUP(O2109,$O$4030:$P$4035,2),IF(N2106=\"Transporte Aéreo\",VLOOKUP(O2109,$O$4037:$P$4042,2),IF(N2106=\"Transporte Aéreo\",VLOOKUP(O2109,$O$4044:$P$4045,2),\"\"))))","v":""},null,null,null,null,null,null,null,null,null,null,null,null,null,null,null,"",""]
[null,null,null,null,null,null,"",null,{"$f":"IF(H2112=\"\",\"\",ROUND(H2112/SUM(H2106:H2113),4))","v":""},null,null,null,null,null,null,{"$f":"+IF(O2112=\"\",\"\",IF(N2106=\"Transporte Marítimo\",VLOOKUP(O2112,$O$4030:$P$4035,2),IF(N2106=\"Transporte Aéreo\",VLOOKUP(O2112,$O$4037:$P$4042,2),IF(N2106=\"Transporte Aéreo\",VLOOKUP(O2112,$O$4044:$P$4045,2),\"\"))))","v":""},null,null,null,null,null,null,null,null,null,null,null,null,null,null,null,"",""]
[null,null,null,null,null,null,"",null,{"$f":"IF(H2116=\"\",\"\",ROUND(H2116/SUM(H2114:H2121),4))","v":""},null,null,null,null,null,null,{"$f":"+IF(O2116=\"\",\"\",IF(N2114=\"Transporte Marítimo\",VLOOKUP(O2116,$O$4030:$P$4035,2),IF(N2114=\"Transporte Aéreo\",VLOOKUP(O2116,$O$4037:$P$4042,2),IF(N2114=\"Transporte Aéreo\",VLOOKUP(O2116,$O$4044:$P$4045,2),\"\"))))","v":""},null,null,null,null,null,null,null,null,null,null,null,null,null,null,null,"",""]
[null,null,null,null,null,null,"",null,{"$f":"IF(H2119=\"\",\"\",ROUND(H2119/SUM(H2114:H2121),4))","v":""},null,null,null,null,null,null,{"$f":"+IF(O2119=\"\",\"\",IF(N2114=\"Transporte Marítimo\",VLOOKUP(O2119,$O$4030:$P$4035,2),IF(N2114=\"Transporte Aéreo\",VLOOKUP(O2119,$O$4037:$P$4042,2),IF(N2114=\"Transporte Aéreo\",VLOOKUP(O2119,$O$4044:$P$4045,2),\"\"))))","v":""},null,null,null,null,null,null,null,null,null,null,null,null,null,null,null,"",""]
[null,{"$f":"+B2114+1","v":264},null,null,null,null,{"$f":"+IF(F2122=\"\",\"\",VLOOKUP(F2122,$F$4031:$G$4120,2))","v":""},null,{"$f":"IF(H2122=\"\",\"\",1-SUM(I2123:I2129))","v":""},null,null,null,null,null,null,{"$f":"+IF(O2122=\"\",\"\",IF(N2122=\"Transporte Marítimo\",VLOOKUP(O2122,$O$4030:$P$4035,2),IF(N2122=\"Transporte Aéreo\",VLOOKUP(O2122,$O$4037:$P$4042,2),IF(N2122=\"CTT\",VLOOKUP(O2122,$O$4044:$P$4045,2),\"\"))))","v":""},null,null,null,null,null,null,null,null,null,null,null,null,null,null,null,{"$f":"+IF(AE2122=\"20NL\",1,IF(AE2122=\"40NL\",2,IF(AE2122=\"20RF\",3,IF(AE2122=\"40RF\",4,\"\"))))","v":""},{"$f":"+IF(AF2122=\"\",\"\",VLOOKUP(AF2122,$AF$4031:$AG$4034,2))","v":""},null,null,null,null,null,null,null,null,null,null,null,null,null,null," "]
[null,null,null,null,null,null,"",null,{"$f":"IF(H2123=\"\",\"\",ROUND(H2123/SUM(H2122:H2129),4))","v":""},null,null,null,null,null,null,{"$f":"+IF(O2123=\"\",\"\",IF(N2122=\"Transporte Marítimo\",VLOOKUP(O2123,$O$4030:$P$4035,2),IF(N2122=\"Transporte Aéreo\",VLOOKUP(O2123,$O$4037:$P$4042,2),IF(N2122=\"Transporte Aéreo\",VLOOKUP(O2123,$O$4044:$P$4045,2),\"\"))))","v":""},null,null,null,null,null,null,null,null,null,null,null,null,null,null,null,{"$f":"+IF(AE2123=\"20NL\",1,IF(AE2123=\"40NL\",2,IF(AE2123=\"20RF\",3,IF(AE2123=\"40RF\",4,\"\"))))","v":""},""]
[null,null,null,null,null,null,"",null,{"$f":"IF(H2127=\"\",\"\",ROUND(H2127/SUM(H2122:H2129),4))","v":""},null,null,null,null,null,null,{"$f":"+IF(O2127=\"\",\"\",IF(N2122=\"Transporte Marítimo\",VLOOKUP(O2127,$O$4030:$P$4035,2),IF(N2122=\"Transporte Aéreo\",VLOOKUP(O2127,$O$4037:$P$4042,2),IF(N2122=\"Transporte Aéreo\",VLOOKUP(O2127,$O$4044:$P$4045,2),\"\"))))","v":""},null,null,null,null,null,null,null,null,null,null,null,null,null,null,null,"",""]
[null,null,null,null,null,null,"",null,{"$f":"IF(H2129=\"\",\"\",ROUND(H2129/SUM(H2122:H2129),4))","v":""},null,null,null,null,null,null,{"$f":"+IF(O2129=\"\",\"\",IF(N2122=\"Transporte Marítimo\",VLOOKUP(O2129,$O$4030:$P$4035,2),IF(N2122=\"Transporte Aéreo\",VLOOKUP(O2129,$O$4037:$P$4042,2),IF(N2122=\"Transporte Aéreo\",VLOOKUP(O2129,$O$4044:$P$4045,2),\"\"))))","v":""},null,null,null,null,null,null,null,null,null,null,null,null,null,null,null,"",""]
[null,null,null,null,null,null,"",null,{"$f":"IF(H2132=\"\",\"\",ROUND(H2132/SUM(H2130:H2137),4))","v":""},null,null,null,null,null,null,{"$f":"+IF(O2132=\"\",\"\",IF(N2130=\"Transporte Marítimo\",VLOOKUP(O2132,$O$4030:$P$4035,2),IF(N2130=\"Transporte Aéreo\",VLOOKUP(O2132,$O$4037:$P$4042,2),IF(N2130=\"Transporte Aéreo\",VLOOKUP(O2132,$O$4044:$P$4045,2),\"\"))))","v":""},null,null,null,null,null,null,null,null,null,null,null,null,null,null,null,"",""]
[null,null,null,null,null,null,"",null,{"$f":"IF(H2135=\"\",\"\",ROUND(H2135/SUM(H2130:H2137),4))","v":""},null,null,null,null,null,null,{"$f":"+IF(O2135=\"\",\"\",IF(N2130=\"Transporte Marítimo\",VLOOKUP(O2135,$O$4030:$P$4035,2),IF(N2130=\"Transporte Aéreo\",VLOOKUP(O2135,$O$4037:$P$4042,2),IF(N2130=\"Transporte Aéreo\",VLOOKUP(O2135,$O$4044:$P$4045,2),\"\"))))","v":""},null,null,null,null,null,null,null,null,null,null,null,null,null,null,null,"",""]
[null,null,null,null,null,null,"",null,{"$f":"IF(H2139=\"\",\"\",ROUND(H2139/SUM(H2138:H2145),4))","v":""},null,null,null,null,null,null,{"$f":"+IF(O2139=\"\",\"\",IF(N2138=\"Transporte Marítimo\",VLOOKUP(O2139,$O$4030:$P$4035,2),IF(N2138=\"Transporte Aéreo\",VLOOKUP(O2139,$O$4037:$P$4042,2),IF(N2138=\"Transporte Aéreo\",VLOOKUP(O2139,$O$4044:$P$4045,2),\"\"))))","v":""},null,null,null,null,null,null,null,null,null,null,null,null,null,null,null,{"$f":"+IF(AE2139=\"20NL\",1,IF(AE2139=\"40NL\",2,IF(AE2139=\"20RF\",3,IF(AE2139=\"40RF\",4,\"\"))))","v":""},""]
[null,null,null,null,null,null,"",null,{"$f":"IF(H2142=\"\",\"\",ROUND(H2142/SUM(H2138:H2145),4))","v":""},null,null,null,null,null,null,{"$f":"+IF(O2142=\"\",\"\",IF(N2138=\"Transporte Marítimo\",VLOOKUP(O2142,$O$4030:$P$4035,2),IF(N2138=\"Transporte Aéreo\",VLOOKUP(O2142,$O$4037:$P$4042,2),IF(N2138=\"Transporte Aéreo\",VLOOKUP(O2142,$O$4044:$P$4045,2),\"\"))))","v":""},null,null,null,null,null,null,null,null,null,null,null,null,null,null,null,"",""]
[null,null,null,null,null,null,"",null,{"$f":"IF(H2143=\"\",\"\",ROUND(H2143/SUM(H2138:H2145),4))","v":""},null,null,null,null,null,null,{"$f":"+IF(O2143=\"\",\"\",IF(N2138=\"Transporte Marítimo\",VLOOKUP(O2143,$O$4030:$P$4035,2),IF(N2138=\"Transporte Aéreo\",VLOOKUP(O2143,$O$4037:$P$4042,2),IF(N2138=\"Transporte Aéreo\",VLOOKUP(O2143,$O$4044:$P$4045,2),\"\"))))","v":""},null,null,null,null,null,null,null,null,null,null,null,null,null,null,null,"",""]
[null,{"$f":"+B2138+1","v":267},null,null,null,null,{"$f":"+IF(F2146=\"\",\"\",VLOOKUP(F2146,$F$4031:$G$4120,2))","v":""},null,{"$f":"IF(H2146=\"\",\"\",1-SUM(I2147:I2153))","v":""},null,null,null,null,null,null,{"$f":"+IF(O2146=\"\",\"\",IF(N2146=\"Transporte Marítimo\",VLOOKUP(O2146,$O$4030:$P$4035,2),IF(N2146=\"Transporte Aéreo\",VLOOKUP(O2146,$O$4037:$P$4042,2),IF(N2146=\"CTT\",VLOOKUP(O2146,$O$4044:$P$4045,2),\"\"))))","v":""},null,null,null,null,null,null,null,null,null,null,null,null,null,null,null,{"$f":"+IF(AE2146=\"20NL\",1,IF(AE2146=\"40NL\",2,IF(AE2146=\"20RF\",3,IF(AE2146=\"40RF\",4,\"\"))))","v":""},{"$f":"+IF(AF2146=\"\",\"\",VLOOKUP(AF2146,$AF$4031:$AG$4034,2))","v":""},null,null,null,null,null,null,null,null,null,null,null,null,null,null," "]
[null,null,null,null,null,null,"",null,{"$f":"IF(H2150=\"\",\"\",ROUND(H2150/SUM(H2146:H2153),4))","v":""},null,null,null,null,null,null,{"$f":"+IF(O2150=\"\",\"\",IF(N2146=\"Transporte Marítimo\",VLOOKUP(O2150,$O$4030:$P$4035,2),IF(N2146=\"Transporte Aéreo\",VLOOKUP(O2150,$O$4037:$P$4042,2),IF(N2146=\"Transporte Aéreo\",VLOOKUP(O2150,$O$4044:$P$4045,2),\"\"))))","v":""},null,null,null,null,null,null,null,null,null,null,null,null,null,null,null,"",""]
[null,null,null,null,null,null,"",null,{"$f":"IF(H2152=\"\",\"\",ROUND(H2152/SUM(H2146:H2153),4))","v":""},null,null,null,null,null,null,{"$f":"+IF(O2152=\"\",\"\",IF(N2146=\"Transporte Marítimo\",VLOOKUP(O2152,$O$4030:$P$4035,2),IF(N2146=\"Transporte Aéreo\",VLOOKUP(O2152,$O$4037:$P$4042,2),IF(N2146=\"Transporte Aéreo\",VLOOKUP(O2152,$O$4044:$P$4045,2),\"\"))))","v":""},null,null,null,null,null,null,null,null,null,null,null,null,null,null,null,"",""]
[null,null,null,null,null,null,"",null,{"$f":"IF(H2155=\"\",\"\",ROUND(H2155/SUM(H2154:H2161),4))","v":""},null,null,null,null,null,null,{"$f":"+IF(O2155=\"\",\"\",IF(N2154=\"Transporte Marítimo\",VLOOKUP(O2155,$O$4030:$P$4035,2),IF(N2154=\"Transporte Aéreo\",VLOOKUP(O2155,$O$4037:$P$4042,2),IF(N2154=\"Transporte Aéreo\",VLOOKUP(O2155,$O$4044:$P$4045,2),\"\"))))","v":""},null,null,null,null,null,null,null,null,null,null,null,null,null,null,null,{"$f":"+IF(AE2155=\"20NL\",1,IF(AE2155=\"40NL\",2,IF(AE2155=\"20RF\",3,IF(AE2155=\"40RF\",4,\"\"))))","v":""},""]
[null,null,null,null,null,null,"",null,{"$f":"IF(H2158=\"\",\"\",ROUND(H2158/SUM(H2154:H2161),4))","v":""},null,null,null,null,null,null,{"$f":"+IF(O2158=\"\",\"\",IF(N2154=\"Transporte Marítimo\",VLOOKUP(O2158,$O$4030:$P$4035,2),IF(N2154=\"Transporte Aéreo\",VLOOKUP(O2158,$O$4037:$P$4042,2),IF(N2154=\"Transporte Aéreo\",VLOOKUP(O2158,$O$4044:$P$4045,2),\"\"))))","v":""},null,null,null,null,null,null,null,null,null,null,null,null,null,null,null,"",""]
[null,{"$f":"+B2154+1","v":269},null,null,null,null,{"$f":"+IF(F2162=\"\",\"\",VLOOKUP(F2162,$F$4031:$G$4120,2))","v":""},null,{"$f":"IF(H2162=\"\",\"\",1-SUM(I2163:I2169))","v":""},null,null,null,null,null,null,{"$f":"+IF(O2162=\"\",\"\",IF(N2162=\"Transporte Marítimo\",VLOOKUP(O2162,$O$4030:$P$4035,2),IF(N2162=\"Transporte Aéreo\",VLOOKUP(O2162,$O$4037:$P$4042,2),IF(N2162=\"CTT\",VLOOKUP(O2162,$O$4044:$P$4045,2),\"\"))))","v":""},null,null,null,null,null,null,null,null,null,null,null,null,null,null,null,{"$f":"+IF(AE2162=\"20NL\",1,IF(AE2162=\"40NL\",2,IF(AE2162=\"20RF\",3,IF(AE2162=\"40RF\",4,\"\"))))","v":""},{"$f":"+IF(AF2162=\"\",\"\",VLOOKUP(AF2162,$AF$4031:$AG$4034,2))","v":""},null,null,null,null,null,null,null,null,null,null,null,null,null,null," "]
[null,null,null,null,null,null,"",null,{"$f":"IF(H2165=\"\",\"\",ROUND(H2165/SUM(H2162:H2169),4))","v":""},null,null,null,null,null,null,{"$f":"+IF(O2165=\"\",\"\",IF(N2162=\"Transporte Marítimo\",VLOOKUP(O2165,$O$4030:$P$4035,2),IF(N2162=\"Transporte Aéreo\",VLOOKUP(O2165,$O$4037:$P$4042,2),IF(N2162=\"Transporte Aéreo\",VLOOKUP(O2165,$O$4044:$P$4045,2),\"\"))))","v":""},null,null,null,null,null,null,null,null,null,null,null,null,null,null,null,"",""]
[null,null,null,null,null,null,"",null,{"$f":"IF(H2166=\"\",\"\",ROUND(H2166/SUM(H2162:H2169),4))","v":""},null,null,null,null,null,null,{"$f":"+IF(O2166=\"\",\"\",IF(N2162=\"Transporte Marítimo\",VLOOKUP(O2166,$O$4030:$P$4035,2),IF(N2162=\"Transporte Aéreo\",VLOOKUP(O2166,$O$4037:$P$4042,2),IF(N2162=\"Transporte Aéreo\",VLOOKUP(O2166,$O$4044:$P$4045,2),\"\"))))","v":""},null,null,null,null,null,null,null,null,null,null,null,null,null,null,null,"",""]
[null,null,null,null,null,null,"",null,{"$f":"IF(H2169=\"\",\"\",ROUND(H2169/SUM(H2162:H2169),4))","v":""},null,null,null,null,null,null,{"$f":"+IF(O2169=\"\",\"\",IF(N2162=\"Transporte Marítimo\",VLOOKUP(O2169,$O$4030:$P$4035,2),IF(N2162=\"Transporte Aéreo\",VLOOKUP(O2169,$O$4037:$P$4042,2),IF(N2162=\"Transporte Aéreo\",VLOOKUP(O2169,$O$4044:$P$4045,2),\"\"))))","v":""},null,null,null,null,null,null,null,null,null,null,null,null,null,null,null,"",""]
[null,null,null,null,null,null,"",null,{"$f":"IF(H2171=\"\",\"\",ROUND(H2171/SUM(H2170:H2177),4))","v":""},null,null,null,null,null,null,{"$f":"+IF(O2171=\"\",\"\",IF(N2170=\"Transporte Marítimo\",VLOOKUP(O2171,$O$4030:$P$4035,2),IF(N2170=\"Transporte Aéreo\",VLOOKUP(O2171,$O$4037:$P$4042,2),IF(N2170=\"Transporte Aéreo\",VLOOKUP(O2171,$O$4044:$P$4045,2),\"\"))))","v":""},null,null,null,null,null,null,null,null,null,null,null,null,null,null,null,{"$f":"+IF(AE2171=\"20NL\",1,IF(AE2171=\"40NL\",2,IF(AE2171=\"20RF\",3,IF(AE2171=\"40RF\",4,\"\"))))","v":""},{"$f":"+IF(AF2171=\"\",\"\",VLOOKUP(AF2171,$AF$4031:$AG$4034,2))","v":""}]
[null,null,null,null,null,null,"",null,{"$f":"IF(H2175=\"\",\"\",ROUND(H2175/SUM(H2170:H2177),4))","v":""},null,null,null,null,null,null,{"$f":"+IF(O2175=\"\",\"\",IF(N2170=\"Transporte Marítimo\",VLOOKUP(O2175,$O$4030:$P$4035,2),IF(N2170=\"Transporte Aéreo\",VLOOKUP(O2175,$O$4037:$P$4042,2),IF(N2170=\"Transporte Aéreo\",VLOOKUP(O2175,$O$4044:$P$4045,2),\"\"))))","v":""},null,null,null,null,null,null,null,null,null,null,null,null,null,null,null,"",""]
[null,{"$f":"+B2170+1","v":271},null,null,null,null,{"$f":"+IF(F2178=\"\",\"\",VLOOKUP(F2178,$F$4031:$G$4120,2))","v":""},null,{"$f":"IF(H2178=\"\",\"\",1-SUM(I2179:I2185))","v":""},null,null,null,null,null,null,{"$f":"+IF(O2178=\"\",\"\",IF(N2178=\"Transporte Marítimo\",VLOOKUP(O2178,$O$4030:$P$4035,2),IF(N2178=\"Transporte Aéreo\",VLOOKUP(O2178,$O$4037:$P$4042,2),IF(N2178=\"CTT\",VLOOKUP(O2178,$O$4044:$P$4045,2),\"\"))))","v":""},null,null,null,null,null,null,null,null,null,null,null,null,null,null,null,{"$f":"+IF(AE2178=\"20NL\",1,IF(AE2178=\"40NL\",2,IF(AE2178=\"20RF\",3,IF(AE2178=\"40RF\",4,\"\"))))","v":""},{"$f":"+IF(AF2178=\"\",\"\",VLOOKUP(AF2178,$AF$4031:$AG$4034,2))","v":""},null,null,null,null,null,null,null,null,null,null,null,null,null,null," "]
[null,null,null,null,null,null,"",null,{"$f":"IF(H2181=\"\",\"\",ROUND(H2181/SUM(H2178:H2185),4))","v":""},null,null,null,null,null,null,{"$f":"+IF(O2181=\"\",\"\",IF(N2178=\"Transporte Marítimo\",VLOOKUP(O2181,$O$4030:$P$4035,2),IF(N2178=\"Transporte Aéreo\",VLOOKUP(O2181,$O$4037:$P$4042,2),IF(N2178=\"Transporte Aéreo\",VLOOKUP(O2181,$O$4044:$P$4045,2),\"\"))))","v":""},null,null,null,null,null,null,null,null,null,null,null,null,null,null,null,"",""]
[null,null,null,null,null,null,"",null,{"$f":"IF(H2185=\"\",\"\",ROUND(H2185/SUM(H2178:H2185),4))","v":""},null,null,null,null,null,null,{"$f":"+IF(O2185=\"\",\"\",IF(N2178=\"Transporte Marítimo\",VLOOKUP(O2185,$O$4030:$P$4035,2),IF(N2178=\"Transporte Aéreo\",VLOOKUP(O2185,$O$4037:$P$4042,2),IF(N2178=\"Transporte Aéreo\",VLOOKUP(O2185,$O$4044:$P$4045,2),\"\"))))","v":""},null,null,null,null,null,null,null,null,null,null,null,null,null,null,null,"",""]
[null,null,null,null,null,null,"",null,{"$f":"IF(H2188=\"\",\"\",ROUND(H2188/SUM(H2186:H2193),4))","v":""},null,null,null,null,null,null,{"$f":"+IF(O2188=\"\",\"\",IF(N2186=\"Transporte Marítimo\",VLOOKUP(O2188,$O$4030:$P$4035,2),IF(N2186=\"Transporte Aéreo\",VLOOKUP(O2188,$O$4037:$P$4042,2),IF(N2186=\"Transporte Aéreo\",VLOOKUP(O2188,$O$4044:$P$4045,2),\"\"))))","v":""},null,null,null,null,null,null,null,null,null,null,null,null,null,null,null,"",""]
[null,null,null,null,null,null,"",null,{"$f":"IF(H2189=\"\",\"\",ROUND(H2189/SUM(H2186:H2193),4))","v":""},null,null,null,null,null,null,{"$f":"+IF(O2189=\"\",\"\",IF(N2186=\"Transporte Marítimo\",VLOOKUP(O2189,$O$4030:$P$4035,2),IF(N2186=\"Transporte Aéreo\",VLOOKUP(O2189,$O$4037:$P$4042,2),IF(N2186=\"Transporte Aéreo\",VLOOKUP(O2189,$O$4044:$P$4045,2),\"\"))))","v":""},null,null,null,null,null,null,null,null,null,null,null,null,null,null,null,"",""]
[null,null,null,null,null,null,"",null,{"$f":"IF(H2192=\"\",\"\",ROUND(H2192/SUM(H2186:H2193),4))","v":""},null,null,null,null,null,null,{"$f":"+IF(O2192=\"\",\"\",IF(N2186=\"Transporte Marítimo\",VLOOKUP(O2192,$O$4030:$P$4035,2),IF(N2186=\"Transporte Aéreo\",VLOOKUP(O2192,$O$4037:$P$4042,2),IF(N2186=\"Transporte Aéreo\",VLOOKUP(O2192,$O$4044:$P$4045,2),\"\"))))","v":""},null,null,null,null,null,null,null,null,null,null,null,null,null,null,null,"",""]
[null,{"$f":"+B2186+1","v":273},null,null,null,null,{"$f":"+IF(F2194=\"\",\"\",VLOOKUP(F2194,$F$4031:$G$4120,2))","v":""},null,{"$f":"IF(H2194=\"\",\"\",1-SUM(I2195:I2201))","v":""},null,null,null,null,null,null,{"$f":"+IF(O2194=\"\",\"\",IF(N2194=\"Transporte Marítimo\",VLOOKUP(O2194,$O$4030:$P$4035,2),IF(N2194=\"Transporte Aéreo\",VLOOKUP(O2194,$O$4037:$P$4042,2),IF(N2194=\"CTT\",VLOOKUP(O2194,$O$4044:$P$4045,2),\"\"))))","v":""},null,null,null,null,null,null,null,null,null,null,null,null,null,null,null,{"$f":"+IF(AE2194=\"20NL\",1,IF(AE2194=\"40NL\",2,IF(AE2194=\"20RF\",3,IF(AE2194=\"40RF\",4,\"\"))))","v":""},{"$f":"+IF(AF2194=\"\",\"\",VLOOKUP(AF2194,$AF$4031:$AG$4034,2))","v":""},null,null,null,null,null,null,null,null,null,null,null,null,null,null," "]
[null,null,null,null,null,null,"",null,{"$f":"IF(H2198=\"\",\"\",ROUND(H2198/SUM(H2194:H2201),4))","v":""},null,null,null,null,null,null,{"$f":"+IF(O2198=\"\",\"\",IF(N2194=\"Transporte Marítimo\",VLOOKUP(O2198,$O$4030:$P$4035,2),IF(N2194=\"Transporte Aéreo\",VLOOKUP(O2198,$O$4037:$P$4042,2),IF(N2194=\"Transporte Aéreo\",VLOOKUP(O2198,$O$4044:$P$4045,2),\"\"))))","v":""},null,null,null,null,null,null,null,null,null,null,null,null,null,null,null,"",""]
[null,null,null,null,null,null,"",null,{"$f":"IF(H2201=\"\",\"\",ROUND(H2201/SUM(H2194:H2201),4))","v":""},null,null,null,null,null,null,{"$f":"+IF(O2201=\"\",\"\",IF(N2194=\"Transporte Marítimo\",VLOOKUP(O2201,$O$4030:$P$4035,2),IF(N2194=\"Transporte Aéreo\",VLOOKUP(O2201,$O$4037:$P$4042,2),IF(N2194=\"Transporte Aéreo\",VLOOKUP(O2201,$O$4044:$P$4045,2),\"\"))))","v":""},null,null,null,null,null,null,null,null,null,null,null,null,null,null,null,"",""]
[null,null,null,null,null,null,"",null,{"$f":"IF(H2205=\"\",\"\",ROUND(H2205/SUM(H2202:H2209),4))","v":""},null,null,null,null,null,null,{"$f":"+IF(O2205=\"\",\"\",IF(N2202=\"Transporte Marítimo\",VLOOKUP(O2205,$O$4030:$P$4035,2),IF(N2202=\"Transporte Aéreo\",VLOOKUP(O2205,$O$4037:$P$4042,2),IF(N2202=\"Transporte Aéreo\",VLOOKUP(O2205,$O$4044:$P$4045,2),\"\"))))","v":""},null,null,null,null,null,null,null,null,null,null,null,null,null,null,null,"",""]
[null,null,null,null,null,null,"",null,{"$f":"IF(H2208=\"\",\"\",ROUND(H2208/SUM(H2202:H2209),4))","v":""},null,null,null,null,null,null,{"$f":"+IF(O2208=\"\",\"\",IF(N2202=\"Transporte Marítimo\",VLOOKUP(O2208,$O$4030:$P$4035,2),IF(N2202=\"Transporte Aéreo\",VLOOKUP(O2208,$O$4037:$P$4042,2),IF(N2202=\"Transporte Aéreo\",VLOOKUP(O2208,$O$4044:$P$4045,2),\"\"))))","v":""},null,null,null,null,null,null,null,null,null,null,null,null,null,null,null,"",""]
[null,null,null,null,null,null,"",null,{"$f":"IF(H2211=\"\",\"\",ROUND(H2211/SUM(H2210:H2217),4))","v":""},null,null,null,null,null,null,{"$f":"+IF(O2211=\"\",\"\",IF(N2210=\"Transporte Marítimo\",VLOOKUP(O2211,$O$4030:$P$4035,2),IF(N2210=\"Transporte Aéreo\",VLOOKUP(O2211,$O$4037:$P$4042,2),IF(N2210=\"Transporte Aéreo\",VLOOKUP(O2211,$O$4044:$P$4045,2),\"\"))))","v":""},null,null,null,null,null,null,null,null,null,null,null,null,null,null,null,{"$f":"+IF(AE2211=\"20NL\",1,IF(AE2211=\"40NL\",2,IF(AE2211=\"20RF\",3,IF(AE2211=\"40RF\",4,\"\"))))","v":""},""]
[null,null,null,null,null,null,"",null,{"$f":"IF(H2212=\"\",\"\",ROUND(H2212/SUM(H2210:H2217),4))","v":""},null,null,null,null,null,null,{"$f":"+IF(O2212=\"\",\"\",IF(N2210=\"Transporte Marítimo\",VLOOKUP(O2212,$O$4030:$P$4035,2),IF(N2210=\"Transporte Aéreo\",VLOOKUP(O2212,$O$4037:$P$4042,2),IF(N2210=\"Transporte Aéreo\",VLOOKUP(O2212,$O$4044:$P$4045,2),\"\"))))","v":""},null,null,null,null,null,null,null,null,null,null,null,null,null,null,null,"",""]
[null,null,null,null,null,null,"",null,{"$f":"IF(H2215=\"\",\"\",ROUND(H2215/SUM(H2210:H2217),4))","v":""},null,null,null,null,null,null,{"$f":"+IF(O2215=\"\",\"\",IF(N2210=\"Transporte Marítimo\",VLOOKUP(O2215,$O$4030:$P$4035,2),IF(N2210=\"Transporte Aéreo\",VLOOKUP(O2215,$O$4037:$P$4042,2),IF(N2210=\"Transporte Aéreo\",VLOOKUP(O2215,$O$4044:$P$4045,2),\"\"))))","v":""},null,null,null,null,null,null,null,null,null,null,null,null,null,null,null,"",""]
[null,null,null,null,null,null,"",null,{"$f":"IF(H2217=\"\",\"\",ROUND(H2217/SUM(H2210:H2217),4))","v":""},null,null,null,null,null,null,{"$f":"+IF(O2217=\"\",\"\",IF(N2210=\"Transporte Marítimo\",VLOOKUP(O2217,$O$4030:$P$4035,2),IF(N2210=\"Transporte Aéreo\",VLOOKUP(O2217,$O$4037:$P$4042,2),IF(N2210=\"Transporte Aéreo\",VLOOKUP(O2217,$O$4044:$P$4045,2),\"\"))))","v":""},null,null,null,null,null,null,null,null,null,null,null,null,null,null,null,"",""]
[null,null,null,null,null,null,"",null,{"$f":"IF(H2221=\"\",\"\",ROUND(H2221/SUM(H2218:H2225),4))","v":""},null,null,null,null,null,null,{"$f":"+IF(O2221=\"\",\"\",IF(N2218=\"Transporte Marítimo\",VLOOKUP(O2221,$O$4030:$P$4035,2),IF(N2218=\"Transporte Aéreo\",VLOOKUP(O2221,$O$4037:$P$4042,2),IF(N2218=\"Transporte Aéreo\",VLOOKUP(O2221,$O$4044:$P$4045,2),\"\"))))","v":""},null,null,null,null,null,null,null,null,null,null,null,null,null,null,null,"",""]
[null,null,null,null,null,null,"",null,{"$f":"IF(H2224=\"\",\"\",ROUND(H2224/SUM(H2218:H2225),4))","v":""},null,null,null,null,null,null,{"$f":"+IF(O2224=\"\",\"\",IF(N2218=\"Transporte Marítimo\",VLOOKUP(O2224,$O$4030:$P$4035,2),IF(N2218=\"Transporte Aéreo\",VLOOKUP(O2224,$O$4037:$P$4042,2),IF(N2218=\"Transporte Aéreo\",VLOOKUP(O2224,$O$4044:$P$4045,2),\"\"))))","v":""},null,null,null,null,null,null,null,null,null,null,null,null,null,null,null,"",""]
[null,null,null,null,null,null,"",null,{"$f":"IF(H2228=\"\",\"\",ROUND(H2228/SUM(H2226:H2233),4))","v":""},null,null,null,null,null,null,{"$f":"+IF(O2228=\"\",\"\",IF(N2226=\"Transporte Marítimo\",VLOOKUP(O2228,$O$4030:$P$4035,2),IF(N2226=\"Transporte Aéreo\",VLOOKUP(O2228,$O$4037:$P$4042,2),IF(N2226=\"Transporte Aéreo\",VLOOKUP(O2228,$O$4044:$P$4045,2),\"\"))))","v":""},null,null,null,null,null,null,null,null,null,null,null,null,null,null,null,"",""]
[null,null,null,null,null,null,"",null,{"$f":"IF(H2231=\"\",\"\",ROUND(H2231/SUM(H2226:H2233),4))","v":""},null,null,null,null,null,null,{"$f":"+IF(O2231=\"\",\"\",IF(N2226=\"Transporte Marítimo\",VLOOKUP(O2231,$O$4030:$P$4035,2),IF(N2226=\"Transporte Aéreo\",VLOOKUP(O2231,$O$4037:$P$4042,2),IF(N2226=\"Transporte Aéreo\",VLOOKUP(O2231,$O$4044:$P$4045,2),\"\"))))","v":""},null,null,null,null,null,null,null,null,null,null,null,null,null,null,null,"",""]
[null,{"$f":"+B2226+1","v":278},null,null,null,null,{"$f":"+IF(F2234=\"\",\"\",VLOOKUP(F2234,$F$4031:$G$4120,2))","v":""},null,{"$f":"IF(H2234=\"\",\"\",1-SUM(I2235:I2241))","v":""},null,null,null,null,null,null,{"$f":"+IF(O2234=\"\",\"\",IF(N2234=\"Transporte Marítimo\",VLOOKUP(O2234,$O$4030:$P$4035,2),IF(N2234=\"Transporte Aéreo\",VLOOKUP(O2234,$O$4037:$P$4042,2),IF(N2234=\"CTT\",VLOOKUP(O2234,$O$4044:$P$4045,2),\"\"))))","v":""},null,null,null,null,null,null,null,null,null,null,null,null,null,null,null,{"$f":"+IF(AE2234=\"20NL\",1,IF(AE2234=\"40NL\",2,IF(AE2234=\"20RF\",3,IF(AE2234=\"40RF\",4,\"\"))))","v":""},{"$f":"+IF(AF2234=\"\",\"\",VLOOKUP(AF2234,$AF$4031:$AG$4034,2))","v":""},null,null,null,null,null,null,null,null,null,null,null,null,null,null," "]
[null,null,null,null,null,null,"",null,{"$f":"IF(H2236=\"\",\"\",ROUND(H2236/SUM(H2234:H2241),4))","v":""},null,null,null,null,null,null,{"$f":"+IF(O2236=\"\",\"\",IF(N2234=\"Transporte Marítimo\",VLOOKUP(O2236,$O$4030:$P$4035,2),IF(N2234=\"Transporte Aéreo\",VLOOKUP(O2236,$O$4037:$P$4042,2),IF(N2234=\"Transporte Aéreo\",VLOOKUP(O2236,$O$4044:$P$4045,2),\"\"))))","v":""},null,null,null,null,null,null,null,null,null,null,null,null,null,null,null,"",""]
[null,null,null,null,null,null,"",null,{"$f":"IF(H2237=\"\",\"\",ROUND(H2237/SUM(H2234:H2241),4))","v":""},null,null,null,null,null,null,{"$f":"+IF(O2237=\"\",\"\",IF(N2234=\"Transporte Marítimo\",VLOOKUP(O2237,$O$4030:$P$4035,2),IF(N2234=\"Transporte Aéreo\",VLOOKUP(O2237,$O$4037:$P$4042,2),IF(N2234=\"Transporte Aéreo\",VLOOKUP(O2237,$O$4044:$P$4045,2),\"\"))))","v":""},null,null,null,null,null,null,null,null,null,null,null,null,null,null,null,"",""]
[null,null,null,null,null,null,"",null,{"$f":"IF(H2241=\"\",\"\",ROUND(H2241/SUM(H2234:H2241),4))","v":""},null,null,null,null,null,null,{"$f":"+IF(O2241=\"\",\"\",IF(N2234=\"Transporte Marítimo\",VLOOKUP(O2241,$O$4030:$P$4035,2),IF(N2234=\"Transporte Aéreo\",VLOOKUP(O2241,$O$4037:$P$4042,2),IF(N2234=\"Transporte Aéreo\",VLOOKUP(O2241,$O$4044:$P$4045,2),\"\"))))","v":""},null,null,null,null,null,null,null,null,null,null,null,null,null,null,null,"",""]
[null,null,null,null,null,null,"",null,{"$f":"IF(H2244=\"\",\"\",ROUND(H2244/SUM(H2242:H2249),4))","v":""},null,null,null,null,null,null,{"$f":"+IF(O2244=\"\",\"\",IF(N2242=\"Transporte Marítimo\",VLOOKUP(O2244,$O$4030:$P$4035,2),IF(N2242=\"Transporte Aéreo\",VLOOKUP(O2244,$O$4037:$P$4042,2),IF(N2242=\"Transporte Aéreo\",VLOOKUP(O2244,$O$4044:$P$4045,2),\"\"))))","v":""},null,null,null,null,null,null,null,null,null,null,null,null,null,null,null,"",""]
[null,null,null,null,null,null,"",null,{"$f":"IF(H2247=\"\",\"\",ROUND(H2247/SUM(H2242:H2249),4))","v":""},null,null,null,null,null,null,{"$f":"+IF(O2247=\"\",\"\",IF(N2242=\"Transporte Marítimo\",VLOOKUP(O2247,$O$4030:$P$4035,2),IF(N2242=\"Transporte Aéreo\",VLOOKUP(O2247,$O$4037:$P$4042,2),IF(N2242=\"Transporte Aéreo\",VLOOKUP(O2247,$O$4044:$P$4045,2),\"\"))))","v":""},null,null,null,null,null,null,null,null,null,null,null,null,null,null,null,"",""]
[null,null,null,null,null,null,"",null,{"$f":"IF(H2251=\"\",\"\",ROUND(H2251/SUM(H2250:H2257),4))","v":""},null,null,null,null,null,null,{"$f":"+IF(O2251=\"\",\"\",IF(N2250=\"Transporte Marítimo\",VLOOKUP(O2251,$O$4030:$P$4035,2),IF(N2250=\"Transporte Aéreo\",VLOOKUP(O2251,$O$4037:$P$4042,2),IF(N2250=\"Transporte Aéreo\",VLOOKUP(O2251,$O$4044:$P$4045,2),\"\"))))","v":""},null,null,null,null,null,null,null,null,null,null,null,null,null,null,null,{"$f":"+IF(AE2251=\"20NL\",1,IF(AE2251=\"40NL\",2,IF(AE2251=\"20RF\",3,IF(AE2251=\"40RF\",4,\"\"))))","v":""},{"$f":"+IF(AF2251=\"\",\"\",VLOOKUP(AF2251,$AF$4031:$AG$4034,2))","v":""}]
[null,null,null,null,null,null,"",null,{"$f":"IF(H2254=\"\",\"\",ROUND(H2254/SUM(H2250:H2257),4))","v":""},null,null,null,null,null,null,{"$f":"+IF(O2254=\"\",\"\",IF(N2250=\"Transporte Marítimo\",VLOOKUP(O2254,$O$4030:$P$4035,2),IF(N2250=\"Transporte Aéreo\",VLOOKUP(O2254,$O$4037:$P$4042,2),IF(N2250=\"Transporte Aéreo\",VLOOKUP(O2254,$O$4044:$P$4045,2),\"\"))))","v":""},null,null,null,null,null,null,null,null,null,null,null,null,null,null,null,"",""]
[null,null,null,null,null,null,{"$f":"+IF(F2257=\"\",\"\",VLOOKUP(F2257,$F$4031:$G$4120,2))","v":""},null,{"$f":"IF(H2257=\"\",\"\",ROUND(H2257/SUM(H2250:H2257),4))","v":""},null,null,null,null,null,null,{"$f":"+IF(O2257=\"\",\"\",IF(N2250=\"Transporte Marítimo\",VLOOKUP(O2257,$O$4030:$P$4035,2),IF(N2250=\"Transporte Aéreo\",VLOOKUP(O2257,$O$4037:$P$4042,2),IF(N2250=\"Transporte Aéreo\",VLOOKUP(O2257,$O$4044:$P$4045,2),\"\"))))","v":""},null,null,null,null,null,null,null,null,null,null,null,null,null,null,null,"",""]
[null,null,null,null,null,null,{"$f":"+IF(F2259=\"\",\"\",VLOOKUP(F2259,$F$4031:$G$4120,2))","v":""},null,{"$f":"IF(H2259=\"\",\"\",ROUND(H2259/SUM(H2258:H2265),4))","v":""},null,null,null,null,null,null,{"$f":"+IF(O2259=\"\",\"\",IF(N2258=\"Transporte Marítimo\",VLOOKUP(O2259,$O$4030:$P$4035,2),IF(N2258=\"Transporte Aéreo\",VLOOKUP(O2259,$O$4037:$P$4042,2),IF(N2258=\"Transporte Aéreo\",VLOOKUP(O2259,$O$4044:$P$4045,2),\"\"))))","v":""},null,null,null,null,null,null,null,null,null,null,null,null,null,null,null,{"$f":"+IF(AE2259=\"20NL\",1,IF(AE2259=\"40NL\",2,IF(AE2259=\"20RF\",3,IF(AE2259=\"40RF\",4,\"\"))))","v":""},{"$f":"+IF(AF2259=\"\",\"\",VLOOKUP(AF2259,$AF$4031:$AG$4034,2))","v":""}]
[null,null,null,null,null,null,"",null,{"$f":"IF(H2260=\"\",\"\",ROUND(H2260/SUM(H2258:H2265),4))","v":""},null,null,null,null,null,null,{"$f":"+IF(O2260=\"\",\"\",IF(N2258=\"Transporte Marítimo\",VLOOKUP(O2260,$O$4030:$P$4035,2),IF(N2258=\"Transporte Aéreo\",VLOOKUP(O2260,$O$4037:$P$4042,2),IF(N2258=\"Transporte Aéreo\",VLOOKUP(O2260,$O$4044:$P$4045,2),\"\"))))","v":""},null,null,null,null,null,null,null,null,null,null,null,null,null,null,null,"",""]
[null,null,null,null,null,null,"",null,{"$f":"IF(H2264=\"\",\"\",ROUND(H2264/SUM(H2258:H2265),4))","v":""},null,null,null,null,null,null,{"$f":"+IF(O2264=\"\",\"\",IF(N2258=\"Transporte Marítimo\",VLOOKUP(O2264,$O$4030:$P$4035,2),IF(N2258=\"Transporte Aéreo\",VLOOKUP(O2264,$O$4037:$P$4042,2),IF(N2258=\"Transporte Aéreo\",VLOOKUP(O2264,$O$4044:$P$4045,2),\"\"))))","v":""},null,null,null,null,null,null,null,null,null,null,null,null,null,null,null,"",""]
[null,null,null,null,null,null,"",null,{"$f":"IF(H2267=\"\",\"\",ROUND(H2267/SUM(H2266:H2273),4))","v":""},null,null,null,null,null,null,{"$f":"+IF(O2267=\"\",\"\",IF(N2266=\"Transporte Marítimo\",VLOOKUP(O2267,$O$4030:$P$4035,2),IF(N2266=\"Transporte Aéreo\",VLOOKUP(O2267,$O$4037:$P$4042,2),IF(N2266=\"Transporte Aéreo\",VLOOKUP(O2267,$O$4044:$P$4045,2),\"\"))))","v":""},null,null,null,null,null,null,null,null,null,null,null,null,null,null,null,{"$f":"+IF(AE2267=\"20NL\",1,IF(AE2267=\"40NL\",2,IF(AE2267=\"20RF\",3,IF(AE2267=\"40RF\",4,\"\"))))","v":""},""]
[null,null,null,null,null,null,"",null,{"$f":"IF(H2270=\"\",\"\",ROUND(H2270/SUM(H2266:H2273),4))","v":""},null,null,null,null,null,null,{"$f":"+IF(O2270=\"\",\"\",IF(N2266=\"Transporte Marítimo\",VLOOKUP(O2270,$O$4030:$P$4035,2),IF(N2266=\"Transporte Aéreo\",VLOOKUP(O2270,$O$4037:$P$4042,2),IF(N2266=\"Transporte Aéreo\",VLOOKUP(O2270,$O$4044:$P$4045,2),\"\"))))","v":""},null,null,null,null,null,null,null,null,null,null,null,null,null,null,null,"",""]
[null,{"$f":"+B2266+1","v":283},null,null,null,null,{"$f":"+IF(F2274=\"\",\"\",VLOOKUP(F2274,$F$4031:$G$4120,2))","v":""},null,{"$f":"IF(H2274=\"\",\"\",1-SUM(I2275:I2281))","v":""},null,null,null,null,null,null,{"$f":"+IF(O2274=\"\",\"\",IF(N2274=\"Transporte Marítimo\",VLOOKUP(O2274,$O$4030:$P$4035,2),IF(N2274=\"Transporte Aéreo\",VLOOKUP(O2274,$O$4037:$P$4042,2),IF(N2274=\"CTT\",VLOOKUP(O2274,$O$4044:$P$4045,2),\"\"))))","v":""},null,null,null,null,null,null,null,null,null,null,null,null,null,null,null,{"$f":"+IF(AE2274=\"20NL\",1,IF(AE2274=\"40NL\",2,IF(AE2274=\"20RF\",3,IF(AE2274=\"40RF\",4,\"\"))))","v":""},{"$f":"+IF(AF2274=\"\",\"\",VLOOKUP(AF2274,$AF$4031:$AG$4034,2))","v":""},null,null,null,null,null,null,null,null,null,null,null,null,null,null," "]
[null,null,null,null,null,null,"",null,{"$f":"IF(H2277=\"\",\"\",ROUND(H2277/SUM(H2274:H2281),4))","v":""},null,null,null,null,null,null,{"$f":"+IF(O2277=\"\",\"\",IF(N2274=\"Transporte Marítimo\",VLOOKUP(O2277,$O$4030:$P$4035,2),IF(N2274=\"Transporte Aéreo\",VLOOKUP(O2277,$O$4037:$P$4042,2),IF(N2274=\"Transporte Aéreo\",VLOOKUP(O2277,$O$4044:$P$4045,2),\"\"))))","v":""},null,null,null,null,null,null,null,null,null,null,null,null,null,null,null,"",""]
[null,null,null,null,null,null,"",null,{"$f":"IF(H2280=\"\",\"\",ROUND(H2280/SUM(H2274:H2281),4))","v":""},null,null,null,null,null,null,{"$f":"+IF(O2280=\"\",\"\",IF(N2274=\"Transporte Marítimo\",VLOOKUP(O2280,$O$4030:$P$4035,2),IF(N2274=\"Transporte Aéreo\",VLOOKUP(O2280,$O$4037:$P$4042,2),IF(N2274=\"Transporte Aéreo\",VLOOKUP(O2280,$O$4044:$P$4045,2),\"\"))))","v":""},null,null,null,null,null,null,null,null,null,null,null,null,null,null,null,"",""]
[null,{"$f":"+B2274+1","v":284},null,null,null,null,{"$f":"+IF(F2282=\"\",\"\",VLOOKUP(F2282,$F$4031:$G$4120,2))","v":""},null,{"$f":"IF(H2282=\"\",\"\",1-SUM(I2283:I2289))","v":""},null,null,null,null,null,null,{"$f":"+IF(O2282=\"\",\"\",IF(N2282=\"Transporte Marítimo\",VLOOKUP(O2282,$O$4030:$P$4035,2),IF(N2282=\"Transporte Aéreo\",VLOOKUP(O2282,$O$4037:$P$4042,2),IF(N2282=\"CTT\",VLOOKUP(O2282,$O$4044:$P$4045,2),\"\"))))","v":""},null,null,null,null,null,null,null,null,null,null,null,null,null,null,null,{"$f":"+IF(AE2282=\"20NL\",1,IF(AE2282=\"40NL\",2,IF(AE2282=\"20RF\",3,IF(AE2282=\"40RF\",4,\"\"))))","v":""},{"$f":"+IF(AF2282=\"\",\"\",VLOOKUP(AF2282,$AF$4031:$AG$4034,2))","v":""},null,null,null,null,null,null,null,null,null,null,null,null,null,null," "]
[null,null,null,null,null,null,"",null,{"$f":"IF(H2283=\"\",\"\",ROUND(H2283/SUM(H2282:H2289),4))","v":""},null,null,null,null,null,null,{"$f":"+IF(O2283=\"\",\"\",IF(N2282=\"Transporte Marítimo\",VLOOKUP(O2283,$O$4030:$P$4035,2),IF(N2282=\"Transporte Aéreo\",VLOOKUP(O2283,$O$4037:$P$4042,2),IF(N2282=\"Transporte Aéreo\",VLOOKUP(O2283,$O$4044:$P$4045,2),\"\"))))","v":""},null,null,null,null,null,null,null,null,null,null,null,null,null,null,null,{"$f":"+IF(AE2283=\"20NL\",1,IF(AE2283=\"40NL\",2,IF(AE2283=\"20RF\",3,IF(AE2283=\"40RF\",4,\"\"))))","v":""},""]
[null,null,null,null,null,null,"",null,{"$f":"IF(H2287=\"\",\"\",ROUND(H2287/SUM(H2282:H2289),4))","v":""},null,null,null,null,null,null,{"$f":"+IF(O2287=\"\",\"\",IF(N2282=\"Transporte Marítimo\",VLOOKUP(O2287,$O$4030:$P$4035,2),IF(N2282=\"Transporte Aéreo\",VLOOKUP(O2287,$O$4037:$P$4042,2),IF(N2282=\"Transporte Aéreo\",VLOOKUP(O2287,$O$4044:$P$4045,2),\"\"))))","v":""},null,null,null,null,null,null,null,null,null,null,null,null,null,null,null,"",""]
[null,{"$f":"+B2282+1","v":285},null,null,null,null,{"$f":"+IF(F2290=\"\",\"\",VLOOKUP(F2290,$F$4031:$G$4120,2))","v":""},null,{"$f":"IF(H2290=\"\",\"\",1-SUM(I2291:I2297))","v":""},null,null,null,null,null,null,{"$f":"+IF(O2290=\"\",\"\",IF(N2290=\"Transporte Marítimo\",VLOOKUP(O2290,$O$4030:$P$4035,2),IF(N2290=\"Transporte Aéreo\",VLOOKUP(O2290,$O$4037:$P$4042,2),IF(N2290=\"CTT\",VLOOKUP(O2290,$O$4044:$P$4045,2),\"\"))))","v":""},null,null,null,null,null,null,null,null,null,null,null,null,null,null,null,{"$f":"+IF(AE2290=\"20NL\",1,IF(AE2290=\"40NL\",2,IF(AE2290=\"20RF\",3,IF(AE2290=\"40RF\",4,\"\"))))","v":""},{"$f":"+IF(AF2290=\"\",\"\",VLOOKUP(AF2290,$AF$4031:$AG$4034,2))","v":""},null,null,null,null,null,null,null,null,null,null,null,null,null,null," "]
[null,null,null,null,null,null,"",null,{"$f":"IF(H2293=\"\",\"\",ROUND(H2293/SUM(H2290:H2297),4))","v":""},null,null,null,null,null,null,{"$f":"+IF(O2293=\"\",\"\",IF(N2290=\"Transporte Marítimo\",VLOOKUP(O2293,$O$4030:$P$4035,2),IF(N2290=\"Transporte Aéreo\",VLOOKUP(O2293,$O$4037:$P$4042,2),IF(N2290=\"Transporte Aéreo\",VLOOKUP(O2293,$O$4044:$P$4045,2),\"\"))))","v":""},null,null,null,null,null,null,null,null,null,null,null,null,null,null,null,"",""]
[null,null,null,null,null,null,"",null,{"$f":"IF(H2297=\"\",\"\",ROUND(H2297/SUM(H2290:H2297),4))","v":""},null,null,null,null,null,null,{"$f":"+IF(O2297=\"\",\"\",IF(N2290=\"Transporte Marítimo\",VLOOKUP(O2297,$O$4030:$P$4035,2),IF(N2290=\"Transporte Aéreo\",VLOOKUP(O2297,$O$4037:$P$4042,2),IF(N2290=\"Transporte Aéreo\",VLOOKUP(O2297,$O$4044:$P$4045,2),\"\"))))","v":""},null,null,null,null,null,null,null,null,null,null,null,null,null,null,null,"",""]
[null,null,null,null,null,null,"",null,{"$f":"IF(H2300=\"\",\"\",ROUND(H2300/SUM(H2298:H2305),4))","v":""},null,null,null,null,null,null,{"$f":"+IF(O2300=\"\",\"\",IF(N2298=\"Transporte Marítimo\",VLOOKUP(O2300,$O$4030:$P$4035,2),IF(N2298=\"Transporte Aéreo\",VLOOKUP(O2300,$O$4037:$P$4042,2),IF(N2298=\"Transporte Aéreo\",VLOOKUP(O2300,$O$4044:$P$4045,2),\"\"))))","v":""},null,null,null,null,null,null,null,null,null,null,null,null,null,null,null,"",""]
[null,null,null,null,null,null,"",null,{"$f":"IF(H2301=\"\",\"\",ROUND(H2301/SUM(H2298:H2305),4))","v":""},null,null,null,null,null,null,{"$f":"+IF(O2301=\"\",\"\",IF(N2298=\"Transporte Marítimo\",VLOOKUP(O2301,$O$4030:$P$4035,2),IF(N2298=\"Transporte Aéreo\",VLOOKUP(O2301,$O$4037:$P$4042,2),IF(N2298=\"Transporte Aéreo\",VLOOKUP(O2301,$O$4044:$P$4045,2),\"\"))))","v":""},null,null,null,null,null,null,null,null,null,null,null,null,null,null,null,"",""]
[null,null,null,null,null,null,"",null,{"$f":"IF(H2303=\"\",\"\",ROUND(H2303/SUM(H2298:H2305),4))","v":""},null,null,null,null,null,null,{"$f":"+IF(O2303=\"\",\"\",IF(N2298=\"Transporte Marítimo\",VLOOKUP(O2303,$O$4030:$P$4035,2),IF(N2298=\"Transporte Aéreo\",VLOOKUP(O2303,$O$4037:$P$4042,2),IF(N2298=\"Transporte Aéreo\",VLOOKUP(O2303,$O$4044:$P$4045,2),\"\"))))","v":""},null,null,null,null,null,null,null,null,null,null,null,null,null,null,null,"",""]
[null,{"$f":"+B2298+1","v":287},null,null,null,null,{"$f":"+IF(F2306=\"\",\"\",VLOOKUP(F2306,$F$4031:$G$4120,2))","v":""},null,{"$f":"IF(H2306=\"\",\"\",1-SUM(I2307:I2313))","v":""},null,null,null,null,null,null,{"$f":"+IF(O2306=\"\",\"\",IF(N2306=\"Transporte Marítimo\",VLOOKUP(O2306,$O$4030:$P$4035,2),IF(N2306=\"Transporte Aéreo\",VLOOKUP(O2306,$O$4037:$P$4042,2),IF(N2306=\"CTT\",VLOOKUP(O2306,$O$4044:$P$4045,2),\"\"))))","v":""},null,null,null,null,null,null,null,null,null,null,null,null,null,null,null,{"$f":"+IF(AE2306=\"20NL\",1,IF(AE2306=\"40NL\",2,IF(AE2306=\"20RF\",3,IF(AE2306=\"40RF\",4,\"\"))))","v":""},{"$f":"+IF(AF2306=\"\",\"\",VLOOKUP(AF2306,$AF$4031:$AG$4034,2))","v":""},null,null,null,null,null,null,null,null,null,null,null,null,null,null," "]
[null,null,null,null,null,null,"",null,{"$f":"IF(H2310=\"\",\"\",ROUND(H2310/SUM(H2306:H2313),4))","v":""},null,null,null,null,null,null,{"$f":"+IF(O2310=\"\",\"\",IF(N2306=\"Transporte Marítimo\",VLOOKUP(O2310,$O$4030:$P$4035,2),IF(N2306=\"Transporte Aéreo\",VLOOKUP(O2310,$O$4037:$P$4042,2),IF(N2306=\"Transporte Aéreo\",VLOOKUP(O2310,$O$4044:$P$4045,2),\"\"))))","v":""},null,null,null,null,null,null,null,null,null,null,null,null,null,null,null,"",""]
[null,null,null,null,null,null,"",null,{"$f":"IF(H2313=\"\",\"\",ROUND(H2313/SUM(H2306:H2313),4))","v":""},null,null,null,null,null,null,{"$f":"+IF(O2313=\"\",\"\",IF(N2306=\"Transporte Marítimo\",VLOOKUP(O2313,$O$4030:$P$4035,2),IF(N2306=\"Transporte Aéreo\",VLOOKUP(O2313,$O$4037:$P$4042,2),IF(N2306=\"Transporte Aéreo\",VLOOKUP(O2313,$O$4044:$P$4045,2),\"\"))))","v":""},null,null,null,null,null,null,null,null,null,null,null,null,null,null,null,"",""]
[null,null,null,null,null,null,"",null,{"$f":"IF(H2316=\"\",\"\",ROUND(H2316/SUM(H2314:H2321),4))","v":""},null,null,null,null,null,null,{"$f":"+IF(O2316=\"\",\"\",IF(N2314=\"Transporte Marítimo\",VLOOKUP(O2316,$O$4030:$P$4035,2),IF(N2314=\"Transporte Aéreo\",VLOOKUP(O2316,$O$4037:$P$4042,2),IF(N2314=\"Transporte Aéreo\",VLOOKUP(O2316,$O$4044:$P$4045,2),\"\"))))","v":""},null,null,null,null,null,null,null,null,null,null,null,null,null,null,null,"",""]
[null,null,null,null,null,null,"",null,{"$f":"IF(H2320=\"\",\"\",ROUND(H2320/SUM(H2314:H2321),4))","v":""},null,null,null,null,null,null,{"$f":"+IF(O2320=\"\",\"\",IF(N2314=\"Transporte Marítimo\",VLOOKUP(O2320,$O$4030:$P$4035,2),IF(N2314=\"Transporte Aéreo\",VLOOKUP(O2320,$O$4037:$P$4042,2),IF(N2314=\"Transporte Aéreo\",VLOOKUP(O2320,$O$4044:$P$4045,2),\"\"))))","v":""},null,null,null,null,null,null,null,null,null,null,null,null,null,null,null,"",""]
[null,null,null,null,null,null,{"$f":"+IF(F2323=\"\",\"\",VLOOKUP(F2323,$F$4031:$G$4120,2))","v":""},null,{"$f":"IF(H2323=\"\",\"\",ROUND(H2323/SUM(H2322:H2329),4))","v":""},null,null,null,null,null,null,{"$f":"+IF(O2323=\"\",\"\",IF(N2322=\"Transporte Marítimo\",VLOOKUP(O2323,$O$4030:$P$4035,2),IF(N2322=\"Transporte Aéreo\",VLOOKUP(O2323,$O$4037:$P$4042,2),IF(N2322=\"Transporte Aéreo\",VLOOKUP(O2323,$O$4044:$P$4045,2),\"\"))))","v":""},null,null,null,null,null,null,null,null,null,null,null,null,null,null,null,{"$f":"+IF(AE2323=\"20NL\",1,IF(AE2323=\"40NL\",2,IF(AE2323=\"20RF\",3,IF(AE2323=\"40RF\",4,\"\"))))","v":""},{"$f":"+IF(AF2323=\"\",\"\",VLOOKUP(AF2323,$AF$4031:$AG$4034,2))","v":""}]
[null,null,null,null,null,null,"",null,{"$f":"IF(H2324=\"\",\"\",ROUND(H2324/SUM(H2322:H2329),4))","v":""},null,null,null,null,null,null,{"$f":"+IF(O2324=\"\",\"\",IF(N2322=\"Transporte Marítimo\",VLOOKUP(O2324,$O$4030:$P$4035,2),IF(N2322=\"Transporte Aéreo\",VLOOKUP(O2324,$O$4037:$P$4042,2),IF(N2322=\"Transporte Aéreo\",VLOOKUP(O2324,$O$4044:$P$4045,2),\"\"))))","v":""},null,null,null,null,null,null,null,null,null,null,null,null,null,null,null,"",""]
[null,null,null,null,null,null,"",null,{"$f":"IF(H2326=\"\",\"\",ROUND(H2326/SUM(H2322:H2329),4))","v":""},null,null,null,null,null,null,{"$f":"+IF(O2326=\"\",\"\",IF(N2322=\"Transporte Marítimo\",VLOOKUP(O2326,$O$4030:$P$4035,2),IF(N2322=\"Transporte Aéreo\",VLOOKUP(O2326,$O$4037:$P$4042,2),IF(N2322=\"Transporte Aéreo\",VLOOKUP(O2326,$O$4044:$P$4045,2),\"\"))))","v":""},null,null,null,null,null,null,null,null,null,null,null,null,null,null,null,"",""]
[null,null,null,null,null,null,"",null,{"$f":"IF(H2329=\"\",\"\",ROUND(H2329/SUM(H2322:H2329),4))","v":""},null,null,null,null,null,null,{"$f":"+IF(O2329=\"\",\"\",IF(N2322=\"Transporte Marítimo\",VLOOKUP(O2329,$O$4030:$P$4035,2),IF(N2322=\"Transporte Aéreo\",VLOOKUP(O2329,$O$4037:$P$4042,2),IF(N2322=\"Transporte Aéreo\",VLOOKUP(O2329,$O$4044:$P$4045,2),\"\"))))","v":""},null,null,null,null,null,null,null,null,null,null,null,null,null,null,null,"",""]
[null,null,null,null,null,null,"",null,{"$f":"IF(H2333=\"\",\"\",ROUND(H2333/SUM(H2330:H2337),4))","v":""},null,null,null,null,null,null,{"$f":"+IF(O2333=\"\",\"\",IF(N2330=\"Transporte Marítimo\",VLOOKUP(O2333,$O$4030:$P$4035,2),IF(N2330=\"Transporte Aéreo\",VLOOKUP(O2333,$O$4037:$P$4042,2),IF(N2330=\"Transporte Aéreo\",VLOOKUP(O2333,$O$4044:$P$4045,2),\"\"))))","v":""},null,null,null,null,null,null,null,null,null,null,null,null,null,null,null,"",""]
[null,null,null,null,null,null,"",null,{"$f":"IF(H2336=\"\",\"\",ROUND(H2336/SUM(H2330:H2337),4))","v":""},null,null,null,null,null,null,{"$f":"+IF(O2336=\"\",\"\",IF(N2330=\"Transporte Marítimo\",VLOOKUP(O2336,$O$4030:$P$4035,2),IF(N2330=\"Transporte Aéreo\",VLOOKUP(O2336,$O$4037:$P$4042,2),IF(N2330=\"Transporte Aéreo\",VLOOKUP(O2336,$O$4044:$P$4045,2),\"\"))))","v":""},null,null,null,null,null,null,null,null,null,null,null,null,null,null,null,"",""]
[null,null,null,null,null,null,{"$f":"+IF(F2339=\"\",\"\",VLOOKUP(F2339,$F$4031:$G$4120,2))","v":""},null,{"$f":"IF(H2339=\"\",\"\",ROUND(H2339/SUM(H2338:H2345),4))","v":""},null,null,null,null,null,null,{"$f":"+IF(O2339=\"\",\"\",IF(N2338=\"Transporte Marítimo\",VLOOKUP(O2339,$O$4030:$P$4035,2),IF(N2338=\"Transporte Aéreo\",VLOOKUP(O2339,$O$4037:$P$4042,2),IF(N2338=\"Transporte Aéreo\",VLOOKUP(O2339,$O$4044:$P$4045,2),\"\"))))","v":""},null,null,null,null,null,null,null,null,null,null,null,null,null,null,null,{"$f":"+IF(AE2339=\"20NL\",1,IF(AE2339=\"40NL\",2,IF(AE2339=\"20RF\",3,IF(AE2339=\"40RF\",4,\"\"))))","v":""},{"$f":"+IF(AF2339=\"\",\"\",VLOOKUP(AF2339,$AF$4031:$AG$4034,2))","v":""}]
[null,null,null,null,null,null,"",null,{"$f":"IF(H2343=\"\",\"\",ROUND(H2343/SUM(H2338:H2345),4))","v":""},null,null,null,null,null,null,{"$f":"+IF(O2343=\"\",\"\",IF(N2338=\"Transporte Marítimo\",VLOOKUP(O2343,$O$4030:$P$4035,2),IF(N2338=\"Transporte Aéreo\",VLOOKUP(O2343,$O$4037:$P$4042,2),IF(N2338=\"Transporte Aéreo\",VLOOKUP(O2343,$O$4044:$P$4045,2),\"\"))))","v":""},null,null,null,null,null,null,null,null,null,null,null,null,null,null,null,"",""]
[null,{"$f":"+B2338+1","v":292},null,null,null,null,{"$f":"+IF(F2346=\"\",\"\",VLOOKUP(F2346,$F$4031:$G$4120,2))","v":""},null,{"$f":"IF(H2346=\"\",\"\",1-SUM(I2347:I2353))","v":""},null,null,null,null,null,null,{"$f":"+IF(O2346=\"\",\"\",IF(N2346=\"Transporte Marítimo\",VLOOKUP(O2346,$O$4030:$P$4035,2),IF(N2346=\"Transporte Aéreo\",VLOOKUP(O2346,$O$4037:$P$4042,2),IF(N2346=\"CTT\",VLOOKUP(O2346,$O$4044:$P$4045,2),\"\"))))","v":""},null,null,null,null,null,null,null,null,null,null,null,null,null,null,null,{"$f":"+IF(AE2346=\"20NL\",1,IF(AE2346=\"40NL\",2,IF(AE2346=\"20RF\",3,IF(AE2346=\"40RF\",4,\"\"))))","v":""},{"$f":"+IF(AF2346=\"\",\"\",VLOOKUP(AF2346,$AF$4031:$AG$4034,2))","v":""},null,null,null,null,null,null,null,null,null,null,null,null,null,null," "]
[null,null,null,null,null,null,"",null,{"$f":"IF(H2347=\"\",\"\",ROUND(H2347/SUM(H2346:H2353),4))","v":""},null,null,null,null,null,null,{"$f":"+IF(O2347=\"\",\"\",IF(N2346=\"Transporte Marítimo\",VLOOKUP(O2347,$O$4030:$P$4035,2),IF(N2346=\"Transporte Aéreo\",VLOOKUP(O2347,$O$4037:$P$4042,2),IF(N2346=\"Transporte Aéreo\",VLOOKUP(O2347,$O$4044:$P$4045,2),\"\"))))","v":""},null,null,null,null,null,null,null,null,null,null,null,null,null,null,null,{"$f":"+IF(AE2347=\"20NL\",1,IF(AE2347=\"40NL\",2,IF(AE2347=\"20RF\",3,IF(AE2347=\"40RF\",4,\"\"))))","v":""},""]
[null,null,null,null,null,null,"",null,{"$f":"IF(H2349=\"\",\"\",ROUND(H2349/SUM(H2346:H2353),4))","v":""},null,null,null,null,null,null,{"$f":"+IF(O2349=\"\",\"\",IF(N2346=\"Transporte Marítimo\",VLOOKUP(O2349,$O$4030:$P$4035,2),IF(N2346=\"Transporte Aéreo\",VLOOKUP(O2349,$O$4037:$P$4042,2),IF(N2346=\"Transporte Aéreo\",VLOOKUP(O2349,$O$4044:$P$4045,2),\"\"))))","v":""},null,null,null,null,null,null,null,null,null,null,null,null,null,null,null,"",""]
[null,null,null,null,null,null,"",null,{"$f":"IF(H2352=\"\",\"\",ROUND(H2352/SUM(H2346:H2353),4))","v":""},null,null,null,null,null,null,{"$f":"+IF(O2352=\"\",\"\",IF(N2346=\"Transporte Marítimo\",VLOOKUP(O2352,$O$4030:$P$4035,2),IF(N2346=\"Transporte Aéreo\",VLOOKUP(O2352,$O$4037:$P$4042,2),IF(N2346=\"Transporte Aéreo\",VLOOKUP(O2352,$O$4044:$P$4045,2),\"\"))))","v":""},null,null,null,null,null,null,null,null,null,null,null,null,null,null,null,"",""]
[null,null,null,null,null,null,"",null,{"$f":"IF(H2356=\"\",\"\",ROUND(H2356/SUM(H2354:H2361),4))","v":""},null,null,null,null,null,null,{"$f":"+IF(O2356=\"\",\"\",IF(N2354=\"Transporte Marítimo\",VLOOKUP(O2356,$O$4030:$P$4035,2),IF(N2354=\"Transporte Aéreo\",VLOOKUP(O2356,$O$4037:$P$4042,2),IF(N2354=\"Transporte Aéreo\",VLOOKUP(O2356,$O$4044:$P$4045,2),\"\"))))","v":""},null,null,null,null,null,null,null,null,null,null,null,null,null,null,null,"",""]
[null,null,null,null,null,null,"",null,{"$f":"IF(H2359=\"\",\"\",ROUND(H2359/SUM(H2354:H2361),4))","v":""},null,null,null,null,null,null,{"$f":"+IF(O2359=\"\",\"\",IF(N2354=\"Transporte Marítimo\",VLOOKUP(O2359,$O$4030:$P$4035,2),IF(N2354=\"Transporte Aéreo\",VLOOKUP(O2359,$O$4037:$P$4042,2),IF(N2354=\"Transporte Aéreo\",VLOOKUP(O2359,$O$4044:$P$4045,2),\"\"))))","v":""},null,null,null,null,null,null,null,null,null,null,null,null,null,null,null,"",""]
[null,null,null,null,null,null,"",null,{"$f":"IF(H2363=\"\",\"\",ROUND(H2363/SUM(H2362:H2369),4))","v":""},null,null,null,null,null,null,{"$f":"+IF(O2363=\"\",\"\",IF(N2362=\"Transporte Marítimo\",VLOOKUP(O2363,$O$4030:$P$4035,2),IF(N2362=\"Transporte Aéreo\",VLOOKUP(O2363,$O$4037:$P$4042,2),IF(N2362=\"Transporte Aéreo\",VLOOKUP(O2363,$O$4044:$P$4045,2),\"\"))))","v":""},null,null,null,null,null,null,null,null,null,null,null,null,null,null,null,{"$f":"+IF(AE2363=\"20NL\",1,IF(AE2363=\"40NL\",2,IF(AE2363=\"20RF\",3,IF(AE2363=\"40RF\",4,\"\"))))","v":""},""]
[null,null,null,null,null,null,"",null,{"$f":"IF(H2366=\"\",\"\",ROUND(H2366/SUM(H2362:H2369),4))","v":""},null,null,null,null,null,null,{"$f":"+IF(O2366=\"\",\"\",IF(N2362=\"Transporte Marítimo\",VLOOKUP(O2366,$O$4030:$P$4035,2),IF(N2362=\"Transporte Aéreo\",VLOOKUP(O2366,$O$4037:$P$4042,2),IF(N2362=\"Transporte Aéreo\",VLOOKUP(O2366,$O$4044:$P$4045,2),\"\"))))","v":""},null,null,null,null,null,null,null,null,null,null,null,null,null,null,null,"",""]
[null,null,null,null,null,null,"",null,{"$f":"IF(H2368=\"\",\"\",ROUND(H2368/SUM(H2362:H2369),4))","v":""},null,null,null,null,null,null,{"$f":"+IF(O2368=\"\",\"\",IF(N2362=\"Transporte Marítimo\",VLOOKUP(O2368,$O$4030:$P$4035,2),IF(N2362=\"Transporte Aéreo\",VLOOKUP(O2368,$O$4037:$P$4042,2),IF(N2362=\"Transporte Aéreo\",VLOOKUP(O2368,$O$4044:$P$4045,2),\"\"))))","v":""},null,null,null,null,null,null,null,null,null,null,null,null,null,null,null,"",""]
[null,null,null,null,null,null,"",null,{"$f":"IF(H2369=\"\",\"\",ROUND(H2369/SUM(H2362:H2369),4))","v":""},null,null,null,null,null,null,{"$f":"+IF(O2369=\"\",\"\",IF(N2362=\"Transporte Marítimo\",VLOOKUP(O2369,$O$4030:$P$4035,2),IF(N2362=\"Transporte Aéreo\",VLOOKUP(O2369,$O$4037:$P$4042,2),IF(N2362=\"Transporte Aéreo\",VLOOKUP(O2369,$O$4044:$P$4045,2),\"\"))))","v":""},null,null,null,null,null,null,null,null,null,null,null,null,null,null,null,"",""]
[null,null,null,null,null,null,"",null,{"$f":"IF(H2372=\"\",\"\",ROUND(H2372/SUM(H2370:H2377),4))","v":""},null,null,null,null,null,null,{"$f":"+IF(O2372=\"\",\"\",IF(N2370=\"Transporte Marítimo\",VLOOKUP(O2372,$O$4030:$P$4035,2),IF(N2370=\"Transporte Aéreo\",VLOOKUP(O2372,$O$4037:$P$4042,2),IF(N2370=\"Transporte Aéreo\",VLOOKUP(O2372,$O$4044:$P$4045,2),\"\"))))","v":""},null,null,null,null,null,null,null,null,null,null,null,null,null,null,null,"",""]
[null,null,null,null,null,null,"",null,{"$f":"IF(H2375=\"\",\"\",ROUND(H2375/SUM(H2370:H2377),4))","v":""},null,null,null,null,null,null,{"$f":"+IF(O2375=\"\",\"\",IF(N2370=\"Transporte Marítimo\",VLOOKUP(O2375,$O$4030:$P$4035,2),IF(N2370=\"Transporte Aéreo\",VLOOKUP(O2375,$O$4037:$P$4042,2),IF(N2370=\"Transporte Aéreo\",VLOOKUP(O2375,$O$4044:$P$4045,2),\"\"))))","v":""},null,null,null,null,null,null,null,null,null,null,null,null,null,null,null,"",""]
[null,null,null,null,null,null,"",null,{"$f":"IF(H2379=\"\",\"\",ROUND(H2379/SUM(H2378:H2385),4))","v":""},null,null,null,null,null,null,{"$f":"+IF(O2379=\"\",\"\",IF(N2378=\"Transporte Marítimo\",VLOOKUP(O2379,$O$4030:$P$4035,2),IF(N2378=\"Transporte Aéreo\",VLOOKUP(O2379,$O$4037:$P$4042,2),IF(N2378=\"Transporte Aéreo\",VLOOKUP(O2379,$O$4044:$P$4045,2),\"\"))))","v":""},null,null,null,null,null,null,null,null,null,null,null,null,null,null,null,{"$f":"+IF(AE2379=\"20NL\",1,IF(AE2379=\"40NL\",2,IF(AE2379=\"20RF\",3,IF(AE2379=\"40RF\",4,\"\"))))","v":""},""]
[null,null,null,null,null,null,"",null,{"$f":"IF(H2382=\"\",\"\",ROUND(H2382/SUM(H2378:H2385),4))","v":""},null,null,null,null,null,null,{"$f":"+IF(O2382=\"\",\"\",IF(N2378=\"Transporte Marítimo\",VLOOKUP(O2382,$O$4030:$P$4035,2),IF(N2378=\"Transporte Aéreo\",VLOOKUP(O2382,$O$4037:$P$4042,2),IF(N2378=\"Transporte Aéreo\",VLOOKUP(O2382,$O$4044:$P$4045,2),\"\"))))","v":""},null,null,null,null,null,null,null,null,null,null,null,null,null,null,null,"",""]
[null,{"$f":"+B2378+1","v":297},null,null,null,null,{"$f":"+IF(F2386=\"\",\"\",VLOOKUP(F2386,$F$4031:$G$4120,2))","v":""},null,{"$f":"IF(H2386=\"\",\"\",1-SUM(I2387:I2393))","v":""},null,null,null,null,null,null,{"$f":"+IF(O2386=\"\",\"\",IF(N2386=\"Transporte Marítimo\",VLOOKUP(O2386,$O$4030:$P$4035,2),IF(N2386=\"Transporte Aéreo\",VLOOKUP(O2386,$O$4037:$P$4042,2),IF(N2386=\"CTT\",VLOOKUP(O2386,$O$4044:$P$4045,2),\"\"))))","v":""},null,null,null,null,null,null,null,null,null,null,null,null,null,null,null,{"$f":"+IF(AE2386=\"20NL\",1,IF(AE2386=\"40NL\",2,IF(AE2386=\"20RF\",3,IF(AE2386=\"40RF\",4,\"\"))))","v":""},{"$f":"+IF(AF2386=\"\",\"\",VLOOKUP(AF2386,$AF$4031:$AG$4034,2))","v":""},null,null,null,null,null,null,null,null,null,null,null,null,null,null," "]
[null,null,null,null,null,null,"",null,{"$f":"IF(H2389=\"\",\"\",ROUND(H2389/SUM(H2386:H2393),4))","v":""},null,null,null,null,null,null,{"$f":"+IF(O2389=\"\",\"\",IF(N2386=\"Transporte Marítimo\",VLOOKUP(O2389,$O$4030:$P$4035,2),IF(N2386=\"Transporte Aéreo\",VLOOKUP(O2389,$O$4037:$P$4042,2),IF(N2386=\"Transporte Aéreo\",VLOOKUP(O2389,$O$4044:$P$4045,2),\"\"))))","v":""},null,null,null,null,null,null,null,null,null,null,null,null,null,null,null,"",""]
[null,null,null,null,null,null,"",null,{"$f":"IF(H2391=\"\",\"\",ROUND(H2391/SUM(H2386:H2393),4))","v":""},null,null,null,null,null,null,{"$f":"+IF(O2391=\"\",\"\",IF(N2386=\"Transporte Marítimo\",VLOOKUP(O2391,$O$4030:$P$4035,2),IF(N2386=\"Transporte Aéreo\",VLOOKUP(O2391,$O$4037:$P$4042,2),IF(N2386=\"Transporte Aéreo\",VLOOKUP(O2391,$O$4044:$P$4045,2),\"\"))))","v":""},null,null,null,null,null,null,null,null,null,null,null,null,null,null,null,"",""]
[null,null,null,null,null,null,"",null,{"$f":"IF(H2392=\"\",\"\",ROUND(H2392/SUM(H2386:H2393),4))","v":""},null,null,null,null,null,null,{"$f":"+IF(O2392=\"\",\"\",IF(N2386=\"Transporte Marítimo\",VLOOKUP(O2392,$O$4030:$P$4035,2),IF(N2386=\"Transporte Aéreo\",VLOOKUP(O2392,$O$4037:$P$4042,2),IF(N2386=\"Transporte Aéreo\",VLOOKUP(O2392,$O$4044:$P$4045,2),\"\"))))","v":""},null,null,null,null,null,null,null,null,null,null,null,null,null,null,null,"",""]
[null,null,null,null,null,null,"",null,{"$f":"IF(H2395=\"\",\"\",ROUND(H2395/SUM(H2394:H2401),4))","v":""},null,null,null,null,null,null,{"$f":"+IF(O2395=\"\",\"\",IF(N2394=\"Transporte Marítimo\",VLOOKUP(O2395,$O$4030:$P$4035,2),IF(N2394=\"Transporte Aéreo\",VLOOKUP(O2395,$O$4037:$P$4042,2),IF(N2394=\"Transporte Aéreo\",VLOOKUP(O2395,$O$4044:$P$4045,2),\"\"))))","v":""},null,null,null,null,null,null,null,null,null,null,null,null,null,null,null,{"$f":"+IF(AE2395=\"20NL\",1,IF(AE2395=\"40NL\",2,IF(AE2395=\"20RF\",3,IF(AE2395=\"40RF\",4,\"\"))))","v":""},""]
[null,null,null,null,null,null,"",null,{"$f":"IF(H2399=\"\",\"\",ROUND(H2399/SUM(H2394:H2401),4))","v":""},null,null,null,null,null,null,{"$f":"+IF(O2399=\"\",\"\",IF(N2394=\"Transporte Marítimo\",VLOOKUP(O2399,$O$4030:$P$4035,2),IF(N2394=\"Transporte Aéreo\",VLOOKUP(O2399,$O$4037:$P$4042,2),IF(N2394=\"Transporte Aéreo\",VLOOKUP(O2399,$O$4044:$P$4045,2),\"\"))))","v":""},null,null,null,null,null,null,null,null,null,null,null,null,null,null,null,"",""]
[null,{"$f":"+B2394+1","v":299},null,null,null,null,{"$f":"+IF(F2402=\"\",\"\",VLOOKUP(F2402,$F$4031:$G$4120,2))","v":""},null,{"$f":"IF(H2402=\"\",\"\",1-SUM(I2403:I2409))","v":""},null,null,null,null,null,null,{"$f":"+IF(O2402=\"\",\"\",IF(N2402=\"Transporte Marítimo\",VLOOKUP(O2402,$O$4030:$P$4035,2),IF(N2402=\"Transporte Aéreo\",VLOOKUP(O2402,$O$4037:$P$4042,2),IF(N2402=\"CTT\",VLOOKUP(O2402,$O$4044:$P$4045,2),\"\"))))","v":""},null,null,null,null,null,null,null,null,null,null,null,null,null,null,null,{"$f":"+IF(AE2402=\"20NL\",1,IF(AE2402=\"40NL\",2,IF(AE2402=\"20RF\",3,IF(AE2402=\"40RF\",4,\"\"))))","v":""},{"$f":"+IF(AF2402=\"\",\"\",VLOOKUP(AF2402,$AF$4031:$AG$4034,2))","v":""},null,null,null,null,null,null,null,null,null,null,null,null,null,null," "]
[null,null,null,null,null,null,"",null,{"$f":"IF(H2405=\"\",\"\",ROUND(H2405/SUM(H2402:H2409),4))","v":""},null,null,null,null,null,null,{"$f":"+IF(O2405=\"\",\"\",IF(N2402=\"Transporte Marítimo\",VLOOKUP(O2405,$O$4030:$P$4035,2),IF(N2402=\"Transporte Aéreo\",VLOOKUP(O2405,$O$4037:$P$4042,2),IF(N2402=\"Transporte Aéreo\",VLOOKUP(O2405,$O$4044:$P$4045,2),\"\"))))","v":""},null,null,null,null,null,null,null,null,null,null,null,null,null,null,null,"",""]
[null,null,null,null,null,null,"",null,{"$f":"IF(H2409=\"\",\"\",ROUND(H2409/SUM(H2402:H2409),4))","v":""},null,null,null,null,null,null,{"$f":"+IF(O2409=\"\",\"\",IF(N2402=\"Transporte Marítimo\",VLOOKUP(O2409,$O$4030:$P$4035,2),IF(N2402=\"Transporte Aéreo\",VLOOKUP(O2409,$O$4037:$P$4042,2),IF(N2402=\"Transporte Aéreo\",VLOOKUP(O2409,$O$4044:$P$4045,2),\"\"))))","v":""},null,null,null,null,null,null,null,null,null,null,null,null,null,null,null,"",""]
[null,null,null,null,null,null,"",null,{"$f":"IF(H2412=\"\",\"\",ROUND(H2412/SUM(H2410:H2417),4))","v":""},null,null,null,null,null,null,{"$f":"+IF(O2412=\"\",\"\",IF(N2410=\"Transporte Marítimo\",VLOOKUP(O2412,$O$4030:$P$4035,2),IF(N2410=\"Transporte Aéreo\",VLOOKUP(O2412,$O$4037:$P$4042,2),IF(N2410=\"Transporte Aéreo\",VLOOKUP(O2412,$O$4044:$P$4045,2),\"\"))))","v":""},null,null,null,null,null,null,null,null,null,null,null,null,null,null,null,"",""]
[null,null,null,null,null,null,"",null,{"$f":"IF(H2414=\"\",\"\",ROUND(H2414/SUM(H2410:H2417),4))","v":""},null,null,null,null,null,null,{"$f":"+IF(O2414=\"\",\"\",IF(N2410=\"Transporte Marítimo\",VLOOKUP(O2414,$O$4030:$P$4035,2),IF(N2410=\"Transporte Aéreo\",VLOOKUP(O2414,$O$4037:$P$4042,2),IF(N2410=\"Transporte Aéreo\",VLOOKUP(O2414,$O$4044:$P$4045,2),\"\"))))","v":""},null,null,null,null,null,null,null,null,null,null,null,null,null,null,null,"",""]
[null,null,null,null,null,null,"",null,{"$f":"IF(H2415=\"\",\"\",ROUND(H2415/SUM(H2410:H2417),4))","v":""},null,null,null,null,null,null,{"$f":"+IF(O2415=\"\",\"\",IF(N2410=\"Transporte Marítimo\",VLOOKUP(O2415,$O$4030:$P$4035,2),IF(N2410=\"Transporte Aéreo\",VLOOKUP(O2415,$O$4037:$P$4042,2),IF(N2410=\"Transporte Aéreo\",VLOOKUP(O2415,$O$4044:$P$4045,2),\"\"))))","v":""},null,null,null,null,null,null,null,null,null,null,null,null,null,null,null,"",""]
[null,{"$f":"+B2410+1","v":301},null,null,null,null,{"$f":"+IF(F2418=\"\",\"\",VLOOKUP(F2418,$F$4031:$G$4120,2))","v":""},null,{"$f":"IF(H2418=\"\",\"\",1-SUM(I2419:I2425))","v":""},null,null,null,null,null,null,{"$f":"+IF(O2418=\"\",\"\",IF(N2418=\"Transporte Marítimo\",VLOOKUP(O2418,$O$4030:$P$4035,2),IF(N2418=\"Transporte Aéreo\",VLOOKUP(O2418,$O$4037:$P$4042,2),IF(N2418=\"CTT\",VLOOKUP(O2418,$O$4044:$P$4045,2),\"\"))))","v":""},null,null,null,null,null,null,null,null,null,null,null,null,null,null,null,{"$f":"+IF(AE2418=\"20NL\",1,IF(AE2418=\"40NL\",2,IF(AE2418=\"20RF\",3,IF(AE2418=\"40RF\",4,\"\"))))","v":""},{"$f":"+IF(AF2418=\"\",\"\",VLOOKUP(AF2418,$AF$4031:$AG$4034,2))","v":""},null,null,null,null,null,null,null,null,null,null,null,null,null,null," "]
[null,null,null,null,null,null,"",null,{"$f":"IF(H2422=\"\",\"\",ROUND(H2422/SUM(H2418:H2425),4))","v":""},null,null,null,null,null,null,{"$f":"+IF(O2422=\"\",\"\",IF(N2418=\"Transporte Marítimo\",VLOOKUP(O2422,$O$4030:$P$4035,2),IF(N2418=\"Transporte Aéreo\",VLOOKUP(O2422,$O$4037:$P$4042,2),IF(N2418=\"Transporte Aéreo\",VLOOKUP(O2422,$O$4044:$P$4045,2),\"\"))))","v":""},null,null,null,null,null,null,null,null,null,null,null,null,null,null,null,"",""]
[null,null,null,null,null,null,"",null,{"$f":"IF(H2425=\"\",\"\",ROUND(H2425/SUM(H2418:H2425),4))","v":""},null,null,null,null,null,null,{"$f":"+IF(O2425=\"\",\"\",IF(N2418=\"Transporte Marítimo\",VLOOKUP(O2425,$O$4030:$P$4035,2),IF(N2418=\"Transporte Aéreo\",VLOOKUP(O2425,$O$4037:$P$4042,2),IF(N2418=\"Transporte Aéreo\",VLOOKUP(O2425,$O$4044:$P$4045,2),\"\"))))","v":""},null,null,null,null,null,null,null,null,null,null,null,null,null,null,null,"",""]
[null,null,null,null,null,null,"",null,{"$f":"IF(H2428=\"\",\"\",ROUND(H2428/SUM(H2426:H2433),4))","v":""},null,null,null,null,null,null,{"$f":"+IF(O2428=\"\",\"\",IF(N2426=\"Transporte Marítimo\",VLOOKUP(O2428,$O$4030:$P$4035,2),IF(N2426=\"Transporte Aéreo\",VLOOKUP(O2428,$O$4037:$P$4042,2),IF(N2426=\"Transporte Aéreo\",VLOOKUP(O2428,$O$4044:$P$4045,2),\"\"))))","v":""},null,null,null,null,null,null,null,null,null,null,null,null,null,null,null,"",""]
[null,null,null,null,null,null,"",null,{"$f":"IF(H2432=\"\",\"\",ROUND(H2432/SUM(H2426:H2433),4))","v":""},null,null,null,null,null,null,{"$f":"+IF(O2432=\"\",\"\",IF(N2426=\"Transporte Marítimo\",VLOOKUP(O2432,$O$4030:$P$4035,2),IF(N2426=\"Transporte Aéreo\",VLOOKUP(O2432,$O$4037:$P$4042,2),IF(N2426=\"Transporte Aéreo\",VLOOKUP(O2432,$O$4044:$P$4045,2),\"\"))))","v":""},null,null,null,null,null,null,null,null,null,null,null,null,null,null,null,"",""]
[null,null,null,null,null,null,"",null,{"$f":"IF(H2435=\"\",\"\",ROUND(H2435/SUM(H2434:H2441),4))","v":""},null,null,null,null,null,null,{"$f":"+IF(O2435=\"\",\"\",IF(N2434=\"Transporte Marítimo\",VLOOKUP(O2435,$O$4030:$P$4035,2),IF(N2434=\"Transporte Aéreo\",VLOOKUP(O2435,$O$4037:$P$4042,2),IF(N2434=\"Transporte Aéreo\",VLOOKUP(O2435,$O$4044:$P$4045,2),\"\"))))","v":""},null,null,null,null,null,null,null,null,null,null,null,null,null,null,null,{"$f":"+IF(AE2435=\"20NL\",1,IF(AE2435=\"40NL\",2,IF(AE2435=\"20RF\",3,IF(AE2435=\"40RF\",4,\"\"))))","v":""},""]
[null,null,null,null,null,null,"",null,{"$f":"IF(H2437=\"\",\"\",ROUND(H2437/SUM(H2434:H2441),4))","v":""},null,null,null,null,null,null,{"$f":"+IF(O2437=\"\",\"\",IF(N2434=\"Transporte Marítimo\",VLOOKUP(O2437,$O$4030:$P$4035,2),IF(N2434=\"Transporte Aéreo\",VLOOKUP(O2437,$O$4037:$P$4042,2),IF(N2434=\"Transporte Aéreo\",VLOOKUP(O2437,$O$4044:$P$4045,2),\"\"))))","v":""},null,null,null,null,null,null,null,null,null,null,null,null,null,null,null,"",""]
[null,null,null,null,null,null,"",null,{"$f":"IF(H2438=\"\",\"\",ROUND(H2438/SUM(H2434:H2441),4))","v":""},null,null,null,null,null,null,{"$f":"+IF(O2438=\"\",\"\",IF(N2434=\"Transporte Marítimo\",VLOOKUP(O2438,$O$4030:$P$4035,2),IF(N2434=\"Transporte Aéreo\",VLOOKUP(O2438,$O$4037:$P$4042,2),IF(N2434=\"Transporte Aéreo\",VLOOKUP(O2438,$O$4044:$P$4045,2),\"\"))))","v":""},null,null,null,null,null,null,null,null,null,null,null,null,null,null,null,"",""]
[null,null,null,null,null,null,"",null,{"$f":"IF(H2441=\"\",\"\",ROUND(H2441/SUM(H2434:H2441),4))","v":""},null,null,null,null,null,null,{"$f":"+IF(O2441=\"\",\"\",IF(N2434=\"Transporte Marítimo\",VLOOKUP(O2441,$O$4030:$P$4035,2),IF(N2434=\"Transporte Aéreo\",VLOOKUP(O2441,$O$4037:$P$4042,2),IF(N2434=\"Transporte Aéreo\",VLOOKUP(O2441,$O$4044:$P$4045,2),\"\"))))","v":""},null,null,null,null,null,null,null,null,null,null,null,null,null,null,null,"",""]
[null,null,null,null,null,null,"",null,{"$f":"IF(H2445=\"\",\"\",ROUND(H2445/SUM(H2442:H2449),4))","v":""},null,null,null,null,null,null,{"$f":"+IF(O2445=\"\",\"\",IF(N2442=\"Transporte Marítimo\",VLOOKUP(O2445,$O$4030:$P$4035,2),IF(N2442=\"Transporte Aéreo\",VLOOKUP(O2445,$O$4037:$P$4042,2),IF(N2442=\"Transporte Aéreo\",VLOOKUP(O2445,$O$4044:$P$4045,2),\"\"))))","v":""},null,null,null,null,null,null,null,null,null,null,null,null,null,null,null,"",""]
[null,null,null,null,null,null,"",null,{"$f":"IF(H2448=\"\",\"\",ROUND(H2448/SUM(H2442:H2449),4))","v":""},null,null,null,null,null,null,{"$f":"+IF(O2448=\"\",\"\",IF(N2442=\"Transporte Marítimo\",VLOOKUP(O2448,$O$4030:$P$4035,2),IF(N2442=\"Transporte Aéreo\",VLOOKUP(O2448,$O$4037:$P$4042,2),IF(N2442=\"Transporte Aéreo\",VLOOKUP(O2448,$O$4044:$P$4045,2),\"\"))))","v":""},null,null,null,null,null,null,null,null,null,null,null,null,null,null,null,"",""]
[null,null,null,null,null,null,"",null,{"$f":"IF(H2451=\"\",\"\",ROUND(H2451/SUM(H2450:H2457),4))","v":""},null,null,null,null,null,null,{"$f":"+IF(O2451=\"\",\"\",IF(N2450=\"Transporte Marítimo\",VLOOKUP(O2451,$O$4030:$P$4035,2),IF(N2450=\"Transporte Aéreo\",VLOOKUP(O2451,$O$4037:$P$4042,2),IF(N2450=\"Transporte Aéreo\",VLOOKUP(O2451,$O$4044:$P$4045,2),\"\"))))","v":""},null,null,null,null,null,null,null,null,null,null,null,null,null,null,null,{"$f":"+IF(AE2451=\"20NL\",1,IF(AE2451=\"40NL\",2,IF(AE2451=\"20RF\",3,IF(AE2451=\"40RF\",4,\"\"))))","v":""},""]
[null,null,null,null,null,null,"",null,{"$f":"IF(H2455=\"\",\"\",ROUND(H2455/SUM(H2450:H2457),4))","v":""},null,null,null,null,null,null,{"$f":"+IF(O2455=\"\",\"\",IF(N2450=\"Transporte Marítimo\",VLOOKUP(O2455,$O$4030:$P$4035,2),IF(N2450=\"Transporte Aéreo\",VLOOKUP(O2455,$O$4037:$P$4042,2),IF(N2450=\"Transporte Aéreo\",VLOOKUP(O2455,$O$4044:$P$4045,2),\"\"))))","v":""},null,null,null,null,null,null,null,null,null,null,null,null,null,null,null,"",""]
[null,null,null,null,null,null,"",null,{"$f":"IF(H2456=\"\",\"\",ROUND(H2456/SUM(H2450:H2457),4))","v":""},null,null,null,null,null,null,{"$f":"+IF(O2456=\"\",\"\",IF(N2450=\"Transporte Marítimo\",VLOOKUP(O2456,$O$4030:$P$4035,2),IF(N2450=\"Transporte Aéreo\",VLOOKUP(O2456,$O$4037:$P$4042,2),IF(N2450=\"Transporte Aéreo\",VLOOKUP(O2456,$O$4044:$P$4045,2),\"\"))))","v":""},null,null,null,null,null,null,null,null,null,null,null,null,null,null,null,"",""]
[null,{"$f":"+B2450+1","v":306},null,null,null,null,{"$f":"+IF(F2458=\"\",\"\",VLOOKUP(F2458,$F$4031:$G$4120,2))","v":""},null,{"$f":"IF(H2458=\"\",\"\",1-SUM(I2459:I2465))","v":""},null,null,null,null,null,null,{"$f":"+IF(O2458=\"\",\"\",IF(N2458=\"Transporte Marítimo\",VLOOKUP(O2458,$O$4030:$P$4035,2),IF(N2458=\"Transporte Aéreo\",VLOOKUP(O2458,$O$4037:$P$4042,2),IF(N2458=\"CTT\",VLOOKUP(O2458,$O$4044:$P$4045,2),\"\"))))","v":""},null,null,null,null,null,null,null,null,null,null,null,null,null,null,null,{"$f":"+IF(AE2458=\"20NL\",1,IF(AE2458=\"40NL\",2,IF(AE2458=\"20RF\",3,IF(AE2458=\"40RF\",4,\"\"))))","v":""},{"$f":"+IF(AF2458=\"\",\"\",VLOOKUP(AF2458,$AF$4031:$AG$4034,2))","v":""},null,null,null,null,null,null,null,null,null,null,null,null,null,null," "]
[null,null,null,null,null,null,"",null,{"$f":"IF(H2461=\"\",\"\",ROUND(H2461/SUM(H2458:H2465),4))","v":""},null,null,null,null,null,null,{"$f":"+IF(O2461=\"\",\"\",IF(N2458=\"Transporte Marítimo\",VLOOKUP(O2461,$O$4030:$P$4035,2),IF(N2458=\"Transporte Aéreo\",VLOOKUP(O2461,$O$4037:$P$4042,2),IF(N2458=\"Transporte Aéreo\",VLOOKUP(O2461,$O$4044:$P$4045,2),\"\"))))","v":""},null,null,null,null,null,null,null,null,null,null,null,null,null,null,null,"",""]
[null,null,null,null,null,null,"",null,{"$f":"IF(H2464=\"\",\"\",ROUND(H2464/SUM(H2458:H2465),4))","v":""},null,null,null,null,null,null,{"$f":"+IF(O2464=\"\",\"\",IF(N2458=\"Transporte Marítimo\",VLOOKUP(O2464,$O$4030:$P$4035,2),IF(N2458=\"Transporte Aéreo\",VLOOKUP(O2464,$O$4037:$P$4042,2),IF(N2458=\"Transporte Aéreo\",VLOOKUP(O2464,$O$4044:$P$4045,2),\"\"))))","v":""},null,null,null,null,null,null,null,null,null,null,null,null,null,null,null,"",""]
[null,null,null,null,null,null,"",null,{"$f":"IF(H2468=\"\",\"\",ROUND(H2468/SUM(H2466:H2473),4))","v":""},null,null,null,null,null,null,{"$f":"+IF(O2468=\"\",\"\",IF(N2466=\"Transporte Marítimo\",VLOOKUP(O2468,$O$4030:$P$4035,2),IF(N2466=\"Transporte Aéreo\",VLOOKUP(O2468,$O$4037:$P$4042,2),IF(N2466=\"Transporte Aéreo\",VLOOKUP(O2468,$O$4044:$P$4045,2),\"\"))))","v":""},null,null,null,null,null,null,null,null,null,null,null,null,null,null,null,"",""]
[null,null,null,null,null,null,"",null,{"$f":"IF(H2471=\"\",\"\",ROUND(H2471/SUM(H2466:H2473),4))","v":""},null,null,null,null,null,null,{"$f":"+IF(O2471=\"\",\"\",IF(N2466=\"Transporte Marítimo\",VLOOKUP(O2471,$O$4030:$P$4035,2),IF(N2466=\"Transporte Aéreo\",VLOOKUP(O2471,$O$4037:$P$4042,2),IF(N2466=\"Transporte Aéreo\",VLOOKUP(O2471,$O$4044:$P$4045,2),\"\"))))","v":""},null,null,null,null,null,null,null,null,null,null,null,null,null,null,null,"",""]
[null,{"$f":"+B2466+1","v":308},null,null,null,null,{"$f":"+IF(F2474=\"\",\"\",VLOOKUP(F2474,$F$4031:$G$4120,2))","v":""},null,{"$f":"IF(H2474=\"\",\"\",1-SUM(I2475:I2481))","v":""},null,null,null,null,null,null,{"$f":"+IF(O2474=\"\",\"\",IF(N2474=\"Transporte Marítimo\",VLOOKUP(O2474,$O$4030:$P$4035,2),IF(N2474=\"Transporte Aéreo\",VLOOKUP(O2474,$O$4037:$P$4042,2),IF(N2474=\"CTT\",VLOOKUP(O2474,$O$4044:$P$4045,2),\"\"))))","v":""},null,null,null,null,null,null,null,null,null,null,null,null,null,null,null,{"$f":"+IF(AE2474=\"20NL\",1,IF(AE2474=\"40NL\",2,IF(AE2474=\"20RF\",3,IF(AE2474=\"40RF\",4,\"\"))))","v":""},{"$f":"+IF(AF2474=\"\",\"\",VLOOKUP(AF2474,$AF$4031:$AG$4034,2))","v":""},null,null,null,null,null,null,null,null,null,null,null,null,null,null," "]
[null,null,null,null,null,null,"",null,{"$f":"IF(H2478=\"\",\"\",ROUND(H2478/SUM(H2474:H2481),4))","v":""},null,null,null,null,null,null,{"$f":"+IF(O2478=\"\",\"\",IF(N2474=\"Transporte Marítimo\",VLOOKUP(O2478,$O$4030:$P$4035,2),IF(N2474=\"Transporte Aéreo\",VLOOKUP(O2478,$O$4037:$P$4042,2),IF(N2474=\"Transporte Aéreo\",VLOOKUP(O2478,$O$4044:$P$4045,2),\"\"))))","v":""},null,null,null,null,null,null,null,null,null,null,null,null,null,null,null,"",""]
[null,null,null,null,null,null,"",null,{"$f":"IF(H2479=\"\",\"\",ROUND(H2479/SUM(H2474:H2481),4))","v":""},null,null,null,null,null,null,{"$f":"+IF(O2479=\"\",\"\",IF(N2474=\"Transporte Marítimo\",VLOOKUP(O2479,$O$4030:$P$4035,2),IF(N2474=\"Transporte Aéreo\",VLOOKUP(O2479,$O$4037:$P$4042,2),IF(N2474=\"Transporte Aéreo\",VLOOKUP(O2479,$O$4044:$P$4045,2),\"\"))))","v":""},null,null,null,null,null,null,null,null,null,null,null,null,null,null,null,"",""]
[null,null,null,null,null,null,"",null,{"$f":"IF(H2481=\"\",\"\",ROUND(H2481/SUM(H2474:H2481),4))","v":""},null,null,null,null,null,null,{"$f":"+IF(O2481=\"\",\"\",IF(N2474=\"Transporte Marítimo\",VLOOKUP(O2481,$O$4030:$P$4035,2),IF(N2474=\"Transporte Aéreo\",VLOOKUP(O2481,$O$4037:$P$4042,2),IF(N2474=\"Transporte Aéreo\",VLOOKUP(O2481,$O$4044:$P$4045,2),\"\"))))","v":""},null,null,null,null,null,null,null,null,null,null,null,null,null,null,null,"",""]
[null,null,null,null,null,null,"",null,{"$f":"IF(H2484=\"\",\"\",ROUND(H2484/SUM(H2482:H2489),4))","v":""},null,null,null,null,null,null,{"$f":"+IF(O2484=\"\",\"\",IF(N2482=\"Transporte Marítimo\",VLOOKUP(O2484,$O$4030:$P$4035,2),IF(N2482=\"Transporte Aéreo\",VLOOKUP(O2484,$O$4037:$P$4042,2),IF(N2482=\"Transporte Aéreo\",VLOOKUP(O2484,$O$4044:$P$4045,2),\"\"))))","v":""},null,null,null,null,null,null,null,null,null,null,null,null,null,null,null,"",""]
[null,null,null,null,null,null,"",null,{"$f":"IF(H2487=\"\",\"\",ROUND(H2487/SUM(H2482:H2489),4))","v":""},null,null,null,null,null,null,{"$f":"+IF(O2487=\"\",\"\",IF(N2482=\"Transporte Marítimo\",VLOOKUP(O2487,$O$4030:$P$4035,2),IF(N2482=\"Transporte Aéreo\",VLOOKUP(O2487,$O$4037:$P$4042,2),IF(N2482=\"Transporte Aéreo\",VLOOKUP(O2487,$O$4044:$P$4045,2),\"\"))))","v":""},null,null,null,null,null,null,null,null,null,null,null,null,null,null,null,"",""]
[null,null,null,null,null,null,"",null,{"$f":"IF(H2491=\"\",\"\",ROUND(H2491/SUM(H2490:H2497),4))","v":""},null,null,null,null,null,null,{"$f":"+IF(O2491=\"\",\"\",IF(N2490=\"Transporte Marítimo\",VLOOKUP(O2491,$O$4030:$P$4035,2),IF(N2490=\"Transporte Aéreo\",VLOOKUP(O2491,$O$4037:$P$4042,2),IF(N2490=\"Transporte Aéreo\",VLOOKUP(O2491,$O$4044:$P$4045,2),\"\"))))","v":""},null,null,null,null,null,null,null,null,null,null,null,null,null,null,null,{"$f":"+IF(AE2491=\"20NL\",1,IF(AE2491=\"40NL\",2,IF(AE2491=\"20RF\",3,IF(AE2491=\"40RF\",4,\"\"))))","v":""},{"$f":"+IF(AF2491=\"\",\"\",VLOOKUP(AF2491,$AF$4031:$AG$4034,2))","v":""}]
[null,null,null,null,null,null,"",null,{"$f":"IF(H2494=\"\",\"\",ROUND(H2494/SUM(H2490:H2497),4))","v":""},null,null,null,null,null,null,{"$f":"+IF(O2494=\"\",\"\",IF(N2490=\"Transporte Marítimo\",VLOOKUP(O2494,$O$4030:$P$4035,2),IF(N2490=\"Transporte Aéreo\",VLOOKUP(O2494,$O$4037:$P$4042,2),IF(N2490=\"Transporte Aéreo\",VLOOKUP(O2494,$O$4044:$P$4045,2),\"\"))))","v":""},null,null,null,null,null,null,null,null,null,null,null,null,null,null,null,"",""]
[null,{"$f":"+B2490+1","v":311},null,null,null,null,{"$f":"+IF(F2498=\"\",\"\",VLOOKUP(F2498,$F$4031:$G$4120,2))","v":""},null,{"$f":"IF(H2498=\"\",\"\",1-SUM(I2499:I2505))","v":""},null,null,null,null,null,null,{"$f":"+IF(O2498=\"\",\"\",IF(N2498=\"Transporte Marítimo\",VLOOKUP(O2498,$O$4030:$P$4035,2),IF(N2498=\"Transporte Aéreo\",VLOOKUP(O2498,$O$4037:$P$4042,2),IF(N2498=\"CTT\",VLOOKUP(O2498,$O$4044:$P$4045,2),\"\"))))","v":""},null,null,null,null,null,null,null,null,null,null,null,null,null,null,null,{"$f":"+IF(AE2498=\"20NL\",1,IF(AE2498=\"40NL\",2,IF(AE2498=\"20RF\",3,IF(AE2498=\"40RF\",4,\"\"))))","v":""},{"$f":"+IF(AF2498=\"\",\"\",VLOOKUP(AF2498,$AF$4031:$AG$4034,2))","v":""},null,null,null,null,null,null,null,null,null,null,null,null,null,null," "]
[null,null,null,null,null,null,"",null,{"$f":"IF(H2501=\"\",\"\",ROUND(H2501/SUM(H2498:H2505),4))","v":""},null,null,null,null,null,null,{"$f":"+IF(O2501=\"\",\"\",IF(N2498=\"Transporte Marítimo\",VLOOKUP(O2501,$O$4030:$P$4035,2),IF(N2498=\"Transporte Aéreo\",VLOOKUP(O2501,$O$4037:$P$4042,2),IF(N2498=\"Transporte Aéreo\",VLOOKUP(O2501,$O$4044:$P$4045,2),\"\"))))","v":""},null,null,null,null,null,null,null,null,null,null,null,null,null,null,null,"",""]
[null,null,null,null,null,null,"",null,{"$f":"IF(H2502=\"\",\"\",ROUND(H2502/SUM(H2498:H2505),4))","v":""},null,null,null,null,null,null,{"$f":"+IF(O2502=\"\",\"\",IF(N2498=\"Transporte Marítimo\",VLOOKUP(O2502,$O$4030:$P$4035,2),IF(N2498=\"Transporte Aéreo\",VLOOKUP(O2502,$O$4037:$P$4042,2),IF(N2498=\"Transporte Aéreo\",VLOOKUP(O2502,$O$4044:$P$4045,2),\"\"))))","v":""},null,null,null,null,null,null,null,null,null,null,null,null,null,null,null,"",""]
[null,null,null,null,null,null,"",null,{"$f":"IF(H2504=\"\",\"\",ROUND(H2504/SUM(H2498:H2505),4))","v":""},null,null,null,null,null,null,{"$f":"+IF(O2504=\"\",\"\",IF(N2498=\"Transporte Marítimo\",VLOOKUP(O2504,$O$4030:$P$4035,2),IF(N2498=\"Transporte Aéreo\",VLOOKUP(O2504,$O$4037:$P$4042,2),IF(N2498=\"Transporte Aéreo\",VLOOKUP(O2504,$O$4044:$P$4045,2),\"\"))))","v":""},null,null,null,null,null,null,null,null,null,null,null,null,null,null,null,"",""]
[null,null,null,null,null,null,"",null,{"$f":"IF(H2507=\"\",\"\",ROUND(H2507/SUM(H2506:H2513),4))","v":""},null,null,null,null,null,null,{"$f":"+IF(O2507=\"\",\"\",IF(N2506=\"Transporte Marítimo\",VLOOKUP(O2507,$O$4030:$P$4035,2),IF(N2506=\"Transporte Aéreo\",VLOOKUP(O2507,$O$4037:$P$4042,2),IF(N2506=\"Transporte Aéreo\",VLOOKUP(O2507,$O$4044:$P$4045,2),\"\"))))","v":""},null,null,null,null,null,null,null,null,null,null,null,null,null,null,null,{"$f":"+IF(AE2507=\"20NL\",1,IF(AE2507=\"40NL\",2,IF(AE2507=\"20RF\",3,IF(AE2507=\"40RF\",4,\"\"))))","v":""},""]
[null,null,null,null,null,null,"",null,{"$f":"IF(H2510=\"\",\"\",ROUND(H2510/SUM(H2506:H2513),4))","v":""},null,null,null,null,null,null,{"$f":"+IF(O2510=\"\",\"\",IF(N2506=\"Transporte Marítimo\",VLOOKUP(O2510,$O$4030:$P$4035,2),IF(N2506=\"Transporte Aéreo\",VLOOKUP(O2510,$O$4037:$P$4042,2),IF(N2506=\"Transporte Aéreo\",VLOOKUP(O2510,$O$4044:$P$4045,2),\"\"))))","v":""},null,null,null,null,null,null,null,null,null,null,null,null,null,null,null,"",""]
[null,{"$f":"+B2506+1","v":313},null,null,null,null,{"$f":"+IF(F2514=\"\",\"\",VLOOKUP(F2514,$F$4031:$G$4120,2))","v":""},null,{"$f":"IF(H2514=\"\",\"\",1-SUM(I2515:I2521))","v":""},null,null,null,null,null,null,{"$f":"+IF(O2514=\"\",\"\",IF(N2514=\"Transporte Marítimo\",VLOOKUP(O2514,$O$4030:$P$4035,2),IF(N2514=\"Transporte Aéreo\",VLOOKUP(O2514,$O$4037:$P$4042,2),IF(N2514=\"CTT\",VLOOKUP(O2514,$O$4044:$P$4045,2),\"\"))))","v":""},null,null,null,null,null,null,null,null,null,null,null,null,null,null,null,{"$f":"+IF(AE2514=\"20NL\",1,IF(AE2514=\"40NL\",2,IF(AE2514=\"20RF\",3,IF(AE2514=\"40RF\",4,\"\"))))","v":""},{"$f":"+IF(AF2514=\"\",\"\",VLOOKUP(AF2514,$AF$4031:$AG$4034,2))","v":""},null,null,null,null,null,null,null,null,null,null,null,null,null,null," "]
[null,null,null,null,null,null,"",null,{"$f":"IF(H2517=\"\",\"\",ROUND(H2517/SUM(H2514:H2521),4))","v":""},null,null,null,null,null,null,{"$f":"+IF(O2517=\"\",\"\",IF(N2514=\"Transporte Marítimo\",VLOOKUP(O2517,$O$4030:$P$4035,2),IF(N2514=\"Transporte Aéreo\",VLOOKUP(O2517,$O$4037:$P$4042,2),IF(N2514=\"Transporte Aéreo\",VLOOKUP(O2517,$O$4044:$P$4045,2),\"\"))))","v":""},null,null,null,null,null,null,null,null,null,null,null,null,null,null,null,"",""]
[null,null,null,null,null,null,"",null,{"$f":"IF(H2521=\"\",\"\",ROUND(H2521/SUM(H2514:H2521),4))","v":""},null,null,null,null,null,null,{"$f":"+IF(O2521=\"\",\"\",IF(N2514=\"Transporte Marítimo\",VLOOKUP(O2521,$O$4030:$P$4035,2),IF(N2514=\"Transporte Aéreo\",VLOOKUP(O2521,$O$4037:$P$4042,2),IF(N2514=\"Transporte Aéreo\",VLOOKUP(O2521,$O$4044:$P$4045,2),\"\"))))","v":""},null,null,null,null,null,null,null,null,null,null,null,null,null,null,null,"",""]
[null,null,null,null,null,null,"",null,{"$f":"IF(H2523=\"\",\"\",ROUND(H2523/SUM(H2522:H2529),4))","v":""},null,null,null,null,null,null,{"$f":"+IF(O2523=\"\",\"\",IF(N2522=\"Transporte Marítimo\",VLOOKUP(O2523,$O$4030:$P$4035,2),IF(N2522=\"Transporte Aéreo\",VLOOKUP(O2523,$O$4037:$P$4042,2),IF(N2522=\"Transporte Aéreo\",VLOOKUP(O2523,$O$4044:$P$4045,2),\"\"))))","v":""},null,null,null,null,null,null,null,null,null,null,null,null,null,null,null,{"$f":"+IF(AE2523=\"20NL\",1,IF(AE2523=\"40NL\",2,IF(AE2523=\"20RF\",3,IF(AE2523=\"40RF\",4,\"\"))))","v":""},""]
[null,null,null,null,null,null,"",null,{"$f":"IF(H2526=\"\",\"\",ROUND(H2526/SUM(H2522:H2529),4))","v":""},null,null,null,null,null,null,{"$f":"+IF(O2526=\"\",\"\",IF(N2522=\"Transporte Marítimo\",VLOOKUP(O2526,$O$4030:$P$4035,2),IF(N2522=\"Transporte Aéreo\",VLOOKUP(O2526,$O$4037:$P$4042,2),IF(N2522=\"Transporte Aéreo\",VLOOKUP(O2526,$O$4044:$P$4045,2),\"\"))))","v":""},null,null,null,null,null,null,null,null,null,null,null,null,null,null,null,"",""]
[null,null,null,null,null,null,"",null,{"$f":"IF(H2527=\"\",\"\",ROUND(H2527/SUM(H2522:H2529),4))","v":""},null,null,null,null,null,null,{"$f":"+IF(O2527=\"\",\"\",IF(N2522=\"Transporte Marítimo\",VLOOKUP(O2527,$O$4030:$P$4035,2),IF(N2522=\"Transporte Aéreo\",VLOOKUP(O2527,$O$4037:$P$4042,2),IF(N2522=\"Transporte Aéreo\",VLOOKUP(O2527,$O$4044:$P$4045,2),\"\"))))","v":""},null,null,null,null,null,null,null,null,null,null,null,null,null,null,null,"",""]
[null,{"$f":"+B2522+1","v":315},null,null,null,null,{"$f":"+IF(F2530=\"\",\"\",VLOOKUP(F2530,$F$4031:$G$4120,2))","v":""},null,{"$f":"IF(H2530=\"\",\"\",1-SUM(I2531:I2537))","v":""},null,null,null,null,null,null,{"$f":"+IF(O2530=\"\",\"\",IF(N2530=\"Transporte Marítimo\",VLOOKUP(O2530,$O$4030:$P$4035,2),IF(N2530=\"Transporte Aéreo\",VLOOKUP(O2530,$O$4037:$P$4042,2),IF(N2530=\"CTT\",VLOOKUP(O2530,$O$4044:$P$4045,2),\"\"))))","v":""},null,null,null,null,null,null,null,null,null,null,null,null,null,null,null,{"$f":"+IF(AE2530=\"20NL\",1,IF(AE2530=\"40NL\",2,IF(AE2530=\"20RF\",3,IF(AE2530=\"40RF\",4,\"\"))))","v":""},{"$f":"+IF(AF2530=\"\",\"\",VLOOKUP(AF2530,$AF$4031:$AG$4034,2))","v":""},null,null,null,null,null,null,null,null,null,null,null,null,null,null," "]
[null,null,null,null,null,null,"",null,{"$f":"IF(H2533=\"\",\"\",ROUND(H2533/SUM(H2530:H2537),4))","v":""},null,null,null,null,null,null,{"$f":"+IF(O2533=\"\",\"\",IF(N2530=\"Transporte Marítimo\",VLOOKUP(O2533,$O$4030:$P$4035,2),IF(N2530=\"Transporte Aéreo\",VLOOKUP(O2533,$O$4037:$P$4042,2),IF(N2530=\"Transporte Aéreo\",VLOOKUP(O2533,$O$4044:$P$4045,2),\"\"))))","v":""},null,null,null,null,null,null,null,null,null,null,null,null,null,null,null,"",""]
[null,null,null,null,null,null,"",null,{"$f":"IF(H2537=\"\",\"\",ROUND(H2537/SUM(H2530:H2537),4))","v":""},null,null,null,null,null,null,{"$f":"+IF(O2537=\"\",\"\",IF(N2530=\"Transporte Marítimo\",VLOOKUP(O2537,$O$4030:$P$4035,2),IF(N2530=\"Transporte Aéreo\",VLOOKUP(O2537,$O$4037:$P$4042,2),IF(N2530=\"Transporte Aéreo\",VLOOKUP(O2537,$O$4044:$P$4045,2),\"\"))))","v":""},null,null,null,null,null,null,null,null,null,null,null,null,null,null,null,"",""]
[null,null,null,null,null,null,"",null,{"$f":"IF(H2540=\"\",\"\",ROUND(H2540/SUM(H2538:H2545),4))","v":""},null,null,null,null,null,null,{"$f":"+IF(O2540=\"\",\"\",IF(N2538=\"Transporte Marítimo\",VLOOKUP(O2540,$O$4030:$P$4035,2),IF(N2538=\"Transporte Aéreo\",VLOOKUP(O2540,$O$4037:$P$4042,2),IF(N2538=\"Transporte Aéreo\",VLOOKUP(O2540,$O$4044:$P$4045,2),\"\"))))","v":""},null,null,null,null,null,null,null,null,null,null,null,null,null,null,null,"",""]
[null,null,null,null,null,null,"",null,{"$f":"IF(H2544=\"\",\"\",ROUND(H2544/SUM(H2538:H2545),4))","v":""},null,null,null,null,null,null,{"$f":"+IF(O2544=\"\",\"\",IF(N2538=\"Transporte Marítimo\",VLOOKUP(O2544,$O$4030:$P$4035,2),IF(N2538=\"Transporte Aéreo\",VLOOKUP(O2544,$O$4037:$P$4042,2),IF(N2538=\"Transporte Aéreo\",VLOOKUP(O2544,$O$4044:$P$4045,2),\"\"))))","v":""},null,null,null,null,null,null,null,null,null,null,null,null,null,null,null,"",""]
[null,{"$f":"+B2538+1","v":317},null,null,null,null,{"$f":"+IF(F2546=\"\",\"\",VLOOKUP(F2546,$F$4031:$G$4120,2))","v":""},null,{"$f":"IF(H2546=\"\",\"\",1-SUM(I2547:I2553))","v":""},null,null,null,null,null,null,{"$f":"+IF(O2546=\"\",\"\",IF(N2546=\"Transporte Marítimo\",VLOOKUP(O2546,$O$4030:$P$4035,2),IF(N2546=\"Transporte Aéreo\",VLOOKUP(O2546,$O$4037:$P$4042,2),IF(N2546=\"CTT\",VLOOKUP(O2546,$O$4044:$P$4045,2),\"\"))))","v":""},null,null,null,null,null,null,null,null,null,null,null,null,null,null,null,{"$f":"+IF(AE2546=\"20NL\",1,IF(AE2546=\"40NL\",2,IF(AE2546=\"20RF\",3,IF(AE2546=\"40RF\",4,\"\"))))","v":""},{"$f":"+IF(AF2546=\"\",\"\",VLOOKUP(AF2546,$AF$4031:$AG$4034,2))","v":""},null,null,null,null,null,null,null,null,null,null,null,null,null,null," "]
[null,null,null,null,null,null,"",null,{"$f":"IF(H2549=\"\",\"\",ROUND(H2549/SUM(H2546:H2553),4))","v":""},null,null,null,null,null,null,{"$f":"+IF(O2549=\"\",\"\",IF(N2546=\"Transporte Marítimo\",VLOOKUP(O2549,$O$4030:$P$4035,2),IF(N2546=\"Transporte Aéreo\",VLOOKUP(O2549,$O$4037:$P$4042,2),IF(N2546=\"Transporte Aéreo\",VLOOKUP(O2549,$O$4044:$P$4045,2),\"\"))))","v":""},null,null,null,null,null,null,null,null,null,null,null,null,null,null,null,"",""]
[null,null,null,null,null,null,"",null,{"$f":"IF(H2550=\"\",\"\",ROUND(H2550/SUM(H2546:H2553),4))","v":""},null,null,null,null,null,null,{"$f":"+IF(O2550=\"\",\"\",IF(N2546=\"Transporte Marítimo\",VLOOKUP(O2550,$O$4030:$P$4035,2),IF(N2546=\"Transporte Aéreo\",VLOOKUP(O2550,$O$4037:$P$4042,2),IF(N2546=\"Transporte Aéreo\",VLOOKUP(O2550,$O$4044:$P$4045,2),\"\"))))","v":""},null,null,null,null,null,null,null,null,null,null,null,null,null,null,null,"",""]
[null,null,null,null,null,null,"",null,{"$f":"IF(H2553=\"\",\"\",ROUND(H2553/SUM(H2546:H2553),4))","v":""},null,null,null,null,null,null,{"$f":"+IF(O2553=\"\",\"\",IF(N2546=\"Transporte Marítimo\",VLOOKUP(O2553,$O$4030:$P$4035,2),IF(N2546=\"Transporte Aéreo\",VLOOKUP(O2553,$O$4037:$P$4042,2),IF(N2546=\"Transporte Aéreo\",VLOOKUP(O2553,$O$4044:$P$4045,2),\"\"))))","v":""},null,null,null,null,null,null,null,null,null,null,null,null,null,null,null,"",""]
[null,null,null,null,null,null,"",null,{"$f":"IF(H2557=\"\",\"\",ROUND(H2557/SUM(H2554:H2561),4))","v":""},null,null,null,null,null,null,{"$f":"+IF(O2557=\"\",\"\",IF(N2554=\"Transporte Marítimo\",VLOOKUP(O2557,$O$4030:$P$4035,2),IF(N2554=\"Transporte Aéreo\",VLOOKUP(O2557,$O$4037:$P$4042,2),IF(N2554=\"Transporte Aéreo\",VLOOKUP(O2557,$O$4044:$P$4045,2),\"\"))))","v":""},null,null,null,null,null,null,null,null,null,null,null,null,null,null,null,"",""]
[null,null,null,null,null,null,"",null,{"$f":"IF(H2560=\"\",\"\",ROUND(H2560/SUM(H2554:H2561),4))","v":""},null,null,null,null,null,null,{"$f":"+IF(O2560=\"\",\"\",IF(N2554=\"Transporte Marítimo\",VLOOKUP(O2560,$O$4030:$P$4035,2),IF(N2554=\"Transporte Aéreo\",VLOOKUP(O2560,$O$4037:$P$4042,2),IF(N2554=\"Transporte Aéreo\",VLOOKUP(O2560,$O$4044:$P$4045,2),\"\"))))","v":""},null,null,null,null,null,null,null,null,null,null,null,null,null,null,null,"",""]
[null,null,null,null,null,null,{"$f":"+IF(F2563=\"\",\"\",VLOOKUP(F2563,$F$4031:$G$4120,2))","v":""},null,{"$f":"IF(H2563=\"\",\"\",ROUND(H2563/SUM(H2562:H2569),4))","v":""},null,null,null,null,null,null,{"$f":"+IF(O2563=\"\",\"\",IF(N2562=\"Transporte Marítimo\",VLOOKUP(O2563,$O$4030:$P$4035,2),IF(N2562=\"Transporte Aéreo\",VLOOKUP(O2563,$O$4037:$P$4042,2),IF(N2562=\"Transporte Aéreo\",VLOOKUP(O2563,$O$4044:$P$4045,2),\"\"))))","v":""},null,null,null,null,null,null,null,null,null,null,null,null,null,null,null,{"$f":"+IF(AE2563=\"20NL\",1,IF(AE2563=\"40NL\",2,IF(AE2563=\"20RF\",3,IF(AE2563=\"40RF\",4,\"\"))))","v":""},{"$f":"+IF(AF2563=\"\",\"\",VLOOKUP(AF2563,$AF$4031:$AG$4034,2))","v":""}]
[null,null,null,null,null,null,"",null,{"$f":"IF(H2567=\"\",\"\",ROUND(H2567/SUM(H2562:H2569),4))","v":""},null,null,null,null,null,null,{"$f":"+IF(O2567=\"\",\"\",IF(N2562=\"Transporte Marítimo\",VLOOKUP(O2567,$O$4030:$P$4035,2),IF(N2562=\"Transporte Aéreo\",VLOOKUP(O2567,$O$4037:$P$4042,2),IF(N2562=\"Transporte Aéreo\",VLOOKUP(O2567,$O$4044:$P$4045,2),\"\"))))","v":""},null,null,null,null,null,null,null,null,null,null,null,null,null,null,null,"",""]
[null,null,null,null,null,null,"",null,{"$f":"IF(H2569=\"\",\"\",ROUND(H2569/SUM(H2562:H2569),4))","v":""},null,null,null,null,null,null,{"$f":"+IF(O2569=\"\",\"\",IF(N2562=\"Transporte Marítimo\",VLOOKUP(O2569,$O$4030:$P$4035,2),IF(N2562=\"Transporte Aéreo\",VLOOKUP(O2569,$O$4037:$P$4042,2),IF(N2562=\"Transporte Aéreo\",VLOOKUP(O2569,$O$4044:$P$4045,2),\"\"))))","v":""},null,null,null,null,null,null,null,null,null,null,null,null,null,null,null,"",""]
[null,null,null,null,null,null,"",null,{"$f":"IF(H2572=\"\",\"\",ROUND(H2572/SUM(H2570:H2577),4))","v":""},null,null,null,null,null,null,{"$f":"+IF(O2572=\"\",\"\",IF(N2570=\"Transporte Marítimo\",VLOOKUP(O2572,$O$4030:$P$4035,2),IF(N2570=\"Transporte Aéreo\",VLOOKUP(O2572,$O$4037:$P$4042,2),IF(N2570=\"Transporte Aéreo\",VLOOKUP(O2572,$O$4044:$P$4045,2),\"\"))))","v":""},null,null,null,null,null,null,null,null,null,null,null,null,null,null,null,"",""]
[null,null,null,null,null,null,"",null,{"$f":"IF(H2573=\"\",\"\",ROUND(H2573/SUM(H2570:H2577),4))","v":""},null,null,null,null,null,null,{"$f":"+IF(O2573=\"\",\"\",IF(N2570=\"Transporte Marítimo\",VLOOKUP(O2573,$O$4030:$P$4035,2),IF(N2570=\"Transporte Aéreo\",VLOOKUP(O2573,$O$4037:$P$4042,2),IF(N2570=\"Transporte Aéreo\",VLOOKUP(O2573,$O$4044:$P$4045,2),\"\"))))","v":""},null,null,null,null,null,null,null,null,null,null,null,null,null,null,null,"",""]
[null,null,null,null,null,null,"",null,{"$f":"IF(H2576=\"\",\"\",ROUND(H2576/SUM(H2570:H2577),4))","v":""},null,null,null,null,null,null,{"$f":"+IF(O2576=\"\",\"\",IF(N2570=\"Transporte Marítimo\",VLOOKUP(O2576,$O$4030:$P$4035,2),IF(N2570=\"Transporte Aéreo\",VLOOKUP(O2576,$O$4037:$P$4042,2),IF(N2570=\"Transporte Aéreo\",VLOOKUP(O2576,$O$4044:$P$4045,2),\"\"))))","v":""},null,null,null,null,null,null,null,null,null,null,null,null,null,null,null,"",""]
[null,null,null,null,null,null,"",null,{"$f":"IF(H2580=\"\",\"\",ROUND(H2580/SUM(H2578:H2585),4))","v":""},null,null,null,null,null,null,{"$f":"+IF(O2580=\"\",\"\",IF(N2578=\"Transporte Marítimo\",VLOOKUP(O2580,$O$4030:$P$4035,2),IF(N2578=\"Transporte Aéreo\",VLOOKUP(O2580,$O$4037:$P$4042,2),IF(N2578=\"Transporte Aéreo\",VLOOKUP(O2580,$O$4044:$P$4045,2),\"\"))))","v":""},null,null,null,null,null,null,null,null,null,null,null,null,null,null,null,"",""]
[null,null,null,null,null,null,"",null,{"$f":"IF(H2583=\"\",\"\",ROUND(H2583/SUM(H2578:H2585),4))","v":""},null,null,null,null,null,null,{"$f":"+IF(O2583=\"\",\"\",IF(N2578=\"Transporte Marítimo\",VLOOKUP(O2583,$O$4030:$P$4035,2),IF(N2578=\"Transporte Aéreo\",VLOOKUP(O2583,$O$4037:$P$4042,2),IF(N2578=\"Transporte Aéreo\",VLOOKUP(O2583,$O$4044:$P$4045,2),\"\"))))","v":""},null,null,null,null,null,null,null,null,null,null,null,null,null,null,null,"",""]
[null,{"$f":"+B2578+1","v":322},null,null,null,null,{"$f":"+IF(F2586=\"\",\"\",VLOOKUP(F2586,$F$4031:$G$4120,2))","v":""},null,{"$f":"IF(H2586=\"\",\"\",1-SUM(I2587:I2593))","v":""},null,null,null,null,null,null,{"$f":"+IF(O2586=\"\",\"\",IF(N2586=\"Transporte Marítimo\",VLOOKUP(O2586,$O$4030:$P$4035,2),IF(N2586=\"Transporte Aéreo\",VLOOKUP(O2586,$O$4037:$P$4042,2),IF(N2586=\"CTT\",VLOOKUP(O2586,$O$4044:$P$4045,2),\"\"))))","v":""},null,null,null,null,null,null,null,null,null,null,null,null,null,null,null,{"$f":"+IF(AE2586=\"20NL\",1,IF(AE2586=\"40NL\",2,IF(AE2586=\"20RF\",3,IF(AE2586=\"40RF\",4,\"\"))))","v":""},{"$f":"+IF(AF2586=\"\",\"\",VLOOKUP(AF2586,$AF$4031:$AG$4034,2))","v":""},null,null,null,null,null,null,null,null,null,null,null,null,null,null," "]
[null,null,null,null,null,null,"",null,{"$f":"IF(H2588=\"\",\"\",ROUND(H2588/SUM(H2586:H2593),4))","v":""},null,null,null,null,null,null,{"$f":"+IF(O2588=\"\",\"\",IF(N2586=\"Transporte Marítimo\",VLOOKUP(O2588,$O$4030:$P$4035,2),IF(N2586=\"Transporte Aéreo\",VLOOKUP(O2588,$O$4037:$P$4042,2),IF(N2586=\"Transporte Aéreo\",VLOOKUP(O2588,$O$4044:$P$4045,2),\"\"))))","v":""},null,null,null,null,null,null,null,null,null,null,null,null,null,null,null,"",""]
[null,null,null,null,null,null,"",null,{"$f":"IF(H2592=\"\",\"\",ROUND(H2592/SUM(H2586:H2593),4))","v":""},null,null,null,null,null,null,{"$f":"+IF(O2592=\"\",\"\",IF(N2586=\"Transporte Marítimo\",VLOOKUP(O2592,$O$4030:$P$4035,2),IF(N2586=\"Transporte Aéreo\",VLOOKUP(O2592,$O$4037:$P$4042,2),IF(N2586=\"Transporte Aéreo\",VLOOKUP(O2592,$O$4044:$P$4045,2),\"\"))))","v":""},null,null,null,null,null,null,null,null,null,null,null,null,null,null,null,"",""]
[null,null,null,null,null,null,"",null,{"$f":"IF(H2595=\"\",\"\",ROUND(H2595/SUM(H2594:H2601),4))","v":""},null,null,null,null,null,null,{"$f":"+IF(O2595=\"\",\"\",IF(N2594=\"Transporte Marítimo\",VLOOKUP(O2595,$O$4030:$P$4035,2),IF(N2594=\"Transporte Aéreo\",VLOOKUP(O2595,$O$4037:$P$4042,2),IF(N2594=\"Transporte Aéreo\",VLOOKUP(O2595,$O$4044:$P$4045,2),\"\"))))","v":""},null,null,null,null,null,null,null,null,null,null,null,null,null,null,null,{"$f":"+IF(AE2595=\"20NL\",1,IF(AE2595=\"40NL\",2,IF(AE2595=\"20RF\",3,IF(AE2595=\"40RF\",4,\"\"))))","v":""},""]
[null,null,null,null,null,null,"",null,{"$f":"IF(H2596=\"\",\"\",ROUND(H2596/SUM(H2594:H2601),4))","v":""},null,null,null,null,null,null,{"$f":"+IF(O2596=\"\",\"\",IF(N2594=\"Transporte Marítimo\",VLOOKUP(O2596,$O$4030:$P$4035,2),IF(N2594=\"Transporte Aéreo\",VLOOKUP(O2596,$O$4037:$P$4042,2),IF(N2594=\"Transporte Aéreo\",VLOOKUP(O2596,$O$4044:$P$4045,2),\"\"))))","v":""},null,null,null,null,null,null,null,null,null,null,null,null,null,null,null,"",""]
[null,null,null,null,null,null,"",null,{"$f":"IF(H2599=\"\",\"\",ROUND(H2599/SUM(H2594:H2601),4))","v":""},null,null,null,null,null,null,{"$f":"+IF(O2599=\"\",\"\",IF(N2594=\"Transporte Marítimo\",VLOOKUP(O2599,$O$4030:$P$4035,2),IF(N2594=\"Transporte Aéreo\",VLOOKUP(O2599,$O$4037:$P$4042,2),IF(N2594=\"Transporte Aéreo\",VLOOKUP(O2599,$O$4044:$P$4045,2),\"\"))))","v":""},null,null,null,null,null,null,null,null,null,null,null,null,null,null,null,"",""]
[null,null,null,null,null,null,"",null,{"$f":"IF(H2603=\"\",\"\",ROUND(H2603/SUM(H2602:H2609),4))","v":""},null,null,null,null,null,null,{"$f":"+IF(O2603=\"\",\"\",IF(N2602=\"Transporte Marítimo\",VLOOKUP(O2603,$O$4030:$P$4035,2),IF(N2602=\"Transporte Aéreo\",VLOOKUP(O2603,$O$4037:$P$4042,2),IF(N2602=\"Transporte Aéreo\",VLOOKUP(O2603,$O$4044:$P$4045,2),\"\"))))","v":""},null,null,null,null,null,null,null,null,null,null,null,null,null,null,null,{"$f":"+IF(AE2603=\"20NL\",1,IF(AE2603=\"40NL\",2,IF(AE2603=\"20RF\",3,IF(AE2603=\"40RF\",4,\"\"))))","v":""},""]
[null,null,null,null,null,null,"",null,{"$f":"IF(H2606=\"\",\"\",ROUND(H2606/SUM(H2602:H2609),4))","v":""},null,null,null,null,null,null,{"$f":"+IF(O2606=\"\",\"\",IF(N2602=\"Transporte Marítimo\",VLOOKUP(O2606,$O$4030:$P$4035,2),IF(N2602=\"Transporte Aéreo\",VLOOKUP(O2606,$O$4037:$P$4042,2),IF(N2602=\"Transporte Aéreo\",VLOOKUP(O2606,$O$4044:$P$4045,2),\"\"))))","v":""},null,null,null,null,null,null,null,null,null,null,null,null,null,null,null,"",""]
[null,null,null,null,null,null,"",null,{"$f":"IF(H2609=\"\",\"\",ROUND(H2609/SUM(H2602:H2609),4))","v":""},null,null,null,null,null,null,{"$f":"+IF(O2609=\"\",\"\",IF(N2602=\"Transporte Marítimo\",VLOOKUP(O2609,$O$4030:$P$4035,2),IF(N2602=\"Transporte Aéreo\",VLOOKUP(O2609,$O$4037:$P$4042,2),IF(N2602=\"Transporte Aéreo\",VLOOKUP(O2609,$O$4044:$P$4045,2),\"\"))))","v":""},null,null,null,null,null,null,null,null,null,null,null,null,null,null,null,"",""]
[null,null,null,null,null,null,"",null,{"$f":"IF(H2611=\"\",\"\",ROUND(H2611/SUM(H2610:H2617),4))","v":""},null,null,null,null,null,null,{"$f":"+IF(O2611=\"\",\"\",IF(N2610=\"Transporte Marítimo\",VLOOKUP(O2611,$O$4030:$P$4035,2),IF(N2610=\"Transporte Aéreo\",VLOOKUP(O2611,$O$4037:$P$4042,2),IF(N2610=\"Transporte Aéreo\",VLOOKUP(O2611,$O$4044:$P$4045,2),\"\"))))","v":""},null,null,null,null,null,null,null,null,null,null,null,null,null,null,null,{"$f":"+IF(AE2611=\"20NL\",1,IF(AE2611=\"40NL\",2,IF(AE2611=\"20RF\",3,IF(AE2611=\"40RF\",4,\"\"))))","v":""},""]
[null,null,null,null,null,null,"",null,{"$f":"IF(H2615=\"\",\"\",ROUND(H2615/SUM(H2610:H2617),4))","v":""},null,null,null,null,null,null,{"$f":"+IF(O2615=\"\",\"\",IF(N2610=\"Transporte Marítimo\",VLOOKUP(O2615,$O$4030:$P$4035,2),IF(N2610=\"Transporte Aéreo\",VLOOKUP(O2615,$O$4037:$P$4042,2),IF(N2610=\"Transporte Aéreo\",VLOOKUP(O2615,$O$4044:$P$4045,2),\"\"))))","v":""},null,null,null,null,null,null,null,null,null,null,null,null,null,null,null,"",""]
[null,null,null,null,null,null,"",null,{"$f":"IF(H2616=\"\",\"\",ROUND(H2616/SUM(H2610:H2617),4))","v":""},null,null,null,null,null,null,{"$f":"+IF(O2616=\"\",\"\",IF(N2610=\"Transporte Marítimo\",VLOOKUP(O2616,$O$4030:$P$4035,2),IF(N2610=\"Transporte Aéreo\",VLOOKUP(O2616,$O$4037:$P$4042,2),IF(N2610=\"Transporte Aéreo\",VLOOKUP(O2616,$O$4044:$P$4045,2),\"\"))))","v":""},null,null,null,null,null,null,null,null,null,null,null,null,null,null,null,"",""]
[null,null,null,null,null,null,"",null,{"$f":"IF(H2619=\"\",\"\",ROUND(H2619/SUM(H2618:H2625),4))","v":""},null,null,null,null,null,null,{"$f":"+IF(O2619=\"\",\"\",IF(N2618=\"Transporte Marítimo\",VLOOKUP(O2619,$O$4030:$P$4035,2),IF(N2618=\"Transporte Aéreo\",VLOOKUP(O2619,$O$4037:$P$4042,2),IF(N2618=\"Transporte Aéreo\",VLOOKUP(O2619,$O$4044:$P$4045,2),\"\"))))","v":""},null,null,null,null,null,null,null,null,null,null,null,null,null,null,null,{"$f":"+IF(AE2619=\"20NL\",1,IF(AE2619=\"40NL\",2,IF(AE2619=\"20RF\",3,IF(AE2619=\"40RF\",4,\"\"))))","v":""},""]
[null,null,null,null,null,null,"",null,{"$f":"IF(H2622=\"\",\"\",ROUND(H2622/SUM(H2618:H2625),4))","v":""},null,null,null,null,null,null,{"$f":"+IF(O2622=\"\",\"\",IF(N2618=\"Transporte Marítimo\",VLOOKUP(O2622,$O$4030:$P$4035,2),IF(N2618=\"Transporte Aéreo\",VLOOKUP(O2622,$O$4037:$P$4042,2),IF(N2618=\"Transporte Aéreo\",VLOOKUP(O2622,$O$4044:$P$4045,2),\"\"))))","v":""},null,null,null,null,null,null,null,null,null,null,null,null,null,null,null,"",""]
[null,{"$f":"+B2618+1","v":327},null,null,null,null,{"$f":"+IF(F2626=\"\",\"\",VLOOKUP(F2626,$F$4031:$G$4120,2))","v":""},null,{"$f":"IF(H2626=\"\",\"\",1-SUM(I2627:I2633))","v":""},null,null,null,null,null,null,{"$f":"+IF(O2626=\"\",\"\",IF(N2626=\"Transporte Marítimo\",VLOOKUP(O2626,$O$4030:$P$4035,2),IF(N2626=\"Transporte Aéreo\",VLOOKUP(O2626,$O$4037:$P$4042,2),IF(N2626=\"CTT\",VLOOKUP(O2626,$O$4044:$P$4045,2),\"\"))))","v":""},null,null,null,null,null,null,null,null,null,null,null,null,null,null,null,{"$f":"+IF(AE2626=\"20NL\",1,IF(AE2626=\"40NL\",2,IF(AE2626=\"20RF\",3,IF(AE2626=\"40RF\",4,\"\"))))","v":""},{"$f":"+IF(AF2626=\"\",\"\",VLOOKUP(AF2626,$AF$4031:$AG$4034,2))","v":""},null,null,null,null,null,null,null,null,null,null,null,null,null,null," "]
[null,null,null,null,null,null,"",null,{"$f":"IF(H2629=\"\",\"\",ROUND(H2629/SUM(H2626:H2633),4))","v":""},null,null,null,null,null,null,{"$f":"+IF(O2629=\"\",\"\",IF(N2626=\"Transporte Marítimo\",VLOOKUP(O2629,$O$4030:$P$4035,2),IF(N2626=\"Transporte Aéreo\",VLOOKUP(O2629,$O$4037:$P$4042,2),IF(N2626=\"Transporte Aéreo\",VLOOKUP(O2629,$O$4044:$P$4045,2),\"\"))))","v":""},null,null,null,null,null,null,null,null,null,null,null,null,null,null,null,"",""]
[null,null,null,null,null,null,"",null,{"$f":"IF(H2632=\"\",\"\",ROUND(H2632/SUM(H2626:H2633),4))","v":""},null,null,null,null,null,null,{"$f":"+IF(O2632=\"\",\"\",IF(N2626=\"Transporte Marítimo\",VLOOKUP(O2632,$O$4030:$P$4035,2),IF(N2626=\"Transporte Aéreo\",VLOOKUP(O2632,$O$4037:$P$4042,2),IF(N2626=\"Transporte Aéreo\",VLOOKUP(O2632,$O$4044:$P$4045,2),\"\"))))","v":""},null,null,null,null,null,null,null,null,null,null,null,null,null,null,null,"",""]
[null,{"$f":"+B2626+1","v":328},null,null,null,null,{"$f":"+IF(F2634=\"\",\"\",VLOOKUP(F2634,$F$4031:$G$4120,2))","v":""},null,{"$f":"IF(H2634=\"\",\"\",1-SUM(I2635:I2641))","v":""},null,null,null,null,null,null,{"$f":"+IF(O2634=\"\",\"\",IF(N2634=\"Transporte Marítimo\",VLOOKUP(O2634,$O$4030:$P$4035,2),IF(N2634=\"Transporte Aéreo\",VLOOKUP(O2634,$O$4037:$P$4042,2),IF(N2634=\"CTT\",VLOOKUP(O2634,$O$4044:$P$4045,2),\"\"))))","v":""},null,null,null,null,null,null,null,null,null,null,null,null,null,null,null,{"$f":"+IF(AE2634=\"20NL\",1,IF(AE2634=\"40NL\",2,IF(AE2634=\"20RF\",3,IF(AE2634=\"40RF\",4,\"\"))))","v":""},{"$f":"+IF(AF2634=\"\",\"\",VLOOKUP(AF2634,$AF$4031:$AG$4034,2))","v":""},null,null,null,null,null,null,null,null,null,null,null,null,null,null," "]
[null,null,null,null,null,null,"",null,{"$f":"IF(H2638=\"\",\"\",ROUND(H2638/SUM(H2634:H2641),4))","v":""},null,null,null,null,null,null,{"$f":"+IF(O2638=\"\",\"\",IF(N2634=\"Transporte Marítimo\",VLOOKUP(O2638,$O$4030:$P$4035,2),IF(N2634=\"Transporte Aéreo\",VLOOKUP(O2638,$O$4037:$P$4042,2),IF(N2634=\"Transporte Aéreo\",VLOOKUP(O2638,$O$4044:$P$4045,2),\"\"))))","v":""},null,null,null,null,null,null,null,null,null,null,null,null,null,null,null,"",""]
[null,null,null,null,null,null,"",null,{"$f":"IF(H2639=\"\",\"\",ROUND(H2639/SUM(H2634:H2641),4))","v":""},null,null,null,null,null,null,{"$f":"+IF(O2639=\"\",\"\",IF(N2634=\"Transporte Marítimo\",VLOOKUP(O2639,$O$4030:$P$4035,2),IF(N2634=\"Transporte Aéreo\",VLOOKUP(O2639,$O$4037:$P$4042,2),IF(N2634=\"Transporte Aéreo\",VLOOKUP(O2639,$O$4044:$P$4045,2),\"\"))))","v":""},null,null,null,null,null,null,null,null,null,null,null,null,null,null,null,"",""]
[null,{"$f":"+B2634+1","v":329},null,null,null,null,{"$f":"+IF(F2642=\"\",\"\",VLOOKUP(F2642,$F$4031:$G$4120,2))","v":""},null,{"$f":"IF(H2642=\"\",\"\",1-SUM(I2643:I2649))","v":""},null,null,null,null,null,null,{"$f":"+IF(O2642=\"\",\"\",IF(N2642=\"Transporte Marítimo\",VLOOKUP(O2642,$O$4030:$P$4035,2),IF(N2642=\"Transporte Aéreo\",VLOOKUP(O2642,$O$4037:$P$4042,2),IF(N2642=\"CTT\",VLOOKUP(O2642,$O$4044:$P$4045,2),\"\"))))","v":""},null,null,null,null,null,null,null,null,null,null,null,null,null,null,null,{"$f":"+IF(AE2642=\"20NL\",1,IF(AE2642=\"40NL\",2,IF(AE2642=\"20RF\",3,IF(AE2642=\"40RF\",4,\"\"))))","v":""},{"$f":"+IF(AF2642=\"\",\"\",VLOOKUP(AF2642,$AF$4031:$AG$4034,2))","v":""},null,null,null,null,null,null,null,null,null,null,null,null,null,null," "]
[null,null,null,null,null,null,"",null,{"$f":"IF(H2645=\"\",\"\",ROUND(H2645/SUM(H2642:H2649),4))","v":""},null,null,null,null,null,null,{"$f":"+IF(O2645=\"\",\"\",IF(N2642=\"Transporte Marítimo\",VLOOKUP(O2645,$O$4030:$P$4035,2),IF(N2642=\"Transporte Aéreo\",VLOOKUP(O2645,$O$4037:$P$4042,2),IF(N2642=\"Transporte Aéreo\",VLOOKUP(O2645,$O$4044:$P$4045,2),\"\"))))","v":""},null,null,null,null,null,null,null,null,null,null,null,null,null,null,null,"",""]
[null,null,null,null,null,null,"",null,{"$f":"IF(H2649=\"\",\"\",ROUND(H2649/SUM(H2642:H2649),4))","v":""},null,null,null,null,null,null,{"$f":"+IF(O2649=\"\",\"\",IF(N2642=\"Transporte Marítimo\",VLOOKUP(O2649,$O$4030:$P$4035,2),IF(N2642=\"Transporte Aéreo\",VLOOKUP(O2649,$O$4037:$P$4042,2),IF(N2642=\"Transporte Aéreo\",VLOOKUP(O2649,$O$4044:$P$4045,2),\"\"))))","v":""},null,null,null,null,null,null,null,null,null,null,null,null,null,null,null,"",""]
[null,null,null,null,null,null,"",null,{"$f":"IF(H2652=\"\",\"\",ROUND(H2652/SUM(H2650:H2657),4))","v":""},null,null,null,null,null,null,{"$f":"+IF(O2652=\"\",\"\",IF(N2650=\"Transporte Marítimo\",VLOOKUP(O2652,$O$4030:$P$4035,2),IF(N2650=\"Transporte Aéreo\",VLOOKUP(O2652,$O$4037:$P$4042,2),IF(N2650=\"Transporte Aéreo\",VLOOKUP(O2652,$O$4044:$P$4045,2),\"\"))))","v":""},null,null,null,null,null,null,null,null,null,null,null,null,null,null,null,"",""]
[null,null,null,null,null,null,"",null,{"$f":"IF(H2655=\"\",\"\",ROUND(H2655/SUM(H2650:H2657),4))","v":""},null,null,null,null,null,null,{"$f":"+IF(O2655=\"\",\"\",IF(N2650=\"Transporte Marítimo\",VLOOKUP(O2655,$O$4030:$P$4035,2),IF(N2650=\"Transporte Aéreo\",VLOOKUP(O2655,$O$4037:$P$4042,2),IF(N2650=\"Transporte Aéreo\",VLOOKUP(O2655,$O$4044:$P$4045,2),\"\"))))","v":""},null,null,null,null,null,null,null,null,null,null,null,null,null,null,null,"",""]
[null,{"$f":"+B2650+1","v":331},null,null,null,null,{"$f":"+IF(F2658=\"\",\"\",VLOOKUP(F2658,$F$4031:$G$4120,2))","v":""},null,{"$f":"IF(H2658=\"\",\"\",1-SUM(I2659:I2665))","v":""},null,null,null,null,null,null,{"$f":"+IF(O2658=\"\",\"\",IF(N2658=\"Transporte Marítimo\",VLOOKUP(O2658,$O$4030:$P$4035,2),IF(N2658=\"Transporte Aéreo\",VLOOKUP(O2658,$O$4037:$P$4042,2),IF(N2658=\"CTT\",VLOOKUP(O2658,$O$4044:$P$4045,2),\"\"))))","v":""},null,null,null,null,null,null,null,null,null,null,null,null,null,null,null,{"$f":"+IF(AE2658=\"20NL\",1,IF(AE2658=\"40NL\",2,IF(AE2658=\"20RF\",3,IF(AE2658=\"40RF\",4,\"\"))))","v":""},{"$f":"+IF(AF2658=\"\",\"\",VLOOKUP(AF2658,$AF$4031:$AG$4034,2))","v":""},null,null,null,null,null,null,null,null,null,null,null,null,null,null," "]
[null,null,null,null,null,null,"",null,{"$f":"IF(H2661=\"\",\"\",ROUND(H2661/SUM(H2658:H2665),4))","v":""},null,null,null,null,null,null,{"$f":"+IF(O2661=\"\",\"\",IF(N2658=\"Transporte Marítimo\",VLOOKUP(O2661,$O$4030:$P$4035,2),IF(N2658=\"Transporte Aéreo\",VLOOKUP(O2661,$O$4037:$P$4042,2),IF(N2658=\"Transporte Aéreo\",VLOOKUP(O2661,$O$4044:$P$4045,2),\"\"))))","v":""},null,null,null,null,null,null,null,null,null,null,null,null,null,null,null,"",""]
[null,null,null,null,null,null,"",null,{"$f":"IF(H2662=\"\",\"\",ROUND(H2662/SUM(H2658:H2665),4))","v":""},null,null,null,null,null,null,{"$f":"+IF(O2662=\"\",\"\",IF(N2658=\"Transporte Marítimo\",VLOOKUP(O2662,$O$4030:$P$4035,2),IF(N2658=\"Transporte Aéreo\",VLOOKUP(O2662,$O$4037:$P$4042,2),IF(N2658=\"Transporte Aéreo\",VLOOKUP(O2662,$O$4044:$P$4045,2),\"\"))))","v":""},null,null,null,null,null,null,null,null,null,null,null,null,null,null,null,"",""]
[null,null,null,null,null,null,"",null,{"$f":"IF(H2665=\"\",\"\",ROUND(H2665/SUM(H2658:H2665),4))","v":""},null,null,null,null,null,null,{"$f":"+IF(O2665=\"\",\"\",IF(N2658=\"Transporte Marítimo\",VLOOKUP(O2665,$O$4030:$P$4035,2),IF(N2658=\"Transporte Aéreo\",VLOOKUP(O2665,$O$4037:$P$4042,2),IF(N2658=\"Transporte Aéreo\",VLOOKUP(O2665,$O$4044:$P$4045,2),\"\"))))","v":""},null,null,null,null,null,null,null,null,null,null,null,null,null,null,null,"",""]
[null,null,null,null,null,null,"",null,{"$f":"IF(H2668=\"\",\"\",ROUND(H2668/SUM(H2666:H2673),4))","v":""},null,null,null,null,null,null,{"$f":"+IF(O2668=\"\",\"\",IF(N2666=\"Transporte Marítimo\",VLOOKUP(O2668,$O$4030:$P$4035,2),IF(N2666=\"Transporte Aéreo\",VLOOKUP(O2668,$O$4037:$P$4042,2),IF(N2666=\"Transporte Aéreo\",VLOOKUP(O2668,$O$4044:$P$4045,2),\"\"))))","v":""},null,null,null,null,null,null,null,null,null,null,null,null,null,null,null,"",""]
[null,null,null,null,null,null,"",null,{"$f":"IF(H2672=\"\",\"\",ROUND(H2672/SUM(H2666:H2673),4))","v":""},null,null,null,null,null,null,{"$f":"+IF(O2672=\"\",\"\",IF(N2666=\"Transporte Marítimo\",VLOOKUP(O2672,$O$4030:$P$4035,2),IF(N2666=\"Transporte Aéreo\",VLOOKUP(O2672,$O$4037:$P$4042,2),IF(N2666=\"Transporte Aéreo\",VLOOKUP(O2672,$O$4044:$P$4045,2),\"\"))))","v":""},null,null,null,null,null,null,null,null,null,null,null,null,null,null,null,"",""]
[null,null,null,null,null,null,"",null,{"$f":"IF(H2675=\"\",\"\",ROUND(H2675/SUM(H2674:H2681),4))","v":""},null,null,null,null,null,null,{"$f":"+IF(O2675=\"\",\"\",IF(N2674=\"Transporte Marítimo\",VLOOKUP(O2675,$O$4030:$P$4035,2),IF(N2674=\"Transporte Aéreo\",VLOOKUP(O2675,$O$4037:$P$4042,2),IF(N2674=\"Transporte Aéreo\",VLOOKUP(O2675,$O$4044:$P$4045,2),\"\"))))","v":""},null,null,null,null,null,null,null,null,null,null,null,null,null,null,null,{"$f":"+IF(AE2675=\"20NL\",1,IF(AE2675=\"40NL\",2,IF(AE2675=\"20RF\",3,IF(AE2675=\"40RF\",4,\"\"))))","v":""},""]
[null,null,null,null,null,null,"",null,{"$f":"IF(H2678=\"\",\"\",ROUND(H2678/SUM(H2674:H2681),4))","v":""},null,null,null,null,null,null,{"$f":"+IF(O2678=\"\",\"\",IF(N2674=\"Transporte Marítimo\",VLOOKUP(O2678,$O$4030:$P$4035,2),IF(N2674=\"Transporte Aéreo\",VLOOKUP(O2678,$O$4037:$P$4042,2),IF(N2674=\"Transporte Aéreo\",VLOOKUP(O2678,$O$4044:$P$4045,2),\"\"))))","v":""},null,null,null,null,null,null,null,null,null,null,null,null,null,null,null,"",""]
[null,null,null,null,null,null,"",null,{"$f":"IF(H2681=\"\",\"\",ROUND(H2681/SUM(H2674:H2681),4))","v":""},null,null,null,null,null,null,{"$f":"+IF(O2681=\"\",\"\",IF(N2674=\"Transporte Marítimo\",VLOOKUP(O2681,$O$4030:$P$4035,2),IF(N2674=\"Transporte Aéreo\",VLOOKUP(O2681,$O$4037:$P$4042,2),IF(N2674=\"Transporte Aéreo\",VLOOKUP(O2681,$O$4044:$P$4045,2),\"\"))))","v":""},null,null,null,null,null,null,null,null,null,null,null,null,null,null,null,"",""]
[null,null,null,null,null,null,"",null,{"$f":"IF(H2684=\"\",\"\",ROUND(H2684/SUM(H2682:H2689),4))","v":""},null,null,null,null,null,null,{"$f":"+IF(O2684=\"\",\"\",IF(N2682=\"Transporte Marítimo\",VLOOKUP(O2684,$O$4030:$P$4035,2),IF(N2682=\"Transporte Aéreo\",VLOOKUP(O2684,$O$4037:$P$4042,2),IF(N2682=\"Transporte Aéreo\",VLOOKUP(O2684,$O$4044:$P$4045,2),\"\"))))","v":""},null,null,null,null,null,null,null,null,null,null,null,null,null,null,null,"",""]
[null,null,null,null,null,null,"",null,{"$f":"IF(H2685=\"\",\"\",ROUND(H2685/SUM(H2682:H2689),4))","v":""},null,null,null,null,null,null,{"$f":"+IF(O2685=\"\",\"\",IF(N2682=\"Transporte Marítimo\",VLOOKUP(O2685,$O$4030:$P$4035,2),IF(N2682=\"Transporte Aéreo\",VLOOKUP(O2685,$O$4037:$P$4042,2),IF(N2682=\"Transporte Aéreo\",VLOOKUP(O2685,$O$4044:$P$4045,2),\"\"))))","v":""},null,null,null,null,null,null,null,null,null,null,null,null,null,null,null,"",""]
[null,null,null,null,null,null,"",null,{"$f":"IF(H2688=\"\",\"\",ROUND(H2688/SUM(H2682:H2689),4))","v":""},null,null,null,null,null,null,{"$f":"+IF(O2688=\"\",\"\",IF(N2682=\"Transporte Marítimo\",VLOOKUP(O2688,$O$4030:$P$4035,2),IF(N2682=\"Transporte Aéreo\",VLOOKUP(O2688,$O$4037:$P$4042,2),IF(N2682=\"Transporte Aéreo\",VLOOKUP(O2688,$O$4044:$P$4045,2),\"\"))))","v":""},null,null,null,null,null,null,null,null,null,null,null,null,null,null,null,"",""]
[null,null,null,null,null,null,"",null,{"$f":"IF(H2691=\"\",\"\",ROUND(H2691/SUM(H2690:H2697),4))","v":""},null,null,null,null,null,null,{"$f":"+IF(O2691=\"\",\"\",IF(N2690=\"Transporte Marítimo\",VLOOKUP(O2691,$O$4030:$P$4035,2),IF(N2690=\"Transporte Aéreo\",VLOOKUP(O2691,$O$4037:$P$4042,2),IF(N2690=\"Transporte Aéreo\",VLOOKUP(O2691,$O$4044:$P$4045,2),\"\"))))","v":""},null,null,null,null,null,null,null,null,null,null,null,null,null,null,null,{"$f":"+IF(AE2691=\"20NL\",1,IF(AE2691=\"40NL\",2,IF(AE2691=\"20RF\",3,IF(AE2691=\"40RF\",4,\"\"))))","v":""},""]
[null,null,null,null,null,null,"",null,{"$f":"IF(H2695=\"\",\"\",ROUND(H2695/SUM(H2690:H2697),4))","v":""},null,null,null,null,null,null,{"$f":"+IF(O2695=\"\",\"\",IF(N2690=\"Transporte Marítimo\",VLOOKUP(O2695,$O$4030:$P$4035,2),IF(N2690=\"Transporte Aéreo\",VLOOKUP(O2695,$O$4037:$P$4042,2),IF(N2690=\"Transporte Aéreo\",VLOOKUP(O2695,$O$4044:$P$4045,2),\"\"))))","v":""},null,null,null,null,null,null,null,null,null,null,null,null,null,null,null,"",""]
[null,{"$f":"+B2690+1","v":336},null,null,null,null,{"$f":"+IF(F2698=\"\",\"\",VLOOKUP(F2698,$F$4031:$G$4120,2))","v":""},null,{"$f":"IF(H2698=\"\",\"\",1-SUM(I2699:I2705))","v":""},null,null,null,null,null,null,{"$f":"+IF(O2698=\"\",\"\",IF(N2698=\"Transporte Marítimo\",VLOOKUP(O2698,$O$4030:$P$4035,2),IF(N2698=\"Transporte Aéreo\",VLOOKUP(O2698,$O$4037:$P$4042,2),IF(N2698=\"CTT\",VLOOKUP(O2698,$O$4044:$P$4045,2),\"\"))))","v":""},null,null,null,null,null,null,null,null,null,null,null,null,null,null,null,{"$f":"+IF(AE2698=\"20NL\",1,IF(AE2698=\"40NL\",2,IF(AE2698=\"20RF\",3,IF(AE2698=\"40RF\",4,\"\"))))","v":""},{"$f":"+IF(AF2698=\"\",\"\",VLOOKUP(AF2698,$AF$4031:$AG$4034,2))","v":""},null,null,null,null,null,null,null,null,null,null,null,null,null,null," "]
[null,null,null,null,null,null,"",null,{"$f":"IF(H2701=\"\",\"\",ROUND(H2701/SUM(H2698:H2705),4))","v":""},null,null,null,null,null,null,{"$f":"+IF(O2701=\"\",\"\",IF(N2698=\"Transporte Marítimo\",VLOOKUP(O2701,$O$4030:$P$4035,2),IF(N2698=\"Transporte Aéreo\",VLOOKUP(O2701,$O$4037:$P$4042,2),IF(N2698=\"Transporte Aéreo\",VLOOKUP(O2701,$O$4044:$P$4045,2),\"\"))))","v":""},null,null,null,null,null,null,null,null,null,null,null,null,null,null,null,"",""]
[null,null,null,null,null,null,"",null,{"$f":"IF(H2704=\"\",\"\",ROUND(H2704/SUM(H2698:H2705),4))","v":""},null,null,null,null,null,null,{"$f":"+IF(O2704=\"\",\"\",IF(N2698=\"Transporte Marítimo\",VLOOKUP(O2704,$O$4030:$P$4035,2),IF(N2698=\"Transporte Aéreo\",VLOOKUP(O2704,$O$4037:$P$4042,2),IF(N2698=\"Transporte Aéreo\",VLOOKUP(O2704,$O$4044:$P$4045,2),\"\"))))","v":""},null,null,null,null,null,null,null,null,null,null,null,null,null,null,null,"",""]
[null,null,null,null,null,null,"",null,{"$f":"IF(H2707=\"\",\"\",ROUND(H2707/SUM(H2706:H2713),4))","v":""},null,null,null,null,null,null,{"$f":"+IF(O2707=\"\",\"\",IF(N2706=\"Transporte Marítimo\",VLOOKUP(O2707,$O$4030:$P$4035,2),IF(N2706=\"Transporte Aéreo\",VLOOKUP(O2707,$O$4037:$P$4042,2),IF(N2706=\"Transporte Aéreo\",VLOOKUP(O2707,$O$4044:$P$4045,2),\"\"))))","v":""},null,null,null,null,null,null,null,null,null,null,null,null,null,null,null,{"$f":"+IF(AE2707=\"20NL\",1,IF(AE2707=\"40NL\",2,IF(AE2707=\"20RF\",3,IF(AE2707=\"40RF\",4,\"\"))))","v":""},""]
[null,null,null,null,null,null,"",null,{"$f":"IF(H2708=\"\",\"\",ROUND(H2708/SUM(H2706:H2713),4))","v":""},null,null,null,null,null,null,{"$f":"+IF(O2708=\"\",\"\",IF(N2706=\"Transporte Marítimo\",VLOOKUP(O2708,$O$4030:$P$4035,2),IF(N2706=\"Transporte Aéreo\",VLOOKUP(O2708,$O$4037:$P$4042,2),IF(N2706=\"Transporte Aéreo\",VLOOKUP(O2708,$O$4044:$P$4045,2),\"\"))))","v":""},null,null,null,null,null,null,null,null,null,null,null,null,null,null,null,"",""]
[null,null,null,null,null,null,"",null,{"$f":"IF(H2711=\"\",\"\",ROUND(H2711/SUM(H2706:H2713),4))","v":""},null,null,null,null,null,null,{"$f":"+IF(O2711=\"\",\"\",IF(N2706=\"Transporte Marítimo\",VLOOKUP(O2711,$O$4030:$P$4035,2),IF(N2706=\"Transporte Aéreo\",VLOOKUP(O2711,$O$4037:$P$4042,2),IF(N2706=\"Transporte Aéreo\",VLOOKUP(O2711,$O$4044:$P$4045,2),\"\"))))","v":""},null,null,null,null,null,null,null,null,null,null,null,null,null,null,null,"",""]
[null,null,null,null,null,null,"",null,{"$f":"IF(H2715=\"\",\"\",ROUND(H2715/SUM(H2714:H2721),4))","v":""},null,null,null,null,null,null,{"$f":"+IF(O2715=\"\",\"\",IF(N2714=\"Transporte Marítimo\",VLOOKUP(O2715,$O$4030:$P$4035,2),IF(N2714=\"Transporte Aéreo\",VLOOKUP(O2715,$O$4037:$P$4042,2),IF(N2714=\"Transporte Aéreo\",VLOOKUP(O2715,$O$4044:$P$4045,2),\"\"))))","v":""},null,null,null,null,null,null,null,null,null,null,null,null,null,null,null,{"$f":"+IF(AE2715=\"20NL\",1,IF(AE2715=\"40NL\",2,IF(AE2715=\"20RF\",3,IF(AE2715=\"40RF\",4,\"\"))))","v":""},""]
[null,null,null,null,null,null,"",null,{"$f":"IF(H2718=\"\",\"\",ROUND(H2718/SUM(H2714:H2721),4))","v":""},null,null,null,null,null,null,{"$f":"+IF(O2718=\"\",\"\",IF(N2714=\"Transporte Marítimo\",VLOOKUP(O2718,$O$4030:$P$4035,2),IF(N2714=\"Transporte Aéreo\",VLOOKUP(O2718,$O$4037:$P$4042,2),IF(N2714=\"Transporte Aéreo\",VLOOKUP(O2718,$O$4044:$P$4045,2),\"\"))))","v":""},null,null,null,null,null,null,null,null,null,null,null,null,null,null,null,"",""]
[null,null,null,null,null,null,"",null,{"$f":"IF(H2721=\"\",\"\",ROUND(H2721/SUM(H2714:H2721),4))","v":""},null,null,null,null,null,null,{"$f":"+IF(O2721=\"\",\"\",IF(N2714=\"Transporte Marítimo\",VLOOKUP(O2721,$O$4030:$P$4035,2),IF(N2714=\"Transporte Aéreo\",VLOOKUP(O2721,$O$4037:$P$4042,2),IF(N2714=\"Transporte Aéreo\",VLOOKUP(O2721,$O$4044:$P$4045,2),\"\"))))","v":""},null,null,null,null,null,null,null,null,null,null,null,null,null,null,null,"",""]
[null,null,null,null,null,null,"",null,{"$f":"IF(H2724=\"\",\"\",ROUND(H2724/SUM(H2722:H2729),4))","v":""},null,null,null,null,null,null,{"$f":"+IF(O2724=\"\",\"\",IF(N2722=\"Transporte Marítimo\",VLOOKUP(O2724,$O$4030:$P$4035,2),IF(N2722=\"Transporte Aéreo\",VLOOKUP(O2724,$O$4037:$P$4042,2),IF(N2722=\"Transporte Aéreo\",VLOOKUP(O2724,$O$4044:$P$4045,2),\"\"))))","v":""},null,null,null,null,null,null,null,null,null,null,null,null,null,null,null,"",""]
[null,null,null,null,null,null,"",null,{"$f":"IF(H2727=\"\",\"\",ROUND(H2727/SUM(H2722:H2729),4))","v":""},null,null,null,null,null,null,{"$f":"+IF(O2727=\"\",\"\",IF(N2722=\"Transporte Marítimo\",VLOOKUP(O2727,$O$4030:$P$4035,2),IF(N2722=\"Transporte Aéreo\",VLOOKUP(O2727,$O$4037:$P$4042,2),IF(N2722=\"Transporte Aéreo\",VLOOKUP(O2727,$O$4044:$P$4045,2),\"\"))))","v":""},null,null,null,null,null,null,null,null,null,null,null,null,null,null,null,"",""]
[null,{"$f":"+B2722+1","v":340},null,null,null,null,{"$f":"+IF(F2730=\"\",\"\",VLOOKUP(F2730,$F$4031:$G$4120,2))","v":""},null,{"$f":"IF(H2730=\"\",\"\",1-SUM(I2731:I2737))","v":""},null,null,null,null,null,null,{"$f":"+IF(O2730=\"\",\"\",IF(N2730=\"Transporte Marítimo\",VLOOKUP(O2730,$O$4030:$P$4035,2),IF(N2730=\"Transporte Aéreo\",VLOOKUP(O2730,$O$4037:$P$4042,2),IF(N2730=\"CTT\",VLOOKUP(O2730,$O$4044:$P$4045,2),\"\"))))","v":""},null,null,null,null,null,null,null,null,null,null,null,null,null,null,null,{"$f":"+IF(AE2730=\"20NL\",1,IF(AE2730=\"40NL\",2,IF(AE2730=\"20RF\",3,IF(AE2730=\"40RF\",4,\"\"))))","v":""},{"$f":"+IF(AF2730=\"\",\"\",VLOOKUP(AF2730,$AF$4031:$AG$4034,2))","v":""},null,null,null,null,null,null,null,null,null,null,null,null,null,null," "]
[null,null,null,null,null,null,"",null,{"$f":"IF(H2731=\"\",\"\",ROUND(H2731/SUM(H2730:H2737),4))","v":""},null,null,null,null,null,null,{"$f":"+IF(O2731=\"\",\"\",IF(N2730=\"Transporte Marítimo\",VLOOKUP(O2731,$O$4030:$P$4035,2),IF(N2730=\"Transporte Aéreo\",VLOOKUP(O2731,$O$4037:$P$4042,2),IF(N2730=\"Transporte Aéreo\",VLOOKUP(O2731,$O$4044:$P$4045,2),\"\"))))","v":""},null,null,null,null,null,null,null,null,null,null,null,null,null,null,null,{"$f":"+IF(AE2731=\"20NL\",1,IF(AE2731=\"40NL\",2,IF(AE2731=\"20RF\",3,IF(AE2731=\"40RF\",4,\"\"))))","v":""},{"$f":"+IF(AF2731=\"\",\"\",VLOOKUP(AF2731,$AF$4031:$AG$4034,2))","v":""}]
[null,null,null,null,null,null,"",null,{"$f":"IF(H2734=\"\",\"\",ROUND(H2734/SUM(H2730:H2737),4))","v":""},null,null,null,null,null,null,{"$f":"+IF(O2734=\"\",\"\",IF(N2730=\"Transporte Marítimo\",VLOOKUP(O2734,$O$4030:$P$4035,2),IF(N2730=\"Transporte Aéreo\",VLOOKUP(O2734,$O$4037:$P$4042,2),IF(N2730=\"Transporte Aéreo\",VLOOKUP(O2734,$O$4044:$P$4045,2),\"\"))))","v":""},null,null,null,null,null,null,null,null,null,null,null,null,null,null,null,"",""]
[null,{"$f":"+B2730+1","v":341},null,null,null,null,{"$f":"+IF(F2738=\"\",\"\",VLOOKUP(F2738,$F$4031:$G$4120,2))","v":""},null,{"$f":"IF(H2738=\"\",\"\",1-SUM(I2739:I2745))","v":""},null,null,null,null,null,null,{"$f":"+IF(O2738=\"\",\"\",IF(N2738=\"Transporte Marítimo\",VLOOKUP(O2738,$O$4030:$P$4035,2),IF(N2738=\"Transporte Aéreo\",VLOOKUP(O2738,$O$4037:$P$4042,2),IF(N2738=\"CTT\",VLOOKUP(O2738,$O$4044:$P$4045,2),\"\"))))","v":""},null,null,null,null,null,null,null,null,null,null,null,null,null,null,null,{"$f":"+IF(AE2738=\"20NL\",1,IF(AE2738=\"40NL\",2,IF(AE2738=\"20RF\",3,IF(AE2738=\"40RF\",4,\"\"))))","v":""},{"$f":"+IF(AF2738=\"\",\"\",VLOOKUP(AF2738,$AF$4031:$AG$4034,2))","v":""},null,null,null,null,null,null,null,null,null,null,null,null,null,null," "]
[null,null,null,null,null,null,"",null,{"$f":"IF(H2741=\"\",\"\",ROUND(H2741/SUM(H2738:H2745),4))","v":""},null,null,null,null,null,null,{"$f":"+IF(O2741=\"\",\"\",IF(N2738=\"Transporte Marítimo\",VLOOKUP(O2741,$O$4030:$P$4035,2),IF(N2738=\"Transporte Aéreo\",VLOOKUP(O2741,$O$4037:$P$4042,2),IF(N2738=\"Transporte Aéreo\",VLOOKUP(O2741,$O$4044:$P$4045,2),\"\"))))","v":""},null,null,null,null,null,null,null,null,null,null,null,null,null,null,null,"",""]
[null,null,null,null,null,null,"",null,{"$f":"IF(H2743=\"\",\"\",ROUND(H2743/SUM(H2738:H2745),4))","v":""},null,null,null,null,null,null,{"$f":"+IF(O2743=\"\",\"\",IF(N2738=\"Transporte Marítimo\",VLOOKUP(O2743,$O$4030:$P$4035,2),IF(N2738=\"Transporte Aéreo\",VLOOKUP(O2743,$O$4037:$P$4042,2),IF(N2738=\"Transporte Aéreo\",VLOOKUP(O2743,$O$4044:$P$4045,2),\"\"))))","v":""},null,null,null,null,null,null,null,null,null,null,null,null,null,null,null,"",""]
[null,null,null,null,null,null,"",null,{"$f":"IF(H2747=\"\",\"\",ROUND(H2747/SUM(H2746:H2753),4))","v":""},null,null,null,null,null,null,{"$f":"+IF(O2747=\"\",\"\",IF(N2746=\"Transporte Marítimo\",VLOOKUP(O2747,$O$4030:$P$4035,2),IF(N2746=\"Transporte Aéreo\",VLOOKUP(O2747,$O$4037:$P$4042,2),IF(N2746=\"Transporte Aéreo\",VLOOKUP(O2747,$O$4044:$P$4045,2),\"\"))))","v":""},null,null,null,null,null,null,null,null,null,null,null,null,null,null,null,{"$f":"+IF(AE2747=\"20NL\",1,IF(AE2747=\"40NL\",2,IF(AE2747=\"20RF\",3,IF(AE2747=\"40RF\",4,\"\"))))","v":""},""]
[null,null,null,null,null,null,"",null,{"$f":"IF(H2750=\"\",\"\",ROUND(H2750/SUM(H2746:H2753),4))","v":""},null,null,null,null,null,null,{"$f":"+IF(O2750=\"\",\"\",IF(N2746=\"Transporte Marítimo\",VLOOKUP(O2750,$O$4030:$P$4035,2),IF(N2746=\"Transporte Aéreo\",VLOOKUP(O2750,$O$4037:$P$4042,2),IF(N2746=\"Transporte Aéreo\",VLOOKUP(O2750,$O$4044:$P$4045,2),\"\"))))","v":""},null,null,null,null,null,null,null,null,null,null,null,null,null,null,null,"",""]
[null,null,null,null,null,null,"",null,{"$f":"IF(H2753=\"\",\"\",ROUND(H2753/SUM(H2746:H2753),4))","v":""},null,null,null,null,null,null,{"$f":"+IF(O2753=\"\",\"\",IF(N2746=\"Transporte Marítimo\",VLOOKUP(O2753,$O$4030:$P$4035,2),IF(N2746=\"Transporte Aéreo\",VLOOKUP(O2753,$O$4037:$P$4042,2),IF(N2746=\"Transporte Aéreo\",VLOOKUP(O2753,$O$4044:$P$4045,2),\"\"))))","v":""},null,null,null,null,null,null,null,null,null,null,null,null,null,null,null,"",""]
[null,{"$f":"+B2746+1","v":343},null,null,null,null,{"$f":"+IF(F2754=\"\",\"\",VLOOKUP(F2754,$F$4031:$G$4120,2))","v":""},null,{"$f":"IF(H2754=\"\",\"\",1-SUM(I2755:I2761))","v":""},null,null,null,null,null,null,{"$f":"+IF(O2754=\"\",\"\",IF(N2754=\"Transporte Marítimo\",VLOOKUP(O2754,$O$4030:$P$4035,2),IF(N2754=\"Transporte Aéreo\",VLOOKUP(O2754,$O$4037:$P$4042,2),IF(N2754=\"CTT\",VLOOKUP(O2754,$O$4044:$P$4045,2),\"\"))))","v":""},null,null,null,null,null,null,null,null,null,null,null,null,null,null,null,{"$f":"+IF(AE2754=\"20NL\",1,IF(AE2754=\"40NL\",2,IF(AE2754=\"20RF\",3,IF(AE2754=\"40RF\",4,\"\"))))","v":""},{"$f":"+IF(AF2754=\"\",\"\",VLOOKUP(AF2754,$AF$4031:$AG$4034,2))","v":""},null,null,null,null,null,null,null,null,null,null,null,null,null,null," "]
[null,null,null,null,null,null,"",null,{"$f":"IF(H2757=\"\",\"\",ROUND(H2757/SUM(H2754:H2761),4))","v":""},null,null,null,null,null,null,{"$f":"+IF(O2757=\"\",\"\",IF(N2754=\"Transporte Marítimo\",VLOOKUP(O2757,$O$4030:$P$4035,2),IF(N2754=\"Transporte Aéreo\",VLOOKUP(O2757,$O$4037:$P$4042,2),IF(N2754=\"Transporte Aéreo\",VLOOKUP(O2757,$O$4044:$P$4045,2),\"\"))))","v":""},null,null,null,null,null,null,null,null,null,null,null,null,null,null,null,"",""]
[null,null,null,null,null,null,"",null,{"$f":"IF(H2761=\"\",\"\",ROUND(H2761/SUM(H2754:H2761),4))","v":""},null,null,null,null,null,null,{"$f":"+IF(O2761=\"\",\"\",IF(N2754=\"Transporte Marítimo\",VLOOKUP(O2761,$O$4030:$P$4035,2),IF(N2754=\"Transporte Aéreo\",VLOOKUP(O2761,$O$4037:$P$4042,2),IF(N2754=\"Transporte Aéreo\",VLOOKUP(O2761,$O$4044:$P$4045,2),\"\"))))","v":""},null,null,null,null,null,null,null,null,null,null,null,null,null,null,null,"",""]
[null,null,null,null,null,null,"",null,{"$f":"IF(H2764=\"\",\"\",ROUND(H2764/SUM(H2762:H2769),4))","v":""},null,null,null,null,null,null,{"$f":"+IF(O2764=\"\",\"\",IF(N2762=\"Transporte Marítimo\",VLOOKUP(O2764,$O$4030:$P$4035,2),IF(N2762=\"Transporte Aéreo\",VLOOKUP(O2764,$O$4037:$P$4042,2),IF(N2762=\"Transporte Aéreo\",VLOOKUP(O2764,$O$4044:$P$4045,2),\"\"))))","v":""},null,null,null,null,null,null,null,null,null,null,null,null,null,null,null,"",""]
[null,null,null,null,null,null,"",null,{"$f":"IF(H2766=\"\",\"\",ROUND(H2766/SUM(H2762:H2769),4))","v":""},null,null,null,null,null,null,{"$f":"+IF(O2766=\"\",\"\",IF(N2762=\"Transporte Marítimo\",VLOOKUP(O2766,$O$4030:$P$4035,2),IF(N2762=\"Transporte Aéreo\",VLOOKUP(O2766,$O$4037:$P$4042,2),IF(N2762=\"Transporte Aéreo\",VLOOKUP(O2766,$O$4044:$P$4045,2),\"\"))))","v":""},null,null,null,null,null,null,null,null,null,null,null,null,null,null,null,"",""]
[null,{"$f":"+B2762+1","v":345},null,null,null,null,{"$f":"+IF(F2770=\"\",\"\",VLOOKUP(F2770,$F$4031:$G$4120,2))","v":""},null,{"$f":"IF(H2770=\"\",\"\",1-SUM(I2771:I2777))","v":""},null,null,null,null,null,null,{"$f":"+IF(O2770=\"\",\"\",IF(N2770=\"Transporte Marítimo\",VLOOKUP(O2770,$O$4030:$P$4035,2),IF(N2770=\"Transporte Aéreo\",VLOOKUP(O2770,$O$4037:$P$4042,2),IF(N2770=\"CTT\",VLOOKUP(O2770,$O$4044:$P$4045,2),\"\"))))","v":""},null,null,null,null,null,null,null,null,null,null,null,null,null,null,null,{"$f":"+IF(AE2770=\"20NL\",1,IF(AE2770=\"40NL\",2,IF(AE2770=\"20RF\",3,IF(AE2770=\"40RF\",4,\"\"))))","v":""},{"$f":"+IF(AF2770=\"\",\"\",VLOOKUP(AF2770,$AF$4031:$AG$4034,2))","v":""},null,null,null,null,null,null,null,null,null,null,null,null,null,null," "]
[null,null,null,null,null,null,"",null,{"$f":"IF(H2773=\"\",\"\",ROUND(H2773/SUM(H2770:H2777),4))","v":""},null,null,null,null,null,null,{"$f":"+IF(O2773=\"\",\"\",IF(N2770=\"Transporte Marítimo\",VLOOKUP(O2773,$O$4030:$P$4035,2),IF(N2770=\"Transporte Aéreo\",VLOOKUP(O2773,$O$4037:$P$4042,2),IF(N2770=\"Transporte Aéreo\",VLOOKUP(O2773,$O$4044:$P$4045,2),\"\"))))","v":""},null,null,null,null,null,null,null,null,null,null,null,null,null,null,null,"",""]
[null,null,null,null,null,null,"",null,{"$f":"IF(H2774=\"\",\"\",ROUND(H2774/SUM(H2770:H2777),4))","v":""},null,null,null,null,null,null,{"$f":"+IF(O2774=\"\",\"\",IF(N2770=\"Transporte Marítimo\",VLOOKUP(O2774,$O$4030:$P$4035,2),IF(N2770=\"Transporte Aéreo\",VLOOKUP(O2774,$O$4037:$P$4042,2),IF(N2770=\"Transporte Aéreo\",VLOOKUP(O2774,$O$4044:$P$4045,2),\"\"))))","v":""},null,null,null,null,null,null,null,null,null,null,null,null,null,null,null,"",""]
[null,null,null,null,null,null,"",null,{"$f":"IF(H2777=\"\",\"\",ROUND(H2777/SUM(H2770:H2777),4))","v":""},null,null,null,null,null,null,{"$f":"+IF(O2777=\"\",\"\",IF(N2770=\"Transporte Marítimo\",VLOOKUP(O2777,$O$4030:$P$4035,2),IF(N2770=\"Transporte Aéreo\",VLOOKUP(O2777,$O$4037:$P$4042,2),IF(N2770=\"Transporte Aéreo\",VLOOKUP(O2777,$O$4044:$P$4045,2),\"\"))))","v":""},null,null,null,null,null,null,null,null,null,null,null,null,null,null,null,"",""]
[null,null,null,null,null,null,"",null,{"$f":"IF(H2780=\"\",\"\",ROUND(H2780/SUM(H2778:H2785),4))","v":""},null,null,null,null,null,null,{"$f":"+IF(O2780=\"\",\"\",IF(N2778=\"Transporte Marítimo\",VLOOKUP(O2780,$O$4030:$P$4035,2),IF(N2778=\"Transporte Aéreo\",VLOOKUP(O2780,$O$4037:$P$4042,2),IF(N2778=\"Transporte Aéreo\",VLOOKUP(O2780,$O$4044:$P$4045,2),\"\"))))","v":""},null,null,null,null,null,null,null,null,null,null,null,null,null,null,null,"",""]
[null,null,null,null,null,null,"",null,{"$f":"IF(H2784=\"\",\"\",ROUND(H2784/SUM(H2778:H2785),4))","v":""},null,null,null,null,null,null,{"$f":"+IF(O2784=\"\",\"\",IF(N2778=\"Transporte Marítimo\",VLOOKUP(O2784,$O$4030:$P$4035,2),IF(N2778=\"Transporte Aéreo\",VLOOKUP(O2784,$O$4037:$P$4042,2),IF(N2778=\"Transporte Aéreo\",VLOOKUP(O2784,$O$4044:$P$4045,2),\"\"))))","v":""},null,null,null,null,null,null,null,null,null,null,null,null,null,null,null,"",""]
[null,null,null,null,null,null,"",null,{"$f":"IF(H2787=\"\",\"\",ROUND(H2787/SUM(H2786:H2793),4))","v":""},null,null,null,null,null,null,{"$f":"+IF(O2787=\"\",\"\",IF(N2786=\"Transporte Marítimo\",VLOOKUP(O2787,$O$4030:$P$4035,2),IF(N2786=\"Transporte Aéreo\",VLOOKUP(O2787,$O$4037:$P$4042,2),IF(N2786=\"Transporte Aéreo\",VLOOKUP(O2787,$O$4044:$P$4045,2),\"\"))))","v":""},null,null,null,null,null,null,null,null,null,null,null,null,null,null,null,{"$f":"+IF(AE2787=\"20NL\",1,IF(AE2787=\"40NL\",2,IF(AE2787=\"20RF\",3,IF(AE2787=\"40RF\",4,\"\"))))","v":""},""]
[null,null,null,null,null,null,"",null,{"$f":"IF(H2789=\"\",\"\",ROUND(H2789/SUM(H2786:H2793),4))","v":""},null,null,null,null,null,null,{"$f":"+IF(O2789=\"\",\"\",IF(N2786=\"Transporte Marítimo\",VLOOKUP(O2789,$O$4030:$P$4035,2),IF(N2786=\"Transporte Aéreo\",VLOOKUP(O2789,$O$4037:$P$4042,2),IF(N2786=\"Transporte Aéreo\",VLOOKUP(O2789,$O$4044:$P$4045,2),\"\"))))","v":""},null,null,null,null,null,null,null,null,null,null,null,null,null,null,null,"",""]
[null,null,null,null,null,null,"",null,{"$f":"IF(H2793=\"\",\"\",ROUND(H2793/SUM(H2786:H2793),4))","v":""},null,null,null,null,null,null,{"$f":"+IF(O2793=\"\",\"\",IF(N2786=\"Transporte Marítimo\",VLOOKUP(O2793,$O$4030:$P$4035,2),IF(N2786=\"Transporte Aéreo\",VLOOKUP(O2793,$O$4037:$P$4042,2),IF(N2786=\"Transporte Aéreo\",VLOOKUP(O2793,$O$4044:$P$4045,2),\"\"))))","v":""},null,null,null,null,null,null,null,null,null,null,null,null,null,null,null,"",""]
[null,null,null,null,null,null,"",null,{"$f":"IF(H2796=\"\",\"\",ROUND(H2796/SUM(H2794:H2801),4))","v":""},null,null,null,null,null,null,{"$f":"+IF(O2796=\"\",\"\",IF(N2794=\"Transporte Marítimo\",VLOOKUP(O2796,$O$4030:$P$4035,2),IF(N2794=\"Transporte Aéreo\",VLOOKUP(O2796,$O$4037:$P$4042,2),IF(N2794=\"Transporte Aéreo\",VLOOKUP(O2796,$O$4044:$P$4045,2),\"\"))))","v":""},null,null,null,null,null,null,null,null,null,null,null,null,null,null,null,"",""]
[null,null,null,null,null,null,"",null,{"$f":"IF(H2797=\"\",\"\",ROUND(H2797/SUM(H2794:H2801),4))","v":""},null,null,null,null,null,null,{"$f":"+IF(O2797=\"\",\"\",IF(N2794=\"Transporte Marítimo\",VLOOKUP(O2797,$O$4030:$P$4035,2),IF(N2794=\"Transporte Aéreo\",VLOOKUP(O2797,$O$4037:$P$4042,2),IF(N2794=\"Transporte Aéreo\",VLOOKUP(O2797,$O$4044:$P$4045,2),\"\"))))","v":""},null,null,null,null,null,null,null,null,null,null,null,null,null,null,null,"",""]
[null,null,null,null,null,null,"",null,{"$f":"IF(H2800=\"\",\"\",ROUND(H2800/SUM(H2794:H2801),4))","v":""},null,null,null,null,null,null,{"$f":"+IF(O2800=\"\",\"\",IF(N2794=\"Transporte Marítimo\",VLOOKUP(O2800,$O$4030:$P$4035,2),IF(N2794=\"Transporte Aéreo\",VLOOKUP(O2800,$O$4037:$P$4042,2),IF(N2794=\"Transporte Aéreo\",VLOOKUP(O2800,$O$4044:$P$4045,2),\"\"))))","v":""},null,null,null,null,null,null,null,null,null,null,null,null,null,null,null,"",""]
[null,null,null,null,null,null,{"$f":"+IF(F2803=\"\",\"\",VLOOKUP(F2803,$F$4031:$G$4120,2))","v":""},null,{"$f":"IF(H2803=\"\",\"\",ROUND(H2803/SUM(H2802:H2809),4))","v":""},null,null,null,null,null,null,{"$f":"+IF(O2803=\"\",\"\",IF(N2802=\"Transporte Marítimo\",VLOOKUP(O2803,$O$4030:$P$4035,2),IF(N2802=\"Transporte Aéreo\",VLOOKUP(O2803,$O$4037:$P$4042,2),IF(N2802=\"Transporte Aéreo\",VLOOKUP(O2803,$O$4044:$P$4045,2),\"\"))))","v":""},null,null,null,null,null,null,null,null,null,null,null,null,null,null,null,{"$f":"+IF(AE2803=\"20NL\",1,IF(AE2803=\"40NL\",2,IF(AE2803=\"20RF\",3,IF(AE2803=\"40RF\",4,\"\"))))","v":""},{"$f":"+IF(AF2803=\"\",\"\",VLOOKUP(AF2803,$AF$4031:$AG$4034,2))","v":""}]
[null,null,null,null,null,null,"",null,{"$f":"IF(H2807=\"\",\"\",ROUND(H2807/SUM(H2802:H2809),4))","v":""},null,null,null,null,null,null,{"$f":"+IF(O2807=\"\",\"\",IF(N2802=\"Transporte Marítimo\",VLOOKUP(O2807,$O$4030:$P$4035,2),IF(N2802=\"Transporte Aéreo\",VLOOKUP(O2807,$O$4037:$P$4042,2),IF(N2802=\"Transporte Aéreo\",VLOOKUP(O2807,$O$4044:$P$4045,2),\"\"))))","v":""},null,null,null,null,null,null,null,null,null,null,null,null,null,null,null,"",""]
[null,{"$f":"+B2802+1","v":350},null,null,null,null,{"$f":"+IF(F2810=\"\",\"\",VLOOKUP(F2810,$F$4031:$G$4120,2))","v":""},null,{"$f":"IF(H2810=\"\",\"\",1-SUM(I2811:I2817))","v":""},null,null,null,null,null,null,{"$f":"+IF(O2810=\"\",\"\",IF(N2810=\"Transporte Marítimo\",VLOOKUP(O2810,$O$4030:$P$4035,2),IF(N2810=\"Transporte Aéreo\",VLOOKUP(O2810,$O$4037:$P$4042,2),IF(N2810=\"CTT\",VLOOKUP(O2810,$O$4044:$P$4045,2),\"\"))))","v":""},null,null,null,null,null,null,null,null,null,null,null,null,null,null,null,{"$f":"+IF(AE2810=\"20NL\",1,IF(AE2810=\"40NL\",2,IF(AE2810=\"20RF\",3,IF(AE2810=\"40RF\",4,\"\"))))","v":""},{"$f":"+IF(AF2810=\"\",\"\",VLOOKUP(AF2810,$AF$4031:$AG$4034,2))","v":""},null,null,null,null,null,null,null,null,null,null,null,null,null,null," "]
[null,null,null,null,null,null,"",null,{"$f":"IF(H2813=\"\",\"\",ROUND(H2813/SUM(H2810:H2817),4))","v":""},null,null,null,null,null,null,{"$f":"+IF(O2813=\"\",\"\",IF(N2810=\"Transporte Marítimo\",VLOOKUP(O2813,$O$4030:$P$4035,2),IF(N2810=\"Transporte Aéreo\",VLOOKUP(O2813,$O$4037:$P$4042,2),IF(N2810=\"Transporte Aéreo\",VLOOKUP(O2813,$O$4044:$P$4045,2),\"\"))))","v":""},null,null,null,null,null,null,null,null,null,null,null,null,null,null,null,"",""]
[null,null,null,null,null,null,"",null,{"$f":"IF(H2816=\"\",\"\",ROUND(H2816/SUM(H2810:H2817),4))","v":""},null,null,null,null,null,null,{"$f":"+IF(O2816=\"\",\"\",IF(N2810=\"Transporte Marítimo\",VLOOKUP(O2816,$O$4030:$P$4035,2),IF(N2810=\"Transporte Aéreo\",VLOOKUP(O2816,$O$4037:$P$4042,2),IF(N2810=\"Transporte Aéreo\",VLOOKUP(O2816,$O$4044:$P$4045,2),\"\"))))","v":""},null,null,null,null,null,null,null,null,null,null,null,null,null,null,null,"",""]
[null,null,null,null,null,null,{"$f":"+IF(F2819=\"\",\"\",VLOOKUP(F2819,$F$4031:$G$4120,2))","v":""},null,{"$f":"IF(H2819=\"\",\"\",ROUND(H2819/SUM(H2818:H2825),4))","v":""},null,null,null,null,null,null,{"$f":"+IF(O2819=\"\",\"\",IF(N2818=\"Transporte Marítimo\",VLOOKUP(O2819,$O$4030:$P$4035,2),IF(N2818=\"Transporte Aéreo\",VLOOKUP(O2819,$O$4037:$P$4042,2),IF(N2818=\"Transporte Aéreo\",VLOOKUP(O2819,$O$4044:$P$4045,2),\"\"))))","v":""},null,null,null,null,null,null,null,null,null,null,null,null,null,null,null,{"$f":"+IF(AE2819=\"20NL\",1,IF(AE2819=\"40NL\",2,IF(AE2819=\"20RF\",3,IF(AE2819=\"40RF\",4,\"\"))))","v":""},{"$f":"+IF(AF2819=\"\",\"\",VLOOKUP(AF2819,$AF$4031:$AG$4034,2))","v":""}]
[null,null,null,null,null,null,"",null,{"$f":"IF(H2820=\"\",\"\",ROUND(H2820/SUM(H2818:H2825),4))","v":""},null,null,null,null,null,null,{"$f":"+IF(O2820=\"\",\"\",IF(N2818=\"Transporte Marítimo\",VLOOKUP(O2820,$O$4030:$P$4035,2),IF(N2818=\"Transporte Aéreo\",VLOOKUP(O2820,$O$4037:$P$4042,2),IF(N2818=\"Transporte Aéreo\",VLOOKUP(O2820,$O$4044:$P$4045,2),\"\"))))","v":""},null,null,null,null,null,null,null,null,null,null,null,null,null,null,null,"",""]
[null,null,null,null,null,null,"",null,{"$f":"IF(H2823=\"\",\"\",ROUND(H2823/SUM(H2818:H2825),4))","v":""},null,null,null,null,null,null,{"$f":"+IF(O2823=\"\",\"\",IF(N2818=\"Transporte Marítimo\",VLOOKUP(O2823,$O$4030:$P$4035,2),IF(N2818=\"Transporte Aéreo\",VLOOKUP(O2823,$O$4037:$P$4042,2),IF(N2818=\"Transporte Aéreo\",VLOOKUP(O2823,$O$4044:$P$4045,2),\"\"))))","v":""},null,null,null,null,null,null,null,null,null,null,null,null,null,null,null,"",""]
[null,{"$f":"+B2818+1","v":352},null,null,null,null,{"$f":"+IF(F2826=\"\",\"\",VLOOKUP(F2826,$F$4031:$G$4120,2))","v":""},null,{"$f":"IF(H2826=\"\",\"\",1-SUM(I2827:I2833))","v":""},null,null,null,null,null,null,{"$f":"+IF(O2826=\"\",\"\",IF(N2826=\"Transporte Marítimo\",VLOOKUP(O2826,$O$4030:$P$4035,2),IF(N2826=\"Transporte Aéreo\",VLOOKUP(O2826,$O$4037:$P$4042,2),IF(N2826=\"CTT\",VLOOKUP(O2826,$O$4044:$P$4045,2),\"\"))))","v":""},null,null,null,null,null,null,null,null,null,null,null,null,null,null,null,{"$f":"+IF(AE2826=\"20NL\",1,IF(AE2826=\"40NL\",2,IF(AE2826=\"20RF\",3,IF(AE2826=\"40RF\",4,\"\"))))","v":""},{"$f":"+IF(AF2826=\"\",\"\",VLOOKUP(AF2826,$AF$4031:$AG$4034,2))","v":""},null,null,null,null,null,null,null,null,null,null,null,null,null,null," "]
[null,null,null,null,null,null,"",null,{"$f":"IF(H2830=\"\",\"\",ROUND(H2830/SUM(H2826:H2833),4))","v":""},null,null,null,null,null,null,{"$f":"+IF(O2830=\"\",\"\",IF(N2826=\"Transporte Marítimo\",VLOOKUP(O2830,$O$4030:$P$4035,2),IF(N2826=\"Transporte Aéreo\",VLOOKUP(O2830,$O$4037:$P$4042,2),IF(N2826=\"Transporte Aéreo\",VLOOKUP(O2830,$O$4044:$P$4045,2),\"\"))))","v":""},null,null,null,null,null,null,null,null,null,null,null,null,null,null,null,"",""]
[null,null,null,null,null,null,"",null,{"$f":"IF(H2833=\"\",\"\",ROUND(H2833/SUM(H2826:H2833),4))","v":""},null,null,null,null,null,null,{"$f":"+IF(O2833=\"\",\"\",IF(N2826=\"Transporte Marítimo\",VLOOKUP(O2833,$O$4030:$P$4035,2),IF(N2826=\"Transporte Aéreo\",VLOOKUP(O2833,$O$4037:$P$4042,2),IF(N2826=\"Transporte Aéreo\",VLOOKUP(O2833,$O$4044:$P$4045,2),\"\"))))","v":""},null,null,null,null,null,null,null,null,null,null,null,null,null,null,null,"",""]
[null,null,null,null,null,null,"",null,{"$f":"IF(H2836=\"\",\"\",ROUND(H2836/SUM(H2834:H2841),4))","v":""},null,null,null,null,null,null,{"$f":"+IF(O2836=\"\",\"\",IF(N2834=\"Transporte Marítimo\",VLOOKUP(O2836,$O$4030:$P$4035,2),IF(N2834=\"Transporte Aéreo\",VLOOKUP(O2836,$O$4037:$P$4042,2),IF(N2834=\"Transporte Aéreo\",VLOOKUP(O2836,$O$4044:$P$4045,2),\"\"))))","v":""},null,null,null,null,null,null,null,null,null,null,null,null,null,null,null,"",""]
[null,null,null,null,null,null,"",null,{"$f":"IF(H2839=\"\",\"\",ROUND(H2839/SUM(H2834:H2841),4))","v":""},null,null,null,null,null,null,{"$f":"+IF(O2839=\"\",\"\",IF(N2834=\"Transporte Marítimo\",VLOOKUP(O2839,$O$4030:$P$4035,2),IF(N2834=\"Transporte Aéreo\",VLOOKUP(O2839,$O$4037:$P$4042,2),IF(N2834=\"Transporte Aéreo\",VLOOKUP(O2839,$O$4044:$P$4045,2),\"\"))))","v":""},null,null,null,null,null,null,null,null,null,null,null,null,null,null,null,"",""]
[null,{"$f":"+B2834+1","v":354},null,null,null,null,{"$f":"+IF(F2842=\"\",\"\",VLOOKUP(F2842,$F$4031:$G$4120,2))","v":""},null,{"$f":"IF(H2842=\"\",\"\",1-SUM(I2843:I2849))","v":""},null,null,null,null,null,null,{"$f":"+IF(O2842=\"\",\"\",IF(N2842=\"Transporte Marítimo\",VLOOKUP(O2842,$O$4030:$P$4035,2),IF(N2842=\"Transporte Aéreo\",VLOOKUP(O2842,$O$4037:$P$4042,2),IF(N2842=\"CTT\",VLOOKUP(O2842,$O$4044:$P$4045,2),\"\"))))","v":""},null,null,null,null,null,null,null,null,null,null,null,null,null,null,null,{"$f":"+IF(AE2842=\"20NL\",1,IF(AE2842=\"40NL\",2,IF(AE2842=\"20RF\",3,IF(AE2842=\"40RF\",4,\"\"))))","v":""},{"$f":"+IF(AF2842=\"\",\"\",VLOOKUP(AF2842,$AF$4031:$AG$4034,2))","v":""},null,null,null,null,null,null,null,null,null,null,null,null,null,null," "]
[null,null,null,null,null,null,"",null,{"$f":"IF(H2843=\"\",\"\",ROUND(H2843/SUM(H2842:H2849),4))","v":""},null,null,null,null,null,null,{"$f":"+IF(O2843=\"\",\"\",IF(N2842=\"Transporte Marítimo\",VLOOKUP(O2843,$O$4030:$P$4035,2),IF(N2842=\"Transporte Aéreo\",VLOOKUP(O2843,$O$4037:$P$4042,2),IF(N2842=\"Transporte Aéreo\",VLOOKUP(O2843,$O$4044:$P$4045,2),\"\"))))","v":""},null,null,null,null,null,null,null,null,null,null,null,null,null,null,null,{"$f":"+IF(AE2843=\"20NL\",1,IF(AE2843=\"40NL\",2,IF(AE2843=\"20RF\",3,IF(AE2843=\"40RF\",4,\"\"))))","v":""},""]
[null,null,null,null,null,null,"",null,{"$f":"IF(H2846=\"\",\"\",ROUND(H2846/SUM(H2842:H2849),4))","v":""},null,null,null,null,null,null,{"$f":"+IF(O2846=\"\",\"\",IF(N2842=\"Transporte Marítimo\",VLOOKUP(O2846,$O$4030:$P$4035,2),IF(N2842=\"Transporte Aéreo\",VLOOKUP(O2846,$O$4037:$P$4042,2),IF(N2842=\"Transporte Aéreo\",VLOOKUP(O2846,$O$4044:$P$4045,2),\"\"))))","v":""},null,null,null,null,null,null,null,null,null,null,null,null,null,null,null,"",""]
[null,null,null,null,null,null,"",null,{"$f":"IF(H2849=\"\",\"\",ROUND(H2849/SUM(H2842:H2849),4))","v":""},null,null,null,null,null,null,{"$f":"+IF(O2849=\"\",\"\",IF(N2842=\"Transporte Marítimo\",VLOOKUP(O2849,$O$4030:$P$4035,2),IF(N2842=\"Transporte Aéreo\",VLOOKUP(O2849,$O$4037:$P$4042,2),IF(N2842=\"Transporte Aéreo\",VLOOKUP(O2849,$O$4044:$P$4045,2),\"\"))))","v":""},null,null,null,null,null,null,null,null,null,null,null,null,null,null,null,"",""]
[null,null,null,null,null,null,"",null,{"$f":"IF(H2853=\"\",\"\",ROUND(H2853/SUM(H2850:H2857),4))","v":""},null,null,null,null,null,null,{"$f":"+IF(O2853=\"\",\"\",IF(N2850=\"Transporte Marítimo\",VLOOKUP(O2853,$O$4030:$P$4035,2),IF(N2850=\"Transporte Aéreo\",VLOOKUP(O2853,$O$4037:$P$4042,2),IF(N2850=\"Transporte Aéreo\",VLOOKUP(O2853,$O$4044:$P$4045,2),\"\"))))","v":""},null,null,null,null,null,null,null,null,null,null,null,null,null,null,null,"",""]
[null,null,null,null,null,null,"",null,{"$f":"IF(H2856=\"\",\"\",ROUND(H2856/SUM(H2850:H2857),4))","v":""},null,null,null,null,null,null,{"$f":"+IF(O2856=\"\",\"\",IF(N2850=\"Transporte Marítimo\",VLOOKUP(O2856,$O$4030:$P$4035,2),IF(N2850=\"Transporte Aéreo\",VLOOKUP(O2856,$O$4037:$P$4042,2),IF(N2850=\"Transporte Aéreo\",VLOOKUP(O2856,$O$4044:$P$4045,2),\"\"))))","v":""},null,null,null,null,null,null,null,null,null,null,null,null,null,null,null,"",""]
[null,null,null,null,null,null,"",null,{"$f":"IF(H2859=\"\",\"\",ROUND(H2859/SUM(H2858:H2865),4))","v":""},null,null,null,null,null,null,{"$f":"+IF(O2859=\"\",\"\",IF(N2858=\"Transporte Marítimo\",VLOOKUP(O2859,$O$4030:$P$4035,2),IF(N2858=\"Transporte Aéreo\",VLOOKUP(O2859,$O$4037:$P$4042,2),IF(N2858=\"Transporte Aéreo\",VLOOKUP(O2859,$O$4044:$P$4045,2),\"\"))))","v":""},null,null,null,null,null,null,null,null,null,null,null,null,null,null,null,{"$f":"+IF(AE2859=\"20NL\",1,IF(AE2859=\"40NL\",2,IF(AE2859=\"20RF\",3,IF(AE2859=\"40RF\",4,\"\"))))","v":""},""]
[null,null,null,null,null,null,"",null,{"$f":"IF(H2862=\"\",\"\",ROUND(H2862/SUM(H2858:H2865),4))","v":""},null,null,null,null,null,null,{"$f":"+IF(O2862=\"\",\"\",IF(N2858=\"Transporte Marítimo\",VLOOKUP(O2862,$O$4030:$P$4035,2),IF(N2858=\"Transporte Aéreo\",VLOOKUP(O2862,$O$4037:$P$4042,2),IF(N2858=\"Transporte Aéreo\",VLOOKUP(O2862,$O$4044:$P$4045,2),\"\"))))","v":""},null,null,null,null,null,null,null,null,null,null,null,null,null,null,null,"",""]
[null,null,null,null,null,null,"",null,{"$f":"IF(H2865=\"\",\"\",ROUND(H2865/SUM(H2858:H2865),4))","v":""},null,null,null,null,null,null,{"$f":"+IF(O2865=\"\",\"\",IF(N2858=\"Transporte Marítimo\",VLOOKUP(O2865,$O$4030:$P$4035,2),IF(N2858=\"Transporte Aéreo\",VLOOKUP(O2865,$O$4037:$P$4042,2),IF(N2858=\"Transporte Aéreo\",VLOOKUP(O2865,$O$4044:$P$4045,2),\"\"))))","v":""},null,null,null,null,null,null,null,null,null,null,null,null,null,null,null,"",""]
[null,{"$f":"+B2858+1","v":357},null,null,null,null,{"$f":"+IF(F2866=\"\",\"\",VLOOKUP(F2866,$F$4031:$G$4120,2))","v":""},null,{"$f":"IF(H2866=\"\",\"\",1-SUM(I2867:I2873))","v":""},null,null,null,null,null,null,{"$f":"+IF(O2866=\"\",\"\",IF(N2866=\"Transporte Marítimo\",VLOOKUP(O2866,$O$4030:$P$4035,2),IF(N2866=\"Transporte Aéreo\",VLOOKUP(O2866,$O$4037:$P$4042,2),IF(N2866=\"CTT\",VLOOKUP(O2866,$O$4044:$P$4045,2),\"\"))))","v":""},null,null,null,null,null,null,null,null,null,null,null,null,null,null,null,{"$f":"+IF(AE2866=\"20NL\",1,IF(AE2866=\"40NL\",2,IF(AE2866=\"20RF\",3,IF(AE2866=\"40RF\",4,\"\"))))","v":""},{"$f":"+IF(AF2866=\"\",\"\",VLOOKUP(AF2866,$AF$4031:$AG$4034,2))","v":""},null,null,null,null,null,null,null,null,null,null,null,null,null,null," "]
[null,null,null,null,null,null,"",null,{"$f":"IF(H2869=\"\",\"\",ROUND(H2869/SUM(H2866:H2873),4))","v":""},null,null,null,null,null,null,{"$f":"+IF(O2869=\"\",\"\",IF(N2866=\"Transporte Marítimo\",VLOOKUP(O2869,$O$4030:$P$4035,2),IF(N2866=\"Transporte Aéreo\",VLOOKUP(O2869,$O$4037:$P$4042,2),IF(N2866=\"Transporte Aéreo\",VLOOKUP(O2869,$O$4044:$P$4045,2),\"\"))))","v":""},null,null,null,null,null,null,null,null,null,null,null,null,null,null,null,"",""]
[null,null,null,null,null,null,"",null,{"$f":"IF(H2873=\"\",\"\",ROUND(H2873/SUM(H2866:H2873),4))","v":""},null,null,null,null,null,null,{"$f":"+IF(O2873=\"\",\"\",IF(N2866=\"Transporte Marítimo\",VLOOKUP(O2873,$O$4030:$P$4035,2),IF(N2866=\"Transporte Aéreo\",VLOOKUP(O2873,$O$4037:$P$4042,2),IF(N2866=\"Transporte Aéreo\",VLOOKUP(O2873,$O$4044:$P$4045,2),\"\"))))","v":""},null,null,null,null,null,null,null,null,null,null,null,null,null,null,null,"",""]
[null,null,null,null,null,null,"",null,{"$f":"IF(H2875=\"\",\"\",ROUND(H2875/SUM(H2874:H2881),4))","v":""},null,null,null,null,null,null,{"$f":"+IF(O2875=\"\",\"\",IF(N2874=\"Transporte Marítimo\",VLOOKUP(O2875,$O$4030:$P$4035,2),IF(N2874=\"Transporte Aéreo\",VLOOKUP(O2875,$O$4037:$P$4042,2),IF(N2874=\"Transporte Aéreo\",VLOOKUP(O2875,$O$4044:$P$4045,2),\"\"))))","v":""},null,null,null,null,null,null,null,null,null,null,null,null,null,null,null,{"$f":"+IF(AE2875=\"20NL\",1,IF(AE2875=\"40NL\",2,IF(AE2875=\"20RF\",3,IF(AE2875=\"40RF\",4,\"\"))))","v":""},""]
[null,null,null,null,null,null,"",null,{"$f":"IF(H2878=\"\",\"\",ROUND(H2878/SUM(H2874:H2881),4))","v":""},null,null,null,null,null,null,{"$f":"+IF(O2878=\"\",\"\",IF(N2874=\"Transporte Marítimo\",VLOOKUP(O2878,$O$4030:$P$4035,2),IF(N2874=\"Transporte Aéreo\",VLOOKUP(O2878,$O$4037:$P$4042,2),IF(N2874=\"Transporte Aéreo\",VLOOKUP(O2878,$O$4044:$P$4045,2),\"\"))))","v":""},null,null,null,null,null,null,null,null,null,null,null,null,null,null,null,"",""]
[null,{"$f":"+B2874+1","v":359},null,null,null,null,{"$f":"+IF(F2882=\"\",\"\",VLOOKUP(F2882,$F$4031:$G$4120,2))","v":""},null,{"$f":"IF(H2882=\"\",\"\",1-SUM(I2883:I2889))","v":""},null,null,null,null,null,null,{"$f":"+IF(O2882=\"\",\"\",IF(N2882=\"Transporte Marítimo\",VLOOKUP(O2882,$O$4030:$P$4035,2),IF(N2882=\"Transporte Aéreo\",VLOOKUP(O2882,$O$4037:$P$4042,2),IF(N2882=\"CTT\",VLOOKUP(O2882,$O$4044:$P$4045,2),\"\"))))","v":""},null,null,null,null,null,null,null,null,null,null,null,null,null,null,null,{"$f":"+IF(AE2882=\"20NL\",1,IF(AE2882=\"40NL\",2,IF(AE2882=\"20RF\",3,IF(AE2882=\"40RF\",4,\"\"))))","v":""},{"$f":"+IF(AF2882=\"\",\"\",VLOOKUP(AF2882,$AF$4031:$AG$4034,2))","v":""},null,null,null,null,null,null,null,null,null,null,null,null,null,null," "]
[null,null,null,null,null,null,"",null,{"$f":"IF(H2885=\"\",\"\",ROUND(H2885/SUM(H2882:H2889),4))","v":""},null,null,null,null,null,null,{"$f":"+IF(O2885=\"\",\"\",IF(N2882=\"Transporte Marítimo\",VLOOKUP(O2885,$O$4030:$P$4035,2),IF(N2882=\"Transporte Aéreo\",VLOOKUP(O2885,$O$4037:$P$4042,2),IF(N2882=\"Transporte Aéreo\",VLOOKUP(O2885,$O$4044:$P$4045,2),\"\"))))","v":""},null,null,null,null,null,null,null,null,null,null,null,null,null,null,null,"",""]
[null,null,null,null,null,null,"",null,{"$f":"IF(H2888=\"\",\"\",ROUND(H2888/SUM(H2882:H2889),4))","v":""},null,null,null,null,null,null,{"$f":"+IF(O2888=\"\",\"\",IF(N2882=\"Transporte Marítimo\",VLOOKUP(O2888,$O$4030:$P$4035,2),IF(N2882=\"Transporte Aéreo\",VLOOKUP(O2888,$O$4037:$P$4042,2),IF(N2882=\"Transporte Aéreo\",VLOOKUP(O2888,$O$4044:$P$4045,2),\"\"))))","v":""},null,null,null,null,null,null,null,null,null,null,null,null,null,null,null,"",""]
[null,null,null,null,null,null,"",null,{"$f":"IF(H2889=\"\",\"\",ROUND(H2889/SUM(H2882:H2889),4))","v":""},null,null,null,null,null,null,{"$f":"+IF(O2889=\"\",\"\",IF(N2882=\"Transporte Marítimo\",VLOOKUP(O2889,$O$4030:$P$4035,2),IF(N2882=\"Transporte Aéreo\",VLOOKUP(O2889,$O$4037:$P$4042,2),IF(N2882=\"Transporte Aéreo\",VLOOKUP(O2889,$O$4044:$P$4045,2),\"\"))))","v":""},null,null,null,null,null,null,null,null,null,null,null,null,null,null,null,"",""]
[null,null,null,null,null,null,"",null,{"$f":"IF(H2892=\"\",\"\",ROUND(H2892/SUM(H2890:H2897),4))","v":""},null,null,null,null,null,null,{"$f":"+IF(O2892=\"\",\"\",IF(N2890=\"Transporte Marítimo\",VLOOKUP(O2892,$O$4030:$P$4035,2),IF(N2890=\"Transporte Aéreo\",VLOOKUP(O2892,$O$4037:$P$4042,2),IF(N2890=\"Transporte Aéreo\",VLOOKUP(O2892,$O$4044:$P$4045,2),\"\"))))","v":""},null,null,null,null,null,null,null,null,null,null,null,null,null,null,null,"",""]
[null,null,null,null,null,null,"",null,{"$f":"IF(H2896=\"\",\"\",ROUND(H2896/SUM(H2890:H2897),4))","v":""},null,null,null,null,null,null,{"$f":"+IF(O2896=\"\",\"\",IF(N2890=\"Transporte Marítimo\",VLOOKUP(O2896,$O$4030:$P$4035,2),IF(N2890=\"Transporte Aéreo\",VLOOKUP(O2896,$O$4037:$P$4042,2),IF(N2890=\"Transporte Aéreo\",VLOOKUP(O2896,$O$4044:$P$4045,2),\"\"))))","v":""},null,null,null,null,null,null,null,null,null,null,null,null,null,null,null,"",""]
[null,{"$f":"+B2890+1","v":361},null,null,null,null,{"$f":"+IF(F2898=\"\",\"\",VLOOKUP(F2898,$F$4031:$G$4120,2))","v":""},null,{"$f":"IF(H2898=\"\",\"\",1-SUM(I2899:I2905))","v":""},null,null,null,null,null,null,{"$f":"+IF(O2898=\"\",\"\",IF(N2898=\"Transporte Marítimo\",VLOOKUP(O2898,$O$4030:$P$4035,2),IF(N2898=\"Transporte Aéreo\",VLOOKUP(O2898,$O$4037:$P$4042,2),IF(N2898=\"CTT\",VLOOKUP(O2898,$O$4044:$P$4045,2),\"\"))))","v":""},null,null,null,null,null,null,null,null,null,null,null,null,null,null,null,{"$f":"+IF(AE2898=\"20NL\",1,IF(AE2898=\"40NL\",2,IF(AE2898=\"20RF\",3,IF(AE2898=\"40RF\",4,\"\"))))","v":""},{"$f":"+IF(AF2898=\"\",\"\",VLOOKUP(AF2898,$AF$4031:$AG$4034,2))","v":""},null,null,null,null,null,null,null,null,null,null,null,null,null,null," "]
[null,null,null,null,null,null,"",null,{"$f":"IF(H2901=\"\",\"\",ROUND(H2901/SUM(H2898:H2905),4))","v":""},null,null,null,null,null,null,{"$f":"+IF(O2901=\"\",\"\",IF(N2898=\"Transporte Marítimo\",VLOOKUP(O2901,$O$4030:$P$4035,2),IF(N2898=\"Transporte Aéreo\",VLOOKUP(O2901,$O$4037:$P$4042,2),IF(N2898=\"Transporte Aéreo\",VLOOKUP(O2901,$O$4044:$P$4045,2),\"\"))))","v":""},null,null,null,null,null,null,null,null,null,null,null,null,null,null,null,"",""]
[null,null,null,null,null,null,"",null,{"$f":"IF(H2905=\"\",\"\",ROUND(H2905/SUM(H2898:H2905),4))","v":""},null,null,null,null,null,null,{"$f":"+IF(O2905=\"\",\"\",IF(N2898=\"Transporte Marítimo\",VLOOKUP(O2905,$O$4030:$P$4035,2),IF(N2898=\"Transporte Aéreo\",VLOOKUP(O2905,$O$4037:$P$4042,2),IF(N2898=\"Transporte Aéreo\",VLOOKUP(O2905,$O$4044:$P$4045,2),\"\"))))","v":""},null,null,null,null,null,null,null,null,null,null,null,null,null,null,null,"",""]
[null,null,null,null,null,null,"",null,{"$f":"IF(H2908=\"\",\"\",ROUND(H2908/SUM(H2906:H2913),4))","v":""},null,null,null,null,null,null,{"$f":"+IF(O2908=\"\",\"\",IF(N2906=\"Transporte Marítimo\",VLOOKUP(O2908,$O$4030:$P$4035,2),IF(N2906=\"Transporte Aéreo\",VLOOKUP(O2908,$O$4037:$P$4042,2),IF(N2906=\"Transporte Aéreo\",VLOOKUP(O2908,$O$4044:$P$4045,2),\"\"))))","v":""},null,null,null,null,null,null,null,null,null,null,null,null,null,null,null,"",""]
[null,null,null,null,null,null,"",null,{"$f":"IF(H2909=\"\",\"\",ROUND(H2909/SUM(H2906:H2913),4))","v":""},null,null,null,null,null,null,{"$f":"+IF(O2909=\"\",\"\",IF(N2906=\"Transporte Marítimo\",VLOOKUP(O2909,$O$4030:$P$4035,2),IF(N2906=\"Transporte Aéreo\",VLOOKUP(O2909,$O$4037:$P$4042,2),IF(N2906=\"Transporte Aéreo\",VLOOKUP(O2909,$O$4044:$P$4045,2),\"\"))))","v":""},null,null,null,null,null,null,null,null,null,null,null,null,null,null,null,"",""]
[null,null,null,null,null,null,"",null,{"$f":"IF(H2912=\"\",\"\",ROUND(H2912/SUM(H2906:H2913),4))","v":""},null,null,null,null,null,null,{"$f":"+IF(O2912=\"\",\"\",IF(N2906=\"Transporte Marítimo\",VLOOKUP(O2912,$O$4030:$P$4035,2),IF(N2906=\"Transporte Aéreo\",VLOOKUP(O2912,$O$4037:$P$4042,2),IF(N2906=\"Transporte Aéreo\",VLOOKUP(O2912,$O$4044:$P$4045,2),\"\"))))","v":""},null,null,null,null,null,null,null,null,null,null,null,null,null,null,null,"",""]
[null,null,null,null,null,null,"",null,{"$f":"IF(H2915=\"\",\"\",ROUND(H2915/SUM(H2914:H2921),4))","v":""},null,null,null,null,null,null,{"$f":"+IF(O2915=\"\",\"\",IF(N2914=\"Transporte Marítimo\",VLOOKUP(O2915,$O$4030:$P$4035,2),IF(N2914=\"Transporte Aéreo\",VLOOKUP(O2915,$O$4037:$P$4042,2),IF(N2914=\"Transporte Aéreo\",VLOOKUP(O2915,$O$4044:$P$4045,2),\"\"))))","v":""},null,null,null,null,null,null,null,null,null,null,null,null,null,null,null,{"$f":"+IF(AE2915=\"20NL\",1,IF(AE2915=\"40NL\",2,IF(AE2915=\"20RF\",3,IF(AE2915=\"40RF\",4,\"\"))))","v":""},""]
[null,null,null,null,null,null,"",null,{"$f":"IF(H2919=\"\",\"\",ROUND(H2919/SUM(H2914:H2921),4))","v":""},null,null,null,null,null,null,{"$f":"+IF(O2919=\"\",\"\",IF(N2914=\"Transporte Marítimo\",VLOOKUP(O2919,$O$4030:$P$4035,2),IF(N2914=\"Transporte Aéreo\",VLOOKUP(O2919,$O$4037:$P$4042,2),IF(N2914=\"Transporte Aéreo\",VLOOKUP(O2919,$O$4044:$P$4045,2),\"\"))))","v":""},null,null,null,null,null,null,null,null,null,null,null,null,null,null,null,"",""]
[null,null,null,null,null,null,"",null,{"$f":"IF(H2921=\"\",\"\",ROUND(H2921/SUM(H2914:H2921),4))","v":""},null,null,null,null,null,null,{"$f":"+IF(O2921=\"\",\"\",IF(N2914=\"Transporte Marítimo\",VLOOKUP(O2921,$O$4030:$P$4035,2),IF(N2914=\"Transporte Aéreo\",VLOOKUP(O2921,$O$4037:$P$4042,2),IF(N2914=\"Transporte Aéreo\",VLOOKUP(O2921,$O$4044:$P$4045,2),\"\"))))","v":""},null,null,null,null,null,null,null,null,null,null,null,null,null,null,null,"",""]
[null,null,null,null,null,null,"",null,{"$f":"IF(H2924=\"\",\"\",ROUND(H2924/SUM(H2922:H2929),4))","v":""},null,null,null,null,null,null,{"$f":"+IF(O2924=\"\",\"\",IF(N2922=\"Transporte Marítimo\",VLOOKUP(O2924,$O$4030:$P$4035,2),IF(N2922=\"Transporte Aéreo\",VLOOKUP(O2924,$O$4037:$P$4042,2),IF(N2922=\"Transporte Aéreo\",VLOOKUP(O2924,$O$4044:$P$4045,2),\"\"))))","v":""},null,null,null,null,null,null,null,null,null,null,null,null,null,null,null,"",""]
[null,null,null,null,null,null,"",null,{"$f":"IF(H2928=\"\",\"\",ROUND(H2928/SUM(H2922:H2929),4))","v":""},null,null,null,null,null,null,{"$f":"+IF(O2928=\"\",\"\",IF(N2922=\"Transporte Marítimo\",VLOOKUP(O2928,$O$4030:$P$4035,2),IF(N2922=\"Transporte Aéreo\",VLOOKUP(O2928,$O$4037:$P$4042,2),IF(N2922=\"Transporte Aéreo\",VLOOKUP(O2928,$O$4044:$P$4045,2),\"\"))))","v":""},null,null,null,null,null,null,null,null,null,null,null,null,null,null,null,"",""]
[null,null,null,null,null,null,"",null,{"$f":"IF(H2931=\"\",\"\",ROUND(H2931/SUM(H2930:H2937),4))","v":""},null,null,null,null,null,null,{"$f":"+IF(O2931=\"\",\"\",IF(N2930=\"Transporte Marítimo\",VLOOKUP(O2931,$O$4030:$P$4035,2),IF(N2930=\"Transporte Aéreo\",VLOOKUP(O2931,$O$4037:$P$4042,2),IF(N2930=\"Transporte Aéreo\",VLOOKUP(O2931,$O$4044:$P$4045,2),\"\"))))","v":""},null,null,null,null,null,null,null,null,null,null,null,null,null,null,null,{"$f":"+IF(AE2931=\"20NL\",1,IF(AE2931=\"40NL\",2,IF(AE2931=\"20RF\",3,IF(AE2931=\"40RF\",4,\"\"))))","v":""},""]
[null,null,null,null,null,null,"",null,{"$f":"IF(H2932=\"\",\"\",ROUND(H2932/SUM(H2930:H2937),4))","v":""},null,null,null,null,null,null,{"$f":"+IF(O2932=\"\",\"\",IF(N2930=\"Transporte Marítimo\",VLOOKUP(O2932,$O$4030:$P$4035,2),IF(N2930=\"Transporte Aéreo\",VLOOKUP(O2932,$O$4037:$P$4042,2),IF(N2930=\"Transporte Aéreo\",VLOOKUP(O2932,$O$4044:$P$4045,2),\"\"))))","v":""},null,null,null,null,null,null,null,null,null,null,null,null,null,null,null,"",""]
[null,null,null,null,null,null,"",null,{"$f":"IF(H2935=\"\",\"\",ROUND(H2935/SUM(H2930:H2937),4))","v":""},null,null,null,null,null,null,{"$f":"+IF(O2935=\"\",\"\",IF(N2930=\"Transporte Marítimo\",VLOOKUP(O2935,$O$4030:$P$4035,2),IF(N2930=\"Transporte Aéreo\",VLOOKUP(O2935,$O$4037:$P$4042,2),IF(N2930=\"Transporte Aéreo\",VLOOKUP(O2935,$O$4044:$P$4045,2),\"\"))))","v":""},null,null,null,null,null,null,null,null,null,null,null,null,null,null,null,"",""]
[null,{"$f":"+B2930+1","v":366},null,null,null,null,{"$f":"+IF(F2938=\"\",\"\",VLOOKUP(F2938,$F$4031:$G$4120,2))","v":""},null,{"$f":"IF(H2938=\"\",\"\",1-SUM(I2939:I2945))","v":""},null,null,null,null,null,null,{"$f":"+IF(O2938=\"\",\"\",IF(N2938=\"Transporte Marítimo\",VLOOKUP(O2938,$O$4030:$P$4035,2),IF(N2938=\"Transporte Aéreo\",VLOOKUP(O2938,$O$4037:$P$4042,2),IF(N2938=\"CTT\",VLOOKUP(O2938,$O$4044:$P$4045,2),\"\"))))","v":""},null,null,null,null,null,null,null,null,null,null,null,null,null,null,null,{"$f":"+IF(AE2938=\"20NL\",1,IF(AE2938=\"40NL\",2,IF(AE2938=\"20RF\",3,IF(AE2938=\"40RF\",4,\"\"))))","v":""},{"$f":"+IF(AF2938=\"\",\"\",VLOOKUP(AF2938,$AF$4031:$AG$4034,2))","v":""},null,null,null,null,null,null,null,null,null,null,null,null,null,null," "]
[null,null,null,null,null,null,"",null,{"$f":"IF(H2942=\"\",\"\",ROUND(H2942/SUM(H2938:H2945),4))","v":""},null,null,null,null,null,null,{"$f":"+IF(O2942=\"\",\"\",IF(N2938=\"Transporte Marítimo\",VLOOKUP(O2942,$O$4030:$P$4035,2),IF(N2938=\"Transporte Aéreo\",VLOOKUP(O2942,$O$4037:$P$4042,2),IF(N2938=\"Transporte Aéreo\",VLOOKUP(O2942,$O$4044:$P$4045,2),\"\"))))","v":""},null,null,null,null,null,null,null,null,null,null,null,null,null,null,null,"",""]
[null,null,null,null,null,null,"",null,{"$f":"IF(H2944=\"\",\"\",ROUND(H2944/SUM(H2938:H2945),4))","v":""},null,null,null,null,null,null,{"$f":"+IF(O2944=\"\",\"\",IF(N2938=\"Transporte Marítimo\",VLOOKUP(O2944,$O$4030:$P$4035,2),IF(N2938=\"Transporte Aéreo\",VLOOKUP(O2944,$O$4037:$P$4042,2),IF(N2938=\"Transporte Aéreo\",VLOOKUP(O2944,$O$4044:$P$4045,2),\"\"))))","v":""},null,null,null,null,null,null,null,null,null,null,null,null,null,null,null,"",""]
[null,null,null,null,null,null,"",null,{"$f":"IF(H2947=\"\",\"\",ROUND(H2947/SUM(H2946:H2953),4))","v":""},null,null,null,null,null,null,{"$f":"+IF(O2947=\"\",\"\",IF(N2946=\"Transporte Marítimo\",VLOOKUP(O2947,$O$4030:$P$4035,2),IF(N2946=\"Transporte Aéreo\",VLOOKUP(O2947,$O$4037:$P$4042,2),IF(N2946=\"Transporte Aéreo\",VLOOKUP(O2947,$O$4044:$P$4045,2),\"\"))))","v":""},null,null,null,null,null,null,null,null,null,null,null,null,null,null,null,{"$f":"+IF(AE2947=\"20NL\",1,IF(AE2947=\"40NL\",2,IF(AE2947=\"20RF\",3,IF(AE2947=\"40RF\",4,\"\"))))","v":""},""]
[null,null,null,null,null,null,"",null,{"$f":"IF(H2951=\"\",\"\",ROUND(H2951/SUM(H2946:H2953),4))","v":""},null,null,null,null,null,null,{"$f":"+IF(O2951=\"\",\"\",IF(N2946=\"Transporte Marítimo\",VLOOKUP(O2951,$O$4030:$P$4035,2),IF(N2946=\"Transporte Aéreo\",VLOOKUP(O2951,$O$4037:$P$4042,2),IF(N2946=\"Transporte Aéreo\",VLOOKUP(O2951,$O$4044:$P$4045,2),\"\"))))","v":""},null,null,null,null,null,null,null,null,null,null,null,null,null,null,null,"",""]
[null,{"$f":"+B2946+1","v":368},null,null,null,null,{"$f":"+IF(F2954=\"\",\"\",VLOOKUP(F2954,$F$4031:$G$4120,2))","v":""},null,{"$f":"IF(H2954=\"\",\"\",1-SUM(I2955:I2961))","v":""},null,null,null,null,null,null,{"$f":"+IF(O2954=\"\",\"\",IF(N2954=\"Transporte Marítimo\",VLOOKUP(O2954,$O$4030:$P$4035,2),IF(N2954=\"Transporte Aéreo\",VLOOKUP(O2954,$O$4037:$P$4042,2),IF(N2954=\"CTT\",VLOOKUP(O2954,$O$4044:$P$4045,2),\"\"))))","v":""},null,null,null,null,null,null,null,null,null,null,null,null,null,null,null,{"$f":"+IF(AE2954=\"20NL\",1,IF(AE2954=\"40NL\",2,IF(AE2954=\"20RF\",3,IF(AE2954=\"40RF\",4,\"\"))))","v":""},{"$f":"+IF(AF2954=\"\",\"\",VLOOKUP(AF2954,$AF$4031:$AG$4034,2))","v":""},null,null,null,null,null,null,null,null,null,null,null,null,null,null," "]
[null,null,null,null,null,null,"",null,{"$f":"IF(H2955=\"\",\"\",ROUND(H2955/SUM(H2954:H2961),4))","v":""},null,null,null,null,null,null,{"$f":"+IF(O2955=\"\",\"\",IF(N2954=\"Transporte Marítimo\",VLOOKUP(O2955,$O$4030:$P$4035,2),IF(N2954=\"Transporte Aéreo\",VLOOKUP(O2955,$O$4037:$P$4042,2),IF(N2954=\"Transporte Aéreo\",VLOOKUP(O2955,$O$4044:$P$4045,2),\"\"))))","v":""},null,null,null,null,null,null,null,null,null,null,null,null,null,null,null,{"$f":"+IF(AE2955=\"20NL\",1,IF(AE2955=\"40NL\",2,IF(AE2955=\"20RF\",3,IF(AE2955=\"40RF\",4,\"\"))))","v":""},""]
[null,null,null,null,null,null,"",null,{"$f":"IF(H2958=\"\",\"\",ROUND(H2958/SUM(H2954:H2961),4))","v":""},null,null,null,null,null,null,{"$f":"+IF(O2958=\"\",\"\",IF(N2954=\"Transporte Marítimo\",VLOOKUP(O2958,$O$4030:$P$4035,2),IF(N2954=\"Transporte Aéreo\",VLOOKUP(O2958,$O$4037:$P$4042,2),IF(N2954=\"Transporte Aéreo\",VLOOKUP(O2958,$O$4044:$P$4045,2),\"\"))))","v":""},null,null,null,null,null,null,null,null,null,null,null,null,null,null,null,"",""]
[null,null,null,null,null,null,"",null,{"$f":"IF(H2961=\"\",\"\",ROUND(H2961/SUM(H2954:H2961),4))","v":""},null,null,null,null,null,null,{"$f":"+IF(O2961=\"\",\"\",IF(N2954=\"Transporte Marítimo\",VLOOKUP(O2961,$O$4030:$P$4035,2),IF(N2954=\"Transporte Aéreo\",VLOOKUP(O2961,$O$4037:$P$4042,2),IF(N2954=\"Transporte Aéreo\",VLOOKUP(O2961,$O$4044:$P$4045,2),\"\"))))","v":""},null,null,null,null,null,null,null,null,null,null,null,null,null,null,null,"",""]
[null,null,null,null,null,null,"",null,{"$f":"IF(H2965=\"\",\"\",ROUND(H2965/SUM(H2962:H2969),4))","v":""},null,null,null,null,null,null,{"$f":"+IF(O2965=\"\",\"\",IF(N2962=\"Transporte Marítimo\",VLOOKUP(O2965,$O$4030:$P$4035,2),IF(N2962=\"Transporte Aéreo\",VLOOKUP(O2965,$O$4037:$P$4042,2),IF(N2962=\"Transporte Aéreo\",VLOOKUP(O2965,$O$4044:$P$4045,2),\"\"))))","v":""},null,null,null,null,null,null,null,null,null,null,null,null,null,null,null,"",""]
[null,null,null,null,null,null,"",null,{"$f":"IF(H2967=\"\",\"\",ROUND(H2967/SUM(H2962:H2969),4))","v":""},null,null,null,null,null,null,{"$f":"+IF(O2967=\"\",\"\",IF(N2962=\"Transporte Marítimo\",VLOOKUP(O2967,$O$4030:$P$4035,2),IF(N2962=\"Transporte Aéreo\",VLOOKUP(O2967,$O$4037:$P$4042,2),IF(N2962=\"Transporte Aéreo\",VLOOKUP(O2967,$O$4044:$P$4045,2),\"\"))))","v":""},null,null,null,null,null,null,null,null,null,null,null,null,null,null,null,"",""]
[null,null,null,null,null,null,"",null,{"$f":"IF(H2971=\"\",\"\",ROUND(H2971/SUM(H2970:H2977),4))","v":""},null,null,null,null,null,null,{"$f":"+IF(O2971=\"\",\"\",IF(N2970=\"Transporte Marítimo\",VLOOKUP(O2971,$O$4030:$P$4035,2),IF(N2970=\"Transporte Aéreo\",VLOOKUP(O2971,$O$4037:$P$4042,2),IF(N2970=\"Transporte Aéreo\",VLOOKUP(O2971,$O$4044:$P$4045,2),\"\"))))","v":""},null,null,null,null,null,null,null,null,null,null,null,null,null,null,null,{"$f":"+IF(AE2971=\"20NL\",1,IF(AE2971=\"40NL\",2,IF(AE2971=\"20RF\",3,IF(AE2971=\"40RF\",4,\"\"))))","v":""},{"$f":"+IF(AF2971=\"\",\"\",VLOOKUP(AF2971,$AF$4031:$AG$4034,2))","v":""}]
[null,null,null,null,null,null,"",null,{"$f":"IF(H2974=\"\",\"\",ROUND(H2974/SUM(H2970:H2977),4))","v":""},null,null,null,null,null,null,{"$f":"+IF(O2974=\"\",\"\",IF(N2970=\"Transporte Marítimo\",VLOOKUP(O2974,$O$4030:$P$4035,2),IF(N2970=\"Transporte Aéreo\",VLOOKUP(O2974,$O$4037:$P$4042,2),IF(N2970=\"Transporte Aéreo\",VLOOKUP(O2974,$O$4044:$P$4045,2),\"\"))))","v":""},null,null,null,null,null,null,null,null,null,null,null,null,null,null,null,"",""]
[null,null,null,null,null,null,{"$f":"+IF(F2977=\"\",\"\",VLOOKUP(F2977,$F$4031:$G$4120,2))","v":""},null,{"$f":"IF(H2977=\"\",\"\",ROUND(H2977/SUM(H2970:H2977),4))","v":""},null,null,null,null,null,null,{"$f":"+IF(O2977=\"\",\"\",IF(N2970=\"Transporte Marítimo\",VLOOKUP(O2977,$O$4030:$P$4035,2),IF(N2970=\"Transporte Aéreo\",VLOOKUP(O2977,$O$4037:$P$4042,2),IF(N2970=\"Transporte Aéreo\",VLOOKUP(O2977,$O$4044:$P$4045,2),\"\"))))","v":""},null,null,null,null,null,null,null,null,null,null,null,null,null,null,null,"",""]
[null,{"$f":"+B2970+1","v":371},null,null,null,null,{"$f":"+IF(F2978=\"\",\"\",VLOOKUP(F2978,$F$4031:$G$4120,2))","v":""},null,{"$f":"IF(H2978=\"\",\"\",1-SUM(I2979:I2985))","v":""},null,null,null,null,null,null,{"$f":"+IF(O2978=\"\",\"\",IF(N2978=\"Transporte Marítimo\",VLOOKUP(O2978,$O$4030:$P$4035,2),IF(N2978=\"Transporte Aéreo\",VLOOKUP(O2978,$O$4037:$P$4042,2),IF(N2978=\"CTT\",VLOOKUP(O2978,$O$4044:$P$4045,2),\"\"))))","v":""},null,null,null,null,null,null,null,null,null,null,null,null,null,null,null,{"$f":"+IF(AE2978=\"20NL\",1,IF(AE2978=\"40NL\",2,IF(AE2978=\"20RF\",3,IF(AE2978=\"40RF\",4,\"\"))))","v":""},{"$f":"+IF(AF2978=\"\",\"\",VLOOKUP(AF2978,$AF$4031:$AG$4034,2))","v":""},null,null,null,null,null,null,null,null,null,null,null,null,null,null," "]
[null,null,null,null,null,null,"",null,{"$f":"IF(H2981=\"\",\"\",ROUND(H2981/SUM(H2978:H2985),4))","v":""},null,null,null,null,null,null,{"$f":"+IF(O2981=\"\",\"\",IF(N2978=\"Transporte Marítimo\",VLOOKUP(O2981,$O$4030:$P$4035,2),IF(N2978=\"Transporte Aéreo\",VLOOKUP(O2981,$O$4037:$P$4042,2),IF(N2978=\"Transporte Aéreo\",VLOOKUP(O2981,$O$4044:$P$4045,2),\"\"))))","v":""},null,null,null,null,null,null,null,null,null,null,null,null,null,null,null,"",""]
[null,null,null,null,null,null,"",null,{"$f":"IF(H2984=\"\",\"\",ROUND(H2984/SUM(H2978:H2985),4))","v":""},null,null,null,null,null,null,{"$f":"+IF(O2984=\"\",\"\",IF(N2978=\"Transporte Marítimo\",VLOOKUP(O2984,$O$4030:$P$4035,2),IF(N2978=\"Transporte Aéreo\",VLOOKUP(O2984,$O$4037:$P$4042,2),IF(N2978=\"Transporte Aéreo\",VLOOKUP(O2984,$O$4044:$P$4045,2),\"\"))))","v":""},null,null,null,null,null,null,null,null,null,null,null,null,null,null,null,"",""]
[null,null,null,null,null,null,"",null,{"$f":"IF(H2988=\"\",\"\",ROUND(H2988/SUM(H2986:H2993),4))","v":""},null,null,null,null,null,null,{"$f":"+IF(O2988=\"\",\"\",IF(N2986=\"Transporte Marítimo\",VLOOKUP(O2988,$O$4030:$P$4035,2),IF(N2986=\"Transporte Aéreo\",VLOOKUP(O2988,$O$4037:$P$4042,2),IF(N2986=\"Transporte Aéreo\",VLOOKUP(O2988,$O$4044:$P$4045,2),\"\"))))","v":""},null,null,null,null,null,null,null,null,null,null,null,null,null,null,null,"",""]
[null,null,null,null,null,null,"",null,{"$f":"IF(H2990=\"\",\"\",ROUND(H2990/SUM(H2986:H2993),4))","v":""},null,null,null,null,null,null,{"$f":"+IF(O2990=\"\",\"\",IF(N2986=\"Transporte Marítimo\",VLOOKUP(O2990,$O$4030:$P$4035,2),IF(N2986=\"Transporte Aéreo\",VLOOKUP(O2990,$O$4037:$P$4042,2),IF(N2986=\"Transporte Aéreo\",VLOOKUP(O2990,$O$4044:$P$4045,2),\"\"))))","v":""},null,null,null,null,null,null,null,null,null,null,null,null,null,null,null,"",""]
[null,{"$f":"+B2986+1","v":373},null,null,null,null,{"$f":"+IF(F2994=\"\",\"\",VLOOKUP(F2994,$F$4031:$G$4120,2))","v":""},null,{"$f":"IF(H2994=\"\",\"\",1-SUM(I2995:I3001))","v":""},null,null,null,null,null,null,{"$f":"+IF(O2994=\"\",\"\",IF(N2994=\"Transporte Marítimo\",VLOOKUP(O2994,$O$4030:$P$4035,2),IF(N2994=\"Transporte Aéreo\",VLOOKUP(O2994,$O$4037:$P$4042,2),IF(N2994=\"CTT\",VLOOKUP(O2994,$O$4044:$P$4045,2),\"\"))))","v":""},null,null,null,null,null,null,null,null,null,null,null,null,null,null,null,{"$f":"+IF(AE2994=\"20NL\",1,IF(AE2994=\"40NL\",2,IF(AE2994=\"20RF\",3,IF(AE2994=\"40RF\",4,\"\"))))","v":""},{"$f":"+IF(AF2994=\"\",\"\",VLOOKUP(AF2994,$AF$4031:$AG$4034,2))","v":""},null,null,null,null,null,null,null,null,null,null,null,null,null,null," "]
[null,null,null,null,null,null,"",null,{"$f":"IF(H2997=\"\",\"\",ROUND(H2997/SUM(H2994:H3001),4))","v":""},null,null,null,null,null,null,{"$f":"+IF(O2997=\"\",\"\",IF(N2994=\"Transporte Marítimo\",VLOOKUP(O2997,$O$4030:$P$4035,2),IF(N2994=\"Transporte Aéreo\",VLOOKUP(O2997,$O$4037:$P$4042,2),IF(N2994=\"Transporte Aéreo\",VLOOKUP(O2997,$O$4044:$P$4045,2),\"\"))))","v":""},null,null,null,null,null,null,null,null,null,null,null,null,null,null,null,"",""]
[null,null,null,null,null,null,"",null,{"$f":"IF(H3000=\"\",\"\",ROUND(H3000/SUM(H2994:H3001),4))","v":""},null,null,null,null,null,null,{"$f":"+IF(O3000=\"\",\"\",IF(N2994=\"Transporte Marítimo\",VLOOKUP(O3000,$O$4030:$P$4035,2),IF(N2994=\"Transporte Aéreo\",VLOOKUP(O3000,$O$4037:$P$4042,2),IF(N2994=\"Transporte Aéreo\",VLOOKUP(O3000,$O$4044:$P$4045,2),\"\"))))","v":""},null,null,null,null,null,null,null,null,null,null,null,null,null,null,null,"",""]
[null,null,null,null,null,null,"",null,{"$f":"IF(H3001=\"\",\"\",ROUND(H3001/SUM(H2994:H3001),4))","v":""},null,null,null,null,null,null,{"$f":"+IF(O3001=\"\",\"\",IF(N2994=\"Transporte Marítimo\",VLOOKUP(O3001,$O$4030:$P$4035,2),IF(N2994=\"Transporte Aéreo\",VLOOKUP(O3001,$O$4037:$P$4042,2),IF(N2994=\"Transporte Aéreo\",VLOOKUP(O3001,$O$4044:$P$4045,2),\"\"))))","v":""},null,null,null,null,null,null,null,null,null,null,null,null,null,null,null,"",""]
[null,null,null,null,null,null,"",null,{"$f":"IF(H3004=\"\",\"\",ROUND(H3004/SUM(H3002:H3009),4))","v":""},null,null,null,null,null,null,{"$f":"+IF(O3004=\"\",\"\",IF(N3002=\"Transporte Marítimo\",VLOOKUP(O3004,$O$4030:$P$4035,2),IF(N3002=\"Transporte Aéreo\",VLOOKUP(O3004,$O$4037:$P$4042,2),IF(N3002=\"Transporte Aéreo\",VLOOKUP(O3004,$O$4044:$P$4045,2),\"\"))))","v":""},null,null,null,null,null,null,null,null,null,null,null,null,null,null,null,"",""]
[null,null,null,null,null,null,"",null,{"$f":"IF(H3007=\"\",\"\",ROUND(H3007/SUM(H3002:H3009),4))","v":""},null,null,null,null,null,null,{"$f":"+IF(O3007=\"\",\"\",IF(N3002=\"Transporte Marítimo\",VLOOKUP(O3007,$O$4030:$P$4035,2),IF(N3002=\"Transporte Aéreo\",VLOOKUP(O3007,$O$4037:$P$4042,2),IF(N3002=\"Transporte Aéreo\",VLOOKUP(O3007,$O$4044:$P$4045,2),\"\"))))","v":""},null,null,null,null,null,null,null,null,null,null,null,null,null,null,null,"",""]
[null,null,null,null,null,null,"",null,{"$f":"IF(H3011=\"\",\"\",ROUND(H3011/SUM(H3010:H3017),4))","v":""},null,null,null,null,null,null,{"$f":"+IF(O3011=\"\",\"\",IF(N3010=\"Transporte Marítimo\",VLOOKUP(O3011,$O$4030:$P$4035,2),IF(N3010=\"Transporte Aéreo\",VLOOKUP(O3011,$O$4037:$P$4042,2),IF(N3010=\"Transporte Aéreo\",VLOOKUP(O3011,$O$4044:$P$4045,2),\"\"))))","v":""},null,null,null,null,null,null,null,null,null,null,null,null,null,null,null,{"$f":"+IF(AE3011=\"20NL\",1,IF(AE3011=\"40NL\",2,IF(AE3011=\"20RF\",3,IF(AE3011=\"40RF\",4,\"\"))))","v":""},""]
[null,null,null,null,null,null,"",null,{"$f":"IF(H3013=\"\",\"\",ROUND(H3013/SUM(H3010:H3017),4))","v":""},null,null,null,null,null,null,{"$f":"+IF(O3013=\"\",\"\",IF(N3010=\"Transporte Marítimo\",VLOOKUP(O3013,$O$4030:$P$4035,2),IF(N3010=\"Transporte Aéreo\",VLOOKUP(O3013,$O$4037:$P$4042,2),IF(N3010=\"Transporte Aéreo\",VLOOKUP(O3013,$O$4044:$P$4045,2),\"\"))))","v":""},null,null,null,null,null,null,null,null,null,null,null,null,null,null,null,"",""]
[null,null,null,null,null,null,"",null,{"$f":"IF(H3017=\"\",\"\",ROUND(H3017/SUM(H3010:H3017),4))","v":""},null,null,null,null,null,null,{"$f":"+IF(O3017=\"\",\"\",IF(N3010=\"Transporte Marítimo\",VLOOKUP(O3017,$O$4030:$P$4035,2),IF(N3010=\"Transporte Aéreo\",VLOOKUP(O3017,$O$4037:$P$4042,2),IF(N3010=\"Transporte Aéreo\",VLOOKUP(O3017,$O$4044:$P$4045,2),\"\"))))","v":""},null,null,null,null,null,null,null,null,null,null,null,null,null,null,null,"",""]
[null,null,null,null,null,null,"",null,{"$f":"IF(H3020=\"\",\"\",ROUND(H3020/SUM(H3018:H3025),4))","v":""},null,null,null,null,null,null,{"$f":"+IF(O3020=\"\",\"\",IF(N3018=\"Transporte Marítimo\",VLOOKUP(O3020,$O$4030:$P$4035,2),IF(N3018=\"Transporte Aéreo\",VLOOKUP(O3020,$O$4037:$P$4042,2),IF(N3018=\"Transporte Aéreo\",VLOOKUP(O3020,$O$4044:$P$4045,2),\"\"))))","v":""},null,null,null,null,null,null,null,null,null,null,null,null,null,null,null,"",""]
[null,null,null,null,null,null,"",null,{"$f":"IF(H3023=\"\",\"\",ROUND(H3023/SUM(H3018:H3025),4))","v":""},null,null,null,null,null,null,{"$f":"+IF(O3023=\"\",\"\",IF(N3018=\"Transporte Marítimo\",VLOOKUP(O3023,$O$4030:$P$4035,2),IF(N3018=\"Transporte Aéreo\",VLOOKUP(O3023,$O$4037:$P$4042,2),IF(N3018=\"Transporte Aéreo\",VLOOKUP(O3023,$O$4044:$P$4045,2),\"\"))))","v":""},null,null,null,null,null,null,null,null,null,null,null,null,null,null,null,"",""]
[null,null,null,null,null,null,"",null,{"$f":"IF(H3024=\"\",\"\",ROUND(H3024/SUM(H3018:H3025),4))","v":""},null,null,null,null,null,null,{"$f":"+IF(O3024=\"\",\"\",IF(N3018=\"Transporte Marítimo\",VLOOKUP(O3024,$O$4030:$P$4035,2),IF(N3018=\"Transporte Aéreo\",VLOOKUP(O3024,$O$4037:$P$4042,2),IF(N3018=\"Transporte Aéreo\",VLOOKUP(O3024,$O$4044:$P$4045,2),\"\"))))","v":""},null,null,null,null,null,null,null,null,null,null,null,null,null,null,null,"",""]
[null,null,null,null,null,null,"",null,{"$f":"IF(H3027=\"\",\"\",ROUND(H3027/SUM(H3026:H3033),4))","v":""},null,null,null,null,null,null,{"$f":"+IF(O3027=\"\",\"\",IF(N3026=\"Transporte Marítimo\",VLOOKUP(O3027,$O$4030:$P$4035,2),IF(N3026=\"Transporte Aéreo\",VLOOKUP(O3027,$O$4037:$P$4042,2),IF(N3026=\"Transporte Aéreo\",VLOOKUP(O3027,$O$4044:$P$4045,2),\"\"))))","v":""},null,null,null,null,null,null,null,null,null,null,null,null,null,null,null,{"$f":"+IF(AE3027=\"20NL\",1,IF(AE3027=\"40NL\",2,IF(AE3027=\"20RF\",3,IF(AE3027=\"40RF\",4,\"\"))))","v":""},""]
[null,null,null,null,null,null,"",null,{"$f":"IF(H3030=\"\",\"\",ROUND(H3030/SUM(H3026:H3033),4))","v":""},null,null,null,null,null,null,{"$f":"+IF(O3030=\"\",\"\",IF(N3026=\"Transporte Marítimo\",VLOOKUP(O3030,$O$4030:$P$4035,2),IF(N3026=\"Transporte Aéreo\",VLOOKUP(O3030,$O$4037:$P$4042,2),IF(N3026=\"Transporte Aéreo\",VLOOKUP(O3030,$O$4044:$P$4045,2),\"\"))))","v":""},null,null,null,null,null,null,null,null,null,null,null,null,null,null,null,"",""]
[null,null,null,null,null,null,"",null,{"$f":"IF(H3033=\"\",\"\",ROUND(H3033/SUM(H3026:H3033),4))","v":""},null,null,null,null,null,null,{"$f":"+IF(O3033=\"\",\"\",IF(N3026=\"Transporte Marítimo\",VLOOKUP(O3033,$O$4030:$P$4035,2),IF(N3026=\"Transporte Aéreo\",VLOOKUP(O3033,$O$4037:$P$4042,2),IF(N3026=\"Transporte Aéreo\",VLOOKUP(O3033,$O$4044:$P$4045,2),\"\"))))","v":""},null,null,null,null,null,null,null,null,null,null,null,null,null,null,null,"",""]
[null,null,null,null,null,null,"",null,{"$f":"IF(H3036=\"\",\"\",ROUND(H3036/SUM(H3034:H3041),4))","v":""},null,null,null,null,null,null,{"$f":"+IF(O3036=\"\",\"\",IF(N3034=\"Transporte Marítimo\",VLOOKUP(O3036,$O$4030:$P$4035,2),IF(N3034=\"Transporte Aéreo\",VLOOKUP(O3036,$O$4037:$P$4042,2),IF(N3034=\"Transporte Aéreo\",VLOOKUP(O3036,$O$4044:$P$4045,2),\"\"))))","v":""},null,null,null,null,null,null,null,null,null,null,null,null,null,null,null,"",""]
[null,null,null,null,null,null,"",null,{"$f":"IF(H3040=\"\",\"\",ROUND(H3040/SUM(H3034:H3041),4))","v":""},null,null,null,null,null,null,{"$f":"+IF(O3040=\"\",\"\",IF(N3034=\"Transporte Marítimo\",VLOOKUP(O3040,$O$4030:$P$4035,2),IF(N3034=\"Transporte Aéreo\",VLOOKUP(O3040,$O$4037:$P$4042,2),IF(N3034=\"Transporte Aéreo\",VLOOKUP(O3040,$O$4044:$P$4045,2),\"\"))))","v":""},null,null,null,null,null,null,null,null,null,null,null,null,null,null,null,"",""]
[null,null,null,null,null,null,{"$f":"+IF(F3043=\"\",\"\",VLOOKUP(F3043,$F$4031:$G$4120,2))","v":""},null,{"$f":"IF(H3043=\"\",\"\",ROUND(H3043/SUM(H3042:H3049),4))","v":""},null,null,null,null,null,null,{"$f":"+IF(O3043=\"\",\"\",IF(N3042=\"Transporte Marítimo\",VLOOKUP(O3043,$O$4030:$P$4035,2),IF(N3042=\"Transporte Aéreo\",VLOOKUP(O3043,$O$4037:$P$4042,2),IF(N3042=\"Transporte Aéreo\",VLOOKUP(O3043,$O$4044:$P$4045,2),\"\"))))","v":""},null,null,null,null,null,null,null,null,null,null,null,null,null,null,null,{"$f":"+IF(AE3043=\"20NL\",1,IF(AE3043=\"40NL\",2,IF(AE3043=\"20RF\",3,IF(AE3043=\"40RF\",4,\"\"))))","v":""},{"$f":"+IF(AF3043=\"\",\"\",VLOOKUP(AF3043,$AF$4031:$AG$4034,2))","v":""}]
[null,null,null,null,null,null,"",null,{"$f":"IF(H3046=\"\",\"\",ROUND(H3046/SUM(H3042:H3049),4))","v":""},null,null,null,null,null,null,{"$f":"+IF(O3046=\"\",\"\",IF(N3042=\"Transporte Marítimo\",VLOOKUP(O3046,$O$4030:$P$4035,2),IF(N3042=\"Transporte Aéreo\",VLOOKUP(O3046,$O$4037:$P$4042,2),IF(N3042=\"Transporte Aéreo\",VLOOKUP(O3046,$O$4044:$P$4045,2),\"\"))))","v":""},null,null,null,null,null,null,null,null,null,null,null,null,null,null,null,"",""]
[null,null,null,null,null,null,"",null,{"$f":"IF(H3047=\"\",\"\",ROUND(H3047/SUM(H3042:H3049),4))","v":""},null,null,null,null,null,null,{"$f":"+IF(O3047=\"\",\"\",IF(N3042=\"Transporte Marítimo\",VLOOKUP(O3047,$O$4030:$P$4035,2),IF(N3042=\"Transporte Aéreo\",VLOOKUP(O3047,$O$4037:$P$4042,2),IF(N3042=\"Transporte Aéreo\",VLOOKUP(O3047,$O$4044:$P$4045,2),\"\"))))","v":""},null,null,null,null,null,null,null,null,null,null,null,null,null,null,null,"",""]
[null,{"$f":"+B3042+1","v":380},null,null,null,null,{"$f":"+IF(F3050=\"\",\"\",VLOOKUP(F3050,$F$4031:$G$4120,2))","v":""},null,{"$f":"IF(H3050=\"\",\"\",1-SUM(I3051:I3057))","v":""},null,null,null,null,null,null,{"$f":"+IF(O3050=\"\",\"\",IF(N3050=\"Transporte Marítimo\",VLOOKUP(O3050,$O$4030:$P$4035,2),IF(N3050=\"Transporte Aéreo\",VLOOKUP(O3050,$O$4037:$P$4042,2),IF(N3050=\"CTT\",VLOOKUP(O3050,$O$4044:$P$4045,2),\"\"))))","v":""},null,null,null,null,null,null,null,null,null,null,null,null,null,null,null,{"$f":"+IF(AE3050=\"20NL\",1,IF(AE3050=\"40NL\",2,IF(AE3050=\"20RF\",3,IF(AE3050=\"40RF\",4,\"\"))))","v":""},{"$f":"+IF(AF3050=\"\",\"\",VLOOKUP(AF3050,$AF$4031:$AG$4034,2))","v":""},null,null,null,null,null,null,null,null,null,null,null,null,null,null," "]
[null,null,null,null,null,null,"",null,{"$f":"IF(H3053=\"\",\"\",ROUND(H3053/SUM(H3050:H3057),4))","v":""},null,null,null,null,null,null,{"$f":"+IF(O3053=\"\",\"\",IF(N3050=\"Transporte Marítimo\",VLOOKUP(O3053,$O$4030:$P$4035,2),IF(N3050=\"Transporte Aéreo\",VLOOKUP(O3053,$O$4037:$P$4042,2),IF(N3050=\"Transporte Aéreo\",VLOOKUP(O3053,$O$4044:$P$4045,2),\"\"))))","v":""},null,null,null,null,null,null,null,null,null,null,null,null,null,null,null,"",""]
[null,null,null,null,null,null,"",null,{"$f":"IF(H3056=\"\",\"\",ROUND(H3056/SUM(H3050:H3057),4))","v":""},null,null,null,null,null,null,{"$f":"+IF(O3056=\"\",\"\",IF(N3050=\"Transporte Marítimo\",VLOOKUP(O3056,$O$4030:$P$4035,2),IF(N3050=\"Transporte Aéreo\",VLOOKUP(O3056,$O$4037:$P$4042,2),IF(N3050=\"Transporte Aéreo\",VLOOKUP(O3056,$O$4044:$P$4045,2),\"\"))))","v":""},null,null,null,null,null,null,null,null,null,null,null,null,null,null,null,"",""]
[null,null,null,null,null,null,{"$f":"+IF(F3059=\"\",\"\",VLOOKUP(F3059,$F$4031:$G$4120,2))","v":""},null,{"$f":"IF(H3059=\"\",\"\",ROUND(H3059/SUM(H3058:H3065),4))","v":""},null,null,null,null,null,null,{"$f":"+IF(O3059=\"\",\"\",IF(N3058=\"Transporte Marítimo\",VLOOKUP(O3059,$O$4030:$P$4035,2),IF(N3058=\"Transporte Aéreo\",VLOOKUP(O3059,$O$4037:$P$4042,2),IF(N3058=\"Transporte Aéreo\",VLOOKUP(O3059,$O$4044:$P$4045,2),\"\"))))","v":""},null,null,null,null,null,null,null,null,null,null,null,null,null,null,null,{"$f":"+IF(AE3059=\"20NL\",1,IF(AE3059=\"40NL\",2,IF(AE3059=\"20RF\",3,IF(AE3059=\"40RF\",4,\"\"))))","v":""},{"$f":"+IF(AF3059=\"\",\"\",VLOOKUP(AF3059,$AF$4031:$AG$4034,2))","v":""}]
[null,null,null,null,null,null,"",null,{"$f":"IF(H3063=\"\",\"\",ROUND(H3063/SUM(H3058:H3065),4))","v":""},null,null,null,null,null,null,{"$f":"+IF(O3063=\"\",\"\",IF(N3058=\"Transporte Marítimo\",VLOOKUP(O3063,$O$4030:$P$4035,2),IF(N3058=\"Transporte Aéreo\",VLOOKUP(O3063,$O$4037:$P$4042,2),IF(N3058=\"Transporte Aéreo\",VLOOKUP(O3063,$O$4044:$P$4045,2),\"\"))))","v":""},null,null,null,null,null,null,null,null,null,null,null,null,null,null,null,"",""]
[null,{"$f":"+B3058+1","v":382},null,null,null,null,{"$f":"+IF(F3066=\"\",\"\",VLOOKUP(F3066,$F$4031:$G$4120,2))","v":""},null,{"$f":"IF(H3066=\"\",\"\",1-SUM(I3067:I3073))","v":""},null,null,null,null,null,null,{"$f":"+IF(O3066=\"\",\"\",IF(N3066=\"Transporte Marítimo\",VLOOKUP(O3066,$O$4030:$P$4035,2),IF(N3066=\"Transporte Aéreo\",VLOOKUP(O3066,$O$4037:$P$4042,2),IF(N3066=\"CTT\",VLOOKUP(O3066,$O$4044:$P$4045,2),\"\"))))","v":""},null,null,null,null,null,null,null,null,null,null,null,null,null,null,null,{"$f":"+IF(AE3066=\"20NL\",1,IF(AE3066=\"40NL\",2,IF(AE3066=\"20RF\",3,IF(AE3066=\"40RF\",4,\"\"))))","v":""},{"$f":"+IF(AF3066=\"\",\"\",VLOOKUP(AF3066,$AF$4031:$AG$4034,2))","v":""},null,null,null,null,null,null,null,null,null,null,null,null,null,null," "]
[null,null,null,null,null,null,"",null,{"$f":"IF(H3067=\"\",\"\",ROUND(H3067/SUM(H3066:H3073),4))","v":""},null,null,null,null,null,null,{"$f":"+IF(O3067=\"\",\"\",IF(N3066=\"Transporte Marítimo\",VLOOKUP(O3067,$O$4030:$P$4035,2),IF(N3066=\"Transporte Aéreo\",VLOOKUP(O3067,$O$4037:$P$4042,2),IF(N3066=\"Transporte Aéreo\",VLOOKUP(O3067,$O$4044:$P$4045,2),\"\"))))","v":""},null,null,null,null,null,null,null,null,null,null,null,null,null,null,null,{"$f":"+IF(AE3067=\"20NL\",1,IF(AE3067=\"40NL\",2,IF(AE3067=\"20RF\",3,IF(AE3067=\"40RF\",4,\"\"))))","v":""},""]
[null,null,null,null,null,null,"",null,{"$f":"IF(H3070=\"\",\"\",ROUND(H3070/SUM(H3066:H3073),4))","v":""},null,null,null,null,null,null,{"$f":"+IF(O3070=\"\",\"\",IF(N3066=\"Transporte Marítimo\",VLOOKUP(O3070,$O$4030:$P$4035,2),IF(N3066=\"Transporte Aéreo\",VLOOKUP(O3070,$O$4037:$P$4042,2),IF(N3066=\"Transporte Aéreo\",VLOOKUP(O3070,$O$4044:$P$4045,2),\"\"))))","v":""},null,null,null,null,null,null,null,null,null,null,null,null,null,null,null,"",""]
[null,null,null,null,null,null,"",null,{"$f":"IF(H3073=\"\",\"\",ROUND(H3073/SUM(H3066:H3073),4))","v":""},null,null,null,null,null,null,{"$f":"+IF(O3073=\"\",\"\",IF(N3066=\"Transporte Marítimo\",VLOOKUP(O3073,$O$4030:$P$4035,2),IF(N3066=\"Transporte Aéreo\",VLOOKUP(O3073,$O$4037:$P$4042,2),IF(N3066=\"Transporte Aéreo\",VLOOKUP(O3073,$O$4044:$P$4045,2),\"\"))))","v":""},null,null,null,null,null,null,null,null,null,null,null,null,null,null,null,"",""]
[null,null,null,null,null,null,"",null,{"$f":"IF(H3076=\"\",\"\",ROUND(H3076/SUM(H3074:H3081),4))","v":""},null,null,null,null,null,null,{"$f":"+IF(O3076=\"\",\"\",IF(N3074=\"Transporte Marítimo\",VLOOKUP(O3076,$O$4030:$P$4035,2),IF(N3074=\"Transporte Aéreo\",VLOOKUP(O3076,$O$4037:$P$4042,2),IF(N3074=\"Transporte Aéreo\",VLOOKUP(O3076,$O$4044:$P$4045,2),\"\"))))","v":""},null,null,null,null,null,null,null,null,null,null,null,null,null,null,null,"",""]
[null,null,null,null,null,null,"",null,{"$f":"IF(H3079=\"\",\"\",ROUND(H3079/SUM(H3074:H3081),4))","v":""},null,null,null,null,null,null,{"$f":"+IF(O3079=\"\",\"\",IF(N3074=\"Transporte Marítimo\",VLOOKUP(O3079,$O$4030:$P$4035,2),IF(N3074=\"Transporte Aéreo\",VLOOKUP(O3079,$O$4037:$P$4042,2),IF(N3074=\"Transporte Aéreo\",VLOOKUP(O3079,$O$4044:$P$4045,2),\"\"))))","v":""},null,null,null,null,null,null,null,null,null,null,null,null,null,null,null,"",""]
[null,{"$f":"+B3074+1","v":384},null,null,null,null,{"$f":"+IF(F3082=\"\",\"\",VLOOKUP(F3082,$F$4031:$G$4120,2))","v":""},null,{"$f":"IF(H3082=\"\",\"\",1-SUM(I3083:I3089))","v":""},null,null,null,null,null,null,{"$f":"+IF(O3082=\"\",\"\",IF(N3082=\"Transporte Marítimo\",VLOOKUP(O3082,$O$4030:$P$4035,2),IF(N3082=\"Transporte Aéreo\",VLOOKUP(O3082,$O$4037:$P$4042,2),IF(N3082=\"CTT\",VLOOKUP(O3082,$O$4044:$P$4045,2),\"\"))))","v":""},null,null,null,null,null,null,null,null,null,null,null,null,null,null,null,{"$f":"+IF(AE3082=\"20NL\",1,IF(AE3082=\"40NL\",2,IF(AE3082=\"20RF\",3,IF(AE3082=\"40RF\",4,\"\"))))","v":""},{"$f":"+IF(AF3082=\"\",\"\",VLOOKUP(AF3082,$AF$4031:$AG$4034,2))","v":""},null,null,null,null,null,null,null,null,null,null,null,null,null,null," "]
[null,null,null,null,null,null,"",null,{"$f":"IF(H3086=\"\",\"\",ROUND(H3086/SUM(H3082:H3089),4))","v":""},null,null,null,null,null,null,{"$f":"+IF(O3086=\"\",\"\",IF(N3082=\"Transporte Marítimo\",VLOOKUP(O3086,$O$4030:$P$4035,2),IF(N3082=\"Transporte Aéreo\",VLOOKUP(O3086,$O$4037:$P$4042,2),IF(N3082=\"Transporte Aéreo\",VLOOKUP(O3086,$O$4044:$P$4045,2),\"\"))))","v":""},null,null,null,null,null,null,null,null,null,null,null,null,null,null,null,"",""]
[null,null,null,null,null,null,"",null,{"$f":"IF(H3089=\"\",\"\",ROUND(H3089/SUM(H3082:H3089),4))","v":""},null,null,null,null,null,null,{"$f":"+IF(O3089=\"\",\"\",IF(N3082=\"Transporte Marítimo\",VLOOKUP(O3089,$O$4030:$P$4035,2),IF(N3082=\"Transporte Aéreo\",VLOOKUP(O3089,$O$4037:$P$4042,2),IF(N3082=\"Transporte Aéreo\",VLOOKUP(O3089,$O$4044:$P$4045,2),\"\"))))","v":""},null,null,null,null,null,null,null,null,null,null,null,null,null,null,null,"",""]
[null,{"$f":"+B3082+1","v":385},null,null,null,null,{"$f":"+IF(F3090=\"\",\"\",VLOOKUP(F3090,$F$4031:$G$4120,2))","v":""},null,{"$f":"IF(H3090=\"\",\"\",1-SUM(I3091:I3097))","v":""},null,null,null,null,null,null,{"$f":"+IF(O3090=\"\",\"\",IF(N3090=\"Transporte Marítimo\",VLOOKUP(O3090,$O$4030:$P$4035,2),IF(N3090=\"Transporte Aéreo\",VLOOKUP(O3090,$O$4037:$P$4042,2),IF(N3090=\"CTT\",VLOOKUP(O3090,$O$4044:$P$4045,2),\"\"))))","v":""},null,null,null,null,null,null,null,null,null,null,null,null,null,null,null,{"$f":"+IF(AE3090=\"20NL\",1,IF(AE3090=\"40NL\",2,IF(AE3090=\"20RF\",3,IF(AE3090=\"40RF\",4,\"\"))))","v":""},{"$f":"+IF(AF3090=\"\",\"\",VLOOKUP(AF3090,$AF$4031:$AG$4034,2))","v":""},null,null,null,null,null,null,null,null,null,null,null,null,null,null," "]
[null,null,null,null,null,null,"",null,{"$f":"IF(H3093=\"\",\"\",ROUND(H3093/SUM(H3090:H3097),4))","v":""},null,null,null,null,null,null,{"$f":"+IF(O3093=\"\",\"\",IF(N3090=\"Transporte Marítimo\",VLOOKUP(O3093,$O$4030:$P$4035,2),IF(N3090=\"Transporte Aéreo\",VLOOKUP(O3093,$O$4037:$P$4042,2),IF(N3090=\"Transporte Aéreo\",VLOOKUP(O3093,$O$4044:$P$4045,2),\"\"))))","v":""},null,null,null,null,null,null,null,null,null,null,null,null,null,null,null,"",""]
[null,null,null,null,null,null,"",null,{"$f":"IF(H3097=\"\",\"\",ROUND(H3097/SUM(H3090:H3097),4))","v":""},null,null,null,null,null,null,{"$f":"+IF(O3097=\"\",\"\",IF(N3090=\"Transporte Marítimo\",VLOOKUP(O3097,$O$4030:$P$4035,2),IF(N3090=\"Transporte Aéreo\",VLOOKUP(O3097,$O$4037:$P$4042,2),IF(N3090=\"Transporte Aéreo\",VLOOKUP(O3097,$O$4044:$P$4045,2),\"\"))))","v":""},null,null,null,null,null,null,null,null,null,null,null,null,null,null,null,"",""]
[null,null,null,null,null,null,"",null,{"$f":"IF(H3099=\"\",\"\",ROUND(H3099/SUM(H3098:H3105),4))","v":""},null,null,null,null,null,null,{"$f":"+IF(O3099=\"\",\"\",IF(N3098=\"Transporte Marítimo\",VLOOKUP(O3099,$O$4030:$P$4035,2),IF(N3098=\"Transporte Aéreo\",VLOOKUP(O3099,$O$4037:$P$4042,2),IF(N3098=\"Transporte Aéreo\",VLOOKUP(O3099,$O$4044:$P$4045,2),\"\"))))","v":""},null,null,null,null,null,null,null,null,null,null,null,null,null,null,null,{"$f":"+IF(AE3099=\"20NL\",1,IF(AE3099=\"40NL\",2,IF(AE3099=\"20RF\",3,IF(AE3099=\"40RF\",4,\"\"))))","v":""},""]
[null,null,null,null,null,null,"",null,{"$f":"IF(H3102=\"\",\"\",ROUND(H3102/SUM(H3098:H3105),4))","v":""},null,null,null,null,null,null,{"$f":"+IF(O3102=\"\",\"\",IF(N3098=\"Transporte Marítimo\",VLOOKUP(O3102,$O$4030:$P$4035,2),IF(N3098=\"Transporte Aéreo\",VLOOKUP(O3102,$O$4037:$P$4042,2),IF(N3098=\"Transporte Aéreo\",VLOOKUP(O3102,$O$4044:$P$4045,2),\"\"))))","v":""},null,null,null,null,null,null,null,null,null,null,null,null,null,null,null,"",""]
[null,null,null,null,null,null,"",null,{"$f":"IF(H3105=\"\",\"\",ROUND(H3105/SUM(H3098:H3105),4))","v":""},null,null,null,null,null,null,{"$f":"+IF(O3105=\"\",\"\",IF(N3098=\"Transporte Marítimo\",VLOOKUP(O3105,$O$4030:$P$4035,2),IF(N3098=\"Transporte Aéreo\",VLOOKUP(O3105,$O$4037:$P$4042,2),IF(N3098=\"Transporte Aéreo\",VLOOKUP(O3105,$O$4044:$P$4045,2),\"\"))))","v":""},null,null,null,null,null,null,null,null,null,null,null,null,null,null,null,"",""]
[null,null,null,null,null,null,"",null,{"$f":"IF(H3109=\"\",\"\",ROUND(H3109/SUM(H3106:H3113),4))","v":""},null,null,null,null,null,null,{"$f":"+IF(O3109=\"\",\"\",IF(N3106=\"Transporte Marítimo\",VLOOKUP(O3109,$O$4030:$P$4035,2),IF(N3106=\"Transporte Aéreo\",VLOOKUP(O3109,$O$4037:$P$4042,2),IF(N3106=\"Transporte Aéreo\",VLOOKUP(O3109,$O$4044:$P$4045,2),\"\"))))","v":""},null,null,null,null,null,null,null,null,null,null,null,null,null,null,null,"",""]
[null,null,null,null,null,null,"",null,{"$f":"IF(H3112=\"\",\"\",ROUND(H3112/SUM(H3106:H3113),4))","v":""},null,null,null,null,null,null,{"$f":"+IF(O3112=\"\",\"\",IF(N3106=\"Transporte Marítimo\",VLOOKUP(O3112,$O$4030:$P$4035,2),IF(N3106=\"Transporte Aéreo\",VLOOKUP(O3112,$O$4037:$P$4042,2),IF(N3106=\"Transporte Aéreo\",VLOOKUP(O3112,$O$4044:$P$4045,2),\"\"))))","v":""},null,null,null,null,null,null,null,null,null,null,null,null,null,null,null,"",""]
[null,null,null,null,null,null,"",null,{"$f":"IF(H3113=\"\",\"\",ROUND(H3113/SUM(H3106:H3113),4))","v":""},null,null,null,null,null,null,{"$f":"+IF(O3113=\"\",\"\",IF(N3106=\"Transporte Marítimo\",VLOOKUP(O3113,$O$4030:$P$4035,2),IF(N3106=\"Transporte Aéreo\",VLOOKUP(O3113,$O$4037:$P$4042,2),IF(N3106=\"Transporte Aéreo\",VLOOKUP(O3113,$O$4044:$P$4045,2),\"\"))))","v":""},null,null,null,null,null,null,null,null,null,null,null,null,null,null,null,"",""]
[null,null,null,null,null,null,"",null,{"$f":"IF(H3116=\"\",\"\",ROUND(H3116/SUM(H3114:H3121),4))","v":""},null,null,null,null,null,null,{"$f":"+IF(O3116=\"\",\"\",IF(N3114=\"Transporte Marítimo\",VLOOKUP(O3116,$O$4030:$P$4035,2),IF(N3114=\"Transporte Aéreo\",VLOOKUP(O3116,$O$4037:$P$4042,2),IF(N3114=\"Transporte Aéreo\",VLOOKUP(O3116,$O$4044:$P$4045,2),\"\"))))","v":""},null,null,null,null,null,null,null,null,null,null,null,null,null,null,null,"",""]
[null,null,null,null,null,null,"",null,{"$f":"IF(H3120=\"\",\"\",ROUND(H3120/SUM(H3114:H3121),4))","v":""},null,null,null,null,null,null,{"$f":"+IF(O3120=\"\",\"\",IF(N3114=\"Transporte Marítimo\",VLOOKUP(O3120,$O$4030:$P$4035,2),IF(N3114=\"Transporte Aéreo\",VLOOKUP(O3120,$O$4037:$P$4042,2),IF(N3114=\"Transporte Aéreo\",VLOOKUP(O3120,$O$4044:$P$4045,2),\"\"))))","v":""},null,null,null,null,null,null,null,null,null,null,null,null,null,null,null,"",""]
[null,{"$f":"+B3114+1","v":389},null,null,null,null,{"$f":"+IF(F3122=\"\",\"\",VLOOKUP(F3122,$F$4031:$G$4120,2))","v":""},null,{"$f":"IF(H3122=\"\",\"\",1-SUM(I3123:I3129))","v":""},null,null,null,null,null,null,{"$f":"+IF(O3122=\"\",\"\",IF(N3122=\"Transporte Marítimo\",VLOOKUP(O3122,$O$4030:$P$4035,2),IF(N3122=\"Transporte Aéreo\",VLOOKUP(O3122,$O$4037:$P$4042,2),IF(N3122=\"CTT\",VLOOKUP(O3122,$O$4044:$P$4045,2),\"\"))))","v":""},null,null,null,null,null,null,null,null,null,null,null,null,null,null,null,{"$f":"+IF(AE3122=\"20NL\",1,IF(AE3122=\"40NL\",2,IF(AE3122=\"20RF\",3,IF(AE3122=\"40RF\",4,\"\"))))","v":""},{"$f":"+IF(AF3122=\"\",\"\",VLOOKUP(AF3122,$AF$4031:$AG$4034,2))","v":""},null,null,null,null,null,null,null,null,null,null,null,null,null,null," "]
[null,null,null,null,null,null,"",null,{"$f":"IF(H3125=\"\",\"\",ROUND(H3125/SUM(H3122:H3129),4))","v":""},null,null,null,null,null,null,{"$f":"+IF(O3125=\"\",\"\",IF(N3122=\"Transporte Marítimo\",VLOOKUP(O3125,$O$4030:$P$4035,2),IF(N3122=\"Transporte Aéreo\",VLOOKUP(O3125,$O$4037:$P$4042,2),IF(N3122=\"Transporte Aéreo\",VLOOKUP(O3125,$O$4044:$P$4045,2),\"\"))))","v":""},null,null,null,null,null,null,null,null,null,null,null,null,null,null,null,"",""]
[null,null,null,null,null,null,"",null,{"$f":"IF(H3129=\"\",\"\",ROUND(H3129/SUM(H3122:H3129),4))","v":""},null,null,null,null,null,null,{"$f":"+IF(O3129=\"\",\"\",IF(N3122=\"Transporte Marítimo\",VLOOKUP(O3129,$O$4030:$P$4035,2),IF(N3122=\"Transporte Aéreo\",VLOOKUP(O3129,$O$4037:$P$4042,2),IF(N3122=\"Transporte Aéreo\",VLOOKUP(O3129,$O$4044:$P$4045,2),\"\"))))","v":""},null,null,null,null,null,null,null,null,null,null,null,null,null,null,null,"",""]
[null,null,null,null,null,null,"",null,{"$f":"IF(H3132=\"\",\"\",ROUND(H3132/SUM(H3130:H3137),4))","v":""},null,null,null,null,null,null,{"$f":"+IF(O3132=\"\",\"\",IF(N3130=\"Transporte Marítimo\",VLOOKUP(O3132,$O$4030:$P$4035,2),IF(N3130=\"Transporte Aéreo\",VLOOKUP(O3132,$O$4037:$P$4042,2),IF(N3130=\"Transporte Aéreo\",VLOOKUP(O3132,$O$4044:$P$4045,2),\"\"))))","v":""},null,null,null,null,null,null,null,null,null,null,null,null,null,null,null,"",""]
[null,null,null,null,null,null,"",null,{"$f":"IF(H3135=\"\",\"\",ROUND(H3135/SUM(H3130:H3137),4))","v":""},null,null,null,null,null,null,{"$f":"+IF(O3135=\"\",\"\",IF(N3130=\"Transporte Marítimo\",VLOOKUP(O3135,$O$4030:$P$4035,2),IF(N3130=\"Transporte Aéreo\",VLOOKUP(O3135,$O$4037:$P$4042,2),IF(N3130=\"Transporte Aéreo\",VLOOKUP(O3135,$O$4044:$P$4045,2),\"\"))))","v":""},null,null,null,null,null,null,null,null,null,null,null,null,null,null,null,"",""]
[null,null,null,null,null,null,"",null,{"$f":"IF(H3136=\"\",\"\",ROUND(H3136/SUM(H3130:H3137),4))","v":""},null,null,null,null,null,null,{"$f":"+IF(O3136=\"\",\"\",IF(N3130=\"Transporte Marítimo\",VLOOKUP(O3136,$O$4030:$P$4035,2),IF(N3130=\"Transporte Aéreo\",VLOOKUP(O3136,$O$4037:$P$4042,2),IF(N3130=\"Transporte Aéreo\",VLOOKUP(O3136,$O$4044:$P$4045,2),\"\"))))","v":""},null,null,null,null,null,null,null,null,null,null,null,null,null,null,null,"",""]
[null,null,null,null,null,null,{"$f":"+IF(F3139=\"\",\"\",VLOOKUP(F3139,$F$4031:$G$4120,2))","v":""},null,{"$f":"IF(H3139=\"\",\"\",ROUND(H3139/SUM(H3138:H3145),4))","v":""},null,null,null,null,null,null,{"$f":"+IF(O3139=\"\",\"\",IF(N3138=\"Transporte Marítimo\",VLOOKUP(O3139,$O$4030:$P$4035,2),IF(N3138=\"Transporte Aéreo\",VLOOKUP(O3139,$O$4037:$P$4042,2),IF(N3138=\"Transporte Aéreo\",VLOOKUP(O3139,$O$4044:$P$4045,2),\"\"))))","v":""},null,null,null,null,null,null,null,null,null,null,null,null,null,null,null,{"$f":"+IF(AE3139=\"20NL\",1,IF(AE3139=\"40NL\",2,IF(AE3139=\"20RF\",3,IF(AE3139=\"40RF\",4,\"\"))))","v":""},{"$f":"+IF(AF3139=\"\",\"\",VLOOKUP(AF3139,$AF$4031:$AG$4034,2))","v":""}]
[null,null,null,null,null,null,"",null,{"$f":"IF(H3143=\"\",\"\",ROUND(H3143/SUM(H3138:H3145),4))","v":""},null,null,null,null,null,null,{"$f":"+IF(O3143=\"\",\"\",IF(N3138=\"Transporte Marítimo\",VLOOKUP(O3143,$O$4030:$P$4035,2),IF(N3138=\"Transporte Aéreo\",VLOOKUP(O3143,$O$4037:$P$4042,2),IF(N3138=\"Transporte Aéreo\",VLOOKUP(O3143,$O$4044:$P$4045,2),\"\"))))","v":""},null,null,null,null,null,null,null,null,null,null,null,null,null,null,null,"",""]
[null,null,null,null,null,null,"",null,{"$f":"IF(H3145=\"\",\"\",ROUND(H3145/SUM(H3138:H3145),4))","v":""},null,null,null,null,null,null,{"$f":"+IF(O3145=\"\",\"\",IF(N3138=\"Transporte Marítimo\",VLOOKUP(O3145,$O$4030:$P$4035,2),IF(N3138=\"Transporte Aéreo\",VLOOKUP(O3145,$O$4037:$P$4042,2),IF(N3138=\"Transporte Aéreo\",VLOOKUP(O3145,$O$4044:$P$4045,2),\"\"))))","v":""},null,null,null,null,null,null,null,null,null,null,null,null,null,null,null,"",""]
[null,null,null,null,null,null,"",null,{"$f":"IF(H3148=\"\",\"\",ROUND(H3148/SUM(H3146:H3153),4))","v":""},null,null,null,null,null,null,{"$f":"+IF(O3148=\"\",\"\",IF(N3146=\"Transporte Marítimo\",VLOOKUP(O3148,$O$4030:$P$4035,2),IF(N3146=\"Transporte Aéreo\",VLOOKUP(O3148,$O$4037:$P$4042,2),IF(N3146=\"Transporte Aéreo\",VLOOKUP(O3148,$O$4044:$P$4045,2),\"\"))))","v":""},null,null,null,null,null,null,null,null,null,null,null,null,null,null,null,"",""]
[null,null,null,null,null,null,"",null,{"$f":"IF(H3152=\"\",\"\",ROUND(H3152/SUM(H3146:H3153),4))","v":""},null,null,null,null,null,null,{"$f":"+IF(O3152=\"\",\"\",IF(N3146=\"Transporte Marítimo\",VLOOKUP(O3152,$O$4030:$P$4035,2),IF(N3146=\"Transporte Aéreo\",VLOOKUP(O3152,$O$4037:$P$4042,2),IF(N3146=\"Transporte Aéreo\",VLOOKUP(O3152,$O$4044:$P$4045,2),\"\"))))","v":""},null,null,null,null,null,null,null,null,null,null,null,null,null,null,null,"",""]
[null,null,null,null,null,null,"",null,{"$f":"IF(H3155=\"\",\"\",ROUND(H3155/SUM(H3154:H3161),4))","v":""},null,null,null,null,null,null,{"$f":"+IF(O3155=\"\",\"\",IF(N3154=\"Transporte Marítimo\",VLOOKUP(O3155,$O$4030:$P$4035,2),IF(N3154=\"Transporte Aéreo\",VLOOKUP(O3155,$O$4037:$P$4042,2),IF(N3154=\"Transporte Aéreo\",VLOOKUP(O3155,$O$4044:$P$4045,2),\"\"))))","v":""},null,null,null,null,null,null,null,null,null,null,null,null,null,null,null,{"$f":"+IF(AE3155=\"20NL\",1,IF(AE3155=\"40NL\",2,IF(AE3155=\"20RF\",3,IF(AE3155=\"40RF\",4,\"\"))))","v":""},""]
[null,null,null,null,null,null,"",null,{"$f":"IF(H3158=\"\",\"\",ROUND(H3158/SUM(H3154:H3161),4))","v":""},null,null,null,null,null,null,{"$f":"+IF(O3158=\"\",\"\",IF(N3154=\"Transporte Marítimo\",VLOOKUP(O3158,$O$4030:$P$4035,2),IF(N3154=\"Transporte Aéreo\",VLOOKUP(O3158,$O$4037:$P$4042,2),IF(N3154=\"Transporte Aéreo\",VLOOKUP(O3158,$O$4044:$P$4045,2),\"\"))))","v":""},null,null,null,null,null,null,null,null,null,null,null,null,null,null,null,"",""]
[null,null,null,null,null,null,"",null,{"$f":"IF(H3159=\"\",\"\",ROUND(H3159/SUM(H3154:H3161),4))","v":""},null,null,null,null,null,null,{"$f":"+IF(O3159=\"\",\"\",IF(N3154=\"Transporte Marítimo\",VLOOKUP(O3159,$O$4030:$P$4035,2),IF(N3154=\"Transporte Aéreo\",VLOOKUP(O3159,$O$4037:$P$4042,2),IF(N3154=\"Transporte Aéreo\",VLOOKUP(O3159,$O$4044:$P$4045,2),\"\"))))","v":""},null,null,null,null,null,null,null,null,null,null,null,null,null,null,null,"",""]
[null,{"$f":"+B3154+1","v":394},null,null,null,null,{"$f":"+IF(F3162=\"\",\"\",VLOOKUP(F3162,$F$4031:$G$4120,2))","v":""},null,{"$f":"IF(H3162=\"\",\"\",1-SUM(I3163:I3169))","v":""},null,null,null,null,null,null,{"$f":"+IF(O3162=\"\",\"\",IF(N3162=\"Transporte Marítimo\",VLOOKUP(O3162,$O$4030:$P$4035,2),IF(N3162=\"Transporte Aéreo\",VLOOKUP(O3162,$O$4037:$P$4042,2),IF(N3162=\"CTT\",VLOOKUP(O3162,$O$4044:$P$4045,2),\"\"))))","v":""},null,null,null,null,null,null,null,null,null,null,null,null,null,null,null,{"$f":"+IF(AE3162=\"20NL\",1,IF(AE3162=\"40NL\",2,IF(AE3162=\"20RF\",3,IF(AE3162=\"40RF\",4,\"\"))))","v":""},{"$f":"+IF(AF3162=\"\",\"\",VLOOKUP(AF3162,$AF$4031:$AG$4034,2))","v":""},null,null,null,null,null,null,null,null,null,null,null,null,null,null," "]
[null,null,null,null,null,null,"",null,{"$f":"IF(H3165=\"\",\"\",ROUND(H3165/SUM(H3162:H3169),4))","v":""},null,null,null,null,null,null,{"$f":"+IF(O3165=\"\",\"\",IF(N3162=\"Transporte Marítimo\",VLOOKUP(O3165,$O$4030:$P$4035,2),IF(N3162=\"Transporte Aéreo\",VLOOKUP(O3165,$O$4037:$P$4042,2),IF(N3162=\"Transporte Aéreo\",VLOOKUP(O3165,$O$4044:$P$4045,2),\"\"))))","v":""},null,null,null,null,null,null,null,null,null,null,null,null,null,null,null,"",""]
[null,null,null,null,null,null,"",null,{"$f":"IF(H3168=\"\",\"\",ROUND(H3168/SUM(H3162:H3169),4))","v":""},null,null,null,null,null,null,{"$f":"+IF(O3168=\"\",\"\",IF(N3162=\"Transporte Marítimo\",VLOOKUP(O3168,$O$4030:$P$4035,2),IF(N3162=\"Transporte Aéreo\",VLOOKUP(O3168,$O$4037:$P$4042,2),IF(N3162=\"Transporte Aéreo\",VLOOKUP(O3168,$O$4044:$P$4045,2),\"\"))))","v":""},null,null,null,null,null,null,null,null,null,null,null,null,null,null,null,"",""]
[null,null,null,null,null,null,"",null,{"$f":"IF(H3171=\"\",\"\",ROUND(H3171/SUM(H3170:H3177),4))","v":""},null,null,null,null,null,null,{"$f":"+IF(O3171=\"\",\"\",IF(N3170=\"Transporte Marítimo\",VLOOKUP(O3171,$O$4030:$P$4035,2),IF(N3170=\"Transporte Aéreo\",VLOOKUP(O3171,$O$4037:$P$4042,2),IF(N3170=\"Transporte Aéreo\",VLOOKUP(O3171,$O$4044:$P$4045,2),\"\"))))","v":""},null,null,null,null,null,null,null,null,null,null,null,null,null,null,null,{"$f":"+IF(AE3171=\"20NL\",1,IF(AE3171=\"40NL\",2,IF(AE3171=\"20RF\",3,IF(AE3171=\"40RF\",4,\"\"))))","v":""},""]
[null,null,null,null,null,null,"",null,{"$f":"IF(H3175=\"\",\"\",ROUND(H3175/SUM(H3170:H3177),4))","v":""},null,null,null,null,null,null,{"$f":"+IF(O3175=\"\",\"\",IF(N3170=\"Transporte Marítimo\",VLOOKUP(O3175,$O$4030:$P$4035,2),IF(N3170=\"Transporte Aéreo\",VLOOKUP(O3175,$O$4037:$P$4042,2),IF(N3170=\"Transporte Aéreo\",VLOOKUP(O3175,$O$4044:$P$4045,2),\"\"))))","v":""},null,null,null,null,null,null,null,null,null,null,null,null,null,null,null,"",""]
[null,{"$f":"+B3170+1","v":396},null,null,null,null,{"$f":"+IF(F3178=\"\",\"\",VLOOKUP(F3178,$F$4031:$G$4120,2))","v":""},null,{"$f":"IF(H3178=\"\",\"\",1-SUM(I3179:I3185))","v":""},null,null,null,null,null,null,{"$f":"+IF(O3178=\"\",\"\",IF(N3178=\"Transporte Marítimo\",VLOOKUP(O3178,$O$4030:$P$4035,2),IF(N3178=\"Transporte Aéreo\",VLOOKUP(O3178,$O$4037:$P$4042,2),IF(N3178=\"CTT\",VLOOKUP(O3178,$O$4044:$P$4045,2),\"\"))))","v":""},null,null,null,null,null,null,null,null,null,null,null,null,null,null,null,{"$f":"+IF(AE3178=\"20NL\",1,IF(AE3178=\"40NL\",2,IF(AE3178=\"20RF\",3,IF(AE3178=\"40RF\",4,\"\"))))","v":""},{"$f":"+IF(AF3178=\"\",\"\",VLOOKUP(AF3178,$AF$4031:$AG$4034,2))","v":""},null,null,null,null,null,null,null,null,null,null,null,null,null,null," "]
[null,null,null,null,null,null,"",null,{"$f":"IF(H3181=\"\",\"\",ROUND(H3181/SUM(H3178:H3185),4))","v":""},null,null,null,null,null,null,{"$f":"+IF(O3181=\"\",\"\",IF(N3178=\"Transporte Marítimo\",VLOOKUP(O3181,$O$4030:$P$4035,2),IF(N3178=\"Transporte Aéreo\",VLOOKUP(O3181,$O$4037:$P$4042,2),IF(N3178=\"Transporte Aéreo\",VLOOKUP(O3181,$O$4044:$P$4045,2),\"\"))))","v":""},null,null,null,null,null,null,null,null,null,null,null,null,null,null,null,"",""]
[null,null,null,null,null,null,"",null,{"$f":"IF(H3182=\"\",\"\",ROUND(H3182/SUM(H3178:H3185),4))","v":""},null,null,null,null,null,null,{"$f":"+IF(O3182=\"\",\"\",IF(N3178=\"Transporte Marítimo\",VLOOKUP(O3182,$O$4030:$P$4035,2),IF(N3178=\"Transporte Aéreo\",VLOOKUP(O3182,$O$4037:$P$4042,2),IF(N3178=\"Transporte Aéreo\",VLOOKUP(O3182,$O$4044:$P$4045,2),\"\"))))","v":""},null,null,null,null,null,null,null,null,null,null,null,null,null,null,null,"",""]
[null,null,null,null,null,null,"",null,{"$f":"IF(H3185=\"\",\"\",ROUND(H3185/SUM(H3178:H3185),4))","v":""},null,null,null,null,null,null,{"$f":"+IF(O3185=\"\",\"\",IF(N3178=\"Transporte Marítimo\",VLOOKUP(O3185,$O$4030:$P$4035,2),IF(N3178=\"Transporte Aéreo\",VLOOKUP(O3185,$O$4037:$P$4042,2),IF(N3178=\"Transporte Aéreo\",VLOOKUP(O3185,$O$4044:$P$4045,2),\"\"))))","v":""},null,null,null,null,null,null,null,null,null,null,null,null,null,null,null,"",""]
[null,null,null,null,null,null,"",null,{"$f":"IF(H3188=\"\",\"\",ROUND(H3188/SUM(H3186:H3193),4))","v":""},null,null,null,null,null,null,{"$f":"+IF(O3188=\"\",\"\",IF(N3186=\"Transporte Marítimo\",VLOOKUP(O3188,$O$4030:$P$4035,2),IF(N3186=\"Transporte Aéreo\",VLOOKUP(O3188,$O$4037:$P$4042,2),IF(N3186=\"Transporte Aéreo\",VLOOKUP(O3188,$O$4044:$P$4045,2),\"\"))))","v":""},null,null,null,null,null,null,null,null,null,null,null,null,null,null,null,"",""]
[null,null,null,null,null,null,"",null,{"$f":"IF(H3191=\"\",\"\",ROUND(H3191/SUM(H3186:H3193),4))","v":""},null,null,null,null,null,null,{"$f":"+IF(O3191=\"\",\"\",IF(N3186=\"Transporte Marítimo\",VLOOKUP(O3191,$O$4030:$P$4035,2),IF(N3186=\"Transporte Aéreo\",VLOOKUP(O3191,$O$4037:$P$4042,2),IF(N3186=\"Transporte Aéreo\",VLOOKUP(O3191,$O$4044:$P$4045,2),\"\"))))","v":""},null,null,null,null,null,null,null,null,null,null,null,null,null,null,null,"",""]
[null,{"$f":"+B3186+1","v":398},null,null,null,null,{"$f":"+IF(F3194=\"\",\"\",VLOOKUP(F3194,$F$4031:$G$4120,2))","v":""},null,{"$f":"IF(H3194=\"\",\"\",1-SUM(I3195:I3201))","v":""},null,null,null,null,null,null,{"$f":"+IF(O3194=\"\",\"\",IF(N3194=\"Transporte Marítimo\",VLOOKUP(O3194,$O$4030:$P$4035,2),IF(N3194=\"Transporte Aéreo\",VLOOKUP(O3194,$O$4037:$P$4042,2),IF(N3194=\"CTT\",VLOOKUP(O3194,$O$4044:$P$4045,2),\"\"))))","v":""},null,null,null,null,null,null,null,null,null,null,null,null,null,null,null,{"$f":"+IF(AE3194=\"20NL\",1,IF(AE3194=\"40NL\",2,IF(AE3194=\"20RF\",3,IF(AE3194=\"40RF\",4,\"\"))))","v":""},{"$f":"+IF(AF3194=\"\",\"\",VLOOKUP(AF3194,$AF$4031:$AG$4034,2))","v":""},null,null,null,null,null,null,null,null,null,null,null,null,null,null," "]
[null,null,null,null,null,null,"",null,{"$f":"IF(H3198=\"\",\"\",ROUND(H3198/SUM(H3194:H3201),4))","v":""},null,null,null,null,null,null,{"$f":"+IF(O3198=\"\",\"\",IF(N3194=\"Transporte Marítimo\",VLOOKUP(O3198,$O$4030:$P$4035,2),IF(N3194=\"Transporte Aéreo\",VLOOKUP(O3198,$O$4037:$P$4042,2),IF(N3194=\"Transporte Aéreo\",VLOOKUP(O3198,$O$4044:$P$4045,2),\"\"))))","v":""},null,null,null,null,null,null,null,null,null,null,null,null,null,null,null,"",""]
[null,null,null,null,null,null,"",null,{"$f":"IF(H3201=\"\",\"\",ROUND(H3201/SUM(H3194:H3201),4))","v":""},null,null,null,null,null,null,{"$f":"+IF(O3201=\"\",\"\",IF(N3194=\"Transporte Marítimo\",VLOOKUP(O3201,$O$4030:$P$4035,2),IF(N3194=\"Transporte Aéreo\",VLOOKUP(O3201,$O$4037:$P$4042,2),IF(N3194=\"Transporte Aéreo\",VLOOKUP(O3201,$O$4044:$P$4045,2),\"\"))))","v":""},null,null,null,null,null,null,null,null,null,null,null,null,null,null,null,"",""]
[null,null,null,null,null,null,"",null,{"$f":"IF(H3204=\"\",\"\",ROUND(H3204/SUM(H3202:H3209),4))","v":""},null,null,null,null,null,null,{"$f":"+IF(O3204=\"\",\"\",IF(N3202=\"Transporte Marítimo\",VLOOKUP(O3204,$O$4030:$P$4035,2),IF(N3202=\"Transporte Aéreo\",VLOOKUP(O3204,$O$4037:$P$4042,2),IF(N3202=\"Transporte Aéreo\",VLOOKUP(O3204,$O$4044:$P$4045,2),\"\"))))","v":""},null,null,null,null,null,null,null,null,null,null,null,null,null,null,null,"",""]
[null,null,null,null,null,null,"",null,{"$f":"IF(H3205=\"\",\"\",ROUND(H3205/SUM(H3202:H3209),4))","v":""},null,null,null,null,null,null,{"$f":"+IF(O3205=\"\",\"\",IF(N3202=\"Transporte Marítimo\",VLOOKUP(O3205,$O$4030:$P$4035,2),IF(N3202=\"Transporte Aéreo\",VLOOKUP(O3205,$O$4037:$P$4042,2),IF(N3202=\"Transporte Aéreo\",VLOOKUP(O3205,$O$4044:$P$4045,2),\"\"))))","v":""},null,null,null,null,null,null,null,null,null,null,null,null,null,null,null,"",""]
[null,null,null,null,null,null,"",null,{"$f":"IF(H3208=\"\",\"\",ROUND(H3208/SUM(H3202:H3209),4))","v":""},null,null,null,null,null,null,{"$f":"+IF(O3208=\"\",\"\",IF(N3202=\"Transporte Marítimo\",VLOOKUP(O3208,$O$4030:$P$4035,2),IF(N3202=\"Transporte Aéreo\",VLOOKUP(O3208,$O$4037:$P$4042,2),IF(N3202=\"Transporte Aéreo\",VLOOKUP(O3208,$O$4044:$P$4045,2),\"\"))))","v":""},null,null,null,null,null,null,null,null,null,null,null,null,null,null,null,"",""]
[null,null,null,null,null,null,"",null,{"$f":"IF(H3211=\"\",\"\",ROUND(H3211/SUM(H3210:H3217),4))","v":""},null,null,null,null,null,null,{"$f":"+IF(O3211=\"\",\"\",IF(N3210=\"Transporte Marítimo\",VLOOKUP(O3211,$O$4030:$P$4035,2),IF(N3210=\"Transporte Aéreo\",VLOOKUP(O3211,$O$4037:$P$4042,2),IF(N3210=\"Transporte Aéreo\",VLOOKUP(O3211,$O$4044:$P$4045,2),\"\"))))","v":""},null,null,null,null,null,null,null,null,null,null,null,null,null,null,null,{"$f":"+IF(AE3211=\"20NL\",1,IF(AE3211=\"40NL\",2,IF(AE3211=\"20RF\",3,IF(AE3211=\"40RF\",4,\"\"))))","v":""},{"$f":"+IF(AF3211=\"\",\"\",VLOOKUP(AF3211,$AF$4031:$AG$4034,2))","v":""}]
[null,null,null,null,null,null,"",null,{"$f":"IF(H3214=\"\",\"\",ROUND(H3214/SUM(H3210:H3217),4))","v":""},null,null,null,null,null,null,{"$f":"+IF(O3214=\"\",\"\",IF(N3210=\"Transporte Marítimo\",VLOOKUP(O3214,$O$4030:$P$4035,2),IF(N3210=\"Transporte Aéreo\",VLOOKUP(O3214,$O$4037:$P$4042,2),IF(N3210=\"Transporte Aéreo\",VLOOKUP(O3214,$O$4044:$P$4045,2),\"\"))))","v":""},null,null,null,null,null,null,null,null,null,null,null,null,null,null,null,"",""]
[null,null,null,null,null,null,{"$f":"+IF(F3217=\"\",\"\",VLOOKUP(F3217,$F$4031:$G$4120,2))","v":""},null,{"$f":"IF(H3217=\"\",\"\",ROUND(H3217/SUM(H3210:H3217),4))","v":""},null,null,null,null,null,null,{"$f":"+IF(O3217=\"\",\"\",IF(N3210=\"Transporte Marítimo\",VLOOKUP(O3217,$O$4030:$P$4035,2),IF(N3210=\"Transporte Aéreo\",VLOOKUP(O3217,$O$4037:$P$4042,2),IF(N3210=\"Transporte Aéreo\",VLOOKUP(O3217,$O$4044:$P$4045,2),\"\"))))","v":""},null,null,null,null,null,null,null,null,null,null,null,null,null,null,null,"",""]
[null,null,null,null,null,null,"",null,{"$f":"IF(H3221=\"\",\"\",ROUND(H3221/SUM(H3218:H3225),4))","v":""},null,null,null,null,null,null,{"$f":"+IF(O3221=\"\",\"\",IF(N3218=\"Transporte Marítimo\",VLOOKUP(O3221,$O$4030:$P$4035,2),IF(N3218=\"Transporte Aéreo\",VLOOKUP(O3221,$O$4037:$P$4042,2),IF(N3218=\"Transporte Aéreo\",VLOOKUP(O3221,$O$4044:$P$4045,2),\"\"))))","v":""},null,null,null,null,null,null,null,null,null,null,null,null,null,null,null,"",""]
[null,null,null,null,null,null,"",null,{"$f":"IF(H3224=\"\",\"\",ROUND(H3224/SUM(H3218:H3225),4))","v":""},null,null,null,null,null,null,{"$f":"+IF(O3224=\"\",\"\",IF(N3218=\"Transporte Marítimo\",VLOOKUP(O3224,$O$4030:$P$4035,2),IF(N3218=\"Transporte Aéreo\",VLOOKUP(O3224,$O$4037:$P$4042,2),IF(N3218=\"Transporte Aéreo\",VLOOKUP(O3224,$O$4044:$P$4045,2),\"\"))))","v":""},null,null,null,null,null,null,null,null,null,null,null,null,null,null,null,"",""]
[null,null,null,null,null,null,"",null,{"$f":"IF(H3225=\"\",\"\",ROUND(H3225/SUM(H3218:H3225),4))","v":""},null,null,null,null,null,null,{"$f":"+IF(O3225=\"\",\"\",IF(N3218=\"Transporte Marítimo\",VLOOKUP(O3225,$O$4030:$P$4035,2),IF(N3218=\"Transporte Aéreo\",VLOOKUP(O3225,$O$4037:$P$4042,2),IF(N3218=\"Transporte Aéreo\",VLOOKUP(O3225,$O$4044:$P$4045,2),\"\"))))","v":""},null,null,null,null,null,null,null,null,null,null,null,null,null,null,null,"",""]
[null,null,null,null,null,null,"",null,{"$f":"IF(H3229=\"\",\"\",ROUND(H3229/SUM(H3226:H3233),4))","v":""},null,null,null,null,null,null,{"$f":"+IF(O3229=\"\",\"\",IF(N3226=\"Transporte Marítimo\",VLOOKUP(O3229,$O$4030:$P$4035,2),IF(N3226=\"Transporte Aéreo\",VLOOKUP(O3229,$O$4037:$P$4042,2),IF(N3226=\"Transporte Aéreo\",VLOOKUP(O3229,$O$4044:$P$4045,2),\"\"))))","v":""},null,null,null,null,null,null,null,null,null,null,null,null,null,null,null,"",""]
[null,null,null,null,null,null,"",null,{"$f":"IF(H3230=\"\",\"\",ROUND(H3230/SUM(H3226:H3233),4))","v":""},null,null,null,null,null,null,{"$f":"+IF(O3230=\"\",\"\",IF(N3226=\"Transporte Marítimo\",VLOOKUP(O3230,$O$4030:$P$4035,2),IF(N3226=\"Transporte Aéreo\",VLOOKUP(O3230,$O$4037:$P$4042,2),IF(N3226=\"Transporte Aéreo\",VLOOKUP(O3230,$O$4044:$P$4045,2),\"\"))))","v":""},null,null,null,null,null,null,null,null,null,null,null,null,null,null,null,"",""]
[null,{"$f":"+B3226+1","v":403},null,null,null,null,{"$f":"+IF(F3234=\"\",\"\",VLOOKUP(F3234,$F$4031:$G$4120,2))","v":""},null,{"$f":"IF(H3234=\"\",\"\",1-SUM(I3235:I3241))","v":""},null,null,null,null,null,null,{"$f":"+IF(O3234=\"\",\"\",IF(N3234=\"Transporte Marítimo\",VLOOKUP(O3234,$O$4030:$P$4035,2),IF(N3234=\"Transporte Aéreo\",VLOOKUP(O3234,$O$4037:$P$4042,2),IF(N3234=\"CTT\",VLOOKUP(O3234,$O$4044:$P$4045,2),\"\"))))","v":""},null,null,null,null,null,null,null,null,null,null,null,null,null,null,null,{"$f":"+IF(AE3234=\"20NL\",1,IF(AE3234=\"40NL\",2,IF(AE3234=\"20RF\",3,IF(AE3234=\"40RF\",4,\"\"))))","v":""},{"$f":"+IF(AF3234=\"\",\"\",VLOOKUP(AF3234,$AF$4031:$AG$4034,2))","v":""},null,null,null,null,null,null,null,null,null,null,null,null,null,null," "]
[null,null,null,null,null,null,"",null,{"$f":"IF(H3237=\"\",\"\",ROUND(H3237/SUM(H3234:H3241),4))","v":""},null,null,null,null,null,null,{"$f":"+IF(O3237=\"\",\"\",IF(N3234=\"Transporte Marítimo\",VLOOKUP(O3237,$O$4030:$P$4035,2),IF(N3234=\"Transporte Aéreo\",VLOOKUP(O3237,$O$4037:$P$4042,2),IF(N3234=\"Transporte Aéreo\",VLOOKUP(O3237,$O$4044:$P$4045,2),\"\"))))","v":""},null,null,null,null,null,null,null,null,null,null,null,null,null,null,null,"",""]
[null,null,null,null,null,null,"",null,{"$f":"IF(H3240=\"\",\"\",ROUND(H3240/SUM(H3234:H3241),4))","v":""},null,null,null,null,null,null,{"$f":"+IF(O3240=\"\",\"\",IF(N3234=\"Transporte Marítimo\",VLOOKUP(O3240,$O$4030:$P$4035,2),IF(N3234=\"Transporte Aéreo\",VLOOKUP(O3240,$O$4037:$P$4042,2),IF(N3234=\"Transporte Aéreo\",VLOOKUP(O3240,$O$4044:$P$4045,2),\"\"))))","v":""},null,null,null,null,null,null,null,null,null,null,null,null,null,null,null,"",""]
[null,null,null,null,null,null,"",null,{"$f":"IF(H3244=\"\",\"\",ROUND(H3244/SUM(H3242:H3249),4))","v":""},null,null,null,null,null,null,{"$f":"+IF(O3244=\"\",\"\",IF(N3242=\"Transporte Marítimo\",VLOOKUP(O3244,$O$4030:$P$4035,2),IF(N3242=\"Transporte Aéreo\",VLOOKUP(O3244,$O$4037:$P$4042,2),IF(N3242=\"Transporte Aéreo\",VLOOKUP(O3244,$O$4044:$P$4045,2),\"\"))))","v":""},null,null,null,null,null,null,null,null,null,null,null,null,null,null,null,"",""]
[null,null,null,null,null,null,"",null,{"$f":"IF(H3247=\"\",\"\",ROUND(H3247/SUM(H3242:H3249),4))","v":""},null,null,null,null,null,null,{"$f":"+IF(O3247=\"\",\"\",IF(N3242=\"Transporte Marítimo\",VLOOKUP(O3247,$O$4030:$P$4035,2),IF(N3242=\"Transporte Aéreo\",VLOOKUP(O3247,$O$4037:$P$4042,2),IF(N3242=\"Transporte Aéreo\",VLOOKUP(O3247,$O$4044:$P$4045,2),\"\"))))","v":""},null,null,null,null,null,null,null,null,null,null,null,null,null,null,null,"",""]
[null,null,null,null,null,null,"",null,{"$f":"IF(H3248=\"\",\"\",ROUND(H3248/SUM(H3242:H3249),4))","v":""},null,null,null,null,null,null,{"$f":"+IF(O3248=\"\",\"\",IF(N3242=\"Transporte Marítimo\",VLOOKUP(O3248,$O$4030:$P$4035,2),IF(N3242=\"Transporte Aéreo\",VLOOKUP(O3248,$O$4037:$P$4042,2),IF(N3242=\"Transporte Aéreo\",VLOOKUP(O3248,$O$4044:$P$4045,2),\"\"))))","v":""},null,null,null,null,null,null,null,null,null,null,null,null,null,null,null,"",""]
[null,null,null,null,null,null,"",null,{"$f":"IF(H3252=\"\",\"\",ROUND(H3252/SUM(H3250:H3257),4))","v":""},null,null,null,null,null,null,{"$f":"+IF(O3252=\"\",\"\",IF(N3250=\"Transporte Marítimo\",VLOOKUP(O3252,$O$4030:$P$4035,2),IF(N3250=\"Transporte Aéreo\",VLOOKUP(O3252,$O$4037:$P$4042,2),IF(N3250=\"Transporte Aéreo\",VLOOKUP(O3252,$O$4044:$P$4045,2),\"\"))))","v":""},null,null,null,null,null,null,null,null,null,null,null,null,null,null,null,"",""]
[null,null,null,null,null,null,"",null,{"$f":"IF(H3253=\"\",\"\",ROUND(H3253/SUM(H3250:H3257),4))","v":""},null,null,null,null,null,null,{"$f":"+IF(O3253=\"\",\"\",IF(N3250=\"Transporte Marítimo\",VLOOKUP(O3253,$O$4030:$P$4035,2),IF(N3250=\"Transporte Aéreo\",VLOOKUP(O3253,$O$4037:$P$4042,2),IF(N3250=\"Transporte Aéreo\",VLOOKUP(O3253,$O$4044:$P$4045,2),\"\"))))","v":""},null,null,null,null,null,null,null,null,null,null,null,null,null,null,null,"",""]
[null,null,null,null,null,null,"",null,{"$f":"IF(H3257=\"\",\"\",ROUND(H3257/SUM(H3250:H3257),4))","v":""},null,null,null,null,null,null,{"$f":"+IF(O3257=\"\",\"\",IF(N3250=\"Transporte Marítimo\",VLOOKUP(O3257,$O$4030:$P$4035,2),IF(N3250=\"Transporte Aéreo\",VLOOKUP(O3257,$O$4037:$P$4042,2),IF(N3250=\"Transporte Aéreo\",VLOOKUP(O3257,$O$4044:$P$4045,2),\"\"))))","v":""},null,null,null,null,null,null,null,null,null,null,null,null,null,null,null,"",""]
[null,null,null,null,null,null,"",null,{"$f":"IF(H3260=\"\",\"\",ROUND(H3260/SUM(H3258:H3265),4))","v":""},null,null,null,null,null,null,{"$f":"+IF(O3260=\"\",\"\",IF(N3258=\"Transporte Marítimo\",VLOOKUP(O3260,$O$4030:$P$4035,2),IF(N3258=\"Transporte Aéreo\",VLOOKUP(O3260,$O$4037:$P$4042,2),IF(N3258=\"Transporte Aéreo\",VLOOKUP(O3260,$O$4044:$P$4045,2),\"\"))))","v":""},null,null,null,null,null,null,null,null,null,null,null,null,null,null,null,"",""]
[null,null,null,null,null,null,"",null,{"$f":"IF(H3263=\"\",\"\",ROUND(H3263/SUM(H3258:H3265),4))","v":""},null,null,null,null,null,null,{"$f":"+IF(O3263=\"\",\"\",IF(N3258=\"Transporte Marítimo\",VLOOKUP(O3263,$O$4030:$P$4035,2),IF(N3258=\"Transporte Aéreo\",VLOOKUP(O3263,$O$4037:$P$4042,2),IF(N3258=\"Transporte Aéreo\",VLOOKUP(O3263,$O$4044:$P$4045,2),\"\"))))","v":""},null,null,null,null,null,null,null,null,null,null,null,null,null,null,null,"",""]
[null,null,null,null,null,null,"",null,{"$f":"IF(H3267=\"\",\"\",ROUND(H3267/SUM(H3266:H3273),4))","v":""},null,null,null,null,null,null,{"$f":"+IF(O3267=\"\",\"\",IF(N3266=\"Transporte Marítimo\",VLOOKUP(O3267,$O$4030:$P$4035,2),IF(N3266=\"Transporte Aéreo\",VLOOKUP(O3267,$O$4037:$P$4042,2),IF(N3266=\"Transporte Aéreo\",VLOOKUP(O3267,$O$4044:$P$4045,2),\"\"))))","v":""},null,null,null,null,null,null,null,null,null,null,null,null,null,null,null,{"$f":"+IF(AE3267=\"20NL\",1,IF(AE3267=\"40NL\",2,IF(AE3267=\"20RF\",3,IF(AE3267=\"40RF\",4,\"\"))))","v":""},""]
[null,null,null,null,null,null,"",null,{"$f":"IF(H3270=\"\",\"\",ROUND(H3270/SUM(H3266:H3273),4))","v":""},null,null,null,null,null,null,{"$f":"+IF(O3270=\"\",\"\",IF(N3266=\"Transporte Marítimo\",VLOOKUP(O3270,$O$4030:$P$4035,2),IF(N3266=\"Transporte Aéreo\",VLOOKUP(O3270,$O$4037:$P$4042,2),IF(N3266=\"Transporte Aéreo\",VLOOKUP(O3270,$O$4044:$P$4045,2),\"\"))))","v":""},null,null,null,null,null,null,null,null,null,null,null,null,null,null,null,"",""]
[null,null,null,null,null,null,"",null,{"$f":"IF(H3271=\"\",\"\",ROUND(H3271/SUM(H3266:H3273),4))","v":""},null,null,null,null,null,null,{"$f":"+IF(O3271=\"\",\"\",IF(N3266=\"Transporte Marítimo\",VLOOKUP(O3271,$O$4030:$P$4035,2),IF(N3266=\"Transporte Aéreo\",VLOOKUP(O3271,$O$4037:$P$4042,2),IF(N3266=\"Transporte Aéreo\",VLOOKUP(O3271,$O$4044:$P$4045,2),\"\"))))","v":""},null,null,null,null,null,null,null,null,null,null,null,null,null,null,null,"",""]
[null,null,null,null,null,null,"",null,{"$f":"IF(H3275=\"\",\"\",ROUND(H3275/SUM(H3274:H3281),4))","v":""},null,null,null,null,null,null,{"$f":"+IF(O3275=\"\",\"\",IF(N3274=\"Transporte Marítimo\",VLOOKUP(O3275,$O$4030:$P$4035,2),IF(N3274=\"Transporte Aéreo\",VLOOKUP(O3275,$O$4037:$P$4042,2),IF(N3274=\"Transporte Aéreo\",VLOOKUP(O3275,$O$4044:$P$4045,2),\"\"))))","v":""},null,null,null,null,null,null,null,null,null,null,null,null,null,null,null,{"$f":"+IF(AE3275=\"20NL\",1,IF(AE3275=\"40NL\",2,IF(AE3275=\"20RF\",3,IF(AE3275=\"40RF\",4,\"\"))))","v":""},""]
[null,null,null,null,null,null,"",null,{"$f":"IF(H3276=\"\",\"\",ROUND(H3276/SUM(H3274:H3281),4))","v":""},null,null,null,null,null,null,{"$f":"+IF(O3276=\"\",\"\",IF(N3274=\"Transporte Marítimo\",VLOOKUP(O3276,$O$4030:$P$4035,2),IF(N3274=\"Transporte Aéreo\",VLOOKUP(O3276,$O$4037:$P$4042,2),IF(N3274=\"Transporte Aéreo\",VLOOKUP(O3276,$O$4044:$P$4045,2),\"\"))))","v":""},null,null,null,null,null,null,null,null,null,null,null,null,null,null,null,"",""]
[null,null,null,null,null,null,"",null,{"$f":"IF(H3280=\"\",\"\",ROUND(H3280/SUM(H3274:H3281),4))","v":""},null,null,null,null,null,null,{"$f":"+IF(O3280=\"\",\"\",IF(N3274=\"Transporte Marítimo\",VLOOKUP(O3280,$O$4030:$P$4035,2),IF(N3274=\"Transporte Aéreo\",VLOOKUP(O3280,$O$4037:$P$4042,2),IF(N3274=\"Transporte Aéreo\",VLOOKUP(O3280,$O$4044:$P$4045,2),\"\"))))","v":""},null,null,null,null,null,null,null,null,null,null,null,null,null,null,null,"",""]
[null,null,null,null,null,null,{"$f":"+IF(F3283=\"\",\"\",VLOOKUP(F3283,$F$4031:$G$4120,2))","v":""},null,{"$f":"IF(H3283=\"\",\"\",ROUND(H3283/SUM(H3282:H3289),4))","v":""},null,null,null,null,null,null,{"$f":"+IF(O3283=\"\",\"\",IF(N3282=\"Transporte Marítimo\",VLOOKUP(O3283,$O$4030:$P$4035,2),IF(N3282=\"Transporte Aéreo\",VLOOKUP(O3283,$O$4037:$P$4042,2),IF(N3282=\"Transporte Aéreo\",VLOOKUP(O3283,$O$4044:$P$4045,2),\"\"))))","v":""},null,null,null,null,null,null,null,null,null,null,null,null,null,null,null,{"$f":"+IF(AE3283=\"20NL\",1,IF(AE3283=\"40NL\",2,IF(AE3283=\"20RF\",3,IF(AE3283=\"40RF\",4,\"\"))))","v":""},{"$f":"+IF(AF3283=\"\",\"\",VLOOKUP(AF3283,$AF$4031:$AG$4034,2))","v":""}]
[null,null,null,null,null,null,"",null,{"$f":"IF(H3287=\"\",\"\",ROUND(H3287/SUM(H3282:H3289),4))","v":""},null,null,null,null,null,null,{"$f":"+IF(O3287=\"\",\"\",IF(N3282=\"Transporte Marítimo\",VLOOKUP(O3287,$O$4030:$P$4035,2),IF(N3282=\"Transporte Aéreo\",VLOOKUP(O3287,$O$4037:$P$4042,2),IF(N3282=\"Transporte Aéreo\",VLOOKUP(O3287,$O$4044:$P$4045,2),\"\"))))","v":""},null,null,null,null,null,null,null,null,null,null,null,null,null,null,null,"",""]
[null,{"$f":"+B3282+1","v":410},null,null,null,null,{"$f":"+IF(F3290=\"\",\"\",VLOOKUP(F3290,$F$4031:$G$4120,2))","v":""},null,{"$f":"IF(H3290=\"\",\"\",1-SUM(I3291:I3297))","v":""},null,null,null,null,null,null,{"$f":"+IF(O3290=\"\",\"\",IF(N3290=\"Transporte Marítimo\",VLOOKUP(O3290,$O$4030:$P$4035,2),IF(N3290=\"Transporte Aéreo\",VLOOKUP(O3290,$O$4037:$P$4042,2),IF(N3290=\"CTT\",VLOOKUP(O3290,$O$4044:$P$4045,2),\"\"))))","v":""},null,null,null,null,null,null,null,null,null,null,null,null,null,null,null,{"$f":"+IF(AE3290=\"20NL\",1,IF(AE3290=\"40NL\",2,IF(AE3290=\"20RF\",3,IF(AE3290=\"40RF\",4,\"\"))))","v":""},{"$f":"+IF(AF3290=\"\",\"\",VLOOKUP(AF3290,$AF$4031:$AG$4034,2))","v":""},null,null,null,null,null,null,null,null,null,null,null,null,null,null," "]
[null,null,null,null,null,null,"",null,{"$f":"IF(H3293=\"\",\"\",ROUND(H3293/SUM(H3290:H3297),4))","v":""},null,null,null,null,null,null,{"$f":"+IF(O3293=\"\",\"\",IF(N3290=\"Transporte Marítimo\",VLOOKUP(O3293,$O$4030:$P$4035,2),IF(N3290=\"Transporte Aéreo\",VLOOKUP(O3293,$O$4037:$P$4042,2),IF(N3290=\"Transporte Aéreo\",VLOOKUP(O3293,$O$4044:$P$4045,2),\"\"))))","v":""},null,null,null,null,null,null,null,null,null,null,null,null,null,null,null,"",""]
[null,null,null,null,null,null,"",null,{"$f":"IF(H3294=\"\",\"\",ROUND(H3294/SUM(H3290:H3297),4))","v":""},null,null,null,null,null,null,{"$f":"+IF(O3294=\"\",\"\",IF(N3290=\"Transporte Marítimo\",VLOOKUP(O3294,$O$4030:$P$4035,2),IF(N3290=\"Transporte Aéreo\",VLOOKUP(O3294,$O$4037:$P$4042,2),IF(N3290=\"Transporte Aéreo\",VLOOKUP(O3294,$O$4044:$P$4045,2),\"\"))))","v":""},null,null,null,null,null,null,null,null,null,null,null,null,null,null,null,"",""]
[null,{"$f":"+B3290+1","v":411},null,null,null,null,{"$f":"+IF(F3298=\"\",\"\",VLOOKUP(F3298,$F$4031:$G$4120,2))","v":""},null,{"$f":"IF(H3298=\"\",\"\",1-SUM(I3299:I3305))","v":""},null,null,null,null,null,null,{"$f":"+IF(O3298=\"\",\"\",IF(N3298=\"Transporte Marítimo\",VLOOKUP(O3298,$O$4030:$P$4035,2),IF(N3298=\"Transporte Aéreo\",VLOOKUP(O3298,$O$4037:$P$4042,2),IF(N3298=\"CTT\",VLOOKUP(O3298,$O$4044:$P$4045,2),\"\"))))","v":""},null,null,null,null,null,null,null,null,null,null,null,null,null,null,null,{"$f":"+IF(AE3298=\"20NL\",1,IF(AE3298=\"40NL\",2,IF(AE3298=\"20RF\",3,IF(AE3298=\"40RF\",4,\"\"))))","v":""},{"$f":"+IF(AF3298=\"\",\"\",VLOOKUP(AF3298,$AF$4031:$AG$4034,2))","v":""},null,null,null,null,null,null,null,null,null,null,null,null,null,null," "]
[null,null,null,null,null,null,{"$f":"+IF(F3299=\"\",\"\",VLOOKUP(F3299,$F$4031:$G$4120,2))","v":""},null,{"$f":"IF(H3299=\"\",\"\",ROUND(H3299/SUM(H3298:H3305),4))","v":""},null,null,null,null,null,null,{"$f":"+IF(O3299=\"\",\"\",IF(N3298=\"Transporte Marítimo\",VLOOKUP(O3299,$O$4030:$P$4035,2),IF(N3298=\"Transporte Aéreo\",VLOOKUP(O3299,$O$4037:$P$4042,2),IF(N3298=\"Transporte Aéreo\",VLOOKUP(O3299,$O$4044:$P$4045,2),\"\"))))","v":""},null,null,null,null,null,null,null,null,null,null,null,null,null,null,null,{"$f":"+IF(AE3299=\"20NL\",1,IF(AE3299=\"40NL\",2,IF(AE3299=\"20RF\",3,IF(AE3299=\"40RF\",4,\"\"))))","v":""},{"$f":"+IF(AF3299=\"\",\"\",VLOOKUP(AF3299,$AF$4031:$AG$4034,2))","v":""}]
[null,null,null,null,null,null,"",null,{"$f":"IF(H3303=\"\",\"\",ROUND(H3303/SUM(H3298:H3305),4))","v":""},null,null,null,null,null,null,{"$f":"+IF(O3303=\"\",\"\",IF(N3298=\"Transporte Marítimo\",VLOOKUP(O3303,$O$4030:$P$4035,2),IF(N3298=\"Transporte Aéreo\",VLOOKUP(O3303,$O$4037:$P$4042,2),IF(N3298=\"Transporte Aéreo\",VLOOKUP(O3303,$O$4044:$P$4045,2),\"\"))))","v":""},null,null,null,null,null,null,null,null,null,null,null,null,null,null,null,"",""]
[null,{"$f":"+B3298+1","v":412},null,null,null,null,{"$f":"+IF(F3306=\"\",\"\",VLOOKUP(F3306,$F$4031:$G$4120,2))","v":""},null,{"$f":"IF(H3306=\"\",\"\",1-SUM(I3307:I3313))","v":""},null,null,null,null,null,null,{"$f":"+IF(O3306=\"\",\"\",IF(N3306=\"Transporte Marítimo\",VLOOKUP(O3306,$O$4030:$P$4035,2),IF(N3306=\"Transporte Aéreo\",VLOOKUP(O3306,$O$4037:$P$4042,2),IF(N3306=\"CTT\",VLOOKUP(O3306,$O$4044:$P$4045,2),\"\"))))","v":""},null,null,null,null,null,null,null,null,null,null,null,null,null,null,null,{"$f":"+IF(AE3306=\"20NL\",1,IF(AE3306=\"40NL\",2,IF(AE3306=\"20RF\",3,IF(AE3306=\"40RF\",4,\"\"))))","v":""},{"$f":"+IF(AF3306=\"\",\"\",VLOOKUP(AF3306,$AF$4031:$AG$4034,2))","v":""},null,null,null,null,null,null,null,null,null,null,null,null,null,null," "]
[null,null,null,null,null,null,"",null,{"$f":"IF(H3310=\"\",\"\",ROUND(H3310/SUM(H3306:H3313),4))","v":""},null,null,null,null,null,null,{"$f":"+IF(O3310=\"\",\"\",IF(N3306=\"Transporte Marítimo\",VLOOKUP(O3310,$O$4030:$P$4035,2),IF(N3306=\"Transporte Aéreo\",VLOOKUP(O3310,$O$4037:$P$4042,2),IF(N3306=\"Transporte Aéreo\",VLOOKUP(O3310,$O$4044:$P$4045,2),\"\"))))","v":""},null,null,null,null,null,null,null,null,null,null,null,null,null,null,null,"",""]
[null,null,null,null,null,null,"",null,{"$f":"IF(H3313=\"\",\"\",ROUND(H3313/SUM(H3306:H3313),4))","v":""},null,null,null,null,null,null,{"$f":"+IF(O3313=\"\",\"\",IF(N3306=\"Transporte Marítimo\",VLOOKUP(O3313,$O$4030:$P$4035,2),IF(N3306=\"Transporte Aéreo\",VLOOKUP(O3313,$O$4037:$P$4042,2),IF(N3306=\"Transporte Aéreo\",VLOOKUP(O3313,$O$4044:$P$4045,2),\"\"))))","v":""},null,null,null,null,null,null,null,null,null,null,null,null,null,null,null,"",""]
[null,null,null,null,null,null,"",null,{"$f":"IF(H3316=\"\",\"\",ROUND(H3316/SUM(H3314:H3321),4))","v":""},null,null,null,null,null,null,{"$f":"+IF(O3316=\"\",\"\",IF(N3314=\"Transporte Marítimo\",VLOOKUP(O3316,$O$4030:$P$4035,2),IF(N3314=\"Transporte Aéreo\",VLOOKUP(O3316,$O$4037:$P$4042,2),IF(N3314=\"Transporte Aéreo\",VLOOKUP(O3316,$O$4044:$P$4045,2),\"\"))))","v":""},null,null,null,null,null,null,null,null,null,null,null,null,null,null,null,"",""]
[null,null,null,null,null,null,"",null,{"$f":"IF(H3317=\"\",\"\",ROUND(H3317/SUM(H3314:H3321),4))","v":""},null,null,null,null,null,null,{"$f":"+IF(O3317=\"\",\"\",IF(N3314=\"Transporte Marítimo\",VLOOKUP(O3317,$O$4030:$P$4035,2),IF(N3314=\"Transporte Aéreo\",VLOOKUP(O3317,$O$4037:$P$4042,2),IF(N3314=\"Transporte Aéreo\",VLOOKUP(O3317,$O$4044:$P$4045,2),\"\"))))","v":""},null,null,null,null,null,null,null,null,null,null,null,null,null,null,null,"",""]
[null,null,null,null,null,null,"",null,{"$f":"IF(H3319=\"\",\"\",ROUND(H3319/SUM(H3314:H3321),4))","v":""},null,null,null,null,null,null,{"$f":"+IF(O3319=\"\",\"\",IF(N3314=\"Transporte Marítimo\",VLOOKUP(O3319,$O$4030:$P$4035,2),IF(N3314=\"Transporte Aéreo\",VLOOKUP(O3319,$O$4037:$P$4042,2),IF(N3314=\"Transporte Aéreo\",VLOOKUP(O3319,$O$4044:$P$4045,2),\"\"))))","v":""},null,null,null,null,null,null,null,null,null,null,null,null,null,null,null,"",""]
[null,null,null,null,null,null,"",null,{"$f":"IF(H3323=\"\",\"\",ROUND(H3323/SUM(H3322:H3329),4))","v":""},null,null,null,null,null,null,{"$f":"+IF(O3323=\"\",\"\",IF(N3322=\"Transporte Marítimo\",VLOOKUP(O3323,$O$4030:$P$4035,2),IF(N3322=\"Transporte Aéreo\",VLOOKUP(O3323,$O$4037:$P$4042,2),IF(N3322=\"Transporte Aéreo\",VLOOKUP(O3323,$O$4044:$P$4045,2),\"\"))))","v":""},null,null,null,null,null,null,null,null,null,null,null,null,null,null,null,{"$f":"+IF(AE3323=\"20NL\",1,IF(AE3323=\"40NL\",2,IF(AE3323=\"20RF\",3,IF(AE3323=\"40RF\",4,\"\"))))","v":""},""]
[null,null,null,null,null,null,"",null,{"$f":"IF(H3326=\"\",\"\",ROUND(H3326/SUM(H3322:H3329),4))","v":""},null,null,null,null,null,null,{"$f":"+IF(O3326=\"\",\"\",IF(N3322=\"Transporte Marítimo\",VLOOKUP(O3326,$O$4030:$P$4035,2),IF(N3322=\"Transporte Aéreo\",VLOOKUP(O3326,$O$4037:$P$4042,2),IF(N3322=\"Transporte Aéreo\",VLOOKUP(O3326,$O$4044:$P$4045,2),\"\"))))","v":""},null,null,null,null,null,null,null,null,null,null,null,null,null,null,null,"",""]
[null,null,null,null,null,null,"",null,{"$f":"IF(H3329=\"\",\"\",ROUND(H3329/SUM(H3322:H3329),4))","v":""},null,null,null,null,null,null,{"$f":"+IF(O3329=\"\",\"\",IF(N3322=\"Transporte Marítimo\",VLOOKUP(O3329,$O$4030:$P$4035,2),IF(N3322=\"Transporte Aéreo\",VLOOKUP(O3329,$O$4037:$P$4042,2),IF(N3322=\"Transporte Aéreo\",VLOOKUP(O3329,$O$4044:$P$4045,2),\"\"))))","v":""},null,null,null,null,null,null,null,null,null,null,null,null,null,null,null,"",""]
[null,null,null,null,null,null,"",null,{"$f":"IF(H3333=\"\",\"\",ROUND(H3333/SUM(H3330:H3337),4))","v":""},null,null,null,null,null,null,{"$f":"+IF(O3333=\"\",\"\",IF(N3330=\"Transporte Marítimo\",VLOOKUP(O3333,$O$4030:$P$4035,2),IF(N3330=\"Transporte Aéreo\",VLOOKUP(O3333,$O$4037:$P$4042,2),IF(N3330=\"Transporte Aéreo\",VLOOKUP(O3333,$O$4044:$P$4045,2),\"\"))))","v":""},null,null,null,null,null,null,null,null,null,null,null,null,null,null,null,"",""]
[null,null,null,null,null,null,"",null,{"$f":"IF(H3336=\"\",\"\",ROUND(H3336/SUM(H3330:H3337),4))","v":""},null,null,null,null,null,null,{"$f":"+IF(O3336=\"\",\"\",IF(N3330=\"Transporte Marítimo\",VLOOKUP(O3336,$O$4030:$P$4035,2),IF(N3330=\"Transporte Aéreo\",VLOOKUP(O3336,$O$4037:$P$4042,2),IF(N3330=\"Transporte Aéreo\",VLOOKUP(O3336,$O$4044:$P$4045,2),\"\"))))","v":""},null,null,null,null,null,null,null,null,null,null,null,null,null,null,null,"",""]
[null,null,null,null,null,null,"",null,{"$f":"IF(H3339=\"\",\"\",ROUND(H3339/SUM(H3338:H3345),4))","v":""},null,null,null,null,null,null,{"$f":"+IF(O3339=\"\",\"\",IF(N3338=\"Transporte Marítimo\",VLOOKUP(O3339,$O$4030:$P$4035,2),IF(N3338=\"Transporte Aéreo\",VLOOKUP(O3339,$O$4037:$P$4042,2),IF(N3338=\"Transporte Aéreo\",VLOOKUP(O3339,$O$4044:$P$4045,2),\"\"))))","v":""},null,null,null,null,null,null,null,null,null,null,null,null,null,null,null,{"$f":"+IF(AE3339=\"20NL\",1,IF(AE3339=\"40NL\",2,IF(AE3339=\"20RF\",3,IF(AE3339=\"40RF\",4,\"\"))))","v":""},""]
[null,null,null,null,null,null,"",null,{"$f":"IF(H3340=\"\",\"\",ROUND(H3340/SUM(H3338:H3345),4))","v":""},null,null,null,null,null,null,{"$f":"+IF(O3340=\"\",\"\",IF(N3338=\"Transporte Marítimo\",VLOOKUP(O3340,$O$4030:$P$4035,2),IF(N3338=\"Transporte Aéreo\",VLOOKUP(O3340,$O$4037:$P$4042,2),IF(N3338=\"Transporte Aéreo\",VLOOKUP(O3340,$O$4044:$P$4045,2),\"\"))))","v":""},null,null,null,null,null,null,null,null,null,null,null,null,null,null,null,"",""]
[null,null,null,null,null,null,"",null,{"$f":"IF(H3342=\"\",\"\",ROUND(H3342/SUM(H3338:H3345),4))","v":""},null,null,null,null,null,null,{"$f":"+IF(O3342=\"\",\"\",IF(N3338=\"Transporte Marítimo\",VLOOKUP(O3342,$O$4030:$P$4035,2),IF(N3338=\"Transporte Aéreo\",VLOOKUP(O3342,$O$4037:$P$4042,2),IF(N3338=\"Transporte Aéreo\",VLOOKUP(O3342,$O$4044:$P$4045,2),\"\"))))","v":""},null,null,null,null,null,null,null,null,null,null,null,null,null,null,null,"",""]
[null,{"$f":"+B3338+1","v":417},null,null,null,null,{"$f":"+IF(F3346=\"\",\"\",VLOOKUP(F3346,$F$4031:$G$4120,2))","v":""},null,{"$f":"IF(H3346=\"\",\"\",1-SUM(I3347:I3353))","v":""},null,null,null,null,null,null,{"$f":"+IF(O3346=\"\",\"\",IF(N3346=\"Transporte Marítimo\",VLOOKUP(O3346,$O$4030:$P$4035,2),IF(N3346=\"Transporte Aéreo\",VLOOKUP(O3346,$O$4037:$P$4042,2),IF(N3346=\"CTT\",VLOOKUP(O3346,$O$4044:$P$4045,2),\"\"))))","v":""},null,null,null,null,null,null,null,null,null,null,null,null,null,null,null,{"$f":"+IF(AE3346=\"20NL\",1,IF(AE3346=\"40NL\",2,IF(AE3346=\"20RF\",3,IF(AE3346=\"40RF\",4,\"\"))))","v":""},{"$f":"+IF(AF3346=\"\",\"\",VLOOKUP(AF3346,$AF$4031:$AG$4034,2))","v":""},null,null,null,null,null,null,null,null,null,null,null,null,null,null," "]
[null,null,null,null,null,null,"",null,{"$f":"IF(H3349=\"\",\"\",ROUND(H3349/SUM(H3346:H3353),4))","v":""},null,null,null,null,null,null,{"$f":"+IF(O3349=\"\",\"\",IF(N3346=\"Transporte Marítimo\",VLOOKUP(O3349,$O$4030:$P$4035,2),IF(N3346=\"Transporte Aéreo\",VLOOKUP(O3349,$O$4037:$P$4042,2),IF(N3346=\"Transporte Aéreo\",VLOOKUP(O3349,$O$4044:$P$4045,2),\"\"))))","v":""},null,null,null,null,null,null,null,null,null,null,null,null,null,null,null,"",""]
[null,null,null,null,null,null,"",null,{"$f":"IF(H3352=\"\",\"\",ROUND(H3352/SUM(H3346:H3353),4))","v":""},null,null,null,null,null,null,{"$f":"+IF(O3352=\"\",\"\",IF(N3346=\"Transporte Marítimo\",VLOOKUP(O3352,$O$4030:$P$4035,2),IF(N3346=\"Transporte Aéreo\",VLOOKUP(O3352,$O$4037:$P$4042,2),IF(N3346=\"Transporte Aéreo\",VLOOKUP(O3352,$O$4044:$P$4045,2),\"\"))))","v":""},null,null,null,null,null,null,null,null,null,null,null,null,null,null,null,"",""]
[null,null,null,null,null,null,"",null,{"$f":"IF(H3356=\"\",\"\",ROUND(H3356/SUM(H3354:H3361),4))","v":""},null,null,null,null,null,null,{"$f":"+IF(O3356=\"\",\"\",IF(N3354=\"Transporte Marítimo\",VLOOKUP(O3356,$O$4030:$P$4035,2),IF(N3354=\"Transporte Aéreo\",VLOOKUP(O3356,$O$4037:$P$4042,2),IF(N3354=\"Transporte Aéreo\",VLOOKUP(O3356,$O$4044:$P$4045,2),\"\"))))","v":""},null,null,null,null,null,null,null,null,null,null,null,null,null,null,null,"",""]
[null,null,null,null,null,null,"",null,{"$f":"IF(H3359=\"\",\"\",ROUND(H3359/SUM(H3354:H3361),4))","v":""},null,null,null,null,null,null,{"$f":"+IF(O3359=\"\",\"\",IF(N3354=\"Transporte Marítimo\",VLOOKUP(O3359,$O$4030:$P$4035,2),IF(N3354=\"Transporte Aéreo\",VLOOKUP(O3359,$O$4037:$P$4042,2),IF(N3354=\"Transporte Aéreo\",VLOOKUP(O3359,$O$4044:$P$4045,2),\"\"))))","v":""},null,null,null,null,null,null,null,null,null,null,null,null,null,null,null,"",""]
[null,{"$f":"+B3354+1","v":419},null,null,null,null,{"$f":"+IF(F3362=\"\",\"\",VLOOKUP(F3362,$F$4031:$G$4120,2))","v":""},null,{"$f":"IF(H3362=\"\",\"\",1-SUM(I3363:I3369))","v":""},null,null,null,null,null,null,{"$f":"+IF(O3362=\"\",\"\",IF(N3362=\"Transporte Marítimo\",VLOOKUP(O3362,$O$4030:$P$4035,2),IF(N3362=\"Transporte Aéreo\",VLOOKUP(O3362,$O$4037:$P$4042,2),IF(N3362=\"CTT\",VLOOKUP(O3362,$O$4044:$P$4045,2),\"\"))))","v":""},null,null,null,null,null,null,null,null,null,null,null,null,null,null,null,{"$f":"+IF(AE3362=\"20NL\",1,IF(AE3362=\"40NL\",2,IF(AE3362=\"20RF\",3,IF(AE3362=\"40RF\",4,\"\"))))","v":""},{"$f":"+IF(AF3362=\"\",\"\",VLOOKUP(AF3362,$AF$4031:$AG$4034,2))","v":""},null,null,null,null,null,null,null,null,null,null,null,null,null,null," "]
[null,null,null,null,null,null,{"$f":"+IF(F3363=\"\",\"\",VLOOKUP(F3363,$F$4031:$G$4120,2))","v":""},null,{"$f":"IF(H3363=\"\",\"\",ROUND(H3363/SUM(H3362:H3369),4))","v":""},null,null,null,null,null,null,{"$f":"+IF(O3363=\"\",\"\",IF(N3362=\"Transporte Marítimo\",VLOOKUP(O3363,$O$4030:$P$4035,2),IF(N3362=\"Transporte Aéreo\",VLOOKUP(O3363,$O$4037:$P$4042,2),IF(N3362=\"Transporte Aéreo\",VLOOKUP(O3363,$O$4044:$P$4045,2),\"\"))))","v":""},null,null,null,null,null,null,null,null,null,null,null,null,null,null,null,{"$f":"+IF(AE3363=\"20NL\",1,IF(AE3363=\"40NL\",2,IF(AE3363=\"20RF\",3,IF(AE3363=\"40RF\",4,\"\"))))","v":""},{"$f":"+IF(AF3363=\"\",\"\",VLOOKUP(AF3363,$AF$4031:$AG$4034,2))","v":""}]
[null,null,null,null,null,null,"",null,{"$f":"IF(H3365=\"\",\"\",ROUND(H3365/SUM(H3362:H3369),4))","v":""},null,null,null,null,null,null,{"$f":"+IF(O3365=\"\",\"\",IF(N3362=\"Transporte Marítimo\",VLOOKUP(O3365,$O$4030:$P$4035,2),IF(N3362=\"Transporte Aéreo\",VLOOKUP(O3365,$O$4037:$P$4042,2),IF(N3362=\"Transporte Aéreo\",VLOOKUP(O3365,$O$4044:$P$4045,2),\"\"))))","v":""},null,null,null,null,null,null,null,null,null,null,null,null,null,null,null,"",""]
[null,null,null,null,null,null,"",null,{"$f":"IF(H3369=\"\",\"\",ROUND(H3369/SUM(H3362:H3369),4))","v":""},null,null,null,null,null,null,{"$f":"+IF(O3369=\"\",\"\",IF(N3362=\"Transporte Marítimo\",VLOOKUP(O3369,$O$4030:$P$4035,2),IF(N3362=\"Transporte Aéreo\",VLOOKUP(O3369,$O$4037:$P$4042,2),IF(N3362=\"Transporte Aéreo\",VLOOKUP(O3369,$O$4044:$P$4045,2),\"\"))))","v":""},null,null,null,null,null,null,null,null,null,null,null,null,null,null,null,"",""]
[null,null,null,null,null,null,"",null,{"$f":"IF(H3372=\"\",\"\",ROUND(H3372/SUM(H3370:H3377),4))","v":""},null,null,null,null,null,null,{"$f":"+IF(O3372=\"\",\"\",IF(N3370=\"Transporte Marítimo\",VLOOKUP(O3372,$O$4030:$P$4035,2),IF(N3370=\"Transporte Aéreo\",VLOOKUP(O3372,$O$4037:$P$4042,2),IF(N3370=\"Transporte Aéreo\",VLOOKUP(O3372,$O$4044:$P$4045,2),\"\"))))","v":""},null,null,null,null,null,null,null,null,null,null,null,null,null,null,null,"",""]
[null,null,null,null,null,null,"",null,{"$f":"IF(H3375=\"\",\"\",ROUND(H3375/SUM(H3370:H3377),4))","v":""},null,null,null,null,null,null,{"$f":"+IF(O3375=\"\",\"\",IF(N3370=\"Transporte Marítimo\",VLOOKUP(O3375,$O$4030:$P$4035,2),IF(N3370=\"Transporte Aéreo\",VLOOKUP(O3375,$O$4037:$P$4042,2),IF(N3370=\"Transporte Aéreo\",VLOOKUP(O3375,$O$4044:$P$4045,2),\"\"))))","v":""},null,null,null,null,null,null,null,null,null,null,null,null,null,null,null,"",""]
[null,null,null,null,null,null,{"$f":"+IF(F3379=\"\",\"\",VLOOKUP(F3379,$F$4031:$G$4120,2))","v":""},null,{"$f":"IF(H3379=\"\",\"\",ROUND(H3379/SUM(H3378:H3385),4))","v":""},null,null,null,null,null,null,{"$f":"+IF(O3379=\"\",\"\",IF(N3378=\"Transporte Marítimo\",VLOOKUP(O3379,$O$4030:$P$4035,2),IF(N3378=\"Transporte Aéreo\",VLOOKUP(O3379,$O$4037:$P$4042,2),IF(N3378=\"Transporte Aéreo\",VLOOKUP(O3379,$O$4044:$P$4045,2),\"\"))))","v":""},null,null,null,null,null,null,null,null,null,null,null,null,null,null,null,{"$f":"+IF(AE3379=\"20NL\",1,IF(AE3379=\"40NL\",2,IF(AE3379=\"20RF\",3,IF(AE3379=\"40RF\",4,\"\"))))","v":""},{"$f":"+IF(AF3379=\"\",\"\",VLOOKUP(AF3379,$AF$4031:$AG$4034,2))","v":""}]
[null,null,null,null,null,null,"",null,{"$f":"IF(H3382=\"\",\"\",ROUND(H3382/SUM(H3378:H3385),4))","v":""},null,null,null,null,null,null,{"$f":"+IF(O3382=\"\",\"\",IF(N3378=\"Transporte Marítimo\",VLOOKUP(O3382,$O$4030:$P$4035,2),IF(N3378=\"Transporte Aéreo\",VLOOKUP(O3382,$O$4037:$P$4042,2),IF(N3378=\"Transporte Aéreo\",VLOOKUP(O3382,$O$4044:$P$4045,2),\"\"))))","v":""},null,null,null,null,null,null,null,null,null,null,null,null,null,null,null,"",""]
[null,null,null,null,null,null,"",null,{"$f":"IF(H3384=\"\",\"\",ROUND(H3384/SUM(H3378:H3385),4))","v":""},null,null,null,null,null,null,{"$f":"+IF(O3384=\"\",\"\",IF(N3378=\"Transporte Marítimo\",VLOOKUP(O3384,$O$4030:$P$4035,2),IF(N3378=\"Transporte Aéreo\",VLOOKUP(O3384,$O$4037:$P$4042,2),IF(N3378=\"Transporte Aéreo\",VLOOKUP(O3384,$O$4044:$P$4045,2),\"\"))))","v":""},null,null,null,null,null,null,null,null,null,null,null,null,null,null,null,"",""]
[null,null,null,null,null,null,"",null,{"$f":"IF(H3385=\"\",\"\",ROUND(H3385/SUM(H3378:H3385),4))","v":""},null,null,null,null,null,null,{"$f":"+IF(O3385=\"\",\"\",IF(N3378=\"Transporte Marítimo\",VLOOKUP(O3385,$O$4030:$P$4035,2),IF(N3378=\"Transporte Aéreo\",VLOOKUP(O3385,$O$4037:$P$4042,2),IF(N3378=\"Transporte Aéreo\",VLOOKUP(O3385,$O$4044:$P$4045,2),\"\"))))","v":""},null,null,null,null,null,null,null,null,null,null,null,null,null,null,null,"",""]
[null,null,null,null,null,null,"",null,{"$f":"IF(H3388=\"\",\"\",ROUND(H3388/SUM(H3386:H3393),4))","v":""},null,null,null,null,null,null,{"$f":"+IF(O3388=\"\",\"\",IF(N3386=\"Transporte Marítimo\",VLOOKUP(O3388,$O$4030:$P$4035,2),IF(N3386=\"Transporte Aéreo\",VLOOKUP(O3388,$O$4037:$P$4042,2),IF(N3386=\"Transporte Aéreo\",VLOOKUP(O3388,$O$4044:$P$4045,2),\"\"))))","v":""},null,null,null,null,null,null,null,null,null,null,null,null,null,null,null,"",""]
[null,null,null,null,null,null,"",null,{"$f":"IF(H3392=\"\",\"\",ROUND(H3392/SUM(H3386:H3393),4))","v":""},null,null,null,null,null,null,{"$f":"+IF(O3392=\"\",\"\",IF(N3386=\"Transporte Marítimo\",VLOOKUP(O3392,$O$4030:$P$4035,2),IF(N3386=\"Transporte Aéreo\",VLOOKUP(O3392,$O$4037:$P$4042,2),IF(N3386=\"Transporte Aéreo\",VLOOKUP(O3392,$O$4044:$P$4045,2),\"\"))))","v":""},null,null,null,null,null,null,null,null,null,null,null,null,null,null,null,"",""]
[null,null,null,null,null,null,"",null,{"$f":"IF(H3395=\"\",\"\",ROUND(H3395/SUM(H3394:H3401),4))","v":""},null,null,null,null,null,null,{"$f":"+IF(O3395=\"\",\"\",IF(N3394=\"Transporte Marítimo\",VLOOKUP(O3395,$O$4030:$P$4035,2),IF(N3394=\"Transporte Aéreo\",VLOOKUP(O3395,$O$4037:$P$4042,2),IF(N3394=\"Transporte Aéreo\",VLOOKUP(O3395,$O$4044:$P$4045,2),\"\"))))","v":""},null,null,null,null,null,null,null,null,null,null,null,null,null,null,null,{"$f":"+IF(AE3395=\"20NL\",1,IF(AE3395=\"40NL\",2,IF(AE3395=\"20RF\",3,IF(AE3395=\"40RF\",4,\"\"))))","v":""},""]
[null,null,null,null,null,null,"",null,{"$f":"IF(H3398=\"\",\"\",ROUND(H3398/SUM(H3394:H3401),4))","v":""},null,null,null,null,null,null,{"$f":"+IF(O3398=\"\",\"\",IF(N3394=\"Transporte Marítimo\",VLOOKUP(O3398,$O$4030:$P$4035,2),IF(N3394=\"Transporte Aéreo\",VLOOKUP(O3398,$O$4037:$P$4042,2),IF(N3394=\"Transporte Aéreo\",VLOOKUP(O3398,$O$4044:$P$4045,2),\"\"))))","v":""},null,null,null,null,null,null,null,null,null,null,null,null,null,null,null,"",""]
[null,{"$f":"+B3394+1","v":424},null,null,null,null,{"$f":"+IF(F3402=\"\",\"\",VLOOKUP(F3402,$F$4031:$G$4120,2))","v":""},null,{"$f":"IF(H3402=\"\",\"\",1-SUM(I3403:I3409))","v":""},null,null,null,null,null,null,{"$f":"+IF(O3402=\"\",\"\",IF(N3402=\"Transporte Marítimo\",VLOOKUP(O3402,$O$4030:$P$4035,2),IF(N3402=\"Transporte Aéreo\",VLOOKUP(O3402,$O$4037:$P$4042,2),IF(N3402=\"CTT\",VLOOKUP(O3402,$O$4044:$P$4045,2),\"\"))))","v":""},null,null,null,null,null,null,null,null,null,null,null,null,null,null,null,{"$f":"+IF(AE3402=\"20NL\",1,IF(AE3402=\"40NL\",2,IF(AE3402=\"20RF\",3,IF(AE3402=\"40RF\",4,\"\"))))","v":""},{"$f":"+IF(AF3402=\"\",\"\",VLOOKUP(AF3402,$AF$4031:$AG$4034,2))","v":""},null,null,null,null,null,null,null,null,null,null,null,null,null,null," "]
[null,null,null,null,null,null,"",null,{"$f":"IF(H3405=\"\",\"\",ROUND(H3405/SUM(H3402:H3409),4))","v":""},null,null,null,null,null,null,{"$f":"+IF(O3405=\"\",\"\",IF(N3402=\"Transporte Marítimo\",VLOOKUP(O3405,$O$4030:$P$4035,2),IF(N3402=\"Transporte Aéreo\",VLOOKUP(O3405,$O$4037:$P$4042,2),IF(N3402=\"Transporte Aéreo\",VLOOKUP(O3405,$O$4044:$P$4045,2),\"\"))))","v":""},null,null,null,null,null,null,null,null,null,null,null,null,null,null,null,"",""]
[null,null,null,null,null,null,"",null,{"$f":"IF(H3407=\"\",\"\",ROUND(H3407/SUM(H3402:H3409),4))","v":""},null,null,null,null,null,null,{"$f":"+IF(O3407=\"\",\"\",IF(N3402=\"Transporte Marítimo\",VLOOKUP(O3407,$O$4030:$P$4035,2),IF(N3402=\"Transporte Aéreo\",VLOOKUP(O3407,$O$4037:$P$4042,2),IF(N3402=\"Transporte Aéreo\",VLOOKUP(O3407,$O$4044:$P$4045,2),\"\"))))","v":""},null,null,null,null,null,null,null,null,null,null,null,null,null,null,null,"",""]
[null,null,null,null,null,null,"",null,{"$f":"IF(H3408=\"\",\"\",ROUND(H3408/SUM(H3402:H3409),4))","v":""},null,null,null,null,null,null,{"$f":"+IF(O3408=\"\",\"\",IF(N3402=\"Transporte Marítimo\",VLOOKUP(O3408,$O$4030:$P$4035,2),IF(N3402=\"Transporte Aéreo\",VLOOKUP(O3408,$O$4037:$P$4042,2),IF(N3402=\"Transporte Aéreo\",VLOOKUP(O3408,$O$4044:$P$4045,2),\"\"))))","v":""},null,null,null,null,null,null,null,null,null,null,null,null,null,null,null,"",""]
[null,null,null,null,null,null,"",null,{"$f":"IF(H3411=\"\",\"\",ROUND(H3411/SUM(H3410:H3417),4))","v":""},null,null,null,null,null,null,{"$f":"+IF(O3411=\"\",\"\",IF(N3410=\"Transporte Marítimo\",VLOOKUP(O3411,$O$4030:$P$4035,2),IF(N3410=\"Transporte Aéreo\",VLOOKUP(O3411,$O$4037:$P$4042,2),IF(N3410=\"Transporte Aéreo\",VLOOKUP(O3411,$O$4044:$P$4045,2),\"\"))))","v":""},null,null,null,null,null,null,null,null,null,null,null,null,null,null,null,{"$f":"+IF(AE3411=\"20NL\",1,IF(AE3411=\"40NL\",2,IF(AE3411=\"20RF\",3,IF(AE3411=\"40RF\",4,\"\"))))","v":""},""]
[null,null,null,null,null,null,"",null,{"$f":"IF(H3415=\"\",\"\",ROUND(H3415/SUM(H3410:H3417),4))","v":""},null,null,null,null,null,null,{"$f":"+IF(O3415=\"\",\"\",IF(N3410=\"Transporte Marítimo\",VLOOKUP(O3415,$O$4030:$P$4035,2),IF(N3410=\"Transporte Aéreo\",VLOOKUP(O3415,$O$4037:$P$4042,2),IF(N3410=\"Transporte Aéreo\",VLOOKUP(O3415,$O$4044:$P$4045,2),\"\"))))","v":""},null,null,null,null,null,null,null,null,null,null,null,null,null,null,null,"",""]
[null,{"$f":"+B3410+1","v":426},null,null,null,null,{"$f":"+IF(F3418=\"\",\"\",VLOOKUP(F3418,$F$4031:$G$4120,2))","v":""},null,{"$f":"IF(H3418=\"\",\"\",1-SUM(I3419:I3425))","v":""},null,null,null,null,null,null,{"$f":"+IF(O3418=\"\",\"\",IF(N3418=\"Transporte Marítimo\",VLOOKUP(O3418,$O$4030:$P$4035,2),IF(N3418=\"Transporte Aéreo\",VLOOKUP(O3418,$O$4037:$P$4042,2),IF(N3418=\"CTT\",VLOOKUP(O3418,$O$4044:$P$4045,2),\"\"))))","v":""},null,null,null,null,null,null,null,null,null,null,null,null,null,null,null,{"$f":"+IF(AE3418=\"20NL\",1,IF(AE3418=\"40NL\",2,IF(AE3418=\"20RF\",3,IF(AE3418=\"40RF\",4,\"\"))))","v":""},{"$f":"+IF(AF3418=\"\",\"\",VLOOKUP(AF3418,$AF$4031:$AG$4034,2))","v":""},null,null,null,null,null,null,null,null,null,null,null,null,null,null," "]
[null,null,null,null,null,null,"",null,{"$f":"IF(H3421=\"\",\"\",ROUND(H3421/SUM(H3418:H3425),4))","v":""},null,null,null,null,null,null,{"$f":"+IF(O3421=\"\",\"\",IF(N3418=\"Transporte Marítimo\",VLOOKUP(O3421,$O$4030:$P$4035,2),IF(N3418=\"Transporte Aéreo\",VLOOKUP(O3421,$O$4037:$P$4042,2),IF(N3418=\"Transporte Aéreo\",VLOOKUP(O3421,$O$4044:$P$4045,2),\"\"))))","v":""},null,null,null,null,null,null,null,null,null,null,null,null,null,null,null,"",""]
[null,null,null,null,null,null,"",null,{"$f":"IF(H3425=\"\",\"\",ROUND(H3425/SUM(H3418:H3425),4))","v":""},null,null,null,null,null,null,{"$f":"+IF(O3425=\"\",\"\",IF(N3418=\"Transporte Marítimo\",VLOOKUP(O3425,$O$4030:$P$4035,2),IF(N3418=\"Transporte Aéreo\",VLOOKUP(O3425,$O$4037:$P$4042,2),IF(N3418=\"Transporte Aéreo\",VLOOKUP(O3425,$O$4044:$P$4045,2),\"\"))))","v":""},null,null,null,null,null,null,null,null,null,null,null,null,null,null,null,"",""]
[null,null,null,null,null,null,"",null,{"$f":"IF(H3428=\"\",\"\",ROUND(H3428/SUM(H3426:H3433),4))","v":""},null,null,null,null,null,null,{"$f":"+IF(O3428=\"\",\"\",IF(N3426=\"Transporte Marítimo\",VLOOKUP(O3428,$O$4030:$P$4035,2),IF(N3426=\"Transporte Aéreo\",VLOOKUP(O3428,$O$4037:$P$4042,2),IF(N3426=\"Transporte Aéreo\",VLOOKUP(O3428,$O$4044:$P$4045,2),\"\"))))","v":""},null,null,null,null,null,null,null,null,null,null,null,null,null,null,null,"",""]
[null,null,null,null,null,null,"",null,{"$f":"IF(H3430=\"\",\"\",ROUND(H3430/SUM(H3426:H3433),4))","v":""},null,null,null,null,null,null,{"$f":"+IF(O3430=\"\",\"\",IF(N3426=\"Transporte Marítimo\",VLOOKUP(O3430,$O$4030:$P$4035,2),IF(N3426=\"Transporte Aéreo\",VLOOKUP(O3430,$O$4037:$P$4042,2),IF(N3426=\"Transporte Aéreo\",VLOOKUP(O3430,$O$4044:$P$4045,2),\"\"))))","v":""},null,null,null,null,null,null,null,null,null,null,null,null,null,null,null,"",""]
[null,null,null,null,null,null,"",null,{"$f":"IF(H3431=\"\",\"\",ROUND(H3431/SUM(H3426:H3433),4))","v":""},null,null,null,null,null,null,{"$f":"+IF(O3431=\"\",\"\",IF(N3426=\"Transporte Marítimo\",VLOOKUP(O3431,$O$4030:$P$4035,2),IF(N3426=\"Transporte Aéreo\",VLOOKUP(O3431,$O$4037:$P$4042,2),IF(N3426=\"Transporte Aéreo\",VLOOKUP(O3431,$O$4044:$P$4045,2),\"\"))))","v":""},null,null,null,null,null,null,null,null,null,null,null,null,null,null,null,"",""]
[null,{"$f":"+B3426+1","v":428},null,null,null,null,{"$f":"+IF(F3434=\"\",\"\",VLOOKUP(F3434,$F$4031:$G$4120,2))","v":""},null,{"$f":"IF(H3434=\"\",\"\",1-SUM(I3435:I3441))","v":""},null,null,null,null,null,null,{"$f":"+IF(O3434=\"\",\"\",IF(N3434=\"Transporte Marítimo\",VLOOKUP(O3434,$O$4030:$P$4035,2),IF(N3434=\"Transporte Aéreo\",VLOOKUP(O3434,$O$4037:$P$4042,2),IF(N3434=\"CTT\",VLOOKUP(O3434,$O$4044:$P$4045,2),\"\"))))","v":""},null,null,null,null,null,null,null,null,null,null,null,null,null,null,null,{"$f":"+IF(AE3434=\"20NL\",1,IF(AE3434=\"40NL\",2,IF(AE3434=\"20RF\",3,IF(AE3434=\"40RF\",4,\"\"))))","v":""},{"$f":"+IF(AF3434=\"\",\"\",VLOOKUP(AF3434,$AF$4031:$AG$4034,2))","v":""},null,null,null,null,null,null,null,null,null,null,null,null,null,null," "]
[null,null,null,null,null,null,"",null,{"$f":"IF(H3438=\"\",\"\",ROUND(H3438/SUM(H3434:H3441),4))","v":""},null,null,null,null,null,null,{"$f":"+IF(O3438=\"\",\"\",IF(N3434=\"Transporte Marítimo\",VLOOKUP(O3438,$O$4030:$P$4035,2),IF(N3434=\"Transporte Aéreo\",VLOOKUP(O3438,$O$4037:$P$4042,2),IF(N3434=\"Transporte Aéreo\",VLOOKUP(O3438,$O$4044:$P$4045,2),\"\"))))","v":""},null,null,null,null,null,null,null,null,null,null,null,null,null,null,null,"",""]
[null,null,null,null,null,null,"",null,{"$f":"IF(H3441=\"\",\"\",ROUND(H3441/SUM(H3434:H3441),4))","v":""},null,null,null,null,null,null,{"$f":"+IF(O3441=\"\",\"\",IF(N3434=\"Transporte Marítimo\",VLOOKUP(O3441,$O$4030:$P$4035,2),IF(N3434=\"Transporte Aéreo\",VLOOKUP(O3441,$O$4037:$P$4042,2),IF(N3434=\"Transporte Aéreo\",VLOOKUP(O3441,$O$4044:$P$4045,2),\"\"))))","v":""},null,null,null,null,null,null,null,null,null,null,null,null,null,null,null,"",""]
[null,null,null,null,null,null,"",null,{"$f":"IF(H3445=\"\",\"\",ROUND(H3445/SUM(H3442:H3449),4))","v":""},null,null,null,null,null,null,{"$f":"+IF(O3445=\"\",\"\",IF(N3442=\"Transporte Marítimo\",VLOOKUP(O3445,$O$4030:$P$4035,2),IF(N3442=\"Transporte Aéreo\",VLOOKUP(O3445,$O$4037:$P$4042,2),IF(N3442=\"Transporte Aéreo\",VLOOKUP(O3445,$O$4044:$P$4045,2),\"\"))))","v":""},null,null,null,null,null,null,null,null,null,null,null,null,null,null,null,"",""]
[null,null,null,null,null,null,"",null,{"$f":"IF(H3448=\"\",\"\",ROUND(H3448/SUM(H3442:H3449),4))","v":""},null,null,null,null,null,null,{"$f":"+IF(O3448=\"\",\"\",IF(N3442=\"Transporte Marítimo\",VLOOKUP(O3448,$O$4030:$P$4035,2),IF(N3442=\"Transporte Aéreo\",VLOOKUP(O3448,$O$4037:$P$4042,2),IF(N3442=\"Transporte Aéreo\",VLOOKUP(O3448,$O$4044:$P$4045,2),\"\"))))","v":""},null,null,null,null,null,null,null,null,null,null,null,null,null,null,null,"",""]
[null,null,null,null,null,null,"",null,{"$f":"IF(H3449=\"\",\"\",ROUND(H3449/SUM(H3442:H3449),4))","v":""},null,null,null,null,null,null,{"$f":"+IF(O3449=\"\",\"\",IF(N3442=\"Transporte Marítimo\",VLOOKUP(O3449,$O$4030:$P$4035,2),IF(N3442=\"Transporte Aéreo\",VLOOKUP(O3449,$O$4037:$P$4042,2),IF(N3442=\"Transporte Aéreo\",VLOOKUP(O3449,$O$4044:$P$4045,2),\"\"))))","v":""},null,null,null,null,null,null,null,null,null,null,null,null,null,null,null,"",""]
[null,null,null,null,null,null,"",null,{"$f":"IF(H3451=\"\",\"\",ROUND(H3451/SUM(H3450:H3457),4))","v":""},null,null,null,null,null,null,{"$f":"+IF(O3451=\"\",\"\",IF(N3450=\"Transporte Marítimo\",VLOOKUP(O3451,$O$4030:$P$4035,2),IF(N3450=\"Transporte Aéreo\",VLOOKUP(O3451,$O$4037:$P$4042,2),IF(N3450=\"Transporte Aéreo\",VLOOKUP(O3451,$O$4044:$P$4045,2),\"\"))))","v":""},null,null,null,null,null,null,null,null,null,null,null,null,null,null,null,{"$f":"+IF(AE3451=\"20NL\",1,IF(AE3451=\"40NL\",2,IF(AE3451=\"20RF\",3,IF(AE3451=\"40RF\",4,\"\"))))","v":""},{"$f":"+IF(AF3451=\"\",\"\",VLOOKUP(AF3451,$AF$4031:$AG$4034,2))","v":""}]
[null,null,null,null,null,null,"",null,{"$f":"IF(H3454=\"\",\"\",ROUND(H3454/SUM(H3450:H3457),4))","v":""},null,null,null,null,null,null,{"$f":"+IF(O3454=\"\",\"\",IF(N3450=\"Transporte Marítimo\",VLOOKUP(O3454,$O$4030:$P$4035,2),IF(N3450=\"Transporte Aéreo\",VLOOKUP(O3454,$O$4037:$P$4042,2),IF(N3450=\"Transporte Aéreo\",VLOOKUP(O3454,$O$4044:$P$4045,2),\"\"))))","v":""},null,null,null,null,null,null,null,null,null,null,null,null,null,null,null,"",""]
[null,null,null,null,null,null,{"$f":"+IF(F3457=\"\",\"\",VLOOKUP(F3457,$F$4031:$G$4120,2))","v":""},null,{"$f":"IF(H3457=\"\",\"\",ROUND(H3457/SUM(H3450:H3457),4))","v":""},null,null,null,null,null,null,{"$f":"+IF(O3457=\"\",\"\",IF(N3450=\"Transporte Marítimo\",VLOOKUP(O3457,$O$4030:$P$4035,2),IF(N3450=\"Transporte Aéreo\",VLOOKUP(O3457,$O$4037:$P$4042,2),IF(N3450=\"Transporte Aéreo\",VLOOKUP(O3457,$O$4044:$P$4045,2),\"\"))))","v":""},null,null,null,null,null,null,null,null,null,null,null,null,null,null,null,"",""]
[null,null,null,null,null,null,"",null,{"$f":"IF(H3461=\"\",\"\",ROUND(H3461/SUM(H3458:H3465),4))","v":""},null,null,null,null,null,null,{"$f":"+IF(O3461=\"\",\"\",IF(N3458=\"Transporte Marítimo\",VLOOKUP(O3461,$O$4030:$P$4035,2),IF(N3458=\"Transporte Aéreo\",VLOOKUP(O3461,$O$4037:$P$4042,2),IF(N3458=\"Transporte Aéreo\",VLOOKUP(O3461,$O$4044:$P$4045,2),\"\"))))","v":""},null,null,null,null,null,null,null,null,null,null,null,null,null,null,null,"",""]
[null,null,null,null,null,null,"",null,{"$f":"IF(H3464=\"\",\"\",ROUND(H3464/SUM(H3458:H3465),4))","v":""},null,null,null,null,null,null,{"$f":"+IF(O3464=\"\",\"\",IF(N3458=\"Transporte Marítimo\",VLOOKUP(O3464,$O$4030:$P$4035,2),IF(N3458=\"Transporte Aéreo\",VLOOKUP(O3464,$O$4037:$P$4042,2),IF(N3458=\"Transporte Aéreo\",VLOOKUP(O3464,$O$4044:$P$4045,2),\"\"))))","v":""},null,null,null,null,null,null,null,null,null,null,null,null,null,null,null,"",""]
[null,null,null,null,null,null,"",null,{"$f":"IF(H3468=\"\",\"\",ROUND(H3468/SUM(H3466:H3473),4))","v":""},null,null,null,null,null,null,{"$f":"+IF(O3468=\"\",\"\",IF(N3466=\"Transporte Marítimo\",VLOOKUP(O3468,$O$4030:$P$4035,2),IF(N3466=\"Transporte Aéreo\",VLOOKUP(O3468,$O$4037:$P$4042,2),IF(N3466=\"Transporte Aéreo\",VLOOKUP(O3468,$O$4044:$P$4045,2),\"\"))))","v":""},null,null,null,null,null,null,null,null,null,null,null,null,null,null,null,"",""]
[null,null,null,null,null,null,"",null,{"$f":"IF(H3471=\"\",\"\",ROUND(H3471/SUM(H3466:H3473),4))","v":""},null,null,null,null,null,null,{"$f":"+IF(O3471=\"\",\"\",IF(N3466=\"Transporte Marítimo\",VLOOKUP(O3471,$O$4030:$P$4035,2),IF(N3466=\"Transporte Aéreo\",VLOOKUP(O3471,$O$4037:$P$4042,2),IF(N3466=\"Transporte Aéreo\",VLOOKUP(O3471,$O$4044:$P$4045,2),\"\"))))","v":""},null,null,null,null,null,null,null,null,null,null,null,null,null,null,null,"",""]
[null,null,null,null,null,null,"",null,{"$f":"IF(H3472=\"\",\"\",ROUND(H3472/SUM(H3466:H3473),4))","v":""},null,null,null,null,null,null,{"$f":"+IF(O3472=\"\",\"\",IF(N3466=\"Transporte Marítimo\",VLOOKUP(O3472,$O$4030:$P$4035,2),IF(N3466=\"Transporte Aéreo\",VLOOKUP(O3472,$O$4037:$P$4042,2),IF(N3466=\"Transporte Aéreo\",VLOOKUP(O3472,$O$4044:$P$4045,2),\"\"))))","v":""},null,null,null,null,null,null,null,null,null,null,null,null,null,null,null,"",""]
[null,{"$f":"+B3466+1","v":433},null,null,null,null,{"$f":"+IF(F3474=\"\",\"\",VLOOKUP(F3474,$F$4031:$G$4120,2))","v":""},null,{"$f":"IF(H3474=\"\",\"\",1-SUM(I3475:I3481))","v":""},null,null,null,null,null,null,{"$f":"+IF(O3474=\"\",\"\",IF(N3474=\"Transporte Marítimo\",VLOOKUP(O3474,$O$4030:$P$4035,2),IF(N3474=\"Transporte Aéreo\",VLOOKUP(O3474,$O$4037:$P$4042,2),IF(N3474=\"CTT\",VLOOKUP(O3474,$O$4044:$P$4045,2),\"\"))))","v":""},null,null,null,null,null,null,null,null,null,null,null,null,null,null,null,{"$f":"+IF(AE3474=\"20NL\",1,IF(AE3474=\"40NL\",2,IF(AE3474=\"20RF\",3,IF(AE3474=\"40RF\",4,\"\"))))","v":""},{"$f":"+IF(AF3474=\"\",\"\",VLOOKUP(AF3474,$AF$4031:$AG$4034,2))","v":""},null,null,null,null,null,null,null,null,null,null,null,null,null,null," "]
[null,null,null,null,null,null,"",null,{"$f":"IF(H3477=\"\",\"\",ROUND(H3477/SUM(H3474:H3481),4))","v":""},null,null,null,null,null,null,{"$f":"+IF(O3477=\"\",\"\",IF(N3474=\"Transporte Marítimo\",VLOOKUP(O3477,$O$4030:$P$4035,2),IF(N3474=\"Transporte Aéreo\",VLOOKUP(O3477,$O$4037:$P$4042,2),IF(N3474=\"Transporte Aéreo\",VLOOKUP(O3477,$O$4044:$P$4045,2),\"\"))))","v":""},null,null,null,null,null,null,null,null,null,null,null,null,null,null,null,"",""]
[null,null,null,null,null,null,"",null,{"$f":"IF(H3481=\"\",\"\",ROUND(H3481/SUM(H3474:H3481),4))","v":""},null,null,null,null,null,null,{"$f":"+IF(O3481=\"\",\"\",IF(N3474=\"Transporte Marítimo\",VLOOKUP(O3481,$O$4030:$P$4035,2),IF(N3474=\"Transporte Aéreo\",VLOOKUP(O3481,$O$4037:$P$4042,2),IF(N3474=\"Transporte Aéreo\",VLOOKUP(O3481,$O$4044:$P$4045,2),\"\"))))","v":""},null,null,null,null,null,null,null,null,null,null,null,null,null,null,null,"",""]
[null,null,null,null,null,null,"",null,{"$f":"IF(H3484=\"\",\"\",ROUND(H3484/SUM(H3482:H3489),4))","v":""},null,null,null,null,null,null,{"$f":"+IF(O3484=\"\",\"\",IF(N3482=\"Transporte Marítimo\",VLOOKUP(O3484,$O$4030:$P$4035,2),IF(N3482=\"Transporte Aéreo\",VLOOKUP(O3484,$O$4037:$P$4042,2),IF(N3482=\"Transporte Aéreo\",VLOOKUP(O3484,$O$4044:$P$4045,2),\"\"))))","v":""},null,null,null,null,null,null,null,null,null,null,null,null,null,null,null,"",""]
[null,null,null,null,null,null,"",null,{"$f":"IF(H3487=\"\",\"\",ROUND(H3487/SUM(H3482:H3489),4))","v":""},null,null,null,null,null,null,{"$f":"+IF(O3487=\"\",\"\",IF(N3482=\"Transporte Marítimo\",VLOOKUP(O3487,$O$4030:$P$4035,2),IF(N3482=\"Transporte Aéreo\",VLOOKUP(O3487,$O$4037:$P$4042,2),IF(N3482=\"Transporte Aéreo\",VLOOKUP(O3487,$O$4044:$P$4045,2),\"\"))))","v":""},null,null,null,null,null,null,null,null,null,null,null,null,null,null,null,"",""]
[null,null,null,null,null,null,"",null,{"$f":"IF(H3491=\"\",\"\",ROUND(H3491/SUM(H3490:H3497),4))","v":""},null,null,null,null,null,null,{"$f":"+IF(O3491=\"\",\"\",IF(N3490=\"Transporte Marítimo\",VLOOKUP(O3491,$O$4030:$P$4035,2),IF(N3490=\"Transporte Aéreo\",VLOOKUP(O3491,$O$4037:$P$4042,2),IF(N3490=\"Transporte Aéreo\",VLOOKUP(O3491,$O$4044:$P$4045,2),\"\"))))","v":""},null,null,null,null,null,null,null,null,null,null,null,null,null,null,null,{"$f":"+IF(AE3491=\"20NL\",1,IF(AE3491=\"40NL\",2,IF(AE3491=\"20RF\",3,IF(AE3491=\"40RF\",4,\"\"))))","v":""},""]
[null,null,null,null,null,null,"",null,{"$f":"IF(H3494=\"\",\"\",ROUND(H3494/SUM(H3490:H3497),4))","v":""},null,null,null,null,null,null,{"$f":"+IF(O3494=\"\",\"\",IF(N3490=\"Transporte Marítimo\",VLOOKUP(O3494,$O$4030:$P$4035,2),IF(N3490=\"Transporte Aéreo\",VLOOKUP(O3494,$O$4037:$P$4042,2),IF(N3490=\"Transporte Aéreo\",VLOOKUP(O3494,$O$4044:$P$4045,2),\"\"))))","v":""},null,null,null,null,null,null,null,null,null,null,null,null,null,null,null,"",""]
[null,null,null,null,null,null,"",null,{"$f":"IF(H3495=\"\",\"\",ROUND(H3495/SUM(H3490:H3497),4))","v":""},null,null,null,null,null,null,{"$f":"+IF(O3495=\"\",\"\",IF(N3490=\"Transporte Marítimo\",VLOOKUP(O3495,$O$4030:$P$4035,2),IF(N3490=\"Transporte Aéreo\",VLOOKUP(O3495,$O$4037:$P$4042,2),IF(N3490=\"Transporte Aéreo\",VLOOKUP(O3495,$O$4044:$P$4045,2),\"\"))))","v":""},null,null,null,null,null,null,null,null,null,null,null,null,null,null,null,"",""]
[null,null,null,null,null,null,"",null,{"$f":"IF(H3497=\"\",\"\",ROUND(H3497/SUM(H3490:H3497),4))","v":""},null,null,null,null,null,null,{"$f":"+IF(O3497=\"\",\"\",IF(N3490=\"Transporte Marítimo\",VLOOKUP(O3497,$O$4030:$P$4035,2),IF(N3490=\"Transporte Aéreo\",VLOOKUP(O3497,$O$4037:$P$4042,2),IF(N3490=\"Transporte Aéreo\",VLOOKUP(O3497,$O$4044:$P$4045,2),\"\"))))","v":""},null,null,null,null,null,null,null,null,null,null,null,null,null,null,null,"",""]
[null,null,null,null,null,null,"",null,{"$f":"IF(H3500=\"\",\"\",ROUND(H3500/SUM(H3498:H3505),4))","v":""},null,null,null,null,null,null,{"$f":"+IF(O3500=\"\",\"\",IF(N3498=\"Transporte Marítimo\",VLOOKUP(O3500,$O$4030:$P$4035,2),IF(N3498=\"Transporte Aéreo\",VLOOKUP(O3500,$O$4037:$P$4042,2),IF(N3498=\"Transporte Aéreo\",VLOOKUP(O3500,$O$4044:$P$4045,2),\"\"))))","v":""},null,null,null,null,null,null,null,null,null,null,null,null,null,null,null,"",""]
[null,null,null,null,null,null,"",null,{"$f":"IF(H3504=\"\",\"\",ROUND(H3504/SUM(H3498:H3505),4))","v":""},null,null,null,null,null,null,{"$f":"+IF(O3504=\"\",\"\",IF(N3498=\"Transporte Marítimo\",VLOOKUP(O3504,$O$4030:$P$4035,2),IF(N3498=\"Transporte Aéreo\",VLOOKUP(O3504,$O$4037:$P$4042,2),IF(N3498=\"Transporte Aéreo\",VLOOKUP(O3504,$O$4044:$P$4045,2),\"\"))))","v":""},null,null,null,null,null,null,null,null,null,null,null,null,null,null,null,"",""]
[null,null,null,null,null,null,"",null,{"$f":"IF(H3507=\"\",\"\",ROUND(H3507/SUM(H3506:H3513),4))","v":""},null,null,null,null,null,null,{"$f":"+IF(O3507=\"\",\"\",IF(N3506=\"Transporte Marítimo\",VLOOKUP(O3507,$O$4030:$P$4035,2),IF(N3506=\"Transporte Aéreo\",VLOOKUP(O3507,$O$4037:$P$4042,2),IF(N3506=\"Transporte Aéreo\",VLOOKUP(O3507,$O$4044:$P$4045,2),\"\"))))","v":""},null,null,null,null,null,null,null,null,null,null,null,null,null,null,null,{"$f":"+IF(AE3507=\"20NL\",1,IF(AE3507=\"40NL\",2,IF(AE3507=\"20RF\",3,IF(AE3507=\"40RF\",4,\"\"))))","v":""},""]
[null,null,null,null,null,null,"",null,{"$f":"IF(H3510=\"\",\"\",ROUND(H3510/SUM(H3506:H3513),4))","v":""},null,null,null,null,null,null,{"$f":"+IF(O3510=\"\",\"\",IF(N3506=\"Transporte Marítimo\",VLOOKUP(O3510,$O$4030:$P$4035,2),IF(N3506=\"Transporte Aéreo\",VLOOKUP(O3510,$O$4037:$P$4042,2),IF(N3506=\"Transporte Aéreo\",VLOOKUP(O3510,$O$4044:$P$4045,2),\"\"))))","v":""},null,null,null,null,null,null,null,null,null,null,null,null,null,null,null,"",""]
[null,{"$f":"+B3506+1","v":438},null,null,null,null,{"$f":"+IF(F3514=\"\",\"\",VLOOKUP(F3514,$F$4031:$G$4120,2))","v":""},null,{"$f":"IF(H3514=\"\",\"\",1-SUM(I3515:I3521))","v":""},null,null,null,null,null,null,{"$f":"+IF(O3514=\"\",\"\",IF(N3514=\"Transporte Marítimo\",VLOOKUP(O3514,$O$4030:$P$4035,2),IF(N3514=\"Transporte Aéreo\",VLOOKUP(O3514,$O$4037:$P$4042,2),IF(N3514=\"CTT\",VLOOKUP(O3514,$O$4044:$P$4045,2),\"\"))))","v":""},null,null,null,null,null,null,null,null,null,null,null,null,null,null,null,{"$f":"+IF(AE3514=\"20NL\",1,IF(AE3514=\"40NL\",2,IF(AE3514=\"20RF\",3,IF(AE3514=\"40RF\",4,\"\"))))","v":""},{"$f":"+IF(AF3514=\"\",\"\",VLOOKUP(AF3514,$AF$4031:$AG$4034,2))","v":""},null,null,null,null,null,null,null,null,null,null,null,null,null,null," "]
[null,null,null,null,null,null,"",null,{"$f":"IF(H3516=\"\",\"\",ROUND(H3516/SUM(H3514:H3521),4))","v":""},null,null,null,null,null,null,{"$f":"+IF(O3516=\"\",\"\",IF(N3514=\"Transporte Marítimo\",VLOOKUP(O3516,$O$4030:$P$4035,2),IF(N3514=\"Transporte Aéreo\",VLOOKUP(O3516,$O$4037:$P$4042,2),IF(N3514=\"Transporte Aéreo\",VLOOKUP(O3516,$O$4044:$P$4045,2),\"\"))))","v":""},null,null,null,null,null,null,null,null,null,null,null,null,null,null,null,"",""]
[null,null,null,null,null,null,"",null,{"$f":"IF(H3519=\"\",\"\",ROUND(H3519/SUM(H3514:H3521),4))","v":""},null,null,null,null,null,null,{"$f":"+IF(O3519=\"\",\"\",IF(N3514=\"Transporte Marítimo\",VLOOKUP(O3519,$O$4030:$P$4035,2),IF(N3514=\"Transporte Aéreo\",VLOOKUP(O3519,$O$4037:$P$4042,2),IF(N3514=\"Transporte Aéreo\",VLOOKUP(O3519,$O$4044:$P$4045,2),\"\"))))","v":""},null,null,null,null,null,null,null,null,null,null,null,null,null,null,null,"",""]
[null,null,null,null,null,null,"",null,{"$f":"IF(H3520=\"\",\"\",ROUND(H3520/SUM(H3514:H3521),4))","v":""},null,null,null,null,null,null,{"$f":"+IF(O3520=\"\",\"\",IF(N3514=\"Transporte Marítimo\",VLOOKUP(O3520,$O$4030:$P$4035,2),IF(N3514=\"Transporte Aéreo\",VLOOKUP(O3520,$O$4037:$P$4042,2),IF(N3514=\"Transporte Aéreo\",VLOOKUP(O3520,$O$4044:$P$4045,2),\"\"))))","v":""},null,null,null,null,null,null,null,null,null,null,null,null,null,null,null,"",""]
[null,null,null,null,null,null,{"$f":"+IF(F3523=\"\",\"\",VLOOKUP(F3523,$F$4031:$G$4120,2))","v":""},null,{"$f":"IF(H3523=\"\",\"\",ROUND(H3523/SUM(H3522:H3529),4))","v":""},null,null,null,null,null,null,{"$f":"+IF(O3523=\"\",\"\",IF(N3522=\"Transporte Marítimo\",VLOOKUP(O3523,$O$4030:$P$4035,2),IF(N3522=\"Transporte Aéreo\",VLOOKUP(O3523,$O$4037:$P$4042,2),IF(N3522=\"Transporte Aéreo\",VLOOKUP(O3523,$O$4044:$P$4045,2),\"\"))))","v":""},null,null,null,null,null,null,null,null,null,null,null,null,null,null,null,{"$f":"+IF(AE3523=\"20NL\",1,IF(AE3523=\"40NL\",2,IF(AE3523=\"20RF\",3,IF(AE3523=\"40RF\",4,\"\"))))","v":""},{"$f":"+IF(AF3523=\"\",\"\",VLOOKUP(AF3523,$AF$4031:$AG$4034,2))","v":""}]
[null,null,null,null,null,null,"",null,{"$f":"IF(H3527=\"\",\"\",ROUND(H3527/SUM(H3522:H3529),4))","v":""},null,null,null,null,null,null,{"$f":"+IF(O3527=\"\",\"\",IF(N3522=\"Transporte Marítimo\",VLOOKUP(O3527,$O$4030:$P$4035,2),IF(N3522=\"Transporte Aéreo\",VLOOKUP(O3527,$O$4037:$P$4042,2),IF(N3522=\"Transporte Aéreo\",VLOOKUP(O3527,$O$4044:$P$4045,2),\"\"))))","v":""},null,null,null,null,null,null,null,null,null,null,null,null,null,null,null,"",""]
[null,{"$f":"+B3522+1","v":440},null,null,null,null,{"$f":"+IF(F3530=\"\",\"\",VLOOKUP(F3530,$F$4031:$G$4120,2))","v":""},null,{"$f":"IF(H3530=\"\",\"\",1-SUM(I3531:I3537))","v":""},null,null,null,null,null,null,{"$f":"+IF(O3530=\"\",\"\",IF(N3530=\"Transporte Marítimo\",VLOOKUP(O3530,$O$4030:$P$4035,2),IF(N3530=\"Transporte Aéreo\",VLOOKUP(O3530,$O$4037:$P$4042,2),IF(N3530=\"CTT\",VLOOKUP(O3530,$O$4044:$P$4045,2),\"\"))))","v":""},null,null,null,null,null,null,null,null,null,null,null,null,null,null,null,{"$f":"+IF(AE3530=\"20NL\",1,IF(AE3530=\"40NL\",2,IF(AE3530=\"20RF\",3,IF(AE3530=\"40RF\",4,\"\"))))","v":""},{"$f":"+IF(AF3530=\"\",\"\",VLOOKUP(AF3530,$AF$4031:$AG$4034,2))","v":""},null,null,null,null,null,null,null,null,null,null,null,null,null,null," "]
[null,null,null,null,null,null,"",null,{"$f":"IF(H3533=\"\",\"\",ROUND(H3533/SUM(H3530:H3537),4))","v":""},null,null,null,null,null,null,{"$f":"+IF(O3533=\"\",\"\",IF(N3530=\"Transporte Marítimo\",VLOOKUP(O3533,$O$4030:$P$4035,2),IF(N3530=\"Transporte Aéreo\",VLOOKUP(O3533,$O$4037:$P$4042,2),IF(N3530=\"Transporte Aéreo\",VLOOKUP(O3533,$O$4044:$P$4045,2),\"\"))))","v":""},null,null,null,null,null,null,null,null,null,null,null,null,null,null,null,"",""]
[null,null,null,null,null,null,{"$f":"+IF(F3537=\"\",\"\",VLOOKUP(F3537,$F$4031:$G$4120,2))","v":""},null,{"$f":"IF(H3537=\"\",\"\",ROUND(H3537/SUM(H3530:H3537),4))","v":""},null,null,null,null,null,null,{"$f":"+IF(O3537=\"\",\"\",IF(N3530=\"Transporte Marítimo\",VLOOKUP(O3537,$O$4030:$P$4035,2),IF(N3530=\"Transporte Aéreo\",VLOOKUP(O3537,$O$4037:$P$4042,2),IF(N3530=\"Transporte Aéreo\",VLOOKUP(O3537,$O$4044:$P$4045,2),\"\"))))","v":""},null,null,null,null,null,null,null,null,null,null,null,null,null,null,null,"",""]
[null,null,null,null,null,null,{"$f":"+IF(F3539=\"\",\"\",VLOOKUP(F3539,$F$4031:$G$4120,2))","v":""},null,{"$f":"IF(H3539=\"\",\"\",ROUND(H3539/SUM(H3538:H3545),4))","v":""},null,null,null,null,null,null,{"$f":"+IF(O3539=\"\",\"\",IF(N3538=\"Transporte Marítimo\",VLOOKUP(O3539,$O$4030:$P$4035,2),IF(N3538=\"Transporte Aéreo\",VLOOKUP(O3539,$O$4037:$P$4042,2),IF(N3538=\"Transporte Aéreo\",VLOOKUP(O3539,$O$4044:$P$4045,2),\"\"))))","v":""},null,null,null,null,null,null,null,null,null,null,null,null,null,null,null,{"$f":"+IF(AE3539=\"20NL\",1,IF(AE3539=\"40NL\",2,IF(AE3539=\"20RF\",3,IF(AE3539=\"40RF\",4,\"\"))))","v":""},{"$f":"+IF(AF3539=\"\",\"\",VLOOKUP(AF3539,$AF$4031:$AG$4034,2))","v":""}]
[null,null,null,null,null,null,"",null,{"$f":"IF(H3540=\"\",\"\",ROUND(H3540/SUM(H3538:H3545),4))","v":""},null,null,null,null,null,null,{"$f":"+IF(O3540=\"\",\"\",IF(N3538=\"Transporte Marítimo\",VLOOKUP(O3540,$O$4030:$P$4035,2),IF(N3538=\"Transporte Aéreo\",VLOOKUP(O3540,$O$4037:$P$4042,2),IF(N3538=\"Transporte Aéreo\",VLOOKUP(O3540,$O$4044:$P$4045,2),\"\"))))","v":""},null,null,null,null,null,null,null,null,null,null,null,null,null,null,null,"",""]
[null,null,null,null,null,null,"",null,{"$f":"IF(H3543=\"\",\"\",ROUND(H3543/SUM(H3538:H3545),4))","v":""},null,null,null,null,null,null,{"$f":"+IF(O3543=\"\",\"\",IF(N3538=\"Transporte Marítimo\",VLOOKUP(O3543,$O$4030:$P$4035,2),IF(N3538=\"Transporte Aéreo\",VLOOKUP(O3543,$O$4037:$P$4042,2),IF(N3538=\"Transporte Aéreo\",VLOOKUP(O3543,$O$4044:$P$4045,2),\"\"))))","v":""},null,null,null,null,null,null,null,null,null,null,null,null,null,null,null,"",""]
[null,{"$f":"+B3538+1","v":442},null,null,null,null,{"$f":"+IF(F3546=\"\",\"\",VLOOKUP(F3546,$F$4031:$G$4120,2))","v":""},null,{"$f":"IF(H3546=\"\",\"\",1-SUM(I3547:I3553))","v":""},null,null,null,null,null,null,{"$f":"+IF(O3546=\"\",\"\",IF(N3546=\"Transporte Marítimo\",VLOOKUP(O3546,$O$4030:$P$4035,2),IF(N3546=\"Transporte Aéreo\",VLOOKUP(O3546,$O$4037:$P$4042,2),IF(N3546=\"CTT\",VLOOKUP(O3546,$O$4044:$P$4045,2),\"\"))))","v":""},null,null,null,null,null,null,null,null,null,null,null,null,null,null,null,{"$f":"+IF(AE3546=\"20NL\",1,IF(AE3546=\"40NL\",2,IF(AE3546=\"20RF\",3,IF(AE3546=\"40RF\",4,\"\"))))","v":""},{"$f":"+IF(AF3546=\"\",\"\",VLOOKUP(AF3546,$AF$4031:$AG$4034,2))","v":""},null,null,null,null,null,null,null,null,null,null,null,null,null,null," "]
[null,null,null,null,null,null,"",null,{"$f":"IF(H3550=\"\",\"\",ROUND(H3550/SUM(H3546:H3553),4))","v":""},null,null,null,null,null,null,{"$f":"+IF(O3550=\"\",\"\",IF(N3546=\"Transporte Marítimo\",VLOOKUP(O3550,$O$4030:$P$4035,2),IF(N3546=\"Transporte Aéreo\",VLOOKUP(O3550,$O$4037:$P$4042,2),IF(N3546=\"Transporte Aéreo\",VLOOKUP(O3550,$O$4044:$P$4045,2),\"\"))))","v":""},null,null,null,null,null,null,null,null,null,null,null,null,null,null,null,"",""]
[null,null,null,null,null,null,"",null,{"$f":"IF(H3553=\"\",\"\",ROUND(H3553/SUM(H3546:H3553),4))","v":""},null,null,null,null,null,null,{"$f":"+IF(O3553=\"\",\"\",IF(N3546=\"Transporte Marítimo\",VLOOKUP(O3553,$O$4030:$P$4035,2),IF(N3546=\"Transporte Aéreo\",VLOOKUP(O3553,$O$4037:$P$4042,2),IF(N3546=\"Transporte Aéreo\",VLOOKUP(O3553,$O$4044:$P$4045,2),\"\"))))","v":""},null,null,null,null,null,null,null,null,null,null,null,null,null,null,null,"",""]
[null,null,null,null,null,null,"",null,{"$f":"IF(H3556=\"\",\"\",ROUND(H3556/SUM(H3554:H3561),4))","v":""},null,null,null,null,null,null,{"$f":"+IF(O3556=\"\",\"\",IF(N3554=\"Transporte Marítimo\",VLOOKUP(O3556,$O$4030:$P$4035,2),IF(N3554=\"Transporte Aéreo\",VLOOKUP(O3556,$O$4037:$P$4042,2),IF(N3554=\"Transporte Aéreo\",VLOOKUP(O3556,$O$4044:$P$4045,2),\"\"))))","v":""},null,null,null,null,null,null,null,null,null,null,null,null,null,null,null,"",""]
[null,null,null,null,null,null,"",null,{"$f":"IF(H3560=\"\",\"\",ROUND(H3560/SUM(H3554:H3561),4))","v":""},null,null,null,null,null,null,{"$f":"+IF(O3560=\"\",\"\",IF(N3554=\"Transporte Marítimo\",VLOOKUP(O3560,$O$4030:$P$4035,2),IF(N3554=\"Transporte Aéreo\",VLOOKUP(O3560,$O$4037:$P$4042,2),IF(N3554=\"Transporte Aéreo\",VLOOKUP(O3560,$O$4044:$P$4045,2),\"\"))))","v":""},null,null,null,null,null,null,null,null,null,null,null,null,null,null,null,"",""]
[null,{"$f":"+B3554+1","v":444},null,null,null,null,{"$f":"+IF(F3562=\"\",\"\",VLOOKUP(F3562,$F$4031:$G$4120,2))","v":""},null,{"$f":"IF(H3562=\"\",\"\",1-SUM(I3563:I3569))","v":""},null,null,null,null,null,null,{"$f":"+IF(O3562=\"\",\"\",IF(N3562=\"Transporte Marítimo\",VLOOKUP(O3562,$O$4030:$P$4035,2),IF(N3562=\"Transporte Aéreo\",VLOOKUP(O3562,$O$4037:$P$4042,2),IF(N3562=\"CTT\",VLOOKUP(O3562,$O$4044:$P$4045,2),\"\"))))","v":""},null,null,null,null,null,null,null,null,null,null,null,null,null,null,null,{"$f":"+IF(AE3562=\"20NL\",1,IF(AE3562=\"40NL\",2,IF(AE3562=\"20RF\",3,IF(AE3562=\"40RF\",4,\"\"))))","v":""},{"$f":"+IF(AF3562=\"\",\"\",VLOOKUP(AF3562,$AF$4031:$AG$4034,2))","v":""},null,null,null,null,null,null,null,null,null,null,null,null,null,null," "]
[null,null,null,null,null,null,"",null,{"$f":"IF(H3563=\"\",\"\",ROUND(H3563/SUM(H3562:H3569),4))","v":""},null,null,null,null,null,null,{"$f":"+IF(O3563=\"\",\"\",IF(N3562=\"Transporte Marítimo\",VLOOKUP(O3563,$O$4030:$P$4035,2),IF(N3562=\"Transporte Aéreo\",VLOOKUP(O3563,$O$4037:$P$4042,2),IF(N3562=\"Transporte Aéreo\",VLOOKUP(O3563,$O$4044:$P$4045,2),\"\"))))","v":""},null,null,null,null,null,null,null,null,null,null,null,null,null,null,null,{"$f":"+IF(AE3563=\"20NL\",1,IF(AE3563=\"40NL\",2,IF(AE3563=\"20RF\",3,IF(AE3563=\"40RF\",4,\"\"))))","v":""},""]
[null,null,null,null,null,null,"",null,{"$f":"IF(H3566=\"\",\"\",ROUND(H3566/SUM(H3562:H3569),4))","v":""},null,null,null,null,null,null,{"$f":"+IF(O3566=\"\",\"\",IF(N3562=\"Transporte Marítimo\",VLOOKUP(O3566,$O$4030:$P$4035,2),IF(N3562=\"Transporte Aéreo\",VLOOKUP(O3566,$O$4037:$P$4042,2),IF(N3562=\"Transporte Aéreo\",VLOOKUP(O3566,$O$4044:$P$4045,2),\"\"))))","v":""},null,null,null,null,null,null,null,null,null,null,null,null,null,null,null,"",""]
[null,null,null,null,null,null,"",null,{"$f":"IF(H3569=\"\",\"\",ROUND(H3569/SUM(H3562:H3569),4))","v":""},null,null,null,null,null,null,{"$f":"+IF(O3569=\"\",\"\",IF(N3562=\"Transporte Marítimo\",VLOOKUP(O3569,$O$4030:$P$4035,2),IF(N3562=\"Transporte Aéreo\",VLOOKUP(O3569,$O$4037:$P$4042,2),IF(N3562=\"Transporte Aéreo\",VLOOKUP(O3569,$O$4044:$P$4045,2),\"\"))))","v":""},null,null,null,null,null,null,null,null,null,null,null,null,null,null,null,"",""]
[null,null,null,null,null,null,"",null,{"$f":"IF(H3573=\"\",\"\",ROUND(H3573/SUM(H3570:H3577),4))","v":""},null,null,null,null,null,null,{"$f":"+IF(O3573=\"\",\"\",IF(N3570=\"Transporte Marítimo\",VLOOKUP(O3573,$O$4030:$P$4035,2),IF(N3570=\"Transporte Aéreo\",VLOOKUP(O3573,$O$4037:$P$4042,2),IF(N3570=\"Transporte Aéreo\",VLOOKUP(O3573,$O$4044:$P$4045,2),\"\"))))","v":""},null,null,null,null,null,null,null,null,null,null,null,null,null,null,null,"",""]
[null,null,null,null,null,null,"",null,{"$f":"IF(H3576=\"\",\"\",ROUND(H3576/SUM(H3570:H3577),4))","v":""},null,null,null,null,null,null,{"$f":"+IF(O3576=\"\",\"\",IF(N3570=\"Transporte Marítimo\",VLOOKUP(O3576,$O$4030:$P$4035,2),IF(N3570=\"Transporte Aéreo\",VLOOKUP(O3576,$O$4037:$P$4042,2),IF(N3570=\"Transporte Aéreo\",VLOOKUP(O3576,$O$4044:$P$4045,2),\"\"))))","v":""},null,null,null,null,null,null,null,null,null,null,null,null,null,null,null,"",""]
[null,null,null,null,null,null,"",null,{"$f":"IF(H3580=\"\",\"\",ROUND(H3580/SUM(H3578:H3585),4))","v":""},null,null,null,null,null,null,{"$f":"+IF(O3580=\"\",\"\",IF(N3578=\"Transporte Marítimo\",VLOOKUP(O3580,$O$4030:$P$4035,2),IF(N3578=\"Transporte Aéreo\",VLOOKUP(O3580,$O$4037:$P$4042,2),IF(N3578=\"Transporte Aéreo\",VLOOKUP(O3580,$O$4044:$P$4045,2),\"\"))))","v":""},null,null,null,null,null,null,null,null,null,null,null,null,null,null,null,"",""]
[null,null,null,null,null,null,"",null,{"$f":"IF(H3583=\"\",\"\",ROUND(H3583/SUM(H3578:H3585),4))","v":""},null,null,null,null,null,null,{"$f":"+IF(O3583=\"\",\"\",IF(N3578=\"Transporte Marítimo\",VLOOKUP(O3583,$O$4030:$P$4035,2),IF(N3578=\"Transporte Aéreo\",VLOOKUP(O3583,$O$4037:$P$4042,2),IF(N3578=\"Transporte Aéreo\",VLOOKUP(O3583,$O$4044:$P$4045,2),\"\"))))","v":""},null,null,null,null,null,null,null,null,null,null,null,null,null,null,null,"",""]
[null,null,null,null,null,null,"",null,{"$f":"IF(H3585=\"\",\"\",ROUND(H3585/SUM(H3578:H3585),4))","v":""},null,null,null,null,null,null,{"$f":"+IF(O3585=\"\",\"\",IF(N3578=\"Transporte Marítimo\",VLOOKUP(O3585,$O$4030:$P$4035,2),IF(N3578=\"Transporte Aéreo\",VLOOKUP(O3585,$O$4037:$P$4042,2),IF(N3578=\"Transporte Aéreo\",VLOOKUP(O3585,$O$4044:$P$4045,2),\"\"))))","v":""},null,null,null,null,null,null,null,null,null,null,null,null,null,null,null,"",""]
[null,{"$f":"+B3578+1","v":447},null,null,null,null,{"$f":"+IF(F3586=\"\",\"\",VLOOKUP(F3586,$F$4031:$G$4120,2))","v":""},null,{"$f":"IF(H3586=\"\",\"\",1-SUM(I3587:I3593))","v":""},null,null,null,null,null,null,{"$f":"+IF(O3586=\"\",\"\",IF(N3586=\"Transporte Marítimo\",VLOOKUP(O3586,$O$4030:$P$4035,2),IF(N3586=\"Transporte Aéreo\",VLOOKUP(O3586,$O$4037:$P$4042,2),IF(N3586=\"CTT\",VLOOKUP(O3586,$O$4044:$P$4045,2),\"\"))))","v":""},null,null,null,null,null,null,null,null,null,null,null,null,null,null,null,{"$f":"+IF(AE3586=\"20NL\",1,IF(AE3586=\"40NL\",2,IF(AE3586=\"20RF\",3,IF(AE3586=\"40RF\",4,\"\"))))","v":""},{"$f":"+IF(AF3586=\"\",\"\",VLOOKUP(AF3586,$AF$4031:$AG$4034,2))","v":""},null,null,null,null,null,null,null,null,null,null,null,null,null,null," "]
[null,null,null,null,null,null,"",null,{"$f":"IF(H3589=\"\",\"\",ROUND(H3589/SUM(H3586:H3593),4))","v":""},null,null,null,null,null,null,{"$f":"+IF(O3589=\"\",\"\",IF(N3586=\"Transporte Marítimo\",VLOOKUP(O3589,$O$4030:$P$4035,2),IF(N3586=\"Transporte Aéreo\",VLOOKUP(O3589,$O$4037:$P$4042,2),IF(N3586=\"Transporte Aéreo\",VLOOKUP(O3589,$O$4044:$P$4045,2),\"\"))))","v":""},null,null,null,null,null,null,null,null,null,null,null,null,null,null,null,"",""]
[null,null,null,null,null,null,"",null,{"$f":"IF(H3592=\"\",\"\",ROUND(H3592/SUM(H3586:H3593),4))","v":""},null,null,null,null,null,null,{"$f":"+IF(O3592=\"\",\"\",IF(N3586=\"Transporte Marítimo\",VLOOKUP(O3592,$O$4030:$P$4035,2),IF(N3586=\"Transporte Aéreo\",VLOOKUP(O3592,$O$4037:$P$4042,2),IF(N3586=\"Transporte Aéreo\",VLOOKUP(O3592,$O$4044:$P$4045,2),\"\"))))","v":""},null,null,null,null,null,null,null,null,null,null,null,null,null,null,null,"",""]
[null,null,null,null,null,null,"",null,{"$f":"IF(H3596=\"\",\"\",ROUND(H3596/SUM(H3594:H3601),4))","v":""},null,null,null,null,null,null,{"$f":"+IF(O3596=\"\",\"\",IF(N3594=\"Transporte Marítimo\",VLOOKUP(O3596,$O$4030:$P$4035,2),IF(N3594=\"Transporte Aéreo\",VLOOKUP(O3596,$O$4037:$P$4042,2),IF(N3594=\"Transporte Aéreo\",VLOOKUP(O3596,$O$4044:$P$4045,2),\"\"))))","v":""},null,null,null,null,null,null,null,null,null,null,null,null,null,null,null,"",""]
[null,null,null,null,null,null,"",null,{"$f":"IF(H3599=\"\",\"\",ROUND(H3599/SUM(H3594:H3601),4))","v":""},null,null,null,null,null,null,{"$f":"+IF(O3599=\"\",\"\",IF(N3594=\"Transporte Marítimo\",VLOOKUP(O3599,$O$4030:$P$4035,2),IF(N3594=\"Transporte Aéreo\",VLOOKUP(O3599,$O$4037:$P$4042,2),IF(N3594=\"Transporte Aéreo\",VLOOKUP(O3599,$O$4044:$P$4045,2),\"\"))))","v":""},null,null,null,null,null,null,null,null,null,null,null,null,null,null,null,"",""]
[null,null,null,null,null,null,{"$f":"+IF(F3603=\"\",\"\",VLOOKUP(F3603,$F$4031:$G$4120,2))","v":""},null,{"$f":"IF(H3603=\"\",\"\",ROUND(H3603/SUM(H3602:H3609),4))","v":""},null,null,null,null,null,null,{"$f":"+IF(O3603=\"\",\"\",IF(N3602=\"Transporte Marítimo\",VLOOKUP(O3603,$O$4030:$P$4035,2),IF(N3602=\"Transporte Aéreo\",VLOOKUP(O3603,$O$4037:$P$4042,2),IF(N3602=\"Transporte Aéreo\",VLOOKUP(O3603,$O$4044:$P$4045,2),\"\"))))","v":""},null,null,null,null,null,null,null,null,null,null,null,null,null,null,null,{"$f":"+IF(AE3603=\"20NL\",1,IF(AE3603=\"40NL\",2,IF(AE3603=\"20RF\",3,IF(AE3603=\"40RF\",4,\"\"))))","v":""},{"$f":"+IF(AF3603=\"\",\"\",VLOOKUP(AF3603,$AF$4031:$AG$4034,2))","v":""}]
[null,null,null,null,null,null,"",null,{"$f":"IF(H3604=\"\",\"\",ROUND(H3604/SUM(H3602:H3609),4))","v":""},null,null,null,null,null,null,{"$f":"+IF(O3604=\"\",\"\",IF(N3602=\"Transporte Marítimo\",VLOOKUP(O3604,$O$4030:$P$4035,2),IF(N3602=\"Transporte Aéreo\",VLOOKUP(O3604,$O$4037:$P$4042,2),IF(N3602=\"Transporte Aéreo\",VLOOKUP(O3604,$O$4044:$P$4045,2),\"\"))))","v":""},null,null,null,null,null,null,null,null,null,null,null,null,null,null,null,"",""]
[null,null,null,null,null,null,"",null,{"$f":"IF(H3608=\"\",\"\",ROUND(H3608/SUM(H3602:H3609),4))","v":""},null,null,null,null,null,null,{"$f":"+IF(O3608=\"\",\"\",IF(N3602=\"Transporte Marítimo\",VLOOKUP(O3608,$O$4030:$P$4035,2),IF(N3602=\"Transporte Aéreo\",VLOOKUP(O3608,$O$4037:$P$4042,2),IF(N3602=\"Transporte Aéreo\",VLOOKUP(O3608,$O$4044:$P$4045,2),\"\"))))","v":""},null,null,null,null,null,null,null,null,null,null,null,null,null,null,null,"",""]
[null,null,null,null,null,null,"",null,{"$f":"IF(H3609=\"\",\"\",ROUND(H3609/SUM(H3602:H3609),4))","v":""},null,null,null,null,null,null,{"$f":"+IF(O3609=\"\",\"\",IF(N3602=\"Transporte Marítimo\",VLOOKUP(O3609,$O$4030:$P$4035,2),IF(N3602=\"Transporte Aéreo\",VLOOKUP(O3609,$O$4037:$P$4042,2),IF(N3602=\"Transporte Aéreo\",VLOOKUP(O3609,$O$4044:$P$4045,2),\"\"))))","v":""},null,null,null,null,null,null,null,null,null,null,null,null,null,null,null,"",""]
[null,null,null,null,null,null,"",null,{"$f":"IF(H3612=\"\",\"\",ROUND(H3612/SUM(H3610:H3617),4))","v":""},null,null,null,null,null,null,{"$f":"+IF(O3612=\"\",\"\",IF(N3610=\"Transporte Marítimo\",VLOOKUP(O3612,$O$4030:$P$4035,2),IF(N3610=\"Transporte Aéreo\",VLOOKUP(O3612,$O$4037:$P$4042,2),IF(N3610=\"Transporte Aéreo\",VLOOKUP(O3612,$O$4044:$P$4045,2),\"\"))))","v":""},null,null,null,null,null,null,null,null,null,null,null,null,null,null,null,"",""]
[null,null,null,null,null,null,"",null,{"$f":"IF(H3615=\"\",\"\",ROUND(H3615/SUM(H3610:H3617),4))","v":""},null,null,null,null,null,null,{"$f":"+IF(O3615=\"\",\"\",IF(N3610=\"Transporte Marítimo\",VLOOKUP(O3615,$O$4030:$P$4035,2),IF(N3610=\"Transporte Aéreo\",VLOOKUP(O3615,$O$4037:$P$4042,2),IF(N3610=\"Transporte Aéreo\",VLOOKUP(O3615,$O$4044:$P$4045,2),\"\"))))","v":""},null,null,null,null,null,null,null,null,null,null,null,null,null,null,null,"",""]
[null,null,null,null,null,null,{"$f":"+IF(F3619=\"\",\"\",VLOOKUP(F3619,$F$4031:$G$4120,2))","v":""},null,{"$f":"IF(H3619=\"\",\"\",ROUND(H3619/SUM(H3618:H3625),4))","v":""},null,null,null,null,null,null,{"$f":"+IF(O3619=\"\",\"\",IF(N3618=\"Transporte Marítimo\",VLOOKUP(O3619,$O$4030:$P$4035,2),IF(N3618=\"Transporte Aéreo\",VLOOKUP(O3619,$O$4037:$P$4042,2),IF(N3618=\"Transporte Aéreo\",VLOOKUP(O3619,$O$4044:$P$4045,2),\"\"))))","v":""},null,null,null,null,null,null,null,null,null,null,null,null,null,null,null,{"$f":"+IF(AE3619=\"20NL\",1,IF(AE3619=\"40NL\",2,IF(AE3619=\"20RF\",3,IF(AE3619=\"40RF\",4,\"\"))))","v":""},{"$f":"+IF(AF3619=\"\",\"\",VLOOKUP(AF3619,$AF$4031:$AG$4034,2))","v":""}]
[null,null,null,null,null,null,"",null,{"$f":"IF(H3622=\"\",\"\",ROUND(H3622/SUM(H3618:H3625),4))","v":""},null,null,null,null,null,null,{"$f":"+IF(O3622=\"\",\"\",IF(N3618=\"Transporte Marítimo\",VLOOKUP(O3622,$O$4030:$P$4035,2),IF(N3618=\"Transporte Aéreo\",VLOOKUP(O3622,$O$4037:$P$4042,2),IF(N3618=\"Transporte Aéreo\",VLOOKUP(O3622,$O$4044:$P$4045,2),\"\"))))","v":""},null,null,null,null,null,null,null,null,null,null,null,null,null,null,null,"",""]
[null,{"$f":"+B3618+1","v":452},null,null,null,null,{"$f":"+IF(F3626=\"\",\"\",VLOOKUP(F3626,$F$4031:$G$4120,2))","v":""},null,{"$f":"IF(H3626=\"\",\"\",1-SUM(I3627:I3633))","v":""},null,null,null,null,null,null,{"$f":"+IF(O3626=\"\",\"\",IF(N3626=\"Transporte Marítimo\",VLOOKUP(O3626,$O$4030:$P$4035,2),IF(N3626=\"Transporte Aéreo\",VLOOKUP(O3626,$O$4037:$P$4042,2),IF(N3626=\"CTT\",VLOOKUP(O3626,$O$4044:$P$4045,2),\"\"))))","v":""},null,null,null,null,null,null,null,null,null,null,null,null,null,null,null,{"$f":"+IF(AE3626=\"20NL\",1,IF(AE3626=\"40NL\",2,IF(AE3626=\"20RF\",3,IF(AE3626=\"40RF\",4,\"\"))))","v":""},{"$f":"+IF(AF3626=\"\",\"\",VLOOKUP(AF3626,$AF$4031:$AG$4034,2))","v":""},null,null,null,null,null,null,null,null,null,null,null,null,null,null," "]
[null,null,null,null,null,null,"",null,{"$f":"IF(H3627=\"\",\"\",ROUND(H3627/SUM(H3626:H3633),4))","v":""},null,null,null,null,null,null,{"$f":"+IF(O3627=\"\",\"\",IF(N3626=\"Transporte Marítimo\",VLOOKUP(O3627,$O$4030:$P$4035,2),IF(N3626=\"Transporte Aéreo\",VLOOKUP(O3627,$O$4037:$P$4042,2),IF(N3626=\"Transporte Aéreo\",VLOOKUP(O3627,$O$4044:$P$4045,2),\"\"))))","v":""},null,null,null,null,null,null,null,null,null,null,null,null,null,null,null,{"$f":"+IF(AE3627=\"20NL\",1,IF(AE3627=\"40NL\",2,IF(AE3627=\"20RF\",3,IF(AE3627=\"40RF\",4,\"\"))))","v":""},""]
[null,null,null,null,null,null,"",null,{"$f":"IF(H3631=\"\",\"\",ROUND(H3631/SUM(H3626:H3633),4))","v":""},null,null,null,null,null,null,{"$f":"+IF(O3631=\"\",\"\",IF(N3626=\"Transporte Marítimo\",VLOOKUP(O3631,$O$4030:$P$4035,2),IF(N3626=\"Transporte Aéreo\",VLOOKUP(O3631,$O$4037:$P$4042,2),IF(N3626=\"Transporte Aéreo\",VLOOKUP(O3631,$O$4044:$P$4045,2),\"\"))))","v":""},null,null,null,null,null,null,null,null,null,null,null,null,null,null,null,"",""]
[null,null,null,null,null,null,"",null,{"$f":"IF(H3632=\"\",\"\",ROUND(H3632/SUM(H3626:H3633),4))","v":""},null,null,null,null,null,null,{"$f":"+IF(O3632=\"\",\"\",IF(N3626=\"Transporte Marítimo\",VLOOKUP(O3632,$O$4030:$P$4035,2),IF(N3626=\"Transporte Aéreo\",VLOOKUP(O3632,$O$4037:$P$4042,2),IF(N3626=\"Transporte Aéreo\",VLOOKUP(O3632,$O$4044:$P$4045,2),\"\"))))","v":""},null,null,null,null,null,null,null,null,null,null,null,null,null,null,null,"",""]
[null,null,null,null,null,null,"",null,{"$f":"IF(H3635=\"\",\"\",ROUND(H3635/SUM(H3634:H3641),4))","v":""},null,null,null,null,null,null,{"$f":"+IF(O3635=\"\",\"\",IF(N3634=\"Transporte Marítimo\",VLOOKUP(O3635,$O$4030:$P$4035,2),IF(N3634=\"Transporte Aéreo\",VLOOKUP(O3635,$O$4037:$P$4042,2),IF(N3634=\"Transporte Aéreo\",VLOOKUP(O3635,$O$4044:$P$4045,2),\"\"))))","v":""},null,null,null,null,null,null,null,null,null,null,null,null,null,null,null,{"$f":"+IF(AE3635=\"20NL\",1,IF(AE3635=\"40NL\",2,IF(AE3635=\"20RF\",3,IF(AE3635=\"40RF\",4,\"\"))))","v":""},""]
[null,null,null,null,null,null,"",null,{"$f":"IF(H3639=\"\",\"\",ROUND(H3639/SUM(H3634:H3641),4))","v":""},null,null,null,null,null,null,{"$f":"+IF(O3639=\"\",\"\",IF(N3634=\"Transporte Marítimo\",VLOOKUP(O3639,$O$4030:$P$4035,2),IF(N3634=\"Transporte Aéreo\",VLOOKUP(O3639,$O$4037:$P$4042,2),IF(N3634=\"Transporte Aéreo\",VLOOKUP(O3639,$O$4044:$P$4045,2),\"\"))))","v":""},null,null,null,null,null,null,null,null,null,null,null,null,null,null,null,"",""]
[null,{"$f":"+B3634+1","v":454},null,null,null,null,{"$f":"+IF(F3642=\"\",\"\",VLOOKUP(F3642,$F$4031:$G$4120,2))","v":""},null,{"$f":"IF(H3642=\"\",\"\",1-SUM(I3643:I3649))","v":""},null,null,null,null,null,null,{"$f":"+IF(O3642=\"\",\"\",IF(N3642=\"Transporte Marítimo\",VLOOKUP(O3642,$O$4030:$P$4035,2),IF(N3642=\"Transporte Aéreo\",VLOOKUP(O3642,$O$4037:$P$4042,2),IF(N3642=\"CTT\",VLOOKUP(O3642,$O$4044:$P$4045,2),\"\"))))","v":""},null,null,null,null,null,null,null,null,null,null,null,null,null,null,null,{"$f":"+IF(AE3642=\"20NL\",1,IF(AE3642=\"40NL\",2,IF(AE3642=\"20RF\",3,IF(AE3642=\"40RF\",4,\"\"))))","v":""},{"$f":"+IF(AF3642=\"\",\"\",VLOOKUP(AF3642,$AF$4031:$AG$4034,2))","v":""},null,null,null,null,null,null,null,null,null,null,null,null,null,null," "]
[null,null,null,null,null,null,"",null,{"$f":"IF(H3645=\"\",\"\",ROUND(H3645/SUM(H3642:H3649),4))","v":""},null,null,null,null,null,null,{"$f":"+IF(O3645=\"\",\"\",IF(N3642=\"Transporte Marítimo\",VLOOKUP(O3645,$O$4030:$P$4035,2),IF(N3642=\"Transporte Aéreo\",VLOOKUP(O3645,$O$4037:$P$4042,2),IF(N3642=\"Transporte Aéreo\",VLOOKUP(O3645,$O$4044:$P$4045,2),\"\"))))","v":""},null,null,null,null,null,null,null,null,null,null,null,null,null,null,null,"",""]
[null,null,null,null,null,null,"",null,{"$f":"IF(H3649=\"\",\"\",ROUND(H3649/SUM(H3642:H3649),4))","v":""},null,null,null,null,null,null,{"$f":"+IF(O3649=\"\",\"\",IF(N3642=\"Transporte Marítimo\",VLOOKUP(O3649,$O$4030:$P$4035,2),IF(N3642=\"Transporte Aéreo\",VLOOKUP(O3649,$O$4037:$P$4042,2),IF(N3642=\"Transporte Aéreo\",VLOOKUP(O3649,$O$4044:$P$4045,2),\"\"))))","v":""},null,null,null,null,null,null,null,null,null,null,null,null,null,null,null,"",""]
[null,{"$f":"+B3642+1","v":455},null,null,null,null,{"$f":"+IF(F3650=\"\",\"\",VLOOKUP(F3650,$F$4031:$G$4120,2))","v":""},null,{"$f":"IF(H3650=\"\",\"\",1-SUM(I3651:I3657))","v":""},null,null,null,null,null,null,{"$f":"+IF(O3650=\"\",\"\",IF(N3650=\"Transporte Marítimo\",VLOOKUP(O3650,$O$4030:$P$4035,2),IF(N3650=\"Transporte Aéreo\",VLOOKUP(O3650,$O$4037:$P$4042,2),IF(N3650=\"CTT\",VLOOKUP(O3650,$O$4044:$P$4045,2),\"\"))))","v":""},null,null,null,null,null,null,null,null,null,null,null,null,null,null,null,{"$f":"+IF(AE3650=\"20NL\",1,IF(AE3650=\"40NL\",2,IF(AE3650=\"20RF\",3,IF(AE3650=\"40RF\",4,\"\"))))","v":""},{"$f":"+IF(AF3650=\"\",\"\",VLOOKUP(AF3650,$AF$4031:$AG$4034,2))","v":""},null,null,null,null,null,null,null,null,null,null,null,null,null,null," "]
[null,null,null,null,null,null,"",null,{"$f":"IF(H3654=\"\",\"\",ROUND(H3654/SUM(H3650:H3657),4))","v":""},null,null,null,null,null,null,{"$f":"+IF(O3654=\"\",\"\",IF(N3650=\"Transporte Marítimo\",VLOOKUP(O3654,$O$4030:$P$4035,2),IF(N3650=\"Transporte Aéreo\",VLOOKUP(O3654,$O$4037:$P$4042,2),IF(N3650=\"Transporte Aéreo\",VLOOKUP(O3654,$O$4044:$P$4045,2),\"\"))))","v":""},null,null,null,null,null,null,null,null,null,null,null,null,null,null,null,"",""]
[null,null,null,null,null,null,"",null,{"$f":"IF(H3655=\"\",\"\",ROUND(H3655/SUM(H3650:H3657),4))","v":""},null,null,null,null,null,null,{"$f":"+IF(O3655=\"\",\"\",IF(N3650=\"Transporte Marítimo\",VLOOKUP(O3655,$O$4030:$P$4035,2),IF(N3650=\"Transporte Aéreo\",VLOOKUP(O3655,$O$4037:$P$4042,2),IF(N3650=\"Transporte Aéreo\",VLOOKUP(O3655,$O$4044:$P$4045,2),\"\"))))","v":""},null,null,null,null,null,null,null,null,null,null,null,null,null,null,null,"",""]
[null,{"$f":"+B3650+1","v":456},null,null,null,null,{"$f":"+IF(F3658=\"\",\"\",VLOOKUP(F3658,$F$4031:$G$4120,2))","v":""},null,{"$f":"IF(H3658=\"\",\"\",1-SUM(I3659:I3665))","v":""},null,null,null,null,null,null,{"$f":"+IF(O3658=\"\",\"\",IF(N3658=\"Transporte Marítimo\",VLOOKUP(O3658,$O$4030:$P$4035,2),IF(N3658=\"Transporte Aéreo\",VLOOKUP(O3658,$O$4037:$P$4042,2),IF(N3658=\"CTT\",VLOOKUP(O3658,$O$4044:$P$4045,2),\"\"))))","v":""},null,null,null,null,null,null,null,null,null,null,null,null,null,null,null,{"$f":"+IF(AE3658=\"20NL\",1,IF(AE3658=\"40NL\",2,IF(AE3658=\"20RF\",3,IF(AE3658=\"40RF\",4,\"\"))))","v":""},{"$f":"+IF(AF3658=\"\",\"\",VLOOKUP(AF3658,$AF$4031:$AG$4034,2))","v":""},null,null,null,null,null,null,null,null,null,null,null,null,null,null," "]
[null,null,null,null,null,null,"",null,{"$f":"IF(H3662=\"\",\"\",ROUND(H3662/SUM(H3658:H3665),4))","v":""},null,null,null,null,null,null,{"$f":"+IF(O3662=\"\",\"\",IF(N3658=\"Transporte Marítimo\",VLOOKUP(O3662,$O$4030:$P$4035,2),IF(N3658=\"Transporte Aéreo\",VLOOKUP(O3662,$O$4037:$P$4042,2),IF(N3658=\"Transporte Aéreo\",VLOOKUP(O3662,$O$4044:$P$4045,2),\"\"))))","v":""},null,null,null,null,null,null,null,null,null,null,null,null,null,null,null,"",""]
[null,null,null,null,null,null,"",null,{"$f":"IF(H3665=\"\",\"\",ROUND(H3665/SUM(H3658:H3665),4))","v":""},null,null,null,null,null,null,{"$f":"+IF(O3665=\"\",\"\",IF(N3658=\"Transporte Marítimo\",VLOOKUP(O3665,$O$4030:$P$4035,2),IF(N3658=\"Transporte Aéreo\",VLOOKUP(O3665,$O$4037:$P$4042,2),IF(N3658=\"Transporte Aéreo\",VLOOKUP(O3665,$O$4044:$P$4045,2),\"\"))))","v":""},null,null,null,null,null,null,null,null,null,null,null,null,null,null,null,"",""]
[null,null,null,null,null,null,"",null,{"$f":"IF(H3668=\"\",\"\",ROUND(H3668/SUM(H3666:H3673),4))","v":""},null,null,null,null,null,null,{"$f":"+IF(O3668=\"\",\"\",IF(N3666=\"Transporte Marítimo\",VLOOKUP(O3668,$O$4030:$P$4035,2),IF(N3666=\"Transporte Aéreo\",VLOOKUP(O3668,$O$4037:$P$4042,2),IF(N3666=\"Transporte Aéreo\",VLOOKUP(O3668,$O$4044:$P$4045,2),\"\"))))","v":""},null,null,null,null,null,null,null,null,null,null,null,null,null,null,null,"",""]
[null,null,null,null,null,null,"",null,{"$f":"IF(H3671=\"\",\"\",ROUND(H3671/SUM(H3666:H3673),4))","v":""},null,null,null,null,null,null,{"$f":"+IF(O3671=\"\",\"\",IF(N3666=\"Transporte Marítimo\",VLOOKUP(O3671,$O$4030:$P$4035,2),IF(N3666=\"Transporte Aéreo\",VLOOKUP(O3671,$O$4037:$P$4042,2),IF(N3666=\"Transporte Aéreo\",VLOOKUP(O3671,$O$4044:$P$4045,2),\"\"))))","v":""},null,null,null,null,null,null,null,null,null,null,null,null,null,null,null,"",""]
[null,{"$f":"+B3666+1","v":458},null,null,null,null,{"$f":"+IF(F3674=\"\",\"\",VLOOKUP(F3674,$F$4031:$G$4120,2))","v":""},null,{"$f":"IF(H3674=\"\",\"\",1-SUM(I3675:I3681))","v":""},null,null,null,null,null,null,{"$f":"+IF(O3674=\"\",\"\",IF(N3674=\"Transporte Marítimo\",VLOOKUP(O3674,$O$4030:$P$4035,2),IF(N3674=\"Transporte Aéreo\",VLOOKUP(O3674,$O$4037:$P$4042,2),IF(N3674=\"CTT\",VLOOKUP(O3674,$O$4044:$P$4045,2),\"\"))))","v":""},null,null,null,null,null,null,null,null,null,null,null,null,null,null,null,{"$f":"+IF(AE3674=\"20NL\",1,IF(AE3674=\"40NL\",2,IF(AE3674=\"20RF\",3,IF(AE3674=\"40RF\",4,\"\"))))","v":""},{"$f":"+IF(AF3674=\"\",\"\",VLOOKUP(AF3674,$AF$4031:$AG$4034,2))","v":""},null,null,null,null,null,null,null,null,null,null,null,null,null,null," "]
[null,null,null,null,null,null,"",null,{"$f":"IF(H3677=\"\",\"\",ROUND(H3677/SUM(H3674:H3681),4))","v":""},null,null,null,null,null,null,{"$f":"+IF(O3677=\"\",\"\",IF(N3674=\"Transporte Marítimo\",VLOOKUP(O3677,$O$4030:$P$4035,2),IF(N3674=\"Transporte Aéreo\",VLOOKUP(O3677,$O$4037:$P$4042,2),IF(N3674=\"Transporte Aéreo\",VLOOKUP(O3677,$O$4044:$P$4045,2),\"\"))))","v":""},null,null,null,null,null,null,null,null,null,null,null,null,null,null,null,"",""]
[null,null,null,null,null,null,"",null,{"$f":"IF(H3678=\"\",\"\",ROUND(H3678/SUM(H3674:H3681),4))","v":""},null,null,null,null,null,null,{"$f":"+IF(O3678=\"\",\"\",IF(N3674=\"Transporte Marítimo\",VLOOKUP(O3678,$O$4030:$P$4035,2),IF(N3674=\"Transporte Aéreo\",VLOOKUP(O3678,$O$4037:$P$4042,2),IF(N3674=\"Transporte Aéreo\",VLOOKUP(O3678,$O$4044:$P$4045,2),\"\"))))","v":""},null,null,null,null,null,null,null,null,null,null,null,null,null,null,null,"",""]
[null,null,null,null,null,null,"",null,{"$f":"IF(H3681=\"\",\"\",ROUND(H3681/SUM(H3674:H3681),4))","v":""},null,null,null,null,null,null,{"$f":"+IF(O3681=\"\",\"\",IF(N3674=\"Transporte Marítimo\",VLOOKUP(O3681,$O$4030:$P$4035,2),IF(N3674=\"Transporte Aéreo\",VLOOKUP(O3681,$O$4037:$P$4042,2),IF(N3674=\"Transporte Aéreo\",VLOOKUP(O3681,$O$4044:$P$4045,2),\"\"))))","v":""},null,null,null,null,null,null,null,null,null,null,null,null,null,null,null,"",""]
[null,null,null,null,null,null,"",null,{"$f":"IF(H3685=\"\",\"\",ROUND(H3685/SUM(H3682:H3689),4))","v":""},null,null,null,null,null,null,{"$f":"+IF(O3685=\"\",\"\",IF(N3682=\"Transporte Marítimo\",VLOOKUP(O3685,$O$4030:$P$4035,2),IF(N3682=\"Transporte Aéreo\",VLOOKUP(O3685,$O$4037:$P$4042,2),IF(N3682=\"Transporte Aéreo\",VLOOKUP(O3685,$O$4044:$P$4045,2),\"\"))))","v":""},null,null,null,null,null,null,null,null,null,null,null,null,null,null,null,"",""]
[null,null,null,null,null,null,"",null,{"$f":"IF(H3688=\"\",\"\",ROUND(H3688/SUM(H3682:H3689),4))","v":""},null,null,null,null,null,null,{"$f":"+IF(O3688=\"\",\"\",IF(N3682=\"Transporte Marítimo\",VLOOKUP(O3688,$O$4030:$P$4035,2),IF(N3682=\"Transporte Aéreo\",VLOOKUP(O3688,$O$4037:$P$4042,2),IF(N3682=\"Transporte Aéreo\",VLOOKUP(O3688,$O$4044:$P$4045,2),\"\"))))","v":""},null,null,null,null,null,null,null,null,null,null,null,null,null,null,null,"",""]
[null,null,null,null,null,null,"",null,{"$f":"IF(H3691=\"\",\"\",ROUND(H3691/SUM(H3690:H3697),4))","v":""},null,null,null,null,null,null,{"$f":"+IF(O3691=\"\",\"\",IF(N3690=\"Transporte Marítimo\",VLOOKUP(O3691,$O$4030:$P$4035,2),IF(N3690=\"Transporte Aéreo\",VLOOKUP(O3691,$O$4037:$P$4042,2),IF(N3690=\"Transporte Aéreo\",VLOOKUP(O3691,$O$4044:$P$4045,2),\"\"))))","v":""},null,null,null,null,null,null,null,null,null,null,null,null,null,null,null,{"$f":"+IF(AE3691=\"20NL\",1,IF(AE3691=\"40NL\",2,IF(AE3691=\"20RF\",3,IF(AE3691=\"40RF\",4,\"\"))))","v":""},{"$f":"+IF(AF3691=\"\",\"\",VLOOKUP(AF3691,$AF$4031:$AG$4034,2))","v":""}]
[null,null,null,null,null,null,"",null,{"$f":"IF(H3694=\"\",\"\",ROUND(H3694/SUM(H3690:H3697),4))","v":""},null,null,null,null,null,null,{"$f":"+IF(O3694=\"\",\"\",IF(N3690=\"Transporte Marítimo\",VLOOKUP(O3694,$O$4030:$P$4035,2),IF(N3690=\"Transporte Aéreo\",VLOOKUP(O3694,$O$4037:$P$4042,2),IF(N3690=\"Transporte Aéreo\",VLOOKUP(O3694,$O$4044:$P$4045,2),\"\"))))","v":""},null,null,null,null,null,null,null,null,null,null,null,null,null,null,null,"",""]
[null,null,null,null,null,null,{"$f":"+IF(F3697=\"\",\"\",VLOOKUP(F3697,$F$4031:$G$4120,2))","v":""},null,{"$f":"IF(H3697=\"\",\"\",ROUND(H3697/SUM(H3690:H3697),4))","v":""},null,null,null,null,null,null,{"$f":"+IF(O3697=\"\",\"\",IF(N3690=\"Transporte Marítimo\",VLOOKUP(O3697,$O$4030:$P$4035,2),IF(N3690=\"Transporte Aéreo\",VLOOKUP(O3697,$O$4037:$P$4042,2),IF(N3690=\"Transporte Aéreo\",VLOOKUP(O3697,$O$4044:$P$4045,2),\"\"))))","v":""},null,null,null,null,null,null,null,null,null,null,null,null,null,null,null,"",""]
[null,{"$f":"+B3690+1","v":461},null,null,null,null,{"$f":"+IF(F3698=\"\",\"\",VLOOKUP(F3698,$F$4031:$G$4120,2))","v":""},null,{"$f":"IF(H3698=\"\",\"\",1-SUM(I3699:I3705))","v":""},null,null,null,null,null,null,{"$f":"+IF(O3698=\"\",\"\",IF(N3698=\"Transporte Marítimo\",VLOOKUP(O3698,$O$4030:$P$4035,2),IF(N3698=\"Transporte Aéreo\",VLOOKUP(O3698,$O$4037:$P$4042,2),IF(N3698=\"CTT\",VLOOKUP(O3698,$O$4044:$P$4045,2),\"\"))))","v":""},null,null,null,null,null,null,null,null,null,null,null,null,null,null,null,{"$f":"+IF(AE3698=\"20NL\",1,IF(AE3698=\"40NL\",2,IF(AE3698=\"20RF\",3,IF(AE3698=\"40RF\",4,\"\"))))","v":""},{"$f":"+IF(AF3698=\"\",\"\",VLOOKUP(AF3698,$AF$4031:$AG$4034,2))","v":""},null,null,null,null,null,null,null,null,null,null,null,null,null,null," "]
[null,null,null,null,null,null,"",null,{"$f":"IF(H3701=\"\",\"\",ROUND(H3701/SUM(H3698:H3705),4))","v":""},null,null,null,null,null,null,{"$f":"+IF(O3701=\"\",\"\",IF(N3698=\"Transporte Marítimo\",VLOOKUP(O3701,$O$4030:$P$4035,2),IF(N3698=\"Transporte Aéreo\",VLOOKUP(O3701,$O$4037:$P$4042,2),IF(N3698=\"Transporte Aéreo\",VLOOKUP(O3701,$O$4044:$P$4045,2),\"\"))))","v":""},null,null,null,null,null,null,null,null,null,null,null,null,null,null,null,"",""]
[null,null,null,null,null,null,"",null,{"$f":"IF(H3704=\"\",\"\",ROUND(H3704/SUM(H3698:H3705),4))","v":""},null,null,null,null,null,null,{"$f":"+IF(O3704=\"\",\"\",IF(N3698=\"Transporte Marítimo\",VLOOKUP(O3704,$O$4030:$P$4035,2),IF(N3698=\"Transporte Aéreo\",VLOOKUP(O3704,$O$4037:$P$4042,2),IF(N3698=\"Transporte Aéreo\",VLOOKUP(O3704,$O$4044:$P$4045,2),\"\"))))","v":""},null,null,null,null,null,null,null,null,null,null,null,null,null,null,null,"",""]
[null,null,null,null,null,null,"",null,{"$f":"IF(H3708=\"\",\"\",ROUND(H3708/SUM(H3706:H3713),4))","v":""},null,null,null,null,null,null,{"$f":"+IF(O3708=\"\",\"\",IF(N3706=\"Transporte Marítimo\",VLOOKUP(O3708,$O$4030:$P$4035,2),IF(N3706=\"Transporte Aéreo\",VLOOKUP(O3708,$O$4037:$P$4042,2),IF(N3706=\"Transporte Aéreo\",VLOOKUP(O3708,$O$4044:$P$4045,2),\"\"))))","v":""},null,null,null,null,null,null,null,null,null,null,null,null,null,null,null,"",""]
[null,null,null,null,null,null,"",null,{"$f":"IF(H3711=\"\",\"\",ROUND(H3711/SUM(H3706:H3713),4))","v":""},null,null,null,null,null,null,{"$f":"+IF(O3711=\"\",\"\",IF(N3706=\"Transporte Marítimo\",VLOOKUP(O3711,$O$4030:$P$4035,2),IF(N3706=\"Transporte Aéreo\",VLOOKUP(O3711,$O$4037:$P$4042,2),IF(N3706=\"Transporte Aéreo\",VLOOKUP(O3711,$O$4044:$P$4045,2),\"\"))))","v":""},null,null,null,null,null,null,null,null,null,null,null,null,null,null,null,"",""]
[null,{"$f":"+B3706+1","v":463},null,null,null,null,{"$f":"+IF(F3714=\"\",\"\",VLOOKUP(F3714,$F$4031:$G$4120,2))","v":""},null,{"$f":"IF(H3714=\"\",\"\",1-SUM(I3715:I3721))","v":""},null,null,null,null,null,null,{"$f":"+IF(O3714=\"\",\"\",IF(N3714=\"Transporte Marítimo\",VLOOKUP(O3714,$O$4030:$P$4035,2),IF(N3714=\"Transporte Aéreo\",VLOOKUP(O3714,$O$4037:$P$4042,2),IF(N3714=\"CTT\",VLOOKUP(O3714,$O$4044:$P$4045,2),\"\"))))","v":""},null,null,null,null,null,null,null,null,null,null,null,null,null,null,null,{"$f":"+IF(AE3714=\"20NL\",1,IF(AE3714=\"40NL\",2,IF(AE3714=\"20RF\",3,IF(AE3714=\"40RF\",4,\"\"))))","v":""},{"$f":"+IF(AF3714=\"\",\"\",VLOOKUP(AF3714,$AF$4031:$AG$4034,2))","v":""},null,null,null,null,null,null,null,null,null,null,null,null,null,null," "]
[null,null,null,null,null,null,"",null,{"$f":"IF(H3717=\"\",\"\",ROUND(H3717/SUM(H3714:H3721),4))","v":""},null,null,null,null,null,null,{"$f":"+IF(O3717=\"\",\"\",IF(N3714=\"Transporte Marítimo\",VLOOKUP(O3717,$O$4030:$P$4035,2),IF(N3714=\"Transporte Aéreo\",VLOOKUP(O3717,$O$4037:$P$4042,2),IF(N3714=\"Transporte Aéreo\",VLOOKUP(O3717,$O$4044:$P$4045,2),\"\"))))","v":""},null,null,null,null,null,null,null,null,null,null,null,null,null,null,null,"",""]
[null,null,null,null,null,null,"",null,{"$f":"IF(H3720=\"\",\"\",ROUND(H3720/SUM(H3714:H3721),4))","v":""},null,null,null,null,null,null,{"$f":"+IF(O3720=\"\",\"\",IF(N3714=\"Transporte Marítimo\",VLOOKUP(O3720,$O$4030:$P$4035,2),IF(N3714=\"Transporte Aéreo\",VLOOKUP(O3720,$O$4037:$P$4042,2),IF(N3714=\"Transporte Aéreo\",VLOOKUP(O3720,$O$4044:$P$4045,2),\"\"))))","v":""},null,null,null,null,null,null,null,null,null,null,null,null,null,null,null,"",""]
[null,null,null,null,null,null,"",null,{"$f":"IF(H3721=\"\",\"\",ROUND(H3721/SUM(H3714:H3721),4))","v":""},null,null,null,null,null,null,{"$f":"+IF(O3721=\"\",\"\",IF(N3714=\"Transporte Marítimo\",VLOOKUP(O3721,$O$4030:$P$4035,2),IF(N3714=\"Transporte Aéreo\",VLOOKUP(O3721,$O$4037:$P$4042,2),IF(N3714=\"Transporte Aéreo\",VLOOKUP(O3721,$O$4044:$P$4045,2),\"\"))))","v":""},null,null,null,null,null,null,null,null,null,null,null,null,null,null,null,"",""]
[null,null,null,null,null,null,"",null,{"$f":"IF(H3724=\"\",\"\",ROUND(H3724/SUM(H3722:H3729),4))","v":""},null,null,null,null,null,null,{"$f":"+IF(O3724=\"\",\"\",IF(N3722=\"Transporte Marítimo\",VLOOKUP(O3724,$O$4030:$P$4035,2),IF(N3722=\"Transporte Aéreo\",VLOOKUP(O3724,$O$4037:$P$4042,2),IF(N3722=\"Transporte Aéreo\",VLOOKUP(O3724,$O$4044:$P$4045,2),\"\"))))","v":""},null,null,null,null,null,null,null,null,null,null,null,null,null,null,null,"",""]
[null,null,null,null,null,null,"",null,{"$f":"IF(H3727=\"\",\"\",ROUND(H3727/SUM(H3722:H3729),4))","v":""},null,null,null,null,null,null,{"$f":"+IF(O3727=\"\",\"\",IF(N3722=\"Transporte Marítimo\",VLOOKUP(O3727,$O$4030:$P$4035,2),IF(N3722=\"Transporte Aéreo\",VLOOKUP(O3727,$O$4037:$P$4042,2),IF(N3722=\"Transporte Aéreo\",VLOOKUP(O3727,$O$4044:$P$4045,2),\"\"))))","v":""},null,null,null,null,null,null,null,null,null,null,null,null,null,null,null,"",""]
[null,null,null,null,null,null,"",null,{"$f":"IF(H3731=\"\",\"\",ROUND(H3731/SUM(H3730:H3737),4))","v":""},null,null,null,null,null,null,{"$f":"+IF(O3731=\"\",\"\",IF(N3730=\"Transporte Marítimo\",VLOOKUP(O3731,$O$4030:$P$4035,2),IF(N3730=\"Transporte Aéreo\",VLOOKUP(O3731,$O$4037:$P$4042,2),IF(N3730=\"Transporte Aéreo\",VLOOKUP(O3731,$O$4044:$P$4045,2),\"\"))))","v":""},null,null,null,null,null,null,null,null,null,null,null,null,null,null,null,{"$f":"+IF(AE3731=\"20NL\",1,IF(AE3731=\"40NL\",2,IF(AE3731=\"20RF\",3,IF(AE3731=\"40RF\",4,\"\"))))","v":""},""]
[null,null,null,null,null,null,"",null,{"$f":"IF(H3734=\"\",\"\",ROUND(H3734/SUM(H3730:H3737),4))","v":""},null,null,null,null,null,null,{"$f":"+IF(O3734=\"\",\"\",IF(N3730=\"Transporte Marítimo\",VLOOKUP(O3734,$O$4030:$P$4035,2),IF(N3730=\"Transporte Aéreo\",VLOOKUP(O3734,$O$4037:$P$4042,2),IF(N3730=\"Transporte Aéreo\",VLOOKUP(O3734,$O$4044:$P$4045,2),\"\"))))","v":""},null,null,null,null,null,null,null,null,null,null,null,null,null,null,null,"",""]
[null,null,null,null,null,null,"",null,{"$f":"IF(H3736=\"\",\"\",ROUND(H3736/SUM(H3730:H3737),4))","v":""},null,null,null,null,null,null,{"$f":"+IF(O3736=\"\",\"\",IF(N3730=\"Transporte Marítimo\",VLOOKUP(O3736,$O$4030:$P$4035,2),IF(N3730=\"Transporte Aéreo\",VLOOKUP(O3736,$O$4037:$P$4042,2),IF(N3730=\"Transporte Aéreo\",VLOOKUP(O3736,$O$4044:$P$4045,2),\"\"))))","v":""},null,null,null,null,null,null,null,null,null,null,null,null,null,null,null,"",""]
[null,null,null,null,null,null,"",null,{"$f":"IF(H3740=\"\",\"\",ROUND(H3740/SUM(H3738:H3745),4))","v":""},null,null,null,null,null,null,{"$f":"+IF(O3740=\"\",\"\",IF(N3738=\"Transporte Marítimo\",VLOOKUP(O3740,$O$4030:$P$4035,2),IF(N3738=\"Transporte Aéreo\",VLOOKUP(O3740,$O$4037:$P$4042,2),IF(N3738=\"Transporte Aéreo\",VLOOKUP(O3740,$O$4044:$P$4045,2),\"\"))))","v":""},null,null,null,null,null,null,null,null,null,null,null,null,null,null,null,"",""]
[null,null,null,null,null,null,"",null,{"$f":"IF(H3743=\"\",\"\",ROUND(H3743/SUM(H3738:H3745),4))","v":""},null,null,null,null,null,null,{"$f":"+IF(O3743=\"\",\"\",IF(N3738=\"Transporte Marítimo\",VLOOKUP(O3743,$O$4030:$P$4035,2),IF(N3738=\"Transporte Aéreo\",VLOOKUP(O3743,$O$4037:$P$4042,2),IF(N3738=\"Transporte Aéreo\",VLOOKUP(O3743,$O$4044:$P$4045,2),\"\"))))","v":""},null,null,null,null,null,null,null,null,null,null,null,null,null,null,null,"",""]
[null,null,null,null,null,null,"",null,{"$f":"IF(H3744=\"\",\"\",ROUND(H3744/SUM(H3738:H3745),4))","v":""},null,null,null,null,null,null,{"$f":"+IF(O3744=\"\",\"\",IF(N3738=\"Transporte Marítimo\",VLOOKUP(O3744,$O$4030:$P$4035,2),IF(N3738=\"Transporte Aéreo\",VLOOKUP(O3744,$O$4037:$P$4042,2),IF(N3738=\"Transporte Aéreo\",VLOOKUP(O3744,$O$4044:$P$4045,2),\"\"))))","v":""},null,null,null,null,null,null,null,null,null,null,null,null,null,null,null,"",""]
[null,null,null,null,null,null,"",null,{"$f":"IF(H3747=\"\",\"\",ROUND(H3747/SUM(H3746:H3753),4))","v":""},null,null,null,null,null,null,{"$f":"+IF(O3747=\"\",\"\",IF(N3746=\"Transporte Marítimo\",VLOOKUP(O3747,$O$4030:$P$4035,2),IF(N3746=\"Transporte Aéreo\",VLOOKUP(O3747,$O$4037:$P$4042,2),IF(N3746=\"Transporte Aéreo\",VLOOKUP(O3747,$O$4044:$P$4045,2),\"\"))))","v":""},null,null,null,null,null,null,null,null,null,null,null,null,null,null,null,{"$f":"+IF(AE3747=\"20NL\",1,IF(AE3747=\"40NL\",2,IF(AE3747=\"20RF\",3,IF(AE3747=\"40RF\",4,\"\"))))","v":""},""]
[null,null,null,null,null,null,"",null,{"$f":"IF(H3750=\"\",\"\",ROUND(H3750/SUM(H3746:H3753),4))","v":""},null,null,null,null,null,null,{"$f":"+IF(O3750=\"\",\"\",IF(N3746=\"Transporte Marítimo\",VLOOKUP(O3750,$O$4030:$P$4035,2),IF(N3746=\"Transporte Aéreo\",VLOOKUP(O3750,$O$4037:$P$4042,2),IF(N3746=\"Transporte Aéreo\",VLOOKUP(O3750,$O$4044:$P$4045,2),\"\"))))","v":""},null,null,null,null,null,null,null,null,null,null,null,null,null,null,null,"",""]
[null,{"$f":"+B3746+1","v":468},null,null,null,null,{"$f":"+IF(F3754=\"\",\"\",VLOOKUP(F3754,$F$4031:$G$4120,2))","v":""},null,{"$f":"IF(H3754=\"\",\"\",1-SUM(I3755:I3761))","v":""},null,null,null,null,null,null,{"$f":"+IF(O3754=\"\",\"\",IF(N3754=\"Transporte Marítimo\",VLOOKUP(O3754,$O$4030:$P$4035,2),IF(N3754=\"Transporte Aéreo\",VLOOKUP(O3754,$O$4037:$P$4042,2),IF(N3754=\"CTT\",VLOOKUP(O3754,$O$4044:$P$4045,2),\"\"))))","v":""},null,null,null,null,null,null,null,null,null,null,null,null,null,null,null,{"$f":"+IF(AE3754=\"20NL\",1,IF(AE3754=\"40NL\",2,IF(AE3754=\"20RF\",3,IF(AE3754=\"40RF\",4,\"\"))))","v":""},{"$f":"+IF(AF3754=\"\",\"\",VLOOKUP(AF3754,$AF$4031:$AG$4034,2))","v":""},null,null,null,null,null,null,null,null,null,null,null,null,null,null," "]
[null,null,null,null,null,null,"",null,{"$f":"IF(H3757=\"\",\"\",ROUND(H3757/SUM(H3754:H3761),4))","v":""},null,null,null,null,null,null,{"$f":"+IF(O3757=\"\",\"\",IF(N3754=\"Transporte Marítimo\",VLOOKUP(O3757,$O$4030:$P$4035,2),IF(N3754=\"Transporte Aéreo\",VLOOKUP(O3757,$O$4037:$P$4042,2),IF(N3754=\"Transporte Aéreo\",VLOOKUP(O3757,$O$4044:$P$4045,2),\"\"))))","v":""},null,null,null,null,null,null,null,null,null,null,null,null,null,null,null,"",""]
[null,null,null,null,null,null,"",null,{"$f":"IF(H3759=\"\",\"\",ROUND(H3759/SUM(H3754:H3761),4))","v":""},null,null,null,null,null,null,{"$f":"+IF(O3759=\"\",\"\",IF(N3754=\"Transporte Marítimo\",VLOOKUP(O3759,$O$4030:$P$4035,2),IF(N3754=\"Transporte Aéreo\",VLOOKUP(O3759,$O$4037:$P$4042,2),IF(N3754=\"Transporte Aéreo\",VLOOKUP(O3759,$O$4044:$P$4045,2),\"\"))))","v":""},null,null,null,null,null,null,null,null,null,null,null,null,null,null,null,"",""]
[null,null,null,null,null,null,{"$f":"+IF(F3763=\"\",\"\",VLOOKUP(F3763,$F$4031:$G$4120,2))","v":""},null,{"$f":"IF(H3763=\"\",\"\",ROUND(H3763/SUM(H3762:H3769),4))","v":""},null,null,null,null,null,null,{"$f":"+IF(O3763=\"\",\"\",IF(N3762=\"Transporte Marítimo\",VLOOKUP(O3763,$O$4030:$P$4035,2),IF(N3762=\"Transporte Aéreo\",VLOOKUP(O3763,$O$4037:$P$4042,2),IF(N3762=\"Transporte Aéreo\",VLOOKUP(O3763,$O$4044:$P$4045,2),\"\"))))","v":""},null,null,null,null,null,null,null,null,null,null,null,null,null,null,null,{"$f":"+IF(AE3763=\"20NL\",1,IF(AE3763=\"40NL\",2,IF(AE3763=\"20RF\",3,IF(AE3763=\"40RF\",4,\"\"))))","v":""},{"$f":"+IF(AF3763=\"\",\"\",VLOOKUP(AF3763,$AF$4031:$AG$4034,2))","v":""}]
[null,null,null,null,null,null,"",null,{"$f":"IF(H3766=\"\",\"\",ROUND(H3766/SUM(H3762:H3769),4))","v":""},null,null,null,null,null,null,{"$f":"+IF(O3766=\"\",\"\",IF(N3762=\"Transporte Marítimo\",VLOOKUP(O3766,$O$4030:$P$4035,2),IF(N3762=\"Transporte Aéreo\",VLOOKUP(O3766,$O$4037:$P$4042,2),IF(N3762=\"Transporte Aéreo\",VLOOKUP(O3766,$O$4044:$P$4045,2),\"\"))))","v":""},null,null,null,null,null,null,null,null,null,null,null,null,null,null,null,"",""]
[null,null,null,null,null,null,"",null,{"$f":"IF(H3767=\"\",\"\",ROUND(H3767/SUM(H3762:H3769),4))","v":""},null,null,null,null,null,null,{"$f":"+IF(O3767=\"\",\"\",IF(N3762=\"Transporte Marítimo\",VLOOKUP(O3767,$O$4030:$P$4035,2),IF(N3762=\"Transporte Aéreo\",VLOOKUP(O3767,$O$4037:$P$4042,2),IF(N3762=\"Transporte Aéreo\",VLOOKUP(O3767,$O$4044:$P$4045,2),\"\"))))","v":""},null,null,null,null,null,null,null,null,null,null,null,null,null,null,null,"",""]
[null,{"$f":"+B3762+1","v":470},null,null,null,null,{"$f":"+IF(F3770=\"\",\"\",VLOOKUP(F3770,$F$4031:$G$4120,2))","v":""},null,{"$f":"IF(H3770=\"\",\"\",1-SUM(I3771:I3777))","v":""},null,null,null,null,null,null,{"$f":"+IF(O3770=\"\",\"\",IF(N3770=\"Transporte Marítimo\",VLOOKUP(O3770,$O$4030:$P$4035,2),IF(N3770=\"Transporte Aéreo\",VLOOKUP(O3770,$O$4037:$P$4042,2),IF(N3770=\"CTT\",VLOOKUP(O3770,$O$4044:$P$4045,2),\"\"))))","v":""},null,null,null,null,null,null,null,null,null,null,null,null,null,null,null,{"$f":"+IF(AE3770=\"20NL\",1,IF(AE3770=\"40NL\",2,IF(AE3770=\"20RF\",3,IF(AE3770=\"40RF\",4,\"\"))))","v":""},{"$f":"+IF(AF3770=\"\",\"\",VLOOKUP(AF3770,$AF$4031:$AG$4034,2))","v":""},null,null,null,null,null,null,null,null,null,null,null,null,null,null," "]
[null,null,null,null,null,null,"",null,{"$f":"IF(H3773=\"\",\"\",ROUND(H3773/SUM(H3770:H3777),4))","v":""},null,null,null,null,null,null,{"$f":"+IF(O3773=\"\",\"\",IF(N3770=\"Transporte Marítimo\",VLOOKUP(O3773,$O$4030:$P$4035,2),IF(N3770=\"Transporte Aéreo\",VLOOKUP(O3773,$O$4037:$P$4042,2),IF(N3770=\"Transporte Aéreo\",VLOOKUP(O3773,$O$4044:$P$4045,2),\"\"))))","v":""},null,null,null,null,null,null,null,null,null,null,null,null,null,null,null,"",""]
[null,null,null,null,null,null,{"$f":"+IF(F3777=\"\",\"\",VLOOKUP(F3777,$F$4031:$G$4120,2))","v":""},null,{"$f":"IF(H3777=\"\",\"\",ROUND(H3777/SUM(H3770:H3777),4))","v":""},null,null,null,null,null,null,{"$f":"+IF(O3777=\"\",\"\",IF(N3770=\"Transporte Marítimo\",VLOOKUP(O3777,$O$4030:$P$4035,2),IF(N3770=\"Transporte Aéreo\",VLOOKUP(O3777,$O$4037:$P$4042,2),IF(N3770=\"Transporte Aéreo\",VLOOKUP(O3777,$O$4044:$P$4045,2),\"\"))))","v":""},null,null,null,null,null,null,null,null,null,null,null,null,null,null,null,"",""]
[null,null,null,null,null,null,"",null,{"$f":"IF(H3780=\"\",\"\",ROUND(H3780/SUM(H3778:H3785),4))","v":""},null,null,null,null,null,null,{"$f":"+IF(O3780=\"\",\"\",IF(N3778=\"Transporte Marítimo\",VLOOKUP(O3780,$O$4030:$P$4035,2),IF(N3778=\"Transporte Aéreo\",VLOOKUP(O3780,$O$4037:$P$4042,2),IF(N3778=\"Transporte Aéreo\",VLOOKUP(O3780,$O$4044:$P$4045,2),\"\"))))","v":""},null,null,null,null,null,null,null,null,null,null,null,null,null,null,null,"",""]
[null,null,null,null,null,null,"",null,{"$f":"IF(H3782=\"\",\"\",ROUND(H3782/SUM(H3778:H3785),4))","v":""},null,null,null,null,null,null,{"$f":"+IF(O3782=\"\",\"\",IF(N3778=\"Transporte Marítimo\",VLOOKUP(O3782,$O$4030:$P$4035,2),IF(N3778=\"Transporte Aéreo\",VLOOKUP(O3782,$O$4037:$P$4042,2),IF(N3778=\"Transporte Aéreo\",VLOOKUP(O3782,$O$4044:$P$4045,2),\"\"))))","v":""},null,null,null,null,null,null,null,null,null,null,null,null,null,null,null,"",""]
[null,{"$f":"+B3778+1","v":472},null,null,null,null,{"$f":"+IF(F3786=\"\",\"\",VLOOKUP(F3786,$F$4031:$G$4120,2))","v":""},null,{"$f":"IF(H3786=\"\",\"\",1-SUM(I3787:I3793))","v":""},null,null,null,null,null,null,{"$f":"+IF(O3786=\"\",\"\",IF(N3786=\"Transporte Marítimo\",VLOOKUP(O3786,$O$4030:$P$4035,2),IF(N3786=\"Transporte Aéreo\",VLOOKUP(O3786,$O$4037:$P$4042,2),IF(N3786=\"CTT\",VLOOKUP(O3786,$O$4044:$P$4045,2),\"\"))))","v":""},null,null,null,null,null,null,null,null,null,null,null,null,null,null,null,{"$f":"+IF(AE3786=\"20NL\",1,IF(AE3786=\"40NL\",2,IF(AE3786=\"20RF\",3,IF(AE3786=\"40RF\",4,\"\"))))","v":""},{"$f":"+IF(AF3786=\"\",\"\",VLOOKUP(AF3786,$AF$4031:$AG$4034,2))","v":""},null,null,null,null,null,null,null,null,null,null,null,null,null,null," "]
[null,null,null,null,null,null,"",null,{"$f":"IF(H3789=\"\",\"\",ROUND(H3789/SUM(H3786:H3793),4))","v":""},null,null,null,null,null,null,{"$f":"+IF(O3789=\"\",\"\",IF(N3786=\"Transporte Marítimo\",VLOOKUP(O3789,$O$4030:$P$4035,2),IF(N3786=\"Transporte Aéreo\",VLOOKUP(O3789,$O$4037:$P$4042,2),IF(N3786=\"Transporte Aéreo\",VLOOKUP(O3789,$O$4044:$P$4045,2),\"\"))))","v":""},null,null,null,null,null,null,null,null,null,null,null,null,null,null,null,"",""]
[null,null,null,null,null,null,"",null,{"$f":"IF(H3790=\"\",\"\",ROUND(H3790/SUM(H3786:H3793),4))","v":""},null,null,null,null,null,null,{"$f":"+IF(O3790=\"\",\"\",IF(N3786=\"Transporte Marítimo\",VLOOKUP(O3790,$O$4030:$P$4035,2),IF(N3786=\"Transporte Aéreo\",VLOOKUP(O3790,$O$4037:$P$4042,2),IF(N3786=\"Transporte Aéreo\",VLOOKUP(O3790,$O$4044:$P$4045,2),\"\"))))","v":""},null,null,null,null,null,null,null,null,null,null,null,null,null,null,null,"",""]
[null,null,null,null,null,null,"",null,{"$f":"IF(H3793=\"\",\"\",ROUND(H3793/SUM(H3786:H3793),4))","v":""},null,null,null,null,null,null,{"$f":"+IF(O3793=\"\",\"\",IF(N3786=\"Transporte Marítimo\",VLOOKUP(O3793,$O$4030:$P$4035,2),IF(N3786=\"Transporte Aéreo\",VLOOKUP(O3793,$O$4037:$P$4042,2),IF(N3786=\"Transporte Aéreo\",VLOOKUP(O3793,$O$4044:$P$4045,2),\"\"))))","v":""},null,null,null,null,null,null,null,null,null,null,null,null,null,null,null,"",""]
[null,null,null,null,null,null,"",null,{"$f":"IF(H3797=\"\",\"\",ROUND(H3797/SUM(H3794:H3801),4))","v":""},null,null,null,null,null,null,{"$f":"+IF(O3797=\"\",\"\",IF(N3794=\"Transporte Marítimo\",VLOOKUP(O3797,$O$4030:$P$4035,2),IF(N3794=\"Transporte Aéreo\",VLOOKUP(O3797,$O$4037:$P$4042,2),IF(N3794=\"Transporte Aéreo\",VLOOKUP(O3797,$O$4044:$P$4045,2),\"\"))))","v":""},null,null,null,null,null,null,null,null,null,null,null,null,null,null,null,"",""]
[null,null,null,null,null,null,"",null,{"$f":"IF(H3800=\"\",\"\",ROUND(H3800/SUM(H3794:H3801),4))","v":""},null,null,null,null,null,null,{"$f":"+IF(O3800=\"\",\"\",IF(N3794=\"Transporte Marítimo\",VLOOKUP(O3800,$O$4030:$P$4035,2),IF(N3794=\"Transporte Aéreo\",VLOOKUP(O3800,$O$4037:$P$4042,2),IF(N3794=\"Transporte Aéreo\",VLOOKUP(O3800,$O$4044:$P$4045,2),\"\"))))","v":""},null,null,null,null,null,null,null,null,null,null,null,null,null,null,null,"",""]
[null,null,null,null,null,null,"",null,{"$f":"IF(H3803=\"\",\"\",ROUND(H3803/SUM(H3802:H3809),4))","v":""},null,null,null,null,null,null,{"$f":"+IF(O3803=\"\",\"\",IF(N3802=\"Transporte Marítimo\",VLOOKUP(O3803,$O$4030:$P$4035,2),IF(N3802=\"Transporte Aéreo\",VLOOKUP(O3803,$O$4037:$P$4042,2),IF(N3802=\"Transporte Aéreo\",VLOOKUP(O3803,$O$4044:$P$4045,2),\"\"))))","v":""},null,null,null,null,null,null,null,null,null,null,null,null,null,null,null,{"$f":"+IF(AE3803=\"20NL\",1,IF(AE3803=\"40NL\",2,IF(AE3803=\"20RF\",3,IF(AE3803=\"40RF\",4,\"\"))))","v":""},""]
[null,null,null,null,null,null,"",null,{"$f":"IF(H3806=\"\",\"\",ROUND(H3806/SUM(H3802:H3809),4))","v":""},null,null,null,null,null,null,{"$f":"+IF(O3806=\"\",\"\",IF(N3802=\"Transporte Marítimo\",VLOOKUP(O3806,$O$4030:$P$4035,2),IF(N3802=\"Transporte Aéreo\",VLOOKUP(O3806,$O$4037:$P$4042,2),IF(N3802=\"Transporte Aéreo\",VLOOKUP(O3806,$O$4044:$P$4045,2),\"\"))))","v":""},null,null,null,null,null,null,null,null,null,null,null,null,null,null,null,"",""]
[null,null,null,null,null,null,"",null,{"$f":"IF(H3809=\"\",\"\",ROUND(H3809/SUM(H3802:H3809),4))","v":""},null,null,null,null,null,null,{"$f":"+IF(O3809=\"\",\"\",IF(N3802=\"Transporte Marítimo\",VLOOKUP(O3809,$O$4030:$P$4035,2),IF(N3802=\"Transporte Aéreo\",VLOOKUP(O3809,$O$4037:$P$4042,2),IF(N3802=\"Transporte Aéreo\",VLOOKUP(O3809,$O$4044:$P$4045,2),\"\"))))","v":""},null,null,null,null,null,null,null,null,null,null,null,null,null,null,null,"",""]
[null,null,null,null,null,null,"",null,{"$f":"IF(H3812=\"\",\"\",ROUND(H3812/SUM(H3810:H3817),4))","v":""},null,null,null,null,null,null,{"$f":"+IF(O3812=\"\",\"\",IF(N3810=\"Transporte Marítimo\",VLOOKUP(O3812,$O$4030:$P$4035,2),IF(N3810=\"Transporte Aéreo\",VLOOKUP(O3812,$O$4037:$P$4042,2),IF(N3810=\"Transporte Aéreo\",VLOOKUP(O3812,$O$4044:$P$4045,2),\"\"))))","v":""},null,null,null,null,null,null,null,null,null,null,null,null,null,null,null,"",""]
[null,null,null,null,null,null,"",null,{"$f":"IF(H3813=\"\",\"\",ROUND(H3813/SUM(H3810:H3817),4))","v":""},null,null,null,null,null,null,{"$f":"+IF(O3813=\"\",\"\",IF(N3810=\"Transporte Marítimo\",VLOOKUP(O3813,$O$4030:$P$4035,2),IF(N3810=\"Transporte Aéreo\",VLOOKUP(O3813,$O$4037:$P$4042,2),IF(N3810=\"Transporte Aéreo\",VLOOKUP(O3813,$O$4044:$P$4045,2),\"\"))))","v":""},null,null,null,null,null,null,null,null,null,null,null,null,null,null,null,"",""]
[null,null,null,null,null,null,"",null,{"$f":"IF(H3816=\"\",\"\",ROUND(H3816/SUM(H3810:H3817),4))","v":""},null,null,null,null,null,null,{"$f":"+IF(O3816=\"\",\"\",IF(N3810=\"Transporte Marítimo\",VLOOKUP(O3816,$O$4030:$P$4035,2),IF(N3810=\"Transporte Aéreo\",VLOOKUP(O3816,$O$4037:$P$4042,2),IF(N3810=\"Transporte Aéreo\",VLOOKUP(O3816,$O$4044:$P$4045,2),\"\"))))","v":""},null,null,null,null,null,null,null,null,null,null,null,null,null,null,null,"",""]
[null,null,null,null,null,null,"",null,{"$f":"IF(H3820=\"\",\"\",ROUND(H3820/SUM(H3818:H3825),4))","v":""},null,null,null,null,null,null,{"$f":"+IF(O3820=\"\",\"\",IF(N3818=\"Transporte Marítimo\",VLOOKUP(O3820,$O$4030:$P$4035,2),IF(N3818=\"Transporte Aéreo\",VLOOKUP(O3820,$O$4037:$P$4042,2),IF(N3818=\"Transporte Aéreo\",VLOOKUP(O3820,$O$4044:$P$4045,2),\"\"))))","v":""},null,null,null,null,null,null,null,null,null,null,null,null,null,null,null,"",""]
[null,null,null,null,null,null,"",null,{"$f":"IF(H3823=\"\",\"\",ROUND(H3823/SUM(H3818:H3825),4))","v":""},null,null,null,null,null,null,{"$f":"+IF(O3823=\"\",\"\",IF(N3818=\"Transporte Marítimo\",VLOOKUP(O3823,$O$4030:$P$4035,2),IF(N3818=\"Transporte Aéreo\",VLOOKUP(O3823,$O$4037:$P$4042,2),IF(N3818=\"Transporte Aéreo\",VLOOKUP(O3823,$O$4044:$P$4045,2),\"\"))))","v":""},null,null,null,null,null,null,null,null,null,null,null,null,null,null,null,"",""]
[null,{"$f":"+B3818+1","v":477},null,null,null,null,{"$f":"+IF(F3826=\"\",\"\",VLOOKUP(F3826,$F$4031:$G$4120,2))","v":""},null,{"$f":"IF(H3826=\"\",\"\",1-SUM(I3827:I3833))","v":""},null,null,null,null,null,null,{"$f":"+IF(O3826=\"\",\"\",IF(N3826=\"Transporte Marítimo\",VLOOKUP(O3826,$O$4030:$P$4035,2),IF(N3826=\"Transporte Aéreo\",VLOOKUP(O3826,$O$4037:$P$4042,2),IF(N3826=\"CTT\",VLOOKUP(O3826,$O$4044:$P$4045,2),\"\"))))","v":""},null,null,null,null,null,null,null,null,null,null,null,null,null,null,null,{"$f":"+IF(AE3826=\"20NL\",1,IF(AE3826=\"40NL\",2,IF(AE3826=\"20RF\",3,IF(AE3826=\"40RF\",4,\"\"))))","v":""},{"$f":"+IF(AF3826=\"\",\"\",VLOOKUP(AF3826,$AF$4031:$AG$4034,2))","v":""},null,null,null,null,null,null,null,null,null,null,null,null,null,null," "]
[null,null,null,null,null,null,"",null,{"$f":"IF(H3829=\"\",\"\",ROUND(H3829/SUM(H3826:H3833),4))","v":""},null,null,null,null,null,null,{"$f":"+IF(O3829=\"\",\"\",IF(N3826=\"Transporte Marítimo\",VLOOKUP(O3829,$O$4030:$P$4035,2),IF(N3826=\"Transporte Aéreo\",VLOOKUP(O3829,$O$4037:$P$4042,2),IF(N3826=\"Transporte Aéreo\",VLOOKUP(O3829,$O$4044:$P$4045,2),\"\"))))","v":""},null,null,null,null,null,null,null,null,null,null,null,null,null,null,null,"",""]
[null,null,null,null,null,null,"",null,{"$f":"IF(H3832=\"\",\"\",ROUND(H3832/SUM(H3826:H3833),4))","v":""},null,null,null,null,null,null,{"$f":"+IF(O3832=\"\",\"\",IF(N3826=\"Transporte Marítimo\",VLOOKUP(O3832,$O$4030:$P$4035,2),IF(N3826=\"Transporte Aéreo\",VLOOKUP(O3832,$O$4037:$P$4042,2),IF(N3826=\"Transporte Aéreo\",VLOOKUP(O3832,$O$4044:$P$4045,2),\"\"))))","v":""},null,null,null,null,null,null,null,null,null,null,null,null,null,null,null,"",""]
[null,null,null,null,null,null,"",null,{"$f":"IF(H3833=\"\",\"\",ROUND(H3833/SUM(H3826:H3833),4))","v":""},null,null,null,null,null,null,{"$f":"+IF(O3833=\"\",\"\",IF(N3826=\"Transporte Marítimo\",VLOOKUP(O3833,$O$4030:$P$4035,2),IF(N3826=\"Transporte Aéreo\",VLOOKUP(O3833,$O$4037:$P$4042,2),IF(N3826=\"Transporte Aéreo\",VLOOKUP(O3833,$O$4044:$P$4045,2),\"\"))))","v":""},null,null,null,null,null,null,null,null,null,null,null,null,null,null,null,"",""]
[null,null,null,null,null,null,"",null,{"$f":"IF(H3836=\"\",\"\",ROUND(H3836/SUM(H3834:H3841),4))","v":""},null,null,null,null,null,null,{"$f":"+IF(O3836=\"\",\"\",IF(N3834=\"Transporte Marítimo\",VLOOKUP(O3836,$O$4030:$P$4035,2),IF(N3834=\"Transporte Aéreo\",VLOOKUP(O3836,$O$4037:$P$4042,2),IF(N3834=\"Transporte Aéreo\",VLOOKUP(O3836,$O$4044:$P$4045,2),\"\"))))","v":""},null,null,null,null,null,null,null,null,null,null,null,null,null,null,null,"",""]
[null,null,null,null,null,null,"",null,{"$f":"IF(H3839=\"\",\"\",ROUND(H3839/SUM(H3834:H3841),4))","v":""},null,null,null,null,null,null,{"$f":"+IF(O3839=\"\",\"\",IF(N3834=\"Transporte Marítimo\",VLOOKUP(O3839,$O$4030:$P$4035,2),IF(N3834=\"Transporte Aéreo\",VLOOKUP(O3839,$O$4037:$P$4042,2),IF(N3834=\"Transporte Aéreo\",VLOOKUP(O3839,$O$4044:$P$4045,2),\"\"))))","v":""},null,null,null,null,null,null,null,null,null,null,null,null,null,null,null,"",""]
[null,null,null,null,null,null,{"$f":"+IF(F3843=\"\",\"\",VLOOKUP(F3843,$F$4031:$G$4120,2))","v":""},null,{"$f":"IF(H3843=\"\",\"\",ROUND(H3843/SUM(H3842:H3849),4))","v":""},null,null,null,null,null,null,{"$f":"+IF(O3843=\"\",\"\",IF(N3842=\"Transporte Marítimo\",VLOOKUP(O3843,$O$4030:$P$4035,2),IF(N3842=\"Transporte Aéreo\",VLOOKUP(O3843,$O$4037:$P$4042,2),IF(N3842=\"Transporte Aéreo\",VLOOKUP(O3843,$O$4044:$P$4045,2),\"\"))))","v":""},null,null,null,null,null,null,null,null,null,null,null,null,null,null,null,{"$f":"+IF(AE3843=\"20NL\",1,IF(AE3843=\"40NL\",2,IF(AE3843=\"20RF\",3,IF(AE3843=\"40RF\",4,\"\"))))","v":""},{"$f":"+IF(AF3843=\"\",\"\",VLOOKUP(AF3843,$AF$4031:$AG$4034,2))","v":""}]
[null,null,null,null,null,null,"",null,{"$f":"IF(H3846=\"\",\"\",ROUND(H3846/SUM(H3842:H3849),4))","v":""},null,null,null,null,null,null,{"$f":"+IF(O3846=\"\",\"\",IF(N3842=\"Transporte Marítimo\",VLOOKUP(O3846,$O$4030:$P$4035,2),IF(N3842=\"Transporte Aéreo\",VLOOKUP(O3846,$O$4037:$P$4042,2),IF(N3842=\"Transporte Aéreo\",VLOOKUP(O3846,$O$4044:$P$4045,2),\"\"))))","v":""},null,null,null,null,null,null,null,null,null,null,null,null,null,null,null,"",""]
[null,null,null,null,null,null,"",null,{"$f":"IF(H3849=\"\",\"\",ROUND(H3849/SUM(H3842:H3849),4))","v":""},null,null,null,null,null,null,{"$f":"+IF(O3849=\"\",\"\",IF(N3842=\"Transporte Marítimo\",VLOOKUP(O3849,$O$4030:$P$4035,2),IF(N3842=\"Transporte Aéreo\",VLOOKUP(O3849,$O$4037:$P$4042,2),IF(N3842=\"Transporte Aéreo\",VLOOKUP(O3849,$O$4044:$P$4045,2),\"\"))))","v":""},null,null,null,null,null,null,null,null,null,null,null,null,null,null,null,"",""]
[null,null,null,null,null,null,"",null,{"$f":"IF(H3852=\"\",\"\",ROUND(H3852/SUM(H3850:H3857),4))","v":""},null,null,null,null,null,null,{"$f":"+IF(O3852=\"\",\"\",IF(N3850=\"Transporte Marítimo\",VLOOKUP(O3852,$O$4030:$P$4035,2),IF(N3850=\"Transporte Aéreo\",VLOOKUP(O3852,$O$4037:$P$4042,2),IF(N3850=\"Transporte Aéreo\",VLOOKUP(O3852,$O$4044:$P$4045,2),\"\"))))","v":""},null,null,null,null,null,null,null,null,null,null,null,null,null,null,null,"",""]
[null,null,null,null,null,null,"",null,{"$f":"IF(H3855=\"\",\"\",ROUND(H3855/SUM(H3850:H3857),4))","v":""},null,null,null,null,null,null,{"$f":"+IF(O3855=\"\",\"\",IF(N3850=\"Transporte Marítimo\",VLOOKUP(O3855,$O$4030:$P$4035,2),IF(N3850=\"Transporte Aéreo\",VLOOKUP(O3855,$O$4037:$P$4042,2),IF(N3850=\"Transporte Aéreo\",VLOOKUP(O3855,$O$4044:$P$4045,2),\"\"))))","v":""},null,null,null,null,null,null,null,null,null,null,null,null,null,null,null,"",""]
[null,null,null,null,null,null,"",null,{"$f":"IF(H3856=\"\",\"\",ROUND(H3856/SUM(H3850:H3857),4))","v":""},null,null,null,null,null,null,{"$f":"+IF(O3856=\"\",\"\",IF(N3850=\"Transporte Marítimo\",VLOOKUP(O3856,$O$4030:$P$4035,2),IF(N3850=\"Transporte Aéreo\",VLOOKUP(O3856,$O$4037:$P$4042,2),IF(N3850=\"Transporte Aéreo\",VLOOKUP(O3856,$O$4044:$P$4045,2),\"\"))))","v":""},null,null,null,null,null,null,null,null,null,null,null,null,null,null,null,"",""]
[null,null,null,null,null,null,{"$f":"+IF(F3859=\"\",\"\",VLOOKUP(F3859,$F$4031:$G$4120,2))","v":""},null,{"$f":"IF(H3859=\"\",\"\",ROUND(H3859/SUM(H3858:H3865),4))","v":""},null,null,null,null,null,null,{"$f":"+IF(O3859=\"\",\"\",IF(N3858=\"Transporte Marítimo\",VLOOKUP(O3859,$O$4030:$P$4035,2),IF(N3858=\"Transporte Aéreo\",VLOOKUP(O3859,$O$4037:$P$4042,2),IF(N3858=\"Transporte Aéreo\",VLOOKUP(O3859,$O$4044:$P$4045,2),\"\"))))","v":""},null,null,null,null,null,null,null,null,null,null,null,null,null,null,null,{"$f":"+IF(AE3859=\"20NL\",1,IF(AE3859=\"40NL\",2,IF(AE3859=\"20RF\",3,IF(AE3859=\"40RF\",4,\"\"))))","v":""},{"$f":"+IF(AF3859=\"\",\"\",VLOOKUP(AF3859,$AF$4031:$AG$4034,2))","v":""}]
[null,null,null,null,null,null,"",null,{"$f":"IF(H3862=\"\",\"\",ROUND(H3862/SUM(H3858:H3865),4))","v":""},null,null,null,null,null,null,{"$f":"+IF(O3862=\"\",\"\",IF(N3858=\"Transporte Marítimo\",VLOOKUP(O3862,$O$4030:$P$4035,2),IF(N3858=\"Transporte Aéreo\",VLOOKUP(O3862,$O$4037:$P$4042,2),IF(N3858=\"Transporte Aéreo\",VLOOKUP(O3862,$O$4044:$P$4045,2),\"\"))))","v":""},null,null,null,null,null,null,null,null,null,null,null,null,null,null,null,"",""]
[null,{"$f":"+B3858+1","v":482},null,null,null,null,{"$f":"+IF(F3866=\"\",\"\",VLOOKUP(F3866,$F$4031:$G$4120,2))","v":""},null,{"$f":"IF(H3866=\"\",\"\",1-SUM(I3867:I3873))","v":""},null,null,null,null,null,null,{"$f":"+IF(O3866=\"\",\"\",IF(N3866=\"Transporte Marítimo\",VLOOKUP(O3866,$O$4030:$P$4035,2),IF(N3866=\"Transporte Aéreo\",VLOOKUP(O3866,$O$4037:$P$4042,2),IF(N3866=\"CTT\",VLOOKUP(O3866,$O$4044:$P$4045,2),\"\"))))","v":""},null,null,null,null,null,null,null,null,null,null,null,null,null,null,null,{"$f":"+IF(AE3866=\"20NL\",1,IF(AE3866=\"40NL\",2,IF(AE3866=\"20RF\",3,IF(AE3866=\"40RF\",4,\"\"))))","v":""},{"$f":"+IF(AF3866=\"\",\"\",VLOOKUP(AF3866,$AF$4031:$AG$4034,2))","v":""},null,null,null,null,null,null,null,null,null,null,null,null,null,null," "]
[null,null,null,null,null,null,"",null,{"$f":"IF(H3869=\"\",\"\",ROUND(H3869/SUM(H3866:H3873),4))","v":""},null,null,null,null,null,null,{"$f":"+IF(O3869=\"\",\"\",IF(N3866=\"Transporte Marítimo\",VLOOKUP(O3869,$O$4030:$P$4035,2),IF(N3866=\"Transporte Aéreo\",VLOOKUP(O3869,$O$4037:$P$4042,2),IF(N3866=\"Transporte Aéreo\",VLOOKUP(O3869,$O$4044:$P$4045,2),\"\"))))","v":""},null,null,null,null,null,null,null,null,null,null,null,null,null,null,null,"",""]
[null,null,null,null,null,null,"",null,{"$f":"IF(H3871=\"\",\"\",ROUND(H3871/SUM(H3866:H3873),4))","v":""},null,null,null,null,null,null,{"$f":"+IF(O3871=\"\",\"\",IF(N3866=\"Transporte Marítimo\",VLOOKUP(O3871,$O$4030:$P$4035,2),IF(N3866=\"Transporte Aéreo\",VLOOKUP(O3871,$O$4037:$P$4042,2),IF(N3866=\"Transporte Aéreo\",VLOOKUP(O3871,$O$4044:$P$4045,2),\"\"))))","v":""},null,null,null,null,null,null,null,null,null,null,null,null,null,null,null,"",""]
[null,null,null,null,null,null,"",null,{"$f":"IF(H3872=\"\",\"\",ROUND(H3872/SUM(H3866:H3873),4))","v":""},null,null,null,null,null,null,{"$f":"+IF(O3872=\"\",\"\",IF(N3866=\"Transporte Marítimo\",VLOOKUP(O3872,$O$4030:$P$4035,2),IF(N3866=\"Transporte Aéreo\",VLOOKUP(O3872,$O$4037:$P$4042,2),IF(N3866=\"Transporte Aéreo\",VLOOKUP(O3872,$O$4044:$P$4045,2),\"\"))))","v":""},null,null,null,null,null,null,null,null,null,null,null,null,null,null,null,"",""]
[null,null,null,null,null,null,"",null,{"$f":"IF(H3873=\"\",\"\",ROUND(H3873/SUM(H3866:H3873),4))","v":""},null,null,null,null,null,null,{"$f":"+IF(O3873=\"\",\"\",IF(N3866=\"Transporte Marítimo\",VLOOKUP(O3873,$O$4030:$P$4035,2),IF(N3866=\"Transporte Aéreo\",VLOOKUP(O3873,$O$4037:$P$4042,2),IF(N3866=\"Transporte Aéreo\",VLOOKUP(O3873,$O$4044:$P$4045,2),\"\"))))","v":""},null,null,null,null,null,null,null,null,null,null,null,null,null,null,null,"",""]
[null,{"$f":"+B3866+1","v":483},null,null,null,null,{"$f":"+IF(F3874=\"\",\"\",VLOOKUP(F3874,$F$4031:$G$4120,2))","v":""},null,{"$f":"IF(H3874=\"\",\"\",1-SUM(I3875:I3881))","v":""},null,null,null,null,null,null,{"$f":"+IF(O3874=\"\",\"\",IF(N3874=\"Transporte Marítimo\",VLOOKUP(O3874,$O$4030:$P$4035,2),IF(N3874=\"Transporte Aéreo\",VLOOKUP(O3874,$O$4037:$P$4042,2),IF(N3874=\"CTT\",VLOOKUP(O3874,$O$4044:$P$4045,2),\"\"))))","v":""},null,null,null,null,null,null,null,null,null,null,null,null,null,null,null,{"$f":"+IF(AE3874=\"20NL\",1,IF(AE3874=\"40NL\",2,IF(AE3874=\"20RF\",3,IF(AE3874=\"40RF\",4,\"\"))))","v":""},{"$f":"+IF(AF3874=\"\",\"\",VLOOKUP(AF3874,$AF$4031:$AG$4034,2))","v":""},null,null,null,null,null,null,null,null,null,null,null,null,null,null," "]
[null,null,null,null,null,null,"",null,{"$f":"IF(H3875=\"\",\"\",ROUND(H3875/SUM(H3874:H3881),4))","v":""},null,null,null,null,null,null,{"$f":"+IF(O3875=\"\",\"\",IF(N3874=\"Transporte Marítimo\",VLOOKUP(O3875,$O$4030:$P$4035,2),IF(N3874=\"Transporte Aéreo\",VLOOKUP(O3875,$O$4037:$P$4042,2),IF(N3874=\"Transporte Aéreo\",VLOOKUP(O3875,$O$4044:$P$4045,2),\"\"))))","v":""},null,null,null,null,null,null,null,null,null,null,null,null,null,null,null,{"$f":"+IF(AE3875=\"20NL\",1,IF(AE3875=\"40NL\",2,IF(AE3875=\"20RF\",3,IF(AE3875=\"40RF\",4,\"\"))))","v":""},""]
[null,null,null,null,null,null,"",null,{"$f":"IF(H3876=\"\",\"\",ROUND(H3876/SUM(H3874:H3881),4))","v":""},null,null,null,null,null,null,{"$f":"+IF(O3876=\"\",\"\",IF(N3874=\"Transporte Marítimo\",VLOOKUP(O3876,$O$4030:$P$4035,2),IF(N3874=\"Transporte Aéreo\",VLOOKUP(O3876,$O$4037:$P$4042,2),IF(N3874=\"Transporte Aéreo\",VLOOKUP(O3876,$O$4044:$P$4045,2),\"\"))))","v":""},null,null,null,null,null,null,null,null,null,null,null,null,null,null,null,"",""]
[null,null,null,null,null,null,"",null,{"$f":"IF(H3877=\"\",\"\",ROUND(H3877/SUM(H3874:H3881),4))","v":""},null,null,null,null,null,null,{"$f":"+IF(O3877=\"\",\"\",IF(N3874=\"Transporte Marítimo\",VLOOKUP(O3877,$O$4030:$P$4035,2),IF(N3874=\"Transporte Aéreo\",VLOOKUP(O3877,$O$4037:$P$4042,2),IF(N3874=\"Transporte Aéreo\",VLOOKUP(O3877,$O$4044:$P$4045,2),\"\"))))","v":""},null,null,null,null,null,null,null,null,null,null,null,null,null,null,null,"",""]
[null,null,null,null,null,null,"",null,{"$f":"IF(H3878=\"\",\"\",ROUND(H3878/SUM(H3874:H3881),4))","v":""},null,null,null,null,null,null,{"$f":"+IF(O3878=\"\",\"\",IF(N3874=\"Transporte Marítimo\",VLOOKUP(O3878,$O$4030:$P$4035,2),IF(N3874=\"Transporte Aéreo\",VLOOKUP(O3878,$O$4037:$P$4042,2),IF(N3874=\"Transporte Aéreo\",VLOOKUP(O3878,$O$4044:$P$4045,2),\"\"))))","v":""},null,null,null,null,null,null,null,null,null,null,null,null,null,null,null,"",""]
[null,null,null,null,null,null,"",null,{"$f":"IF(H3879=\"\",\"\",ROUND(H3879/SUM(H3874:H3881),4))","v":""},null,null,null,null,null,null,{"$f":"+IF(O3879=\"\",\"\",IF(N3874=\"Transporte Marítimo\",VLOOKUP(O3879,$O$4030:$P$4035,2),IF(N3874=\"Transporte Aéreo\",VLOOKUP(O3879,$O$4037:$P$4042,2),IF(N3874=\"Transporte Aéreo\",VLOOKUP(O3879,$O$4044:$P$4045,2),\"\"))))","v":""},null,null,null,null,null,null,null,null,null,null,null,null,null,null,null,"",""]
[null,null,null,null,null,null,"",null,{"$f":"IF(H3880=\"\",\"\",ROUND(H3880/SUM(H3874:H3881),4))","v":""},null,null,null,null,null,null,{"$f":"+IF(O3880=\"\",\"\",IF(N3874=\"Transporte Marítimo\",VLOOKUP(O3880,$O$4030:$P$4035,2),IF(N3874=\"Transporte Aéreo\",VLOOKUP(O3880,$O$4037:$P$4042,2),IF(N3874=\"Transporte Aéreo\",VLOOKUP(O3880,$O$4044:$P$4045,2),\"\"))))","v":""},null,null,null,null,null,null,null,null,null,null,null,null,null,null,null,"",""]
[null,null,null,null,null,null,"",null,{"$f":"IF(H3881=\"\",\"\",ROUND(H3881/SUM(H3874:H3881),4))","v":""},null,null,null,null,null,null,{"$f":"+IF(O3881=\"\",\"\",IF(N3874=\"Transporte Marítimo\",VLOOKUP(O3881,$O$4030:$P$4035,2),IF(N3874=\"Transporte Aéreo\",VLOOKUP(O3881,$O$4037:$P$4042,2),IF(N3874=\"Transporte Aéreo\",VLOOKUP(O3881,$O$4044:$P$4045,2),\"\"))))","v":""},null,null,null,null,null,null,null,null,null,null,null,null,null,null,null,"",""]
[null,{"$f":"+B3874+1","v":484},null,null,null,null,{"$f":"+IF(F3882=\"\",\"\",VLOOKUP(F3882,$F$4031:$G$4120,2))","v":""},null,{"$f":"IF(H3882=\"\",\"\",1-SUM(I3883:I3889))","v":""},null,null,null,null,null,null,{"$f":"+IF(O3882=\"\",\"\",IF(N3882=\"Transporte Marítimo\",VLOOKUP(O3882,$O$4030:$P$4035,2),IF(N3882=\"Transporte Aéreo\",VLOOKUP(O3882,$O$4037:$P$4042,2),IF(N3882=\"CTT\",VLOOKUP(O3882,$O$4044:$P$4045,2),\"\"))))","v":""},null,null,null,null,null,null,null,null,null,null,null,null,null,null,null,{"$f":"+IF(AE3882=\"20NL\",1,IF(AE3882=\"40NL\",2,IF(AE3882=\"20RF\",3,IF(AE3882=\"40RF\",4,\"\"))))","v":""},{"$f":"+IF(AF3882=\"\",\"\",VLOOKUP(AF3882,$AF$4031:$AG$4034,2))","v":""},null,null,null,null,null,null,null,null,null,null,null,null,null,null," "]
[null,null,null,null,null,null,"",null,{"$f":"IF(H3883=\"\",\"\",ROUND(H3883/SUM(H3882:H3889),4))","v":""},null,null,null,null,null,null,{"$f":"+IF(O3883=\"\",\"\",IF(N3882=\"Transporte Marítimo\",VLOOKUP(O3883,$O$4030:$P$4035,2),IF(N3882=\"Transporte Aéreo\",VLOOKUP(O3883,$O$4037:$P$4042,2),IF(N3882=\"Transporte Aéreo\",VLOOKUP(O3883,$O$4044:$P$4045,2),\"\"))))","v":""},null,null,null,null,null,null,null,null,null,null,null,null,null,null,null,{"$f":"+IF(AE3883=\"20NL\",1,IF(AE3883=\"40NL\",2,IF(AE3883=\"20RF\",3,IF(AE3883=\"40RF\",4,\"\"))))","v":""},""]
[null,null,null,null,null,null,"",null,{"$f":"IF(H3884=\"\",\"\",ROUND(H3884/SUM(H3882:H3889),4))","v":""},null,null,null,null,null,null,{"$f":"+IF(O3884=\"\",\"\",IF(N3882=\"Transporte Marítimo\",VLOOKUP(O3884,$O$4030:$P$4035,2),IF(N3882=\"Transporte Aéreo\",VLOOKUP(O3884,$O$4037:$P$4042,2),IF(N3882=\"Transporte Aéreo\",VLOOKUP(O3884,$O$4044:$P$4045,2),\"\"))))","v":""},null,null,null,null,null,null,null,null,null,null,null,null,null,null,null,"",""]
[null,null,null,null,null,null,"",null,{"$f":"IF(H3885=\"\",\"\",ROUND(H3885/SUM(H3882:H3889),4))","v":""},null,null,null,null,null,null,{"$f":"+IF(O3885=\"\",\"\",IF(N3882=\"Transporte Marítimo\",VLOOKUP(O3885,$O$4030:$P$4035,2),IF(N3882=\"Transporte Aéreo\",VLOOKUP(O3885,$O$4037:$P$4042,2),IF(N3882=\"Transporte Aéreo\",VLOOKUP(O3885,$O$4044:$P$4045,2),\"\"))))","v":""},null,null,null,null,null,null,null,null,null,null,null,null,null,null,null,"",""]
[null,null,null,null,null,null,"",null,{"$f":"IF(H3886=\"\",\"\",ROUND(H3886/SUM(H3882:H3889),4))","v":""},null,null,null,null,null,null,{"$f":"+IF(O3886=\"\",\"\",IF(N3882=\"Transporte Marítimo\",VLOOKUP(O3886,$O$4030:$P$4035,2),IF(N3882=\"Transporte Aéreo\",VLOOKUP(O3886,$O$4037:$P$4042,2),IF(N3882=\"Transporte Aéreo\",VLOOKUP(O3886,$O$4044:$P$4045,2),\"\"))))","v":""},null,null,null,null,null,null,null,null,null,null,null,null,null,null,null,"",""]
[null,null,null,null,null,null,"",null,{"$f":"IF(H3887=\"\",\"\",ROUND(H3887/SUM(H3882:H3889),4))","v":""},null,null,null,null,null,null,{"$f":"+IF(O3887=\"\",\"\",IF(N3882=\"Transporte Marítimo\",VLOOKUP(O3887,$O$4030:$P$4035,2),IF(N3882=\"Transporte Aéreo\",VLOOKUP(O3887,$O$4037:$P$4042,2),IF(N3882=\"Transporte Aéreo\",VLOOKUP(O3887,$O$4044:$P$4045,2),\"\"))))","v":""},null,null,null,null,null,null,null,null,null,null,null,null,null,null,null,"",""]
[null,null,null,null,null,null,"",null,{"$f":"IF(H3888=\"\",\"\",ROUND(H3888/SUM(H3882:H3889),4))","v":""},null,null,null,null,null,null,{"$f":"+IF(O3888=\"\",\"\",IF(N3882=\"Transporte Marítimo\",VLOOKUP(O3888,$O$4030:$P$4035,2),IF(N3882=\"Transporte Aéreo\",VLOOKUP(O3888,$O$4037:$P$4042,2),IF(N3882=\"Transporte Aéreo\",VLOOKUP(O3888,$O$4044:$P$4045,2),\"\"))))","v":""},null,null,null,null,null,null,null,null,null,null,null,null,null,null,null,"",""]
[null,null,null,null,null,null,"",null,{"$f":"IF(H3889=\"\",\"\",ROUND(H3889/SUM(H3882:H3889),4))","v":""},null,null,null,null,null,null,{"$f":"+IF(O3889=\"\",\"\",IF(N3882=\"Transporte Marítimo\",VLOOKUP(O3889,$O$4030:$P$4035,2),IF(N3882=\"Transporte Aéreo\",VLOOKUP(O3889,$O$4037:$P$4042,2),IF(N3882=\"Transporte Aéreo\",VLOOKUP(O3889,$O$4044:$P$4045,2),\"\"))))","v":""},null,null,null,null,null,null,null,null,null,null,null,null,null,null,null,"",""]
[null,{"$f":"+B3882+1","v":485},null,null,null,null,{"$f":"+IF(F3890=\"\",\"\",VLOOKUP(F3890,$F$4031:$G$4120,2))","v":""},null,{"$f":"IF(H3890=\"\",\"\",1-SUM(I3891:I3897))","v":""},null,null,null,null,null,null,{"$f":"+IF(O3890=\"\",\"\",IF(N3890=\"Transporte Marítimo\",VLOOKUP(O3890,$O$4030:$P$4035,2),IF(N3890=\"Transporte Aéreo\",VLOOKUP(O3890,$O$4037:$P$4042,2),IF(N3890=\"CTT\",VLOOKUP(O3890,$O$4044:$P$4045,2),\"\"))))","v":""},null,null,null,null,null,null,null,null,null,null,null,null,null,null,null,{"$f":"+IF(AE3890=\"20NL\",1,IF(AE3890=\"40NL\",2,IF(AE3890=\"20RF\",3,IF(AE3890=\"40RF\",4,\"\"))))","v":""},{"$f":"+IF(AF3890=\"\",\"\",VLOOKUP(AF3890,$AF$4031:$AG$4034,2))","v":""},null,null,null,null,null,null,null,null,null,null,null,null,null,null," "]
[null,null,null,null,null,null,"",null,{"$f":"IF(H3891=\"\",\"\",ROUND(H3891/SUM(H3890:H3897),4))","v":""},null,null,null,null,null,null,{"$f":"+IF(O3891=\"\",\"\",IF(N3890=\"Transporte Marítimo\",VLOOKUP(O3891,$O$4030:$P$4035,2),IF(N3890=\"Transporte Aéreo\",VLOOKUP(O3891,$O$4037:$P$4042,2),IF(N3890=\"Transporte Aéreo\",VLOOKUP(O3891,$O$4044:$P$4045,2),\"\"))))","v":""},null,null,null,null,null,null,null,null,null,null,null,null,null,null,null,{"$f":"+IF(AE3891=\"20NL\",1,IF(AE3891=\"40NL\",2,IF(AE3891=\"20RF\",3,IF(AE3891=\"40RF\",4,\"\"))))","v":""},""]
[null,null,null,null,null,null,"",null,{"$f":"IF(H3892=\"\",\"\",ROUND(H3892/SUM(H3890:H3897),4))","v":""},null,null,null,null,null,null,{"$f":"+IF(O3892=\"\",\"\",IF(N3890=\"Transporte Marítimo\",VLOOKUP(O3892,$O$4030:$P$4035,2),IF(N3890=\"Transporte Aéreo\",VLOOKUP(O3892,$O$4037:$P$4042,2),IF(N3890=\"Transporte Aéreo\",VLOOKUP(O3892,$O$4044:$P$4045,2),\"\"))))","v":""},null,null,null,null,null,null,null,null,null,null,null,null,null,null,null,"",""]
[null,null,null,null,null,null,"",null,{"$f":"IF(H3893=\"\",\"\",ROUND(H3893/SUM(H3890:H3897),4))","v":""},null,null,null,null,null,null,{"$f":"+IF(O3893=\"\",\"\",IF(N3890=\"Transporte Marítimo\",VLOOKUP(O3893,$O$4030:$P$4035,2),IF(N3890=\"Transporte Aéreo\",VLOOKUP(O3893,$O$4037:$P$4042,2),IF(N3890=\"Transporte Aéreo\",VLOOKUP(O3893,$O$4044:$P$4045,2),\"\"))))","v":""},null,null,null,null,null,null,null,null,null,null,null,null,null,null,null,"",""]
[null,null,null,null,null,null,"",null,{"$f":"IF(H3894=\"\",\"\",ROUND(H3894/SUM(H3890:H3897),4))","v":""},null,null,null,null,null,null,{"$f":"+IF(O3894=\"\",\"\",IF(N3890=\"Transporte Marítimo\",VLOOKUP(O3894,$O$4030:$P$4035,2),IF(N3890=\"Transporte Aéreo\",VLOOKUP(O3894,$O$4037:$P$4042,2),IF(N3890=\"Transporte Aéreo\",VLOOKUP(O3894,$O$4044:$P$4045,2),\"\"))))","v":""},null,null,null,null,null,null,null,null,null,null,null,null,null,null,null,"",""]
[null,null,null,null,null,null,"",null,{"$f":"IF(H3895=\"\",\"\",ROUND(H3895/SUM(H3890:H3897),4))","v":""},null,null,null,null,null,null,{"$f":"+IF(O3895=\"\",\"\",IF(N3890=\"Transporte Marítimo\",VLOOKUP(O3895,$O$4030:$P$4035,2),IF(N3890=\"Transporte Aéreo\",VLOOKUP(O3895,$O$4037:$P$4042,2),IF(N3890=\"Transporte Aéreo\",VLOOKUP(O3895,$O$4044:$P$4045,2),\"\"))))","v":""},null,null,null,null,null,null,null,null,null,null,null,null,null,null,null,"",""]
[null,null,null,null,null,null,"",null,{"$f":"IF(H3896=\"\",\"\",ROUND(H3896/SUM(H3890:H3897),4))","v":""},null,null,null,null,null,null,{"$f":"+IF(O3896=\"\",\"\",IF(N3890=\"Transporte Marítimo\",VLOOKUP(O3896,$O$4030:$P$4035,2),IF(N3890=\"Transporte Aéreo\",VLOOKUP(O3896,$O$4037:$P$4042,2),IF(N3890=\"Transporte Aéreo\",VLOOKUP(O3896,$O$4044:$P$4045,2),\"\"))))","v":""},null,null,null,null,null,null,null,null,null,null,null,null,null,null,null,"",""]
[null,null,null,null,null,null,"",null,{"$f":"IF(H3897=\"\",\"\",ROUND(H3897/SUM(H3890:H3897),4))","v":""},null,null,null,null,null,null,{"$f":"+IF(O3897=\"\",\"\",IF(N3890=\"Transporte Marítimo\",VLOOKUP(O3897,$O$4030:$P$4035,2),IF(N3890=\"Transporte Aéreo\",VLOOKUP(O3897,$O$4037:$P$4042,2),IF(N3890=\"Transporte Aéreo\",VLOOKUP(O3897,$O$4044:$P$4045,2),\"\"))))","v":""},null,null,null,null,null,null,null,null,null,null,null,null,null,null,null,"",""]
[null,{"$f":"+B3890+1","v":486},null,null,null,null,{"$f":"+IF(F3898=\"\",\"\",VLOOKUP(F3898,$F$4031:$G$4120,2))","v":""},null,{"$f":"IF(H3898=\"\",\"\",1-SUM(I3899:I3905))","v":""},null,null,null,null,null,null,{"$f":"+IF(O3898=\"\",\"\",IF(N3898=\"Transporte Marítimo\",VLOOKUP(O3898,$O$4030:$P$4035,2),IF(N3898=\"Transporte Aéreo\",VLOOKUP(O3898,$O$4037:$P$4042,2),IF(N3898=\"CTT\",VLOOKUP(O3898,$O$4044:$P$4045,2),\"\"))))","v":""},null,null,null,null,null,null,null,null,null,null,null,null,null,null,null,{"$f":"+IF(AE3898=\"20NL\",1,IF(AE3898=\"40NL\",2,IF(AE3898=\"20RF\",3,IF(AE3898=\"40RF\",4,\"\"))))","v":""},{"$f":"+IF(AF3898=\"\",\"\",VLOOKUP(AF3898,$AF$4031:$AG$4034,2))","v":""},null,null,null,null,null,null,null,null,null,null,null,null,null,null," "]
[null,null,null,null,null,null,"",null,{"$f":"IF(H3899=\"\",\"\",ROUND(H3899/SUM(H3898:H3905),4))","v":""},null,null,null,null,null,null,{"$f":"+IF(O3899=\"\",\"\",IF(N3898=\"Transporte Marítimo\",VLOOKUP(O3899,$O$4030:$P$4035,2),IF(N3898=\"Transporte Aéreo\",VLOOKUP(O3899,$O$4037:$P$4042,2),IF(N3898=\"Transporte Aéreo\",VLOOKUP(O3899,$O$4044:$P$4045,2),\"\"))))","v":""},null,null,null,null,null,null,null,null,null,null,null,null,null,null,null,{"$f":"+IF(AE3899=\"20NL\",1,IF(AE3899=\"40NL\",2,IF(AE3899=\"20RF\",3,IF(AE3899=\"40RF\",4,\"\"))))","v":""},""]
[null,null,null,null,null,null,"",null,{"$f":"IF(H3900=\"\",\"\",ROUND(H3900/SUM(H3898:H3905),4))","v":""},null,null,null,null,null,null,{"$f":"+IF(O3900=\"\",\"\",IF(N3898=\"Transporte Marítimo\",VLOOKUP(O3900,$O$4030:$P$4035,2),IF(N3898=\"Transporte Aéreo\",VLOOKUP(O3900,$O$4037:$P$4042,2),IF(N3898=\"Transporte Aéreo\",VLOOKUP(O3900,$O$4044:$P$4045,2),\"\"))))","v":""},null,null,null,null,null,null,null,null,null,null,null,null,null,null,null,"",""]
[null,null,null,null,null,null,"",null,{"$f":"IF(H3901=\"\",\"\",ROUND(H3901/SUM(H3898:H3905),4))","v":""},null,null,null,null,null,null,{"$f":"+IF(O3901=\"\",\"\",IF(N3898=\"Transporte Marítimo\",VLOOKUP(O3901,$O$4030:$P$4035,2),IF(N3898=\"Transporte Aéreo\",VLOOKUP(O3901,$O$4037:$P$4042,2),IF(N3898=\"Transporte Aéreo\",VLOOKUP(O3901,$O$4044:$P$4045,2),\"\"))))","v":""},null,null,null,null,null,null,null,null,null,null,null,null,null,null,null,"",""]
[null,null,null,null,null,null,"",null,{"$f":"IF(H3902=\"\",\"\",ROUND(H3902/SUM(H3898:H3905),4))","v":""},null,null,null,null,null,null,{"$f":"+IF(O3902=\"\",\"\",IF(N3898=\"Transporte Marítimo\",VLOOKUP(O3902,$O$4030:$P$4035,2),IF(N3898=\"Transporte Aéreo\",VLOOKUP(O3902,$O$4037:$P$4042,2),IF(N3898=\"Transporte Aéreo\",VLOOKUP(O3902,$O$4044:$P$4045,2),\"\"))))","v":""},null,null,null,null,null,null,null,null,null,null,null,null,null,null,null,"",""]
[null,null,null,null,null,null,"",null,{"$f":"IF(H3903=\"\",\"\",ROUND(H3903/SUM(H3898:H3905),4))","v":""},null,null,null,null,null,null,{"$f":"+IF(O3903=\"\",\"\",IF(N3898=\"Transporte Marítimo\",VLOOKUP(O3903,$O$4030:$P$4035,2),IF(N3898=\"Transporte Aéreo\",VLOOKUP(O3903,$O$4037:$P$4042,2),IF(N3898=\"Transporte Aéreo\",VLOOKUP(O3903,$O$4044:$P$4045,2),\"\"))))","v":""},null,null,null,null,null,null,null,null,null,null,null,null,null,null,null,"",""]
[null,null,null,null,null,null,"",null,{"$f":"IF(H3904=\"\",\"\",ROUND(H3904/SUM(H3898:H3905),4))","v":""},null,null,null,null,null,null,{"$f":"+IF(O3904=\"\",\"\",IF(N3898=\"Transporte Marítimo\",VLOOKUP(O3904,$O$4030:$P$4035,2),IF(N3898=\"Transporte Aéreo\",VLOOKUP(O3904,$O$4037:$P$4042,2),IF(N3898=\"Transporte Aéreo\",VLOOKUP(O3904,$O$4044:$P$4045,2),\"\"))))","v":""},null,null,null,null,null,null,null,null,null,null,null,null,null,null,null,"",""]
[null,null,null,null,null,null,"",null,{"$f":"IF(H3905=\"\",\"\",ROUND(H3905/SUM(H3898:H3905),4))","v":""},null,null,null,null,null,null,{"$f":"+IF(O3905=\"\",\"\",IF(N3898=\"Transporte Marítimo\",VLOOKUP(O3905,$O$4030:$P$4035,2),IF(N3898=\"Transporte Aéreo\",VLOOKUP(O3905,$O$4037:$P$4042,2),IF(N3898=\"Transporte Aéreo\",VLOOKUP(O3905,$O$4044:$P$4045,2),\"\"))))","v":""},null,null,null,null,null,null,null,null,null,null,null,null,null,null,null,"",""]
[null,{"$f":"+B3898+1","v":487},null,null,null,null,{"$f":"+IF(F3906=\"\",\"\",VLOOKUP(F3906,$F$4031:$G$4120,2))","v":""},null,{"$f":"IF(H3906=\"\",\"\",1-SUM(I3907:I3913))","v":""},null,null,null,null,null,null,{"$f":"+IF(O3906=\"\",\"\",IF(N3906=\"Transporte Marítimo\",VLOOKUP(O3906,$O$4030:$P$4035,2),IF(N3906=\"Transporte Aéreo\",VLOOKUP(O3906,$O$4037:$P$4042,2),IF(N3906=\"CTT\",VLOOKUP(O3906,$O$4044:$P$4045,2),\"\"))))","v":""},null,null,null,null,null,null,null,null,null,null,null,null,null,null,null,{"$f":"+IF(AE3906=\"20NL\",1,IF(AE3906=\"40NL\",2,IF(AE3906=\"20RF\",3,IF(AE3906=\"40RF\",4,\"\"))))","v":""},{"$f":"+IF(AF3906=\"\",\"\",VLOOKUP(AF3906,$AF$4031:$AG$4034,2))","v":""},null,null,null,null,null,null,null,null,null,null,null,null,null,null," "]
[null,null,null,null,null,null,"",null,{"$f":"IF(H3907=\"\",\"\",ROUND(H3907/SUM(H3906:H3913),4))","v":""},null,null,null,null,null,null,{"$f":"+IF(O3907=\"\",\"\",IF(N3906=\"Transporte Marítimo\",VLOOKUP(O3907,$O$4030:$P$4035,2),IF(N3906=\"Transporte Aéreo\",VLOOKUP(O3907,$O$4037:$P$4042,2),IF(N3906=\"Transporte Aéreo\",VLOOKUP(O3907,$O$4044:$P$4045,2),\"\"))))","v":""},null,null,null,null,null,null,null,null,null,null,null,null,null,null,null,{"$f":"+IF(AE3907=\"20NL\",1,IF(AE3907=\"40NL\",2,IF(AE3907=\"20RF\",3,IF(AE3907=\"40RF\",4,\"\"))))","v":""},""]
[null,null,null,null,null,null,"",null,{"$f":"IF(H3908=\"\",\"\",ROUND(H3908/SUM(H3906:H3913),4))","v":""},null,null,null,null,null,null,{"$f":"+IF(O3908=\"\",\"\",IF(N3906=\"Transporte Marítimo\",VLOOKUP(O3908,$O$4030:$P$4035,2),IF(N3906=\"Transporte Aéreo\",VLOOKUP(O3908,$O$4037:$P$4042,2),IF(N3906=\"Transporte Aéreo\",VLOOKUP(O3908,$O$4044:$P$4045,2),\"\"))))","v":""},null,null,null,null,null,null,null,null,null,null,null,null,null,null,null,"",""]
[null,null,null,null,null,null,"",null,{"$f":"IF(H3909=\"\",\"\",ROUND(H3909/SUM(H3906:H3913),4))","v":""},null,null,null,null,null,null,{"$f":"+IF(O3909=\"\",\"\",IF(N3906=\"Transporte Marítimo\",VLOOKUP(O3909,$O$4030:$P$4035,2),IF(N3906=\"Transporte Aéreo\",VLOOKUP(O3909,$O$4037:$P$4042,2),IF(N3906=\"Transporte Aéreo\",VLOOKUP(O3909,$O$4044:$P$4045,2),\"\"))))","v":""},null,null,null,null,null,null,null,null,null,null,null,null,null,null,null,"",""]
[null,null,null,null,null,null,"",null,{"$f":"IF(H3910=\"\",\"\",ROUND(H3910/SUM(H3906:H3913),4))","v":""},null,null,null,null,null,null,{"$f":"+IF(O3910=\"\",\"\",IF(N3906=\"Transporte Marítimo\",VLOOKUP(O3910,$O$4030:$P$4035,2),IF(N3906=\"Transporte Aéreo\",VLOOKUP(O3910,$O$4037:$P$4042,2),IF(N3906=\"Transporte Aéreo\",VLOOKUP(O3910,$O$4044:$P$4045,2),\"\"))))","v":""},null,null,null,null,null,null,null,null,null,null,null,null,null,null,null,"",""]
[null,null,null,null,null,null,"",null,{"$f":"IF(H3911=\"\",\"\",ROUND(H3911/SUM(H3906:H3913),4))","v":""},null,null,null,null,null,null,{"$f":"+IF(O3911=\"\",\"\",IF(N3906=\"Transporte Marítimo\",VLOOKUP(O3911,$O$4030:$P$4035,2),IF(N3906=\"Transporte Aéreo\",VLOOKUP(O3911,$O$4037:$P$4042,2),IF(N3906=\"Transporte Aéreo\",VLOOKUP(O3911,$O$4044:$P$4045,2),\"\"))))","v":""},null,null,null,null,null,null,null,null,null,null,null,null,null,null,null,"",""]
[null,null,null,null,null,null,"",null,{"$f":"IF(H3912=\"\",\"\",ROUND(H3912/SUM(H3906:H3913),4))","v":""},null,null,null,null,null,null,{"$f":"+IF(O3912=\"\",\"\",IF(N3906=\"Transporte Marítimo\",VLOOKUP(O3912,$O$4030:$P$4035,2),IF(N3906=\"Transporte Aéreo\",VLOOKUP(O3912,$O$4037:$P$4042,2),IF(N3906=\"Transporte Aéreo\",VLOOKUP(O3912,$O$4044:$P$4045,2),\"\"))))","v":""},null,null,null,null,null,null,null,null,null,null,null,null,null,null,null,"",""]
[null,null,null,null,null,null,"",null,{"$f":"IF(H3913=\"\",\"\",ROUND(H3913/SUM(H3906:H3913),4))","v":""},null,null,null,null,null,null,{"$f":"+IF(O3913=\"\",\"\",IF(N3906=\"Transporte Marítimo\",VLOOKUP(O3913,$O$4030:$P$4035,2),IF(N3906=\"Transporte Aéreo\",VLOOKUP(O3913,$O$4037:$P$4042,2),IF(N3906=\"Transporte Aéreo\",VLOOKUP(O3913,$O$4044:$P$4045,2),\"\"))))","v":""},null,null,null,null,null,null,null,null,null,null,null,null,null,null,null,"",""]
[null,{"$f":"+B3906+1","v":488},null,null,null,null,{"$f":"+IF(F3914=\"\",\"\",VLOOKUP(F3914,$F$4031:$G$4120,2))","v":""},null,{"$f":"IF(H3914=\"\",\"\",1-SUM(I3915:I3921))","v":""},null,null,null,null,null,null,{"$f":"+IF(O3914=\"\",\"\",IF(N3914=\"Transporte Marítimo\",VLOOKUP(O3914,$O$4030:$P$4035,2),IF(N3914=\"Transporte Aéreo\",VLOOKUP(O3914,$O$4037:$P$4042,2),IF(N3914=\"CTT\",VLOOKUP(O3914,$O$4044:$P$4045,2),\"\"))))","v":""},null,null,null,null,null,null,null,null,null,null,null,null,null,null,null,{"$f":"+IF(AE3914=\"20NL\",1,IF(AE3914=\"40NL\",2,IF(AE3914=\"20RF\",3,IF(AE3914=\"40RF\",4,\"\"))))","v":""},{"$f":"+IF(AF3914=\"\",\"\",VLOOKUP(AF3914,$AF$4031:$AG$4034,2))","v":""},null,null,null,null,null,null,null,null,null,null,null,null,null,null," "]
[null,null,null,null,null,null,"",null,{"$f":"IF(H3915=\"\",\"\",ROUND(H3915/SUM(H3914:H3921),4))","v":""},null,null,null,null,null,null,{"$f":"+IF(O3915=\"\",\"\",IF(N3914=\"Transporte Marítimo\",VLOOKUP(O3915,$O$4030:$P$4035,2),IF(N3914=\"Transporte Aéreo\",VLOOKUP(O3915,$O$4037:$P$4042,2),IF(N3914=\"Transporte Aéreo\",VLOOKUP(O3915,$O$4044:$P$4045,2),\"\"))))","v":""},null,null,null,null,null,null,null,null,null,null,null,null,null,null,null,{"$f":"+IF(AE3915=\"20NL\",1,IF(AE3915=\"40NL\",2,IF(AE3915=\"20RF\",3,IF(AE3915=\"40RF\",4,\"\"))))","v":""},""]
[null,null,null,null,null,null,"",null,{"$f":"IF(H3916=\"\",\"\",ROUND(H3916/SUM(H3914:H3921),4))","v":""},null,null,null,null,null,null,{"$f":"+IF(O3916=\"\",\"\",IF(N3914=\"Transporte Marítimo\",VLOOKUP(O3916,$O$4030:$P$4035,2),IF(N3914=\"Transporte Aéreo\",VLOOKUP(O3916,$O$4037:$P$4042,2),IF(N3914=\"Transporte Aéreo\",VLOOKUP(O3916,$O$4044:$P$4045,2),\"\"))))","v":""},null,null,null,null,null,null,null,null,null,null,null,null,null,null,null,"",""]
[null,null,null,null,null,null,"",null,{"$f":"IF(H3917=\"\",\"\",ROUND(H3917/SUM(H3914:H3921),4))","v":""},null,null,null,null,null,null,{"$f":"+IF(O3917=\"\",\"\",IF(N3914=\"Transporte Marítimo\",VLOOKUP(O3917,$O$4030:$P$4035,2),IF(N3914=\"Transporte Aéreo\",VLOOKUP(O3917,$O$4037:$P$4042,2),IF(N3914=\"Transporte Aéreo\",VLOOKUP(O3917,$O$4044:$P$4045,2),\"\"))))","v":""},null,null,null,null,null,null,null,null,null,null,null,null,null,null,null,"",""]
[null,null,null,null,null,null,"",null,{"$f":"IF(H3918=\"\",\"\",ROUND(H3918/SUM(H3914:H3921),4))","v":""},null,null,null,null,null,null,{"$f":"+IF(O3918=\"\",\"\",IF(N3914=\"Transporte Marítimo\",VLOOKUP(O3918,$O$4030:$P$4035,2),IF(N3914=\"Transporte Aéreo\",VLOOKUP(O3918,$O$4037:$P$4042,2),IF(N3914=\"Transporte Aéreo\",VLOOKUP(O3918,$O$4044:$P$4045,2),\"\"))))","v":""},null,null,null,null,null,null,null,null,null,null,null,null,null,null,null,"",""]
[null,null,null,null,null,null,"",null,{"$f":"IF(H3919=\"\",\"\",ROUND(H3919/SUM(H3914:H3921),4))","v":""},null,null,null,null,null,null,{"$f":"+IF(O3919=\"\",\"\",IF(N3914=\"Transporte Marítimo\",VLOOKUP(O3919,$O$4030:$P$4035,2),IF(N3914=\"Transporte Aéreo\",VLOOKUP(O3919,$O$4037:$P$4042,2),IF(N3914=\"Transporte Aéreo\",VLOOKUP(O3919,$O$4044:$P$4045,2),\"\"))))","v":""},null,null,null,null,null,null,null,null,null,null,null,null,null,null,null,"",""]
[null,null,null,null,null,null,"",null,{"$f":"IF(H3920=\"\",\"\",ROUND(H3920/SUM(H3914:H3921),4))","v":""},null,null,null,null,null,null,{"$f":"+IF(O3920=\"\",\"\",IF(N3914=\"Transporte Marítimo\",VLOOKUP(O3920,$O$4030:$P$4035,2),IF(N3914=\"Transporte Aéreo\",VLOOKUP(O3920,$O$4037:$P$4042,2),IF(N3914=\"Transporte Aéreo\",VLOOKUP(O3920,$O$4044:$P$4045,2),\"\"))))","v":""},null,null,null,null,null,null,null,null,null,null,null,null,null,null,null,"",""]
[null,null,null,null,null,null,"",null,{"$f":"IF(H3921=\"\",\"\",ROUND(H3921/SUM(H3914:H3921),4))","v":""},null,null,null,null,null,null,{"$f":"+IF(O3921=\"\",\"\",IF(N3914=\"Transporte Marítimo\",VLOOKUP(O3921,$O$4030:$P$4035,2),IF(N3914=\"Transporte Aéreo\",VLOOKUP(O3921,$O$4037:$P$4042,2),IF(N3914=\"Transporte Aéreo\",VLOOKUP(O3921,$O$4044:$P$4045,2),\"\"))))","v":""},null,null,null,null,null,null,null,null,null,null,null,null,null,null,null,"",""]
[null,{"$f":"+B3914+1","v":489},null,null,null,null,{"$f":"+IF(F3922=\"\",\"\",VLOOKUP(F3922,$F$4031:$G$4120,2))","v":""},null,{"$f":"IF(H3922=\"\",\"\",1-SUM(I3923:I3929))","v":""},null,null,null,null,null,null,{"$f":"+IF(O3922=\"\",\"\",IF(N3922=\"Transporte Marítimo\",VLOOKUP(O3922,$O$4030:$P$4035,2),IF(N3922=\"Transporte Aéreo\",VLOOKUP(O3922,$O$4037:$P$4042,2),IF(N3922=\"CTT\",VLOOKUP(O3922,$O$4044:$P$4045,2),\"\"))))","v":""},null,null,null,null,null,null,null,null,null,null,null,null,null,null,null,{"$f":"+IF(AE3922=\"20NL\",1,IF(AE3922=\"40NL\",2,IF(AE3922=\"20RF\",3,IF(AE3922=\"40RF\",4,\"\"))))","v":""},{"$f":"+IF(AF3922=\"\",\"\",VLOOKUP(AF3922,$AF$4031:$AG$4034,2))","v":""},null,null,null,null,null,null,null,null,null,null,null,null,null,null," "]
[null,null,null,null,null,null,{"$f":"+IF(F3923=\"\",\"\",VLOOKUP(F3923,$F$4031:$G$4120,2))","v":""},null,{"$f":"IF(H3923=\"\",\"\",ROUND(H3923/SUM(H3922:H3929),4))","v":""},null,null,null,null,null,null,{"$f":"+IF(O3923=\"\",\"\",IF(N3922=\"Transporte Marítimo\",VLOOKUP(O3923,$O$4030:$P$4035,2),IF(N3922=\"Transporte Aéreo\",VLOOKUP(O3923,$O$4037:$P$4042,2),IF(N3922=\"Transporte Aéreo\",VLOOKUP(O3923,$O$4044:$P$4045,2),\"\"))))","v":""},null,null,null,null,null,null,null,null,null,null,null,null,null,null,null,{"$f":"+IF(AE3923=\"20NL\",1,IF(AE3923=\"40NL\",2,IF(AE3923=\"20RF\",3,IF(AE3923=\"40RF\",4,\"\"))))","v":""},{"$f":"+IF(AF3923=\"\",\"\",VLOOKUP(AF3923,$AF$4031:$AG$4034,2))","v":""}]
[null,null,null,null,null,null,"",null,{"$f":"IF(H3924=\"\",\"\",ROUND(H3924/SUM(H3922:H3929),4))","v":""},null,null,null,null,null,null,{"$f":"+IF(O3924=\"\",\"\",IF(N3922=\"Transporte Marítimo\",VLOOKUP(O3924,$O$4030:$P$4035,2),IF(N3922=\"Transporte Aéreo\",VLOOKUP(O3924,$O$4037:$P$4042,2),IF(N3922=\"Transporte Aéreo\",VLOOKUP(O3924,$O$4044:$P$4045,2),\"\"))))","v":""},null,null,null,null,null,null,null,null,null,null,null,null,null,null,null,"",""]
[null,null,null,null,null,null,"",null,{"$f":"IF(H3925=\"\",\"\",ROUND(H3925/SUM(H3922:H3929),4))","v":""},null,null,null,null,null,null,{"$f":"+IF(O3925=\"\",\"\",IF(N3922=\"Transporte Marítimo\",VLOOKUP(O3925,$O$4030:$P$4035,2),IF(N3922=\"Transporte Aéreo\",VLOOKUP(O3925,$O$4037:$P$4042,2),IF(N3922=\"Transporte Aéreo\",VLOOKUP(O3925,$O$4044:$P$4045,2),\"\"))))","v":""},null,null,null,null,null,null,null,null,null,null,null,null,null,null,null,"",""]
[null,null,null,null,null,null,"",null,{"$f":"IF(H3926=\"\",\"\",ROUND(H3926/SUM(H3922:H3929),4))","v":""},null,null,null,null,null,null,{"$f":"+IF(O3926=\"\",\"\",IF(N3922=\"Transporte Marítimo\",VLOOKUP(O3926,$O$4030:$P$4035,2),IF(N3922=\"Transporte Aéreo\",VLOOKUP(O3926,$O$4037:$P$4042,2),IF(N3922=\"Transporte Aéreo\",VLOOKUP(O3926,$O$4044:$P$4045,2),\"\"))))","v":""},null,null,null,null,null,null,null,null,null,null,null,null,null,null,null,"",""]
[null,null,null,null,null,null,"",null,{"$f":"IF(H3927=\"\",\"\",ROUND(H3927/SUM(H3922:H3929),4))","v":""},null,null,null,null,null,null,{"$f":"+IF(O3927=\"\",\"\",IF(N3922=\"Transporte Marítimo\",VLOOKUP(O3927,$O$4030:$P$4035,2),IF(N3922=\"Transporte Aéreo\",VLOOKUP(O3927,$O$4037:$P$4042,2),IF(N3922=\"Transporte Aéreo\",VLOOKUP(O3927,$O$4044:$P$4045,2),\"\"))))","v":""},null,null,null,null,null,null,null,null,null,null,null,null,null,null,null,"",""]
[null,null,null,null,null,null,"",null,{"$f":"IF(H3928=\"\",\"\",ROUND(H3928/SUM(H3922:H3929),4))","v":""},null,null,null,null,null,null,{"$f":"+IF(O3928=\"\",\"\",IF(N3922=\"Transporte Marítimo\",VLOOKUP(O3928,$O$4030:$P$4035,2),IF(N3922=\"Transporte Aéreo\",VLOOKUP(O3928,$O$4037:$P$4042,2),IF(N3922=\"Transporte Aéreo\",VLOOKUP(O3928,$O$4044:$P$4045,2),\"\"))))","v":""},null,null,null,null,null,null,null,null,null,null,null,null,null,null,null,"",""]
[null,null,null,null,null,null,"",null,{"$f":"IF(H3929=\"\",\"\",ROUND(H3929/SUM(H3922:H3929),4))","v":""},null,null,null,null,null,null,{"$f":"+IF(O3929=\"\",\"\",IF(N3922=\"Transporte Marítimo\",VLOOKUP(O3929,$O$4030:$P$4035,2),IF(N3922=\"Transporte Aéreo\",VLOOKUP(O3929,$O$4037:$P$4042,2),IF(N3922=\"Transporte Aéreo\",VLOOKUP(O3929,$O$4044:$P$4045,2),\"\"))))","v":""},null,null,null,null,null,null,null,null,null,null,null,null,null,null,null,"",""]
[null,{"$f":"+B3922+1","v":490},null,null,null,null,{"$f":"+IF(F3930=\"\",\"\",VLOOKUP(F3930,$F$4031:$G$4120,2))","v":""},null,{"$f":"IF(H3930=\"\",\"\",1-SUM(I3931:I3937))","v":""},null,null,null,null,null,null,{"$f":"+IF(O3930=\"\",\"\",IF(N3930=\"Transporte Marítimo\",VLOOKUP(O3930,$O$4030:$P$4035,2),IF(N3930=\"Transporte Aéreo\",VLOOKUP(O3930,$O$4037:$P$4042,2),IF(N3930=\"CTT\",VLOOKUP(O3930,$O$4044:$P$4045,2),\"\"))))","v":""},null,null,null,null,null,null,null,null,null,null,null,null,null,null,null,{"$f":"+IF(AE3930=\"20NL\",1,IF(AE3930=\"40NL\",2,IF(AE3930=\"20RF\",3,IF(AE3930=\"40RF\",4,\"\"))))","v":""},{"$f":"+IF(AF3930=\"\",\"\",VLOOKUP(AF3930,$AF$4031:$AG$4034,2))","v":""},null,null,null,null,null,null,null,null,null,null,null,null,null,null," "]
[null,null,null,null,null,null,"",null,{"$f":"IF(H3931=\"\",\"\",ROUND(H3931/SUM(H3930:H3937),4))","v":""},null,null,null,null,null,null,{"$f":"+IF(O3931=\"\",\"\",IF(N3930=\"Transporte Marítimo\",VLOOKUP(O3931,$O$4030:$P$4035,2),IF(N3930=\"Transporte Aéreo\",VLOOKUP(O3931,$O$4037:$P$4042,2),IF(N3930=\"Transporte Aéreo\",VLOOKUP(O3931,$O$4044:$P$4045,2),\"\"))))","v":""},null,null,null,null,null,null,null,null,null,null,null,null,null,null,null,{"$f":"+IF(AE3931=\"20NL\",1,IF(AE3931=\"40NL\",2,IF(AE3931=\"20RF\",3,IF(AE3931=\"40RF\",4,\"\"))))","v":""},{"$f":"+IF(AF3931=\"\",\"\",VLOOKUP(AF3931,$AF$4031:$AG$4034,2))","v":""}]
[null,null,null,null,null,null,"",null,{"$f":"IF(H3932=\"\",\"\",ROUND(H3932/SUM(H3930:H3937),4))","v":""},null,null,null,null,null,null,{"$f":"+IF(O3932=\"\",\"\",IF(N3930=\"Transporte Marítimo\",VLOOKUP(O3932,$O$4030:$P$4035,2),IF(N3930=\"Transporte Aéreo\",VLOOKUP(O3932,$O$4037:$P$4042,2),IF(N3930=\"Transporte Aéreo\",VLOOKUP(O3932,$O$4044:$P$4045,2),\"\"))))","v":""},null,null,null,null,null,null,null,null,null,null,null,null,null,null,null,"",""]
[null,null,null,null,null,null,"",null,{"$f":"IF(H3933=\"\",\"\",ROUND(H3933/SUM(H3930:H3937),4))","v":""},null,null,null,null,null,null,{"$f":"+IF(O3933=\"\",\"\",IF(N3930=\"Transporte Marítimo\",VLOOKUP(O3933,$O$4030:$P$4035,2),IF(N3930=\"Transporte Aéreo\",VLOOKUP(O3933,$O$4037:$P$4042,2),IF(N3930=\"Transporte Aéreo\",VLOOKUP(O3933,$O$4044:$P$4045,2),\"\"))))","v":""},null,null,null,null,null,null,null,null,null,null,null,null,null,null,null,"",""]
[null,null,null,null,null,null,"",null,{"$f":"IF(H3934=\"\",\"\",ROUND(H3934/SUM(H3930:H3937),4))","v":""},null,null,null,null,null,null,{"$f":"+IF(O3934=\"\",\"\",IF(N3930=\"Transporte Marítimo\",VLOOKUP(O3934,$O$4030:$P$4035,2),IF(N3930=\"Transporte Aéreo\",VLOOKUP(O3934,$O$4037:$P$4042,2),IF(N3930=\"Transporte Aéreo\",VLOOKUP(O3934,$O$4044:$P$4045,2),\"\"))))","v":""},null,null,null,null,null,null,null,null,null,null,null,null,null,null,null,"",""]
[null,null,null,null,null,null,"",null,{"$f":"IF(H3935=\"\",\"\",ROUND(H3935/SUM(H3930:H3937),4))","v":""},null,null,null,null,null,null,{"$f":"+IF(O3935=\"\",\"\",IF(N3930=\"Transporte Marítimo\",VLOOKUP(O3935,$O$4030:$P$4035,2),IF(N3930=\"Transporte Aéreo\",VLOOKUP(O3935,$O$4037:$P$4042,2),IF(N3930=\"Transporte Aéreo\",VLOOKUP(O3935,$O$4044:$P$4045,2),\"\"))))","v":""},null,null,null,null,null,null,null,null,null,null,null,null,null,null,null,"",""]
[null,null,null,null,null,null,"",null,{"$f":"IF(H3936=\"\",\"\",ROUND(H3936/SUM(H3930:H3937),4))","v":""},null,null,null,null,null,null,{"$f":"+IF(O3936=\"\",\"\",IF(N3930=\"Transporte Marítimo\",VLOOKUP(O3936,$O$4030:$P$4035,2),IF(N3930=\"Transporte Aéreo\",VLOOKUP(O3936,$O$4037:$P$4042,2),IF(N3930=\"Transporte Aéreo\",VLOOKUP(O3936,$O$4044:$P$4045,2),\"\"))))","v":""},null,null,null,null,null,null,null,null,null,null,null,null,null,null,null,"",""]
[null,null,null,null,null,null,{"$f":"+IF(F3937=\"\",\"\",VLOOKUP(F3937,$F$4031:$G$4120,2))","v":""},null,{"$f":"IF(H3937=\"\",\"\",ROUND(H3937/SUM(H3930:H3937),4))","v":""},null,null,null,null,null,null,{"$f":"+IF(O3937=\"\",\"\",IF(N3930=\"Transporte Marítimo\",VLOOKUP(O3937,$O$4030:$P$4035,2),IF(N3930=\"Transporte Aéreo\",VLOOKUP(O3937,$O$4037:$P$4042,2),IF(N3930=\"Transporte Aéreo\",VLOOKUP(O3937,$O$4044:$P$4045,2),\"\"))))","v":""},null,null,null,null,null,null,null,null,null,null,null,null,null,null,null,"",""]
[null,{"$f":"+B3930+1","v":491},null,null,null,null,{"$f":"+IF(F3938=\"\",\"\",VLOOKUP(F3938,$F$4031:$G$4120,2))","v":""},null,{"$f":"IF(H3938=\"\",\"\",1-SUM(I3939:I3945))","v":""},null,null,null,null,null,null,{"$f":"+IF(O3938=\"\",\"\",IF(N3938=\"Transporte Marítimo\",VLOOKUP(O3938,$O$4030:$P$4035,2),IF(N3938=\"Transporte Aéreo\",VLOOKUP(O3938,$O$4037:$P$4042,2),IF(N3938=\"CTT\",VLOOKUP(O3938,$O$4044:$P$4045,2),\"\"))))","v":""},null,null,null,null,null,null,null,null,null,null,null,null,null,null,null,{"$f":"+IF(AE3938=\"20NL\",1,IF(AE3938=\"40NL\",2,IF(AE3938=\"20RF\",3,IF(AE3938=\"40RF\",4,\"\"))))","v":""},{"$f":"+IF(AF3938=\"\",\"\",VLOOKUP(AF3938,$AF$4031:$AG$4034,2))","v":""},null,null,null,null,null,null,null,null,null,null,null,null,null,null," "]
[null,null,null,null,null,null,{"$f":"+IF(F3939=\"\",\"\",VLOOKUP(F3939,$F$4031:$G$4120,2))","v":""},null,{"$f":"IF(H3939=\"\",\"\",ROUND(H3939/SUM(H3938:H3945),4))","v":""},null,null,null,null,null,null,{"$f":"+IF(O3939=\"\",\"\",IF(N3938=\"Transporte Marítimo\",VLOOKUP(O3939,$O$4030:$P$4035,2),IF(N3938=\"Transporte Aéreo\",VLOOKUP(O3939,$O$4037:$P$4042,2),IF(N3938=\"Transporte Aéreo\",VLOOKUP(O3939,$O$4044:$P$4045,2),\"\"))))","v":""},null,null,null,null,null,null,null,null,null,null,null,null,null,null,null,{"$f":"+IF(AE3939=\"20NL\",1,IF(AE3939=\"40NL\",2,IF(AE3939=\"20RF\",3,IF(AE3939=\"40RF\",4,\"\"))))","v":""},{"$f":"+IF(AF3939=\"\",\"\",VLOOKUP(AF3939,$AF$4031:$AG$4034,2))","v":""}]
[null,null,null,null,null,null,"",null,{"$f":"IF(H3940=\"\",\"\",ROUND(H3940/SUM(H3938:H3945),4))","v":""},null,null,null,null,null,null,{"$f":"+IF(O3940=\"\",\"\",IF(N3938=\"Transporte Marítimo\",VLOOKUP(O3940,$O$4030:$P$4035,2),IF(N3938=\"Transporte Aéreo\",VLOOKUP(O3940,$O$4037:$P$4042,2),IF(N3938=\"Transporte Aéreo\",VLOOKUP(O3940,$O$4044:$P$4045,2),\"\"))))","v":""},null,null,null,null,null,null,null,null,null,null,null,null,null,null,null,"",""]
[null,null,null,null,null,null,"",null,{"$f":"IF(H3941=\"\",\"\",ROUND(H3941/SUM(H3938:H3945),4))","v":""},null,null,null,null,null,null,{"$f":"+IF(O3941=\"\",\"\",IF(N3938=\"Transporte Marítimo\",VLOOKUP(O3941,$O$4030:$P$4035,2),IF(N3938=\"Transporte Aéreo\",VLOOKUP(O3941,$O$4037:$P$4042,2),IF(N3938=\"Transporte Aéreo\",VLOOKUP(O3941,$O$4044:$P$4045,2),\"\"))))","v":""},null,null,null,null,null,null,null,null,null,null,null,null,null,null,null,"",""]
[null,null,null,null,null,null,"",null,{"$f":"IF(H3942=\"\",\"\",ROUND(H3942/SUM(H3938:H3945),4))","v":""},null,null,null,null,null,null,{"$f":"+IF(O3942=\"\",\"\",IF(N3938=\"Transporte Marítimo\",VLOOKUP(O3942,$O$4030:$P$4035,2),IF(N3938=\"Transporte Aéreo\",VLOOKUP(O3942,$O$4037:$P$4042,2),IF(N3938=\"Transporte Aéreo\",VLOOKUP(O3942,$O$4044:$P$4045,2),\"\"))))","v":""},null,null,null,null,null,null,null,null,null,null,null,null,null,null,null,"",""]
[null,null,null,null,null,null,"",null,{"$f":"IF(H3943=\"\",\"\",ROUND(H3943/SUM(H3938:H3945),4))","v":""},null,null,null,null,null,null,{"$f":"+IF(O3943=\"\",\"\",IF(N3938=\"Transporte Marítimo\",VLOOKUP(O3943,$O$4030:$P$4035,2),IF(N3938=\"Transporte Aéreo\",VLOOKUP(O3943,$O$4037:$P$4042,2),IF(N3938=\"Transporte Aéreo\",VLOOKUP(O3943,$O$4044:$P$4045,2),\"\"))))","v":""},null,null,null,null,null,null,null,null,null,null,null,null,null,null,null,"",""]
[null,null,null,null,null,null,"",null,{"$f":"IF(H3944=\"\",\"\",ROUND(H3944/SUM(H3938:H3945),4))","v":""},null,null,null,null,null,null,{"$f":"+IF(O3944=\"\",\"\",IF(N3938=\"Transporte Marítimo\",VLOOKUP(O3944,$O$4030:$P$4035,2),IF(N3938=\"Transporte Aéreo\",VLOOKUP(O3944,$O$4037:$P$4042,2),IF(N3938=\"Transporte Aéreo\",VLOOKUP(O3944,$O$4044:$P$4045,2),\"\"))))","v":""},null,null,null,null,null,null,null,null,null,null,null,null,null,null,null,"",""]
[null,null,null,null,null,null,"",null,{"$f":"IF(H3945=\"\",\"\",ROUND(H3945/SUM(H3938:H3945),4))","v":""},null,null,null,null,null,null,{"$f":"+IF(O3945=\"\",\"\",IF(N3938=\"Transporte Marítimo\",VLOOKUP(O3945,$O$4030:$P$4035,2),IF(N3938=\"Transporte Aéreo\",VLOOKUP(O3945,$O$4037:$P$4042,2),IF(N3938=\"Transporte Aéreo\",VLOOKUP(O3945,$O$4044:$P$4045,2),\"\"))))","v":""},null,null,null,null,null,null,null,null,null,null,null,null,null,null,null,"",""]
[null,{"$f":"+B3938+1","v":492},null,null,null,null,{"$f":"+IF(F3946=\"\",\"\",VLOOKUP(F3946,$F$4031:$G$4120,2))","v":""},null,{"$f":"IF(H3946=\"\",\"\",1-SUM(I3947:I3953))","v":""},null,null,null,null,null,null,{"$f":"+IF(O3946=\"\",\"\",IF(N3946=\"Transporte Marítimo\",VLOOKUP(O3946,$O$4030:$P$4035,2),IF(N3946=\"Transporte Aéreo\",VLOOKUP(O3946,$O$4037:$P$4042,2),IF(N3946=\"CTT\",VLOOKUP(O3946,$O$4044:$P$4045,2),\"\"))))","v":""},null,null,null,null,null,null,null,null,null,null,null,null,null,null,null,{"$f":"+IF(AE3946=\"20NL\",1,IF(AE3946=\"40NL\",2,IF(AE3946=\"20RF\",3,IF(AE3946=\"40RF\",4,\"\"))))","v":""},{"$f":"+IF(AF3946=\"\",\"\",VLOOKUP(AF3946,$AF$4031:$AG$4034,2))","v":""},null,null,null,null,null,null,null,null,null,null,null,null,null,null," "]
[null,null,null,null,null,null,"",null,{"$f":"IF(H3947=\"\",\"\",ROUND(H3947/SUM(H3946:H3953),4))","v":""},null,null,null,null,null,null,{"$f":"+IF(O3947=\"\",\"\",IF(N3946=\"Transporte Marítimo\",VLOOKUP(O3947,$O$4030:$P$4035,2),IF(N3946=\"Transporte Aéreo\",VLOOKUP(O3947,$O$4037:$P$4042,2),IF(N3946=\"Transporte Aéreo\",VLOOKUP(O3947,$O$4044:$P$4045,2),\"\"))))","v":""},null,null,null,null,null,null,null,null,null,null,null,null,null,null,null,{"$f":"+IF(AE3947=\"20NL\",1,IF(AE3947=\"40NL\",2,IF(AE3947=\"20RF\",3,IF(AE3947=\"40RF\",4,\"\"))))","v":""},""]
[null,null,null,null,null,null,"",null,{"$f":"IF(H3948=\"\",\"\",ROUND(H3948/SUM(H3946:H3953),4))","v":""},null,null,null,null,null,null,{"$f":"+IF(O3948=\"\",\"\",IF(N3946=\"Transporte Marítimo\",VLOOKUP(O3948,$O$4030:$P$4035,2),IF(N3946=\"Transporte Aéreo\",VLOOKUP(O3948,$O$4037:$P$4042,2),IF(N3946=\"Transporte Aéreo\",VLOOKUP(O3948,$O$4044:$P$4045,2),\"\"))))","v":""},null,null,null,null,null,null,null,null,null,null,null,null,null,null,null,"",""]
[null,null,null,null,null,null,"",null,{"$f":"IF(H3949=\"\",\"\",ROUND(H3949/SUM(H3946:H3953),4))","v":""},null,null,null,null,null,null,{"$f":"+IF(O3949=\"\",\"\",IF(N3946=\"Transporte Marítimo\",VLOOKUP(O3949,$O$4030:$P$4035,2),IF(N3946=\"Transporte Aéreo\",VLOOKUP(O3949,$O$4037:$P$4042,2),IF(N3946=\"Transporte Aéreo\",VLOOKUP(O3949,$O$4044:$P$4045,2),\"\"))))","v":""},null,null,null,null,null,null,null,null,null,null,null,null,null,null,null,"",""]
[null,null,null,null,null,null,"",null,{"$f":"IF(H3950=\"\",\"\",ROUND(H3950/SUM(H3946:H3953),4))","v":""},null,null,null,null,null,null,{"$f":"+IF(O3950=\"\",\"\",IF(N3946=\"Transporte Marítimo\",VLOOKUP(O3950,$O$4030:$P$4035,2),IF(N3946=\"Transporte Aéreo\",VLOOKUP(O3950,$O$4037:$P$4042,2),IF(N3946=\"Transporte Aéreo\",VLOOKUP(O3950,$O$4044:$P$4045,2),\"\"))))","v":""},null,null,null,null,null,null,null,null,null,null,null,null,null,null,null,"",""]
[null,null,null,null,null,null,"",null,{"$f":"IF(H3951=\"\",\"\",ROUND(H3951/SUM(H3946:H3953),4))","v":""},null,null,null,null,null,null,{"$f":"+IF(O3951=\"\",\"\",IF(N3946=\"Transporte Marítimo\",VLOOKUP(O3951,$O$4030:$P$4035,2),IF(N3946=\"Transporte Aéreo\",VLOOKUP(O3951,$O$4037:$P$4042,2),IF(N3946=\"Transporte Aéreo\",VLOOKUP(O3951,$O$4044:$P$4045,2),\"\"))))","v":""},null,null,null,null,null,null,null,null,null,null,null,null,null,null,null,"",""]
[null,null,null,null,null,null,"",null,{"$f":"IF(H3952=\"\",\"\",ROUND(H3952/SUM(H3946:H3953),4))","v":""},null,null,null,null,null,null,{"$f":"+IF(O3952=\"\",\"\",IF(N3946=\"Transporte Marítimo\",VLOOKUP(O3952,$O$4030:$P$4035,2),IF(N3946=\"Transporte Aéreo\",VLOOKUP(O3952,$O$4037:$P$4042,2),IF(N3946=\"Transporte Aéreo\",VLOOKUP(O3952,$O$4044:$P$4045,2),\"\"))))","v":""},null,null,null,null,null,null,null,null,null,null,null,null,null,null,null,"",""]
[null,null,null,null,null,null,"",null,{"$f":"IF(H3953=\"\",\"\",ROUND(H3953/SUM(H3946:H3953),4))","v":""},null,null,null,null,null,null,{"$f":"+IF(O3953=\"\",\"\",IF(N3946=\"Transporte Marítimo\",VLOOKUP(O3953,$O$4030:$P$4035,2),IF(N3946=\"Transporte Aéreo\",VLOOKUP(O3953,$O$4037:$P$4042,2),IF(N3946=\"Transporte Aéreo\",VLOOKUP(O3953,$O$4044:$P$4045,2),\"\"))))","v":""},null,null,null,null,null,null,null,null,null,null,null,null,null,null,null,"",""]
[null,{"$f":"+B3946+1","v":493},null,null,null,null,{"$f":"+IF(F3954=\"\",\"\",VLOOKUP(F3954,$F$4031:$G$4120,2))","v":""},null,{"$f":"IF(H3954=\"\",\"\",1-SUM(I3955:I3961))","v":""},null,null,null,null,null,null,{"$f":"+IF(O3954=\"\",\"\",IF(N3954=\"Transporte Marítimo\",VLOOKUP(O3954,$O$4030:$P$4035,2),IF(N3954=\"Transporte Aéreo\",VLOOKUP(O3954,$O$4037:$P$4042,2),IF(N3954=\"CTT\",VLOOKUP(O3954,$O$4044:$P$4045,2),\"\"))))","v":""},null,null,null,null,null,null,null,null,null,null,null,null,null,null,null,{"$f":"+IF(AE3954=\"20NL\",1,IF(AE3954=\"40NL\",2,IF(AE3954=\"20RF\",3,IF(AE3954=\"40RF\",4,\"\"))))","v":""},{"$f":"+IF(AF3954=\"\",\"\",VLOOKUP(AF3954,$AF$4031:$AG$4034,2))","v":""},null,null,null,null,null,null,null,null,null,null,null,null,null,null," "]
[null,null,null,null,null,null,"",null,{"$f":"IF(H3955=\"\",\"\",ROUND(H3955/SUM(H3954:H3961),4))","v":""},null,null,null,null,null,null,{"$f":"+IF(O3955=\"\",\"\",IF(N3954=\"Transporte Marítimo\",VLOOKUP(O3955,$O$4030:$P$4035,2),IF(N3954=\"Transporte Aéreo\",VLOOKUP(O3955,$O$4037:$P$4042,2),IF(N3954=\"Transporte Aéreo\",VLOOKUP(O3955,$O$4044:$P$4045,2),\"\"))))","v":""},null,null,null,null,null,null,null,null,null,null,null,null,null,null,null,{"$f":"+IF(AE3955=\"20NL\",1,IF(AE3955=\"40NL\",2,IF(AE3955=\"20RF\",3,IF(AE3955=\"40RF\",4,\"\"))))","v":""},""]
[null,null,null,null,null,null,"",null,{"$f":"IF(H3956=\"\",\"\",ROUND(H3956/SUM(H3954:H3961),4))","v":""},null,null,null,null,null,null,{"$f":"+IF(O3956=\"\",\"\",IF(N3954=\"Transporte Marítimo\",VLOOKUP(O3956,$O$4030:$P$4035,2),IF(N3954=\"Transporte Aéreo\",VLOOKUP(O3956,$O$4037:$P$4042,2),IF(N3954=\"Transporte Aéreo\",VLOOKUP(O3956,$O$4044:$P$4045,2),\"\"))))","v":""},null,null,null,null,null,null,null,null,null,null,null,null,null,null,null,"",""]
[null,null,null,null,null,null,"",null,{"$f":"IF(H3957=\"\",\"\",ROUND(H3957/SUM(H3954:H3961),4))","v":""},null,null,null,null,null,null,{"$f":"+IF(O3957=\"\",\"\",IF(N3954=\"Transporte Marítimo\",VLOOKUP(O3957,$O$4030:$P$4035,2),IF(N3954=\"Transporte Aéreo\",VLOOKUP(O3957,$O$4037:$P$4042,2),IF(N3954=\"Transporte Aéreo\",VLOOKUP(O3957,$O$4044:$P$4045,2),\"\"))))","v":""},null,null,null,null,null,null,null,null,null,null,null,null,null,null,null,"",""]
[null,null,null,null,null,null,"",null,{"$f":"IF(H3958=\"\",\"\",ROUND(H3958/SUM(H3954:H3961),4))","v":""},null,null,null,null,null,null,{"$f":"+IF(O3958=\"\",\"\",IF(N3954=\"Transporte Marítimo\",VLOOKUP(O3958,$O$4030:$P$4035,2),IF(N3954=\"Transporte Aéreo\",VLOOKUP(O3958,$O$4037:$P$4042,2),IF(N3954=\"Transporte Aéreo\",VLOOKUP(O3958,$O$4044:$P$4045,2),\"\"))))","v":""},null,null,null,null,null,null,null,null,null,null,null,null,null,null,null,"",""]
[null,null,null,null,null,null,"",null,{"$f":"IF(H3959=\"\",\"\",ROUND(H3959/SUM(H3954:H3961),4))","v":""},null,null,null,null,null,null,{"$f":"+IF(O3959=\"\",\"\",IF(N3954=\"Transporte Marítimo\",VLOOKUP(O3959,$O$4030:$P$4035,2),IF(N3954=\"Transporte Aéreo\",VLOOKUP(O3959,$O$4037:$P$4042,2),IF(N3954=\"Transporte Aéreo\",VLOOKUP(O3959,$O$4044:$P$4045,2),\"\"))))","v":""},null,null,null,null,null,null,null,null,null,null,null,null,null,null,null,"",""]
[null,null,null,null,null,null,"",null,{"$f":"IF(H3960=\"\",\"\",ROUND(H3960/SUM(H3954:H3961),4))","v":""},null,null,null,null,null,null,{"$f":"+IF(O3960=\"\",\"\",IF(N3954=\"Transporte Marítimo\",VLOOKUP(O3960,$O$4030:$P$4035,2),IF(N3954=\"Transporte Aéreo\",VLOOKUP(O3960,$O$4037:$P$4042,2),IF(N3954=\"Transporte Aéreo\",VLOOKUP(O3960,$O$4044:$P$4045,2),\"\"))))","v":""},null,null,null,null,null,null,null,null,null,null,null,null,null,null,null,"",""]
[null,null,null,null,null,null,"",null,{"$f":"IF(H3961=\"\",\"\",ROUND(H3961/SUM(H3954:H3961),4))","v":""},null,null,null,null,null,null,{"$f":"+IF(O3961=\"\",\"\",IF(N3954=\"Transporte Marítimo\",VLOOKUP(O3961,$O$4030:$P$4035,2),IF(N3954=\"Transporte Aéreo\",VLOOKUP(O3961,$O$4037:$P$4042,2),IF(N3954=\"Transporte Aéreo\",VLOOKUP(O3961,$O$4044:$P$4045,2),\"\"))))","v":""},null,null,null,null,null,null,null,null,null,null,null,null,null,null,null,"",""]
[null,{"$f":"+B3954+1","v":494},null,null,null,null,{"$f":"+IF(F3962=\"\",\"\",VLOOKUP(F3962,$F$4031:$G$4120,2))","v":""},null,{"$f":"IF(H3962=\"\",\"\",1-SUM(I3963:I3969))","v":""},null,null,null,null,null,null,{"$f":"+IF(O3962=\"\",\"\",IF(N3962=\"Transporte Marítimo\",VLOOKUP(O3962,$O$4030:$P$4035,2),IF(N3962=\"Transporte Aéreo\",VLOOKUP(O3962,$O$4037:$P$4042,2),IF(N3962=\"CTT\",VLOOKUP(O3962,$O$4044:$P$4045,2),\"\"))))","v":""},null,null,null,null,null,null,null,null,null,null,null,null,null,null,null,{"$f":"+IF(AE3962=\"20NL\",1,IF(AE3962=\"40NL\",2,IF(AE3962=\"20RF\",3,IF(AE3962=\"40RF\",4,\"\"))))","v":""},{"$f":"+IF(AF3962=\"\",\"\",VLOOKUP(AF3962,$AF$4031:$AG$4034,2))","v":""},null,null,null,null,null,null,null,null,null,null,null,null,null,null," "]
[null,null,null,null,null,null,"",null,{"$f":"IF(H3963=\"\",\"\",ROUND(H3963/SUM(H3962:H3969),4))","v":""},null,null,null,null,null,null,{"$f":"+IF(O3963=\"\",\"\",IF(N3962=\"Transporte Marítimo\",VLOOKUP(O3963,$O$4030:$P$4035,2),IF(N3962=\"Transporte Aéreo\",VLOOKUP(O3963,$O$4037:$P$4042,2),IF(N3962=\"Transporte Aéreo\",VLOOKUP(O3963,$O$4044:$P$4045,2),\"\"))))","v":""},null,null,null,null,null,null,null,null,null,null,null,null,null,null,null,{"$f":"+IF(AE3963=\"20NL\",1,IF(AE3963=\"40NL\",2,IF(AE3963=\"20RF\",3,IF(AE3963=\"40RF\",4,\"\"))))","v":""},""]
[null,null,null,null,null,null,"",null,{"$f":"IF(H3964=\"\",\"\",ROUND(H3964/SUM(H3962:H3969),4))","v":""},null,null,null,null,null,null,{"$f":"+IF(O3964=\"\",\"\",IF(N3962=\"Transporte Marítimo\",VLOOKUP(O3964,$O$4030:$P$4035,2),IF(N3962=\"Transporte Aéreo\",VLOOKUP(O3964,$O$4037:$P$4042,2),IF(N3962=\"Transporte Aéreo\",VLOOKUP(O3964,$O$4044:$P$4045,2),\"\"))))","v":""},null,null,null,null,null,null,null,null,null,null,null,null,null,null,null,"",""]
[null,null,null,null,null,null,"",null,{"$f":"IF(H3965=\"\",\"\",ROUND(H3965/SUM(H3962:H3969),4))","v":""},null,null,null,null,null,null,{"$f":"+IF(O3965=\"\",\"\",IF(N3962=\"Transporte Marítimo\",VLOOKUP(O3965,$O$4030:$P$4035,2),IF(N3962=\"Transporte Aéreo\",VLOOKUP(O3965,$O$4037:$P$4042,2),IF(N3962=\"Transporte Aéreo\",VLOOKUP(O3965,$O$4044:$P$4045,2),\"\"))))","v":""},null,null,null,null,null,null,null,null,null,null,null,null,null,null,null,"",""]
[null,null,null,null,null,null,"",null,{"$f":"IF(H3966=\"\",\"\",ROUND(H3966/SUM(H3962:H3969),4))","v":""},null,null,null,null,null,null,{"$f":"+IF(O3966=\"\",\"\",IF(N3962=\"Transporte Marítimo\",VLOOKUP(O3966,$O$4030:$P$4035,2),IF(N3962=\"Transporte Aéreo\",VLOOKUP(O3966,$O$4037:$P$4042,2),IF(N3962=\"Transporte Aéreo\",VLOOKUP(O3966,$O$4044:$P$4045,2),\"\"))))","v":""},null,null,null,null,null,null,null,null,null,null,null,null,null,null,null,"",""]
[null,null,null,null,null,null,"",null,{"$f":"IF(H3967=\"\",\"\",ROUND(H3967/SUM(H3962:H3969),4))","v":""},null,null,null,null,null,null,{"$f":"+IF(O3967=\"\",\"\",IF(N3962=\"Transporte Marítimo\",VLOOKUP(O3967,$O$4030:$P$4035,2),IF(N3962=\"Transporte Aéreo\",VLOOKUP(O3967,$O$4037:$P$4042,2),IF(N3962=\"Transporte Aéreo\",VLOOKUP(O3967,$O$4044:$P$4045,2),\"\"))))","v":""},null,null,null,null,null,null,null,null,null,null,null,null,null,null,null,"",""]
[null,null,null,null,null,null,"",null,{"$f":"IF(H3968=\"\",\"\",ROUND(H3968/SUM(H3962:H3969),4))","v":""},null,null,null,null,null,null,{"$f":"+IF(O3968=\"\",\"\",IF(N3962=\"Transporte Marítimo\",VLOOKUP(O3968,$O$4030:$P$4035,2),IF(N3962=\"Transporte Aéreo\",VLOOKUP(O3968,$O$4037:$P$4042,2),IF(N3962=\"Transporte Aéreo\",VLOOKUP(O3968,$O$4044:$P$4045,2),\"\"))))","v":""},null,null,null,null,null,null,null,null,null,null,null,null,null,null,null,"",""]
[null,null,null,null,null,null,"",null,{"$f":"IF(H3969=\"\",\"\",ROUND(H3969/SUM(H3962:H3969),4))","v":""},null,null,null,null,null,null,{"$f":"+IF(O3969=\"\",\"\",IF(N3962=\"Transporte Marítimo\",VLOOKUP(O3969,$O$4030:$P$4035,2),IF(N3962=\"Transporte Aéreo\",VLOOKUP(O3969,$O$4037:$P$4042,2),IF(N3962=\"Transporte Aéreo\",VLOOKUP(O3969,$O$4044:$P$4045,2),\"\"))))","v":""},null,null,null,null,null,null,null,null,null,null,null,null,null,null,null,"",""]
[null,{"$f":"+B3962+1","v":495},null,null,null,null,{"$f":"+IF(F3970=\"\",\"\",VLOOKUP(F3970,$F$4031:$G$4120,2))","v":""},null,{"$f":"IF(H3970=\"\",\"\",1-SUM(I3971:I3977))","v":""},null,null,null,null,null,null,{"$f":"+IF(O3970=\"\",\"\",IF(N3970=\"Transporte Marítimo\",VLOOKUP(O3970,$O$4030:$P$4035,2),IF(N3970=\"Transporte Aéreo\",VLOOKUP(O3970,$O$4037:$P$4042,2),IF(N3970=\"CTT\",VLOOKUP(O3970,$O$4044:$P$4045,2),\"\"))))","v":""},null,null,null,null,null,null,null,null,null,null,null,null,null,null,null,{"$f":"+IF(AE3970=\"20NL\",1,IF(AE3970=\"40NL\",2,IF(AE3970=\"20RF\",3,IF(AE3970=\"40RF\",4,\"\"))))","v":""},{"$f":"+IF(AF3970=\"\",\"\",VLOOKUP(AF3970,$AF$4031:$AG$4034,2))","v":""},null,null,null,null,null,null,null,null,null,null,null,null,null,null," "]
[null,null,null,null,null,null,"",null,{"$f":"IF(H3971=\"\",\"\",ROUND(H3971/SUM(H3970:H3977),4))","v":""},null,null,null,null,null,null,{"$f":"+IF(O3971=\"\",\"\",IF(N3970=\"Transporte Marítimo\",VLOOKUP(O3971,$O$4030:$P$4035,2),IF(N3970=\"Transporte Aéreo\",VLOOKUP(O3971,$O$4037:$P$4042,2),IF(N3970=\"Transporte Aéreo\",VLOOKUP(O3971,$O$4044:$P$4045,2),\"\"))))","v":""},null,null,null,null,null,null,null,null,null,null,null,null,null,null,null,{"$f":"+IF(AE3971=\"20NL\",1,IF(AE3971=\"40NL\",2,IF(AE3971=\"20RF\",3,IF(AE3971=\"40RF\",4,\"\"))))","v":""},""]
[null,null,null,null,null,null,"",null,{"$f":"IF(H3972=\"\",\"\",ROUND(H3972/SUM(H3970:H3977),4))","v":""},null,null,null,null,null,null,{"$f":"+IF(O3972=\"\",\"\",IF(N3970=\"Transporte Marítimo\",VLOOKUP(O3972,$O$4030:$P$4035,2),IF(N3970=\"Transporte Aéreo\",VLOOKUP(O3972,$O$4037:$P$4042,2),IF(N3970=\"Transporte Aéreo\",VLOOKUP(O3972,$O$4044:$P$4045,2),\"\"))))","v":""},null,null,null,null,null,null,null,null,null,null,null,null,null,null,null,"",""]
[null,null,null,null,null,null,"",null,{"$f":"IF(H3973=\"\",\"\",ROUND(H3973/SUM(H3970:H3977),4))","v":""},null,null,null,null,null,null,{"$f":"+IF(O3973=\"\",\"\",IF(N3970=\"Transporte Marítimo\",VLOOKUP(O3973,$O$4030:$P$4035,2),IF(N3970=\"Transporte Aéreo\",VLOOKUP(O3973,$O$4037:$P$4042,2),IF(N3970=\"Transporte Aéreo\",VLOOKUP(O3973,$O$4044:$P$4045,2),\"\"))))","v":""},null,null,null,null,null,null,null,null,null,null,null,null,null,null,null,"",""]
[null,null,null,null,null,null,"",null,{"$f":"IF(H3974=\"\",\"\",ROUND(H3974/SUM(H3970:H3977),4))","v":""},null,null,null,null,null,null,{"$f":"+IF(O3974=\"\",\"\",IF(N3970=\"Transporte Marítimo\",VLOOKUP(O3974,$O$4030:$P$4035,2),IF(N3970=\"Transporte Aéreo\",VLOOKUP(O3974,$O$4037:$P$4042,2),IF(N3970=\"Transporte Aéreo\",VLOOKUP(O3974,$O$4044:$P$4045,2),\"\"))))","v":""},null,null,null,null,null,null,null,null,null,null,null,null,null,null,null,"",""]
[null,null,null,null,null,null,"",null,{"$f":"IF(H3975=\"\",\"\",ROUND(H3975/SUM(H3970:H3977),4))","v":""},null,null,null,null,null,null,{"$f":"+IF(O3975=\"\",\"\",IF(N3970=\"Transporte Marítimo\",VLOOKUP(O3975,$O$4030:$P$4035,2),IF(N3970=\"Transporte Aéreo\",VLOOKUP(O3975,$O$4037:$P$4042,2),IF(N3970=\"Transporte Aéreo\",VLOOKUP(O3975,$O$4044:$P$4045,2),\"\"))))","v":""},null,null,null,null,null,null,null,null,null,null,null,null,null,null,null,"",""]
[null,null,null,null,null,null,"",null,{"$f":"IF(H3976=\"\",\"\",ROUND(H3976/SUM(H3970:H3977),4))","v":""},null,null,null,null,null,null,{"$f":"+IF(O3976=\"\",\"\",IF(N3970=\"Transporte Marítimo\",VLOOKUP(O3976,$O$4030:$P$4035,2),IF(N3970=\"Transporte Aéreo\",VLOOKUP(O3976,$O$4037:$P$4042,2),IF(N3970=\"Transporte Aéreo\",VLOOKUP(O3976,$O$4044:$P$4045,2),\"\"))))","v":""},null,null,null,null,null,null,null,null,null,null,null,null,null,null,null,"",""]
[null,null,null,null,null,null,"",null,{"$f":"IF(H3977=\"\",\"\",ROUND(H3977/SUM(H3970:H3977),4))","v":""},null,null,null,null,null,null,{"$f":"+IF(O3977=\"\",\"\",IF(N3970=\"Transporte Marítimo\",VLOOKUP(O3977,$O$4030:$P$4035,2),IF(N3970=\"Transporte Aéreo\",VLOOKUP(O3977,$O$4037:$P$4042,2),IF(N3970=\"Transporte Aéreo\",VLOOKUP(O3977,$O$4044:$P$4045,2),\"\"))))","v":""},null,null,null,null,null,null,null,null,null,null,null,null,null,null,null,"",""]
[null,{"$f":"+B3970+1","v":496},null,null,null,null,{"$f":"+IF(F3978=\"\",\"\",VLOOKUP(F3978,$F$4031:$G$4120,2))","v":""},null,{"$f":"IF(H3978=\"\",\"\",1-SUM(I3979:I3985))","v":""},null,null,null,null,null,null,{"$f":"+IF(O3978=\"\",\"\",IF(N3978=\"Transporte Marítimo\",VLOOKUP(O3978,$O$4030:$P$4035,2),IF(N3978=\"Transporte Aéreo\",VLOOKUP(O3978,$O$4037:$P$4042,2),IF(N3978=\"CTT\",VLOOKUP(O3978,$O$4044:$P$4045,2),\"\"))))","v":""},null,null,null,null,null,null,null,null,null,null,null,null,null,null,null,{"$f":"+IF(AE3978=\"20NL\",1,IF(AE3978=\"40NL\",2,IF(AE3978=\"20RF\",3,IF(AE3978=\"40RF\",4,\"\"))))","v":""},{"$f":"+IF(AF3978=\"\",\"\",VLOOKUP(AF3978,$AF$4031:$AG$4034,2))","v":""},null,null,null,null,null,null,null,null,null,null,null,null,null,null," "]
[null,null,null,null,null,null,"",null,{"$f":"IF(H3979=\"\",\"\",ROUND(H3979/SUM(H3978:H3985),4))","v":""},null,null,null,null,null,null,{"$f":"+IF(O3979=\"\",\"\",IF(N3978=\"Transporte Marítimo\",VLOOKUP(O3979,$O$4030:$P$4035,2),IF(N3978=\"Transporte Aéreo\",VLOOKUP(O3979,$O$4037:$P$4042,2),IF(N3978=\"Transporte Aéreo\",VLOOKUP(O3979,$O$4044:$P$4045,2),\"\"))))","v":""},null,null,null,null,null,null,null,null,null,null,null,null,null,null,null,{"$f":"+IF(AE3979=\"20NL\",1,IF(AE3979=\"40NL\",2,IF(AE3979=\"20RF\",3,IF(AE3979=\"40RF\",4,\"\"))))","v":""},""]
[null,null,null,null,null,null,"",null,{"$f":"IF(H3980=\"\",\"\",ROUND(H3980/SUM(H3978:H3985),4))","v":""},null,null,null,null,null,null,{"$f":"+IF(O3980=\"\",\"\",IF(N3978=\"Transporte Marítimo\",VLOOKUP(O3980,$O$4030:$P$4035,2),IF(N3978=\"Transporte Aéreo\",VLOOKUP(O3980,$O$4037:$P$4042,2),IF(N3978=\"Transporte Aéreo\",VLOOKUP(O3980,$O$4044:$P$4045,2),\"\"))))","v":""},null,null,null,null,null,null,null,null,null,null,null,null,null,null,null,"",""]
[null,null,null,null,null,null,"",null,{"$f":"IF(H3981=\"\",\"\",ROUND(H3981/SUM(H3978:H3985),4))","v":""},null,null,null,null,null,null,{"$f":"+IF(O3981=\"\",\"\",IF(N3978=\"Transporte Marítimo\",VLOOKUP(O3981,$O$4030:$P$4035,2),IF(N3978=\"Transporte Aéreo\",VLOOKUP(O3981,$O$4037:$P$4042,2),IF(N3978=\"Transporte Aéreo\",VLOOKUP(O3981,$O$4044:$P$4045,2),\"\"))))","v":""},null,null,null,null,null,null,null,null,null,null,null,null,null,null,null,"",""]
[null,null,null,null,null,null,"",null,{"$f":"IF(H3982=\"\",\"\",ROUND(H3982/SUM(H3978:H3985),4))","v":""},null,null,null,null,null,null,{"$f":"+IF(O3982=\"\",\"\",IF(N3978=\"Transporte Marítimo\",VLOOKUP(O3982,$O$4030:$P$4035,2),IF(N3978=\"Transporte Aéreo\",VLOOKUP(O3982,$O$4037:$P$4042,2),IF(N3978=\"Transporte Aéreo\",VLOOKUP(O3982,$O$4044:$P$4045,2),\"\"))))","v":""},null,null,null,null,null,null,null,null,null,null,null,null,null,null,null,"",""]
[null,null,null,null,null,null,"",null,{"$f":"IF(H3983=\"\",\"\",ROUND(H3983/SUM(H3978:H3985),4))","v":""},null,null,null,null,null,null,{"$f":"+IF(O3983=\"\",\"\",IF(N3978=\"Transporte Marítimo\",VLOOKUP(O3983,$O$4030:$P$4035,2),IF(N3978=\"Transporte Aéreo\",VLOOKUP(O3983,$O$4037:$P$4042,2),IF(N3978=\"Transporte Aéreo\",VLOOKUP(O3983,$O$4044:$P$4045,2),\"\"))))","v":""},null,null,null,null,null,null,null,null,null,null,null,null,null,null,null,"",""]
[null,null,null,null,null,null,"",null,{"$f":"IF(H3984=\"\",\"\",ROUND(H3984/SUM(H3978:H3985),4))","v":""},null,null,null,null,null,null,{"$f":"+IF(O3984=\"\",\"\",IF(N3978=\"Transporte Marítimo\",VLOOKUP(O3984,$O$4030:$P$4035,2),IF(N3978=\"Transporte Aéreo\",VLOOKUP(O3984,$O$4037:$P$4042,2),IF(N3978=\"Transporte Aéreo\",VLOOKUP(O3984,$O$4044:$P$4045,2),\"\"))))","v":""},null,null,null,null,null,null,null,null,null,null,null,null,null,null,null,"",""]
[null,null,null,null,null,null,"",null,{"$f":"IF(H3985=\"\",\"\",ROUND(H3985/SUM(H3978:H3985),4))","v":""},null,null,null,null,null,null,{"$f":"+IF(O3985=\"\",\"\",IF(N3978=\"Transporte Marítimo\",VLOOKUP(O3985,$O$4030:$P$4035,2),IF(N3978=\"Transporte Aéreo\",VLOOKUP(O3985,$O$4037:$P$4042,2),IF(N3978=\"Transporte Aéreo\",VLOOKUP(O3985,$O$4044:$P$4045,2),\"\"))))","v":""},null,null,null,null,null,null,null,null,null,null,null,null,null,null,null,"",""]
[null,{"$f":"+B3978+1","v":497},null,null,null,null,{"$f":"+IF(F3986=\"\",\"\",VLOOKUP(F3986,$F$4031:$G$4120,2))","v":""},null,{"$f":"IF(H3986=\"\",\"\",1-SUM(I3987:I3993))","v":""},null,null,null,null,null,null,{"$f":"+IF(O3986=\"\",\"\",IF(N3986=\"Transporte Marítimo\",VLOOKUP(O3986,$O$4030:$P$4035,2),IF(N3986=\"Transporte Aéreo\",VLOOKUP(O3986,$O$4037:$P$4042,2),IF(N3986=\"CTT\",VLOOKUP(O3986,$O$4044:$P$4045,2),\"\"))))","v":""},null,null,null,null,null,null,null,null,null,null,null,null,null,null,null,{"$f":"+IF(AE3986=\"20NL\",1,IF(AE3986=\"40NL\",2,IF(AE3986=\"20RF\",3,IF(AE3986=\"40RF\",4,\"\"))))","v":""},{"$f":"+IF(AF3986=\"\",\"\",VLOOKUP(AF3986,$AF$4031:$AG$4034,2))","v":""},null,null,null,null,null,null,null,null,null,null,null,null,null,null," "]
[null,null,null,null,null,null,"",null,{"$f":"IF(H3987=\"\",\"\",ROUND(H3987/SUM(H3986:H3993),4))","v":""},null,null,null,null,null,null,{"$f":"+IF(O3987=\"\",\"\",IF(N3986=\"Transporte Marítimo\",VLOOKUP(O3987,$O$4030:$P$4035,2),IF(N3986=\"Transporte Aéreo\",VLOOKUP(O3987,$O$4037:$P$4042,2),IF(N3986=\"Transporte Aéreo\",VLOOKUP(O3987,$O$4044:$P$4045,2),\"\"))))","v":""},null,null,null,null,null,null,null,null,null,null,null,null,null,null,null,{"$f":"+IF(AE3987=\"20NL\",1,IF(AE3987=\"40NL\",2,IF(AE3987=\"20RF\",3,IF(AE3987=\"40RF\",4,\"\"))))","v":""},""]
[null,null,null,null,null,null,"",null,{"$f":"IF(H3988=\"\",\"\",ROUND(H3988/SUM(H3986:H3993),4))","v":""},null,null,null,null,null,null,{"$f":"+IF(O3988=\"\",\"\",IF(N3986=\"Transporte Marítimo\",VLOOKUP(O3988,$O$4030:$P$4035,2),IF(N3986=\"Transporte Aéreo\",VLOOKUP(O3988,$O$4037:$P$4042,2),IF(N3986=\"Transporte Aéreo\",VLOOKUP(O3988,$O$4044:$P$4045,2),\"\"))))","v":""},null,null,null,null,null,null,null,null,null,null,null,null,null,null,null,"",""]
[null,null,null,null,null,null,"",null,{"$f":"IF(H3989=\"\",\"\",ROUND(H3989/SUM(H3986:H3993),4))","v":""},null,null,null,null,null,null,{"$f":"+IF(O3989=\"\",\"\",IF(N3986=\"Transporte Marítimo\",VLOOKUP(O3989,$O$4030:$P$4035,2),IF(N3986=\"Transporte Aéreo\",VLOOKUP(O3989,$O$4037:$P$4042,2),IF(N3986=\"Transporte Aéreo\",VLOOKUP(O3989,$O$4044:$P$4045,2),\"\"))))","v":""},null,null,null,null,null,null,null,null,null,null,null,null,null,null,null,"",""]
[null,null,null,null,null,null,"",null,{"$f":"IF(H3990=\"\",\"\",ROUND(H3990/SUM(H3986:H3993),4))","v":""},null,null,null,null,null,null,{"$f":"+IF(O3990=\"\",\"\",IF(N3986=\"Transporte Marítimo\",VLOOKUP(O3990,$O$4030:$P$4035,2),IF(N3986=\"Transporte Aéreo\",VLOOKUP(O3990,$O$4037:$P$4042,2),IF(N3986=\"Transporte Aéreo\",VLOOKUP(O3990,$O$4044:$P$4045,2),\"\"))))","v":""},null,null,null,null,null,null,null,null,null,null,null,null,null,null,null,"",""]
[null,null,null,null,null,null,"",null,{"$f":"IF(H3991=\"\",\"\",ROUND(H3991/SUM(H3986:H3993),4))","v":""},null,null,null,null,null,null,{"$f":"+IF(O3991=\"\",\"\",IF(N3986=\"Transporte Marítimo\",VLOOKUP(O3991,$O$4030:$P$4035,2),IF(N3986=\"Transporte Aéreo\",VLOOKUP(O3991,$O$4037:$P$4042,2),IF(N3986=\"Transporte Aéreo\",VLOOKUP(O3991,$O$4044:$P$4045,2),\"\"))))","v":""},null,null,null,null,null,null,null,null,null,null,null,null,null,null,null,"",""]
[null,null,null,null,null,null,"",null,{"$f":"IF(H3992=\"\",\"\",ROUND(H3992/SUM(H3986:H3993),4))","v":""},null,null,null,null,null,null,{"$f":"+IF(O3992=\"\",\"\",IF(N3986=\"Transporte Marítimo\",VLOOKUP(O3992,$O$4030:$P$4035,2),IF(N3986=\"Transporte Aéreo\",VLOOKUP(O3992,$O$4037:$P$4042,2),IF(N3986=\"Transporte Aéreo\",VLOOKUP(O3992,$O$4044:$P$4045,2),\"\"))))","v":""},null,null,null,null,null,null,null,null,null,null,null,null,null,null,null,"",""]
[null,null,null,null,null,null,"",null,{"$f":"IF(H3993=\"\",\"\",ROUND(H3993/SUM(H3986:H3993),4))","v":""},null,null,null,null,null,null,{"$f":"+IF(O3993=\"\",\"\",IF(N3986=\"Transporte Marítimo\",VLOOKUP(O3993,$O$4030:$P$4035,2),IF(N3986=\"Transporte Aéreo\",VLOOKUP(O3993,$O$4037:$P$4042,2),IF(N3986=\"Transporte Aéreo\",VLOOKUP(O3993,$O$4044:$P$4045,2),\"\"))))","v":""},null,null,null,null,null,null,null,null,null,null,null,null,null,null,null,"",""]
[null,{"$f":"+B3986+1","v":498},null,null,null,null,{"$f":"+IF(F3994=\"\",\"\",VLOOKUP(F3994,$F$4031:$G$4120,2))","v":""},null,{"$f":"IF(H3994=\"\",\"\",1-SUM(I3995:I4001))","v":""},null,null,null,null,null,null,{"$f":"+IF(O3994=\"\",\"\",IF(N3994=\"Transporte Marítimo\",VLOOKUP(O3994,$O$4030:$P$4035,2),IF(N3994=\"Transporte Aéreo\",VLOOKUP(O3994,$O$4037:$P$4042,2),IF(N3994=\"CTT\",VLOOKUP(O3994,$O$4044:$P$4045,2),\"\"))))","v":""},null,null,null,null,null,null,null,null,null,null,null,null,null,null,null,{"$f":"+IF(AE3994=\"20NL\",1,IF(AE3994=\"40NL\",2,IF(AE3994=\"20RF\",3,IF(AE3994=\"40RF\",4,\"\"))))","v":""},{"$f":"+IF(AF3994=\"\",\"\",VLOOKUP(AF3994,$AF$4031:$AG$4034,2))","v":""},null,null,null,null,null,null,null,null,null,null,null,null,null,null," "]
[null,null,null,null,null,null,"",null,{"$f":"IF(H3995=\"\",\"\",ROUND(H3995/SUM(H3994:H4001),4))","v":""},null,null,null,null,null,null,{"$f":"+IF(O3995=\"\",\"\",IF(N3994=\"Transporte Marítimo\",VLOOKUP(O3995,$O$4030:$P$4035,2),IF(N3994=\"Transporte Aéreo\",VLOOKUP(O3995,$O$4037:$P$4042,2),IF(N3994=\"Transporte Aéreo\",VLOOKUP(O3995,$O$4044:$P$4045,2),\"\"))))","v":""},null,null,null,null,null,null,null,null,null,null,null,null,null,null,null,{"$f":"+IF(AE3995=\"20NL\",1,IF(AE3995=\"40NL\",2,IF(AE3995=\"20RF\",3,IF(AE3995=\"40RF\",4,\"\"))))","v":""},""]
[null,null,null,null,null,null,"",null,{"$f":"IF(H3996=\"\",\"\",ROUND(H3996/SUM(H3994:H4001),4))","v":""},null,null,null,null,null,null,{"$f":"+IF(O3996=\"\",\"\",IF(N3994=\"Transporte Marítimo\",VLOOKUP(O3996,$O$4030:$P$4035,2),IF(N3994=\"Transporte Aéreo\",VLOOKUP(O3996,$O$4037:$P$4042,2),IF(N3994=\"Transporte Aéreo\",VLOOKUP(O3996,$O$4044:$P$4045,2),\"\"))))","v":""},null,null,null,null,null,null,null,null,null,null,null,null,null,null,null,"",""]
[null,null,null,null,null,null,"",null,{"$f":"IF(H3997=\"\",\"\",ROUND(H3997/SUM(H3994:H4001),4))","v":""},null,null,null,null,null,null,{"$f":"+IF(O3997=\"\",\"\",IF(N3994=\"Transporte Marítimo\",VLOOKUP(O3997,$O$4030:$P$4035,2),IF(N3994=\"Transporte Aéreo\",VLOOKUP(O3997,$O$4037:$P$4042,2),IF(N3994=\"Transporte Aéreo\",VLOOKUP(O3997,$O$4044:$P$4045,2),\"\"))))","v":""},null,null,null,null,null,null,null,null,null,null,null,null,null,null,null,"",""]
[null,null,null,null,null,null,"",null,{"$f":"IF(H3998=\"\",\"\",ROUND(H3998/SUM(H3994:H4001),4))","v":""},null,null,null,null,null,null,{"$f":"+IF(O3998=\"\",\"\",IF(N3994=\"Transporte Marítimo\",VLOOKUP(O3998,$O$4030:$P$4035,2),IF(N3994=\"Transporte Aéreo\",VLOOKUP(O3998,$O$4037:$P$4042,2),IF(N3994=\"Transporte Aéreo\",VLOOKUP(O3998,$O$4044:$P$4045,2),\"\"))))","v":""},null,null,null,null,null,null,null,null,null,null,null,null,null,null,null,"",""]
[null,null,null,null,null,null,"",null,{"$f":"IF(H3999=\"\",\"\",ROUND(H3999/SUM(H3994:H4001),4))","v":""},null,null,null,null,null,null,{"$f":"+IF(O3999=\"\",\"\",IF(N3994=\"Transporte Marítimo\",VLOOKUP(O3999,$O$4030:$P$4035,2),IF(N3994=\"Transporte Aéreo\",VLOOKUP(O3999,$O$4037:$P$4042,2),IF(N3994=\"Transporte Aéreo\",VLOOKUP(O3999,$O$4044:$P$4045,2),\"\"))))","v":""},null,null,null,null,null,null,null,null,null,null,null,null,null,null,null,"",""]
[null,null,null,null,null,null,"",null,{"$f":"IF(H4000=\"\",\"\",ROUND(H4000/SUM(H3994:H4001),4))","v":""},null,null,null,null,null,null,{"$f":"+IF(O4000=\"\",\"\",IF(N3994=\"Transporte Marítimo\",VLOOKUP(O4000,$O$4030:$P$4035,2),IF(N3994=\"Transporte Aéreo\",VLOOKUP(O4000,$O$4037:$P$4042,2),IF(N3994=\"Transporte Aéreo\",VLOOKUP(O4000,$O$4044:$P$4045,2),\"\"))))","v":""},null,null,null,null,null,null,null,null,null,null,null,null,null,null,null,"",""]
[null,null,null,null,null,null,"",null,{"$f":"IF(H4001=\"\",\"\",ROUND(H4001/SUM(H3994:H4001),4))","v":""},null,null,null,null,null,null,{"$f":"+IF(O4001=\"\",\"\",IF(N3994=\"Transporte Marítimo\",VLOOKUP(O4001,$O$4030:$P$4035,2),IF(N3994=\"Transporte Aéreo\",VLOOKUP(O4001,$O$4037:$P$4042,2),IF(N3994=\"Transporte Aéreo\",VLOOKUP(O4001,$O$4044:$P$4045,2),\"\"))))","v":""},null,null,null,null,null,null,null,null,null,null,null,null,null,null,null,"",""]
[null,{"$f":"+B3994+1","v":499},null,null,null,null,{"$f":"+IF(F4002=\"\",\"\",VLOOKUP(F4002,$F$4031:$G$4120,2))","v":""},null,{"$f":"IF(H4002=\"\",\"\",1-SUM(I4003:I4009))","v":""},null,null,null,null,null,null,{"$f":"+IF(O4002=\"\",\"\",IF(N4002=\"Transporte Marítimo\",VLOOKUP(O4002,$O$4030:$P$4035,2),IF(N4002=\"Transporte Aéreo\",VLOOKUP(O4002,$O$4037:$P$4042,2),IF(N4002=\"CTT\",VLOOKUP(O4002,$O$4044:$P$4045,2),\"\"))))","v":""},null,null,null,null,null,null,null,null,null,null,null,null,null,null,null,{"$f":"+IF(AE4002=\"20NL\",1,IF(AE4002=\"40NL\",2,IF(AE4002=\"20RF\",3,IF(AE4002=\"40RF\",4,\"\"))))","v":""},{"$f":"+IF(AF4002=\"\",\"\",VLOOKUP(AF4002,$AF$4031:$AG$4034,2))","v":""},null,null,null,null,null,null,null,null,null,null,null,null,null,null," "]
[null,null,null,null,null,null,{"$f":"+IF(F4003=\"\",\"\",VLOOKUP(F4003,$F$4031:$G$4120,2))","v":""},null,{"$f":"IF(H4003=\"\",\"\",ROUND(H4003/SUM(H4002:H4009),4))","v":""},null,null,null,null,null,null,{"$f":"+IF(O4003=\"\",\"\",IF(N4002=\"Transporte Marítimo\",VLOOKUP(O4003,$O$4030:$P$4035,2),IF(N4002=\"Transporte Aéreo\",VLOOKUP(O4003,$O$4037:$P$4042,2),IF(N4002=\"Transporte Aéreo\",VLOOKUP(O4003,$O$4044:$P$4045,2),\"\"))))","v":""},null,null,null,null,null,null,null,null,null,null,null,null,null,null,null,{"$f":"+IF(AE4003=\"20NL\",1,IF(AE4003=\"40NL\",2,IF(AE4003=\"20RF\",3,IF(AE4003=\"40RF\",4,\"\"))))","v":""},{"$f":"+IF(AF4003=\"\",\"\",VLOOKUP(AF4003,$AF$4031:$AG$4034,2))","v":""}]
[null,null,null,null,null,null,"",null,{"$f":"IF(H4004=\"\",\"\",ROUND(H4004/SUM(H4002:H4009),4))","v":""},null,null,null,null,null,null,{"$f":"+IF(O4004=\"\",\"\",IF(N4002=\"Transporte Marítimo\",VLOOKUP(O4004,$O$4030:$P$4035,2),IF(N4002=\"Transporte Aéreo\",VLOOKUP(O4004,$O$4037:$P$4042,2),IF(N4002=\"Transporte Aéreo\",VLOOKUP(O4004,$O$4044:$P$4045,2),\"\"))))","v":""},null,null,null,null,null,null,null,null,null,null,null,null,null,null,null,"",""]
[null,null,null,null,null,null,"",null,{"$f":"IF(H4005=\"\",\"\",ROUND(H4005/SUM(H4002:H4009),4))","v":""},null,null,null,null,null,null,{"$f":"+IF(O4005=\"\",\"\",IF(N4002=\"Transporte Marítimo\",VLOOKUP(O4005,$O$4030:$P$4035,2),IF(N4002=\"Transporte Aéreo\",VLOOKUP(O4005,$O$4037:$P$4042,2),IF(N4002=\"Transporte Aéreo\",VLOOKUP(O4005,$O$4044:$P$4045,2),\"\"))))","v":""},null,null,null,null,null,null,null,null,null,null,null,null,null,null,null,"",""]
[null,null,null,null,null,null,"",null,{"$f":"IF(H4006=\"\",\"\",ROUND(H4006/SUM(H4002:H4009),4))","v":""},null,null,null,null,null,null,{"$f":"+IF(O4006=\"\",\"\",IF(N4002=\"Transporte Marítimo\",VLOOKUP(O4006,$O$4030:$P$4035,2),IF(N4002=\"Transporte Aéreo\",VLOOKUP(O4006,$O$4037:$P$4042,2),IF(N4002=\"Transporte Aéreo\",VLOOKUP(O4006,$O$4044:$P$4045,2),\"\"))))","v":""},null,null,null,null,null,null,null,null,null,null,null,null,null,null,null,"",""]
[null,null,null,null,null,null,"",null,{"$f":"IF(H4007=\"\",\"\",ROUND(H4007/SUM(H4002:H4009),4))","v":""},null,null,null,null,null,null,{"$f":"+IF(O4007=\"\",\"\",IF(N4002=\"Transporte Marítimo\",VLOOKUP(O4007,$O$4030:$P$4035,2),IF(N4002=\"Transporte Aéreo\",VLOOKUP(O4007,$O$4037:$P$4042,2),IF(N4002=\"Transporte Aéreo\",VLOOKUP(O4007,$O$4044:$P$4045,2),\"\"))))","v":""},null,null,null,null,null,null,null,null,null,null,null,null,null,null,null,"",""]
[null,null,null,null,null,null,"",null,{"$f":"IF(H4008=\"\",\"\",ROUND(H4008/SUM(H4002:H4009),4))","v":""},null,null,null,null,null,null,{"$f":"+IF(O4008=\"\",\"\",IF(N4002=\"Transporte Marítimo\",VLOOKUP(O4008,$O$4030:$P$4035,2),IF(N4002=\"Transporte Aéreo\",VLOOKUP(O4008,$O$4037:$P$4042,2),IF(N4002=\"Transporte Aéreo\",VLOOKUP(O4008,$O$4044:$P$4045,2),\"\"))))","v":""},null,null,null,null,null,null,null,null,null,null,null,null,null,null,null,"",""]
[null,null,null,null,null,null,"",null,{"$f":"IF(H4009=\"\",\"\",ROUND(H4009/SUM(H4002:H4009),4))","v":""},null,null,null,null,null,null,{"$f":"+IF(O4009=\"\",\"\",IF(N4002=\"Transporte Marítimo\",VLOOKUP(O4009,$O$4030:$P$4035,2),IF(N4002=\"Transporte Aéreo\",VLOOKUP(O4009,$O$4037:$P$4042,2),IF(N4002=\"Transporte Aéreo\",VLOOKUP(O4009,$O$4044:$P$4045,2),\"\"))))","v":""},null,null,null,null,null,null,null,null,null,null,null,null,null,null,null,"",""]
[null,{"$f":"+B4002+1","v":500},null,null,null,null,{"$f":"+IF(F4010=\"\",\"\",VLOOKUP(F4010,$F$4031:$G$4120,2))","v":""},null,{"$f":"IF(H4010=\"\",\"\",1-SUM(I4011:I4017))","v":""},null,null,null,null,null,null,{"$f":"+IF(O4010=\"\",\"\",IF(N4010=\"Transporte Marítimo\",VLOOKUP(O4010,$O$4030:$P$4035,2),IF(N4010=\"Transporte Aéreo\",VLOOKUP(O4010,$O$4037:$P$4042,2),IF(N4010=\"CTT\",VLOOKUP(O4010,$O$4044:$P$4045,2),\"\"))))","v":""},null,null,null,null,null,null,null,null,null,null,null,null,null,null,null,{"$f":"+IF(AE4010=\"20NL\",1,IF(AE4010=\"40NL\",2,IF(AE4010=\"20RF\",3,IF(AE4010=\"40RF\",4,\"\"))))","v":""},{"$f":"+IF(AF4010=\"\",\"\",VLOOKUP(AF4010,$AF$4031:$AG$4034,2))","v":""},null,null,null,null,null,null,null,null,null,null,null,null,null,null," "]
[null,null,null,null,null,null,"",null,{"$f":"IF(H4011=\"\",\"\",ROUND(H4011/SUM(H4010:H4017),4))","v":""},null,null,null,null,null,null,{"$f":"+IF(O4011=\"\",\"\",IF(N4010=\"Transporte Marítimo\",VLOOKUP(O4011,$O$4030:$P$4035,2),IF(N4010=\"Transporte Aéreo\",VLOOKUP(O4011,$O$4037:$P$4042,2),IF(N4010=\"Transporte Aéreo\",VLOOKUP(O4011,$O$4044:$P$4045,2),\"\"))))","v":""},null,null,null,null,null,null,null,null,null,null,null,null,null,null,null,{"$f":"+IF(AE4011=\"20NL\",1,IF(AE4011=\"40NL\",2,IF(AE4011=\"20RF\",3,IF(AE4011=\"40RF\",4,\"\"))))","v":""},{"$f":"+IF(AF4011=\"\",\"\",VLOOKUP(AF4011,$AF$4031:$AG$4034,2))","v":""}]
[null,null,null,null,null,null,"",null,{"$f":"IF(H4012=\"\",\"\",ROUND(H4012/SUM(H4010:H4017),4))","v":""},null,null,null,null,null,null,{"$f":"+IF(O4012=\"\",\"\",IF(N4010=\"Transporte Marítimo\",VLOOKUP(O4012,$O$4030:$P$4035,2),IF(N4010=\"Transporte Aéreo\",VLOOKUP(O4012,$O$4037:$P$4042,2),IF(N4010=\"Transporte Aéreo\",VLOOKUP(O4012,$O$4044:$P$4045,2),\"\"))))","v":""},null,null,null,null,null,null,null,null,null,null,null,null,null,null,null,"",""]
[null,null,null,null,null,null,"",null,{"$f":"IF(H4013=\"\",\"\",ROUND(H4013/SUM(H4010:H4017),4))","v":""},null,null,null,null,null,null,{"$f":"+IF(O4013=\"\",\"\",IF(N4010=\"Transporte Marítimo\",VLOOKUP(O4013,$O$4030:$P$4035,2),IF(N4010=\"Transporte Aéreo\",VLOOKUP(O4013,$O$4037:$P$4042,2),IF(N4010=\"Transporte Aéreo\",VLOOKUP(O4013,$O$4044:$P$4045,2),\"\"))))","v":""},null,null,null,null,null,null,null,null,null,null,null,null,null,null,null,"",""]
[null,null,null,null,null,null,"",null,{"$f":"IF(H4014=\"\",\"\",ROUND(H4014/SUM(H4010:H4017),4))","v":""},null,null,null,null,null,null,{"$f":"+IF(O4014=\"\",\"\",IF(N4010=\"Transporte Marítimo\",VLOOKUP(O4014,$O$4030:$P$4035,2),IF(N4010=\"Transporte Aéreo\",VLOOKUP(O4014,$O$4037:$P$4042,2),IF(N4010=\"Transporte Aéreo\",VLOOKUP(O4014,$O$4044:$P$4045,2),\"\"))))","v":""},null,null,null,null,null,null,null,null,null,null,null,null,null,null,null,"",""]
[null,null,null,null,null,null,"",null,{"$f":"IF(H4015=\"\",\"\",ROUND(H4015/SUM(H4010:H4017),4))","v":""},null,null,null,null,null,null,{"$f":"+IF(O4015=\"\",\"\",IF(N4010=\"Transporte Marítimo\",VLOOKUP(O4015,$O$4030:$P$4035,2),IF(N4010=\"Transporte Aéreo\",VLOOKUP(O4015,$O$4037:$P$4042,2),IF(N4010=\"Transporte Aéreo\",VLOOKUP(O4015,$O$4044:$P$4045,2),\"\"))))","v":""},null,null,null,null,null,null,null,null,null,null,null,null,null,null,null,"",""]
[null,null,null,null,null,null,"",null,{"$f":"IF(H4016=\"\",\"\",ROUND(H4016/SUM(H4010:H4017),4))","v":""},null,null,null,null,null,null,{"$f":"+IF(O4016=\"\",\"\",IF(N4010=\"Transporte Marítimo\",VLOOKUP(O4016,$O$4030:$P$4035,2),IF(N4010=\"Transporte Aéreo\",VLOOKUP(O4016,$O$4037:$P$4042,2),IF(N4010=\"Transporte Aéreo\",VLOOKUP(O4016,$O$4044:$P$4045,2),\"\"))))","v":""},null,null,null,null,null,null,null,null,null,null,null,null,null,null,null,"",""]
[null,null,null,null,null,null,{"$f":"+IF(F4017=\"\",\"\",VLOOKUP(F4017,$F$4031:$G$4120,2))","v":""},null,{"$f":"IF(H4017=\"\",\"\",ROUND(H4017/SUM(H4010:H4017),4))","v":""},null,null,null,null,null,null,{"$f":"+IF(O4017=\"\",\"\",IF(N4010=\"Transporte Marítimo\",VLOOKUP(O4017,$O$4030:$P$4035,2),IF(N4010=\"Transporte Aéreo\",VLOOKUP(O4017,$O$4037:$P$4042,2),IF(N4010=\"Transporte Aéreo\",VLOOKUP(O4017,$O$4044:$P$4045,2),\"\"))))","v":""},null,null,null,null,null,null,null,null,null,null,null,null,null,null,null,"",""]
[]
[]
[]
[]
[null,"TOTAIS",null,null,{"$f":"+SUM(E18:E4020)","v":0},null,null,null,null,null,null,null,null,null,null,null,{"$f":"+SUM(Q18:Q4020)","v":0},{"$f":"+SUM(R18:R4020)","v":0}]
[]
[]
[]
[]
[]
[]
[]
[null,null,null,null,null,"Cod. NC","Designação",null,null,null,null,null,null,"Plano de Despesas",1,"Fretes Marítimos",null,null,null,null,null,null,null,"Origem","Circuito","Santa Maria",null,null,null,null,"Legenda:"]
[null,null,null,null,null,201,"Carnes de animais da espécie bovina, frescas ou refrigeradas",null,null,null,null,null,null,"Transporte Marítimo",3,"Taxas Portuárias",null,null,null,null,null,null,null,"Santa Maria","Interilhas","São Miguel",null,null,null,null,"20NL",1,"Contentor não refrigerado de 20 pés"]
[null,null,null,null,null,202,"Carnes de animais da espécie bovina, congeladas",null,null,null,null,null,null,"Transporte Aéreo",5,"Estiva",null,null,null,null,null,null,null,"São Miguel","Nacional","Terceira",null,null,null,null,"40NL",2,"Contentor não refrigerado de 40 pés"]
[null,null,null,null,null,203,"Carnes de animais da espécie suína, frescas, refrigeradas ou congeladas",null,null,null,null,null,null,"CTT",7,"Manuseamento e Armazenagem",null,null,null,null,null,null,null,"Terceira","Exterior","Graciosa",null,null,null,null,"20RF",3,"Contentor refrigerado de 20 pés"]
[null,null,null,null,null,204,"Carnes de animais da espécie ovina ou caprina, frescas, refrigeradas ou congeladas",null,null,null,null,null,null,null,8,"Seguros de Mercadoria e Expedição",null,null,null,null,null,null,null,"Graciosa",null,"Faial",null,null,null,null,"40RF",4,"Contentor refrigerado de 40 pés"]
[null,null,null,null,null,206,"Miudezas comestíves de animais da espécie bovina, suína, ovina e caprina, frescas, refrigeradas ou congeladas",null,null,null,null,null,null,null,"X-NE","Não Elegível",null,null,null,null,null,null,null,"Faial",null,"Pico"]
[null,null,null,null,null,207,"Carnes e miudezas comestíveis de aves, frescas, refrigeradas ou congeladas",null,null,null,null,null,null,null,null,null,null,null,null,null,null,null,null,"Pico",null,"São Jorge"]
[null,null,null,null,null,208,"Carnes e miudezas comestíveis de coelho, frescas, refrigeradas ou congeladas",null,null,null,null,null,null,null,"CB","MY - Taxa de Combustível",null,null,null,null,null,null,null,"São Jorge",null,"Flores"]
[null,null,null,null,null,209,"Toucinho e gorduras de porco, frescos, refrigerados, congelados, salgados ou em salmoura ou fumados",null,null,null,null,null,null,null,"EM","AW - Emissão de Carta de Porte Aéreo",null,null,null,null,null,null,null,"Flores",null,"Corvo"]
[null,null,null,null,null,210,"Carnes e miudezas comestíveis bovinas e suínas, salgadas ou em salmoura, secas ou fumadas",null,null,null,null,null,null,null,"FA","Fretes Aéreos",null,null,null,null,null,null,null,"Corvo"]
[null,null,null,null,null,301,"Peixes vivos",null,null,null,null,null,null,null,"HD","CH - Handling"]
[null,null,null,null,null,306,"Crustáceos congelados e não congelados",null,null,null,null,null,null,null,"SG","SC - Taxa de Segurança",null,null,null,null,null,null,null,null,null,"Continente"]
[null,null,null,null,null,401,"Leite e nata, não concentrados nem adicionados de açúcar ou de edulcorantes",null,null,null,null,null,null,null,"X-NE","Não Elegível",null,null,null,null,null,null,null,null,null,"Madeira"]
[null,null,null,null,null,402,"Leite e nata, concentrados ou adicionados de açúcar ou de edulcorantes"]
[null,null,null,null,null,403,"Iogurtes e natas",null,null,null,null,null,null,null,"TP","Taxas de Portagens",null,null,null,null,null,null,null,null,null,"Alemanha"]
[null,null,null,null,null,404,"Soro de leite, mesmo concentrado ou adicionado de açúcar ou outros edulcorantes",null,null,null,null,null,null,null,"X-NE","Não Elegível",null,null,null,null,null,null,null,null,null,"África do Sul"]
[null,null,null,null,null,405,"Manteigas e pastas de barrar de produtos prevenientes do leite",null,null,null,null,null,null,null,null,null,null,null,null,null,null,null,null,null,null,"Angola"]
[null,null,null,null,null,406,"Queijos",null,null,null,null,null,null,null,null,null,null,null,null,null,null,null,null,null,null,"Arábia Saudita"]
[null,null,null,null,null,407,"Ovos de aves, com casca, frescos, conservados ou cozidos",null,null,null,null,null,null,null,null,null,null,null,null,null,null,null,null,null,null,"Argentina"]
[null,null,null,null,null,409,"Mel",null,null,null,null,null,null,null,null,null,null,null,null,null,null,null,null,null,null,"Austrália"]
[null,null,null,null,null,601,"Flores e botões de flores, cortados para ramos ou para ornamentação, frescos, secos, branqueados, tingidos, impregnados ou preparados de outro modo",null,null,null,null,null,null,null,null,null,null,null,null,null,null,null,null,null,null,"Áustria"]
[null,null,null,null,null,602,"Outras plantas vivas (incluindo as suas raízes) estacas e enxertos",null,null,null,null,null,null,null,null,null,null,null,null,null,null,null,null,null,null,"Bélgica"]
[null,null,null,null,null,603,"Flores e seus botões, cortados, para ramos ou para ornamentação",null,null,null,null,null,null,null,null,null,null,null,null,null,null,null,null,null,null,"Brasil"]
[null,null,null,null,null,604,"Folhagens, folhas, ramos e outras partes de plantas",null,null,null,null,null,null,null,null,null,null,null,null,null,null,null,null,null,null,"Cabo Verde"]
[null,null,null,null,null,701,"Batatas",null,null,null,null,null,null,null,null,null,null,null,null,null,null,null,null,null,null,"Canadá"]
[null,null,null,null,null,702,"Tomates",null,null,null,null,null,null,null,null,null,null,null,null,null,null,null,null,null,null,"Chile"]
[null,null,null,null,null,703,"Cebolas, alhos e outros produtos hortícolas aliáceos",null,null,null,null,null,null,null,null,null,null,null,null,null,null,null,null,null,null,"Dinamarca"]
[null,null,null,null,null,704,"Couves, couve-flor, repolho ou couve frisada e produtos comestíveis semelhantes",null,null,null,null,null,null,null,null,null,null,null,null,null,null,null,null,null,null,"Espanha"]
[null,null,null,null,null,705,"Alfaces",null,null,null,null,null,null,null,null,null,null,null,null,null,null,null,null,null,null,"Estados Unidos da América"]
[null,null,null,null,null,706,"Cenouras, nabos, beterrabas, aipo, rabanetes e outras raízes",null,null,null,null,null,null,null,null,null,null,null,null,null,null,null,null,null,null,"Emiratos Árabes Unidos"]
[null,null,null,null,null,707,"Pepinos",null,null,null,null,null,null,null,null,null,null,null,null,null,null,null,null,null,null,"Finlândia"]
[null,null,null,null,null,708,"Feijão, fava e ervilha frescos",null,null,null,null,null,null,null,null,null,null,null,null,null,null,null,null,null,null,"França"]
[null,null,null,null,null,709,"Abóboras, pimentos, curgetes, beringelas, espargos, espinafres, azeitonas, funcho, salsa, coentros, hortelã, milho-doce e outros produtos hortícolas",null,null,null,null,null,null,null,null,null,null,null,null,null,null,null,null,null,null,"Grécia"]
[null,null,null,null,null,713,"Feijão, fava e ervilha, secos ou em grão",null,null,null,null,null,null,null,null,null,null,null,null,null,null,null,null,null,null,"Guiné-Bissau"]
[null,null,null,null,null,714,"Batatas-doces, inhames e outros tubérculos semelhantes",null,null,null,null,null,null,null,null,null,null,null,null,null,null,null,null,null,null,"Holanda"]
[null,null,null,null,null,802,"Castanhas",null,null,null,null,null,null,null,null,null,null,null,null,null,null,null,null,null,null,"Hungria"]
[null,null,null,null,null,803,"Bananas",null,null,null,null,null,null,null,null,null,null,null,null,null,null,null,null,null,null,"Irlanda"]
[null,null,null,null,null,804,"Figos, ananases, abacates, goiabas, anonas e outros",null,null,null,null,null,null,null,null,null,null,null,null,null,null,null,null,null,null,"Islândia"]
[null,null,null,null,null,805,"Laranjas, tangerinas, mandarinas, limão branco e outros citrinos",null,null,null,null,null,null,null,null,null,null,null,null,null,null,null,null,null,null,"Israel"]
[null,null,null,null,null,806,"Uvas",null,null,null,null,null,null,null,null,null,null,null,null,null,null,null,null,null,null,"Itália"]
[null,null,null,null,null,807,"Melões, meloas e melancias",null,null,null,null,null,null,null,null,null,null,null,null,null,null,null,null,null,null,"Japão"]
[null,null,null,null,null,808,"Maçãs, peras e marmelos",null,null,null,null,null,null,null,null,null,null,null,null,null,null,null,null,null,null,"Letónia"]
[null,null,null,null,null,809,"Ameixas, pêssegos, damascos e outros",null,null,null,null,null,null,null,null,null,null,null,null,null,null,null,null,null,null,"Listenstaine"]
[null,null,null,null,null,810,"Morangos, framboesas, amoras, kiwis ,diospiros, maracujás e outras frutas frescas",null,null,null,null,null,null,null,null,null,null,null,null,null,null,null,null,null,null,"Lituânia"]
[null,null,null,null,null,811,"Polpa de fruta, fresca ou congelada",null,null,null,null,null,null,null,null,null,null,null,null,null,null,null,null,null,null,"Luxemburgo"]
[null,null,null,null,null,902,"Chá preto e chá verde",null,null,null,null,null,null,null,null,null,null,null,null,null,null,null,null,null,null,"Marrocos"]
[null,null,null,null,null,904,"Pimentas e pimentões, secos ou triturados",null,null,null,null,null,null,null,null,null,null,null,null,null,null,null,null,null,null,"Moçambique"]
[null,null,null,null,null,909,"Sementes de funcho e outras",null,null,null,null,null,null,null,null,null,null,null,null,null,null,null,null,null,null,"Noruega"]
[null,null,null,null,null,910,"Açafroa, tomilho e louro e outros",null,null,null,null,null,null,null,null,null,null,null,null,null,null,null,null,null,null,"Nova Zelândia"]
[null,null,null,null,null,1005,"Milho",null,null,null,null,null,null,null,null,null,null,null,null,null,null,null,null,null,null,"Polónia"]
[null,null,null,null,null,1101,"Farinhas de trigo",null,null,null,null,null,null,null,null,null,null,null,null,null,null,null,null,null,null,"Reino Unido"]
[null,null,null,null,null,1102,"Farinhas de milho",null,null,null,null,null,null,null,null,null,null,null,null,null,null,null,null,null,null,"República Popular da China"]
[null,null,null,null,null,1202,"Amendoins",null,null,null,null,null,null,null,null,null,null,null,null,null,null,null,null,null,null,"Roménia"]
[null,null,null,null,null,1211,"Plantas, partes de plantas, trituradas ou em pó",null,null,null,null,null,null,null,null,null,null,null,null,null,null,null,null,null,null,"Rússia"]
[null,null,null,null,null,1212,"Algas",null,null,null,null,null,null,null,null,null,null,null,null,null,null,null,null,null,null,"São Tomé e Príncipe"]
[null,null,null,null,null,1501,"Banha de porco",null,null,null,null,null,null,null,null,null,null,null,null,null,null,null,null,null,null,"Suécia"]
[null,null,null,null,null,1601,"Linguiças, chouriços, morcelas, alheiras e outros enchidos e produtos semelhantes, de carne, de miudezas ou de sangue e preparações alimentícias à base de tais produtos",null,null,null,null,null,null,null,null,null,null,null,null,null,null,null,null,null,null,"Suíça"]
[null,null,null,null,null,1602,"Pé de torresmo, debulho e outras preparações e conservas de carne, miudezas ou de sangue",null,null,null,null,null,null,null,null,null,null,null,null,null,null,null,null,null,null,"Timor Leste"]
[null,null,null,null,null,1604,"Preparações e conservas de peixe",null,null,null,null,null,null,null,null,null,null,null,null,null,null,null,null,null,null,"Tunísia"]
[null,null,null,null,null,1605,"Crustáceos, moluscos e outros invertebrados aquáticos preparados ou em conservas",null,null,null,null,null,null,null,null,null,null,null,null,null,null,null,null,null,null,"Turquia"]
[null,null,null,null,null,1701,"Açúcares",null,null,null,null,null,null,null,null,null,null,null,null,null,null,null,null,null,null,"Ucrânia"]
[null,null,null,null,null,1704,"Alfenim e outros produtos de confeitaria"]
[null,null,null,null,null,1806,"Chocolate"]
[null,null,null,null,null,1902,"Massas alimentícias "]
[null,null,null,null,null,1905,"Produtos de padaria, pastelaria ou da indústria de bolachas e biscoistos"]
[null,null,null,null,null,2001,"Produtos hortícolas, frutas e outras partes comestíveis de plantas, preparados ou conservados em vinagre"]
[null,null,null,null,null,2002,"Tomates preparados ou conservados"]
[null,null,null,null,null,2004,"Conservas, cebolas de cortume"]
[null,null,null,null,null,2007,"Doces, geleias e marmeladas"]
[null,null,null,null,null,2008,"Amendoins, pevides, tremoços, favas para aperitivo, frutas e outras partes comestíveis de plantas, preparados ou conservados"]
[null,null,null,null,null,2009,"Sumos de frutos (incluindo os mostos de uvas) ou de produtos hortícolas, não fermentados, sem adição de álcool"]
[null,null,null,null,null,2105,"Sorvetes"]
[null,null,null,null,null,2106,"Preparações alimentícias não especificadas nem compreendidas noutras posições"]
[null,null,null,null,null,2201,"Águas"]
[null,null,null,null,null,2202,"Laranjadas e Refrigerantes"]
[null,null,null,null,null,2203,"Cerveja"]
[null,null,null,null,null,2204,"Vinhos"]
[null,null,null,null,null,2207,"Álcool"]
[null,null,null,null,null,2208,"Aguardentes, licores e outras bebidas espirituosas"]
[null,null,null,null,null,2400,"Tabaco e seus sucedâneos manufaturados"]
[null,null,null,null,null,2513,"Pedra-pomes"]
[null,null,null,null,null,3816,"Argamassas"]
[null,null,null,null,null,4101,"Couros e peles em brutos de bovinos"]
[null,null,null,null,null,4104,"Couros e peles curtidas ou em crosta de bovinos"]
[null,null,null,null,null,4400,"Madeira e obras de madeira"]
[null,null,null,null,null,4901,"Livros, brochuras e impressos semelhantes"]
[null,null,null,null,null,6217,"Outros acessórios confeccionados de vestuário"]
[null,null,null,null,null,6802,"Pedras de cantaria ou de construção"]
[null,null,null,null,null,6905,"Telhas"]
[null,null,null,null,null,9999,"Obras de artesanto Regional"]
[null,null,null,null,null,"X-NE","Não Elegível"]

{"sheet":"Lista de Produtos","index":4,"n_rows":95,"n_cols":6,"rows_kept":95,"cut":false,"hidden":false,"merged":[[1,1,1,2],[2,1,2,2]]}
[]
[null,"Lista de Produtos Apoiados - Códigos NC"]
[]
[]
[null,"Cod. NC","Designação",null,"Código da Nomenclatura Combinada","Designação Indicativa"]
[null,201,"Carnes de animais da espécie bovina, frescas ou refrigeradas"]
[null,202,"Carnes de animais da espécie bovina, congeladas"]
[null,203,"Carnes de animais da espécie suína, frescas, refrigeradas ou congeladas"]
[null,204,"Carnes de animais da espécie ovina ou caprina, frescas, refrigeradas ou congeladas"]
[null,206,"Miudezas comestíves de animais da espécie bovina, suína, ovina e caprina, frescas, refrigeradas ou congeladas"]
[null,207,"Carnes e miudezas comestíveis de aves, frescas, refrigeradas ou congeladas"]
[null,208,"Carnes e miudezas comestíveis de coelho, frescas, refrigeradas ou congeladas"]
[null,209,"Toucinho e gorduras de porco, frescos, refrigerados, congelados, salgados ou em salmoura ou fumados"]
[null,210,"Carnes e miudezas comestíveis bovinas e suínas, salgadas ou em salmoura, secas ou fumadas"]
[null,301,"Peixes vivos"]
[null,306,"Crustáceos congelados e não congelados"]
[null,401,"Leite e nata, não concentrados nem adicionados de açúcar ou de edulcorantes"]
[null,402,"Leite e nata, concentrados ou adicionados de açúcar ou de edulcorantes"]
[null,403,"Iogurtes e natas"]
[null,404,"Soro de leite, mesmo concentrado ou adicionado de açúcar ou outros edulcorantes"]
[null,405,"Manteigas e pastas de barrar de produtos prevenientes do leite"]
[null,406,"Queijos"]
[null,407,"Ovos de aves, com casca, frescos, conservados ou cozidos"]
[null,409,"Mel"]
[null,601,"Flores e botões de flores, cortados para ramos ou para ornamentação, frescos, secos, branqueados, tingidos, impregnados ou preparados de outro modo"]
[null,602,"Outras plantas vivas (incluindo as suas raízes) estacas e enxertos"]
[null,603,"Flores e seus botões, cortados, para ramos ou para ornamentação"]
[null,604,"Folhagens, folhas, ramos e outras partes de plantas"]
[null,701,"Batatas"]
[null,702,"Tomates"]
[null,703,"Cebolas, alhos e outros produtos hortícolas aliáceos"]
[null,704,"Couves, couve-flor, repolho ou couve frisada e produtos comestíveis semelhantes"]
[null,705,"Alfaces"]
[null,706,"Cenouras, nabos, beterrabas, aipo, rabanetes e outras raízes"]
[null,707,"Pepinos"]
[null,708,"Feijão, fava e ervilha frescos"]
[null,709,"Abóboras, pimentos, curgetes, beringelas, espargos, espinafres, azeitonas, funcho, salsa, coentros, hortelã, milho-doce e outros produtos hortícolas"]
[null,713,"Feijão, fava e ervilha, secos ou em grão"]
[null,714,"Batatas-doces, inhames e outros tubérculos semelhantes"]
[null,802,"Castanhas"]
[null,803,"Bananas"]
[null,804,"Figos, ananases, abacates, goiabas, anonas e outros"]
[null,805,"Laranjas, tangerinas, mandarinas, limão branco e outros citrinos"]
[null,806,"Uvas"]
[null,807,"Melões, meloas e melancias"]
[null,808,"Maçãs, peras e marmelos"]
[null,809,"Ameixas, pêssegos, damascos e outros"]
[null,810,"Morangos, framboesas, amoras, kiwis ,diospiros, maracujás e outras frutas frescas"]
[null,811,"Polpa de fruta, fresca ou congelada"]
[null,902,"Chá preto e chá verde"]
[null,904,"Pimentas e pimentões, secos ou triturados"]
[null,909,"Sementes de funcho e outras"]
[null,910,"Açafroa, tomilho e louro e outros"]
[null,1005,"Milho"]
[null,1101,"Farinhas de trigo"]
[null,1102,"Farinhas de milho"]
[null,1202,"Amendoins"]
[null,1211,"Plantas, partes de plantas, trituradas ou em pó"]
[null,1212,"Algas"]
[null,1501,"Banha de porco"]
[null,1601,"Linguiças, chouriços, morcelas, alheiras e outros enchidos e produtos semelhantes, de carne, de miudezas ou de sangue e preparações alimentícias à base de tais produtos"]
[null,1602,"Pé de torresmo, debulho e outras preparações e conservas de carne, miudezas ou de sangue"]
[null,1604,"Preparações e conservas de peixe"]
[null,1605,"Crustáceos, moluscos e outros invertebrados aquáticos preparados ou em conservas"]
[null,1701,"Açúcares"]
[null,1704,"Alfenim e outros produtos de confeitaria"]
[null,1806,"Chocolate"]
[null,1902,"Massas alimentícias "]
[null,1905,"Produtos de padaria, pastelaria ou da indústria de bolachas e biscoistos"]
[null,2001,"Produtos hortícolas, frutas e outras partes comestíveis de plantas, preparados ou conservados em vinagre"]
[null,2002,"Tomates preparados ou conservados"]
[null,2004,"Conservas, cebolas de cortume"]
[null,2007,"Doces, geleias e marmeladas"]
[null,2008,"Amendoins, pevides, tremoços, favas para aperitivo, frutas e outras partes comestíveis de plantas, preparados ou conservados"]
[null,2009,"Sumos de frutos (incluindo os mostos de uvas) ou de produtos hortícolas, não fermentados, sem adição de álcool"]
[null,2105,"Sorvetes"]
[null,2106,"Preparações alimentícias não especificadas nem compreendidas noutras posições"]
[null,2201,"Águas"]
[null,2202,"Laranjadas e Refrigerantes"]
[null,2203,"Cerveja"]
[null,2204,"Vinhos"]
[null,2207,"Álcool"]
[null,2208,"Aguardentes, licores e outras bebidas espirituosas"]
[null,2400,"Tabaco e seus sucedâneos manufaturados"]
[null,2513,"Pedra-pomes"]
[null,3816,"Argamassas"]
[null,4101,"Couros e peles em brutos de bovinos"]
[null,4104,"Couros e peles curtidas ou em crosta de bovinos"]
[null,4400,"Madeira e obras de madeira"]
[null,4901,"Livros, brochuras e impressos semelhantes"]
[null,6217,"Outros acessórios confeccionados de vestuário"]
[null,6802,"Pedras de cantaria ou de construção"]
[null,6905,"Telhas"]
[null,9999,"Obras de artesanto Regional"]
[null,"X-NE","Não Elegível"]